{"text_format":"1","workbook":"xlsx","n_sheets":14,"sheets":["Criterios de Riesgo","Datos","Planilla Rep Riesgos-FOR-CM-36","RIESGO-SITUACIÓN OBSERVADA","Tabla Criterios de Riesgo","Tabla Criterios de Controles","Categorias del Riesgo","Situaciones Observadas","Análisis de Riesgo","Evaluación de Controles","Porcentaje","Mapa de Riesgo Basilea II","Gráfico1","Control Cambios FOR-CM-34"],"not_rendered":{"charts":3,"images":9,"macros":1,"external_links":6,"defined_names":150,"comments":3,"pivot_tables":0},"unopened":[{"sheet":"Gráfico1","index":12,"reason":"not_a_worksheet"}],"bounds":{"document_bytes":16777216,"sheet_cells":100000,"rows_first":2000,"rows_last":500,"rows_between":2000,"halvings":0,"cell_chars":16384,"cell_head_chars":4096},"cells_cut":0,"cells_raw":0,"read":"whole","date_system":"1900"}

{"sheet":"Criterios de Riesgo","index":0,"n_rows":16,"n_cols":16,"rows_kept":16,"cut":false,"hidden":true,"merged":[[1,9,1,10],[1,13,1,14]]}
[null,null,"CCF","BCOS"]
[null,"CRITERIO DE VALORACIÓN DEL RIESGO","PESO",null,null,null,null,null,null,"CONSECUENCIA \n(IMPACTO)",null,"Consecuencias que puede originar a la Organización la materialización del riesgo; pueden ser sociales, legales, económicas, físicas, operativas, entre otras.",null,"PROBABILIDAD ",null,"La posibilidad de ocurrencia de la amenaza o materialización del riesgo, tomando en cuenta los controles actuales y su efectividad."]
[3,"Daño económico final",0.15,0.3,null,null,null,null,null,1,"Insignificante","Las consecuencias son mínimas o casi nulas, pueden ser asumidas por la organización sin ninguna complicación.",null,1,"Improbable","Amenaza sin capacidad y/o sin intención. Que es dificil que se de, se cumpla, suceda o se materialice."]
[7,"Ausentismo o Enfermedad",0.05,0.1,"Lesiones o Muerte - Critero anterior, usado para Entidades Financieras. Se cambio para utilización en la CCFacatativá",null,null,null,null,2,"Leve","Con consecuencias para los bienes, la infraestructura, los documentos, la información, entre otros. (Afecta solo una parte de la organización).",null,2,"Remoto","Amenaza con poca capacidad y/o intención. Que es poco probable que suceda."]
[4,"Parálisis de operaciones",0.1,0.1,null,null,null,null,null,3,"Moderado","Con consecuencias para gran parte de la organización, con impacto legal medio, afecta los procesos y las actividades",null,3,"Ocasional","Amenaza que puede llegar a suceder en alguna ocasión, pero no de forma habitual."]
[6,"Área afectada",0.1,0.05,null,null,null,null,null,4,"Severo","Con consecuencias altas para la seguridad de la organización y/o su imagen, con impacto económico grave. Alto impacto legal, probabilidad de grandes daños a las instalaciones y/o a las personas.",null,4,"Frecuente","Amenaza que ocurre, se hace o repite a menudo, con intervalos mas o menos cercanos."]
[1,"Servicio al cliente e imagen",0.3,0.1,"EVALUACIÓN EFECTIVIDAD DE CONTROLES","PESO",null,null,null,5,"Catastrófico","Con consecuencias para las persnas, bienes e instalaciones de la oganización, afectación al negocio, gran perdida de valores de dificil recuperación, daños a las instalaciones, afectación a la imagen y reputación organizaconal.",null,5,"Inminente","Amenaza que está a punto de suceder o que está muy próxima en el tiempo."]
[2,"Impacto sobre la información",0.2,0.2,"Naturaleza",0.05]
[5,"Seguridad física y lógica",0.1,0.15,"Complejidad",0.1]
[null,"TOTAL",{"$f":"SUM(C3:C9)","v":0.99999999999999989},null,"Procedimiento",0.15]
[null,null,null,null,"Frecuencia",0.1]
[null,"CRITERIO DE EVALUACIÓN DE COBERTURA","PESO",null,"Ambiente del control",0.25]
[null,"Causas Primarias y/o Secundarias",0.2,null,"Fallas del control",0.15]
[null,"% Cubrimiento",0.75,null,"Autoevaluación",0.05]
[null,"Beneficio/Costo",0.05,null,"Responsabilidad",0.15]
[null,"TOTAL",{"$f":"SUM(C13:C15)","v":1},null,"TOTAL",{"$f":"SUM(F8:F15)","v":1}]

{"sheet":"Datos","index":1,"n_rows":332,"n_cols":50,"rows_kept":332,"cut":false,"hidden":true,"merged":[[0,22,0,23],[28,38,28,47],[45,38,45,43],[0,25,0,26],[10,25,10,26],[0,28,0,34],[0,36,5,36],[12,38,12,39]]}
["Covertura Impacto con  Controles","Efectividad Probabilidad con Controles","Mitigación \nConjunto \nControles",null,null,"Tratamiento",null,"Impacto",null,null,"Probabilidad",null,null,"Nivel de Riesgo",null,null,null,"Convenciones Severidad",null,"Nivel de Riesgo","Probabilidad",null,"Impacto",null,null,"CLASIFICACION DE RIESGOS\nEVENTOS DE PERDIDA\nCATEGORIAS",null,null,"SUBCATEGORIAS DE RIESGO EVENTOS DE PERDIDA",null,null,null,null,null,null,null,"VALOR CRITERIOS DE RIESGO","OPINIÓN","DAÑO ECONÓMICO FINAL","LESIONES O MUERTE","PARÁLISIS DE OPERACIONES","ÁREA AFECTADA","SERVICIO AL CLIENTE","IMAGEN","SEGURIDAD FÍSICA Y LÓGICA"]
[{"$f":"'Evaluación de Controles'!AA5","v":""},{"$f":"'Evaluación de Controles'!AB5","v":""},{"$f":"'Evaluación de Controles'!AC5","v":""},1,null,"Asumirlo",null,"Catastrófico",5,null,"inminente","5-8",null,"improbable-Insignificante ",1,"Muy Bajo ",null,"improbable-Insignificante ","Muy Bajo ",1,"improbable",1,"Insignificante ",1,null,"I","Fraude interno",null,"I","II","III","IV","V","VI","VII",null,null,"INSIGNIFICANTE",1,1,1,1,1,1,1]
[{"$f":"'Evaluación de Controles'!AA15","v":""},{"$f":"'Evaluación de Controles'!AB15","v":""},{"$f":"'Evaluación de Controles'!AC15","v":""},11,null,"Minimizarlo",null,"Severo",4,null,"Frecuente","4-5",null,"improbable-Leve",2,"Bajo",null,"improbable-Leve","Bajo",2,"improbable",1,"Leve",2,null,"II","Fraude externo",null,"Actividades o posiciones no autorizadas o informadas","Falsificación de firma o importe","Incumplimientos de las relaciones y acuerdos laborales","Violaciones en la confidencialidad y privacidad","Catástrofes naturales y accidentes en activos físicos","Inadecuada estrategia y arquitectura tecnológica","Ejecución errónea en mercado",null,null,"LEVE",2,2,2,2,2,2,2]
[{"$f":"'Evaluación de Controles'!AA25","v":""},{"$f":"'Evaluación de Controles'!AB25","v":""},{"$f":"'Evaluación de Controles'!AC25","v":""},21,null,"Transferirlo /\nCompartirlo",null,"Moderado ",3,null,"Ocasional ","3-4",null,"Remoto-Insignificante ",2,"Bajo",null,"Remoto-Insignificante ","Bajo",2,"Remoto",2,"Insignificante ",1,null,"III","Relaciones laborales y seguridad en el puesto de trabajo",null,"Falsificación de firma o importe","Billetes falsos","Salud y seguridad laboral","Utilización de información privilegiada","Terrorismo y actos vandálicos","Falta o deficiencias de equipos tecnológicos o aplicaciones","Demoras en operaciones o servicios",null,null,"MODERADO",3,3,3,3,3,3,3]
[{"$f":"'Evaluación de Controles'!AA35","v":""},{"$f":"'Evaluación de Controles'!AB35","v":""},{"$f":"'Evaluación de Controles'!AC35","v":""},31,null,"No Aceptado",null,"Leve",2,null,"Remoto","2-3",null,"Remoto-Leve",4,"Bajo",null,"Remoto-Leve","Bajo",4,"Remoto",2,"Leve",2,null,"IV","Clientes, productos y prácticas empresariales",null,"Robo y malversación de fondos","Robo","Diversidad y discriminación laboral","Realización de ventas agresivas","Pandemia","Inadecuada gestión de los sistemas de explotación y apoyo","Errores en la captura, registro e imputación de datos",null,null,"SEVERO",4,4,4,4,4,4,4]
[{"$f":"'Evaluación de Controles'!AA45","v":""},{"$f":"'Evaluación de Controles'!AB45","v":""},{"$f":"'Evaluación de Controles'!AC45","v":""},41,null,null,null,"Insignificante ",1,null,"improbable","1-2",null,"Ocasional -Insignificante ",3,"Bajo",null,"Ocasional -Insignificante ","Bajo",3,"Ocasional ",3,"Insignificante ",1,null,"V","Daños a activos materiales",null,"Sobornos","Rueda de cheques/Papel colusión","Insuficiente personal o exceso de rotación","Prácticas inadecuadas de contratación ","Cambios Regulatorios","Caídas de sistemas, comunicaciones y suministro de energía","Mantenimiento inadecuado de datos estáticos",null,null,"CATASTRÓFICO",5,5,5,5,5,5,5]
[{"$f":"'Evaluación de Controles'!AA55","v":""},{"$f":"'Evaluación de Controles'!AB55","v":""},{"$f":"'Evaluación de Controles'!AC55","v":""},51,null,null,null,null,null,null,null,null,null,"Frecuente-Insignificante ",4,"Moderado",null,"Frecuente-Insignificante ","Moderado",4,"Frecuente",4,"Insignificante ",1,null,"VI","Incidencias en el negocio y fallos en los sistemas",null,"Fraudes con tarjeta de crédito/débito","Fraudes con tarjeta de crédito/débito","Asignación ineficiente de tareas y responsabilidades","Manipulación de mercados",null,null,"Fallos en la ejecución de los procesos"]
[{"$f":"'Evaluación de Controles'!AA65","v":""},{"$f":"'Evaluación de Controles'!AB65","v":""},{"$f":"'Evaluación de Controles'!AC65","v":""},61,null,null,null,null,null,null,null,null,null,"improbable-Moderado ",3,"Moderado",null,"improbable-Moderado ","Moderado",3,"improbable",1,"Moderado ",3,null,"VII","Ejecución, entrega y gestión de procesos",null,"Violaciones en la seguridad de los sistemas informáticos","Destrucción de activos","Falta de formación o desconocimiento operativo","Violación de códigos de conducta internos y normativa afín",null,null,"Fallos en la verificación de datos "]
[{"$f":"'Evaluación de Controles'!AA75","v":""},{"$f":"'Evaluación de Controles'!AB75","v":""},{"$f":"'Evaluación de Controles'!AC75","v":""},71,null,null,"Vr Impacto",null,null,"Vr. Probabilidad",null,null,null,"Ocasional -Leve",6,"Moderado",null,"Ocasional -Leve","Moderado",6,"Ocasional ",3,"Leve",2,null,null,null,null,"Violaciones en la seguridad de los documentos","Violaciones en la seguridad de los documentos","Selección de Personal","Incumplimiento de normativa",null,null,"Falta de cuadres y conciliaciones "]
[{"$f":"'Evaluación de Controles'!AA85","v":""},{"$f":"'Evaluación de Controles'!AB85","v":""},{"$f":"'Evaluación de Controles'!AC85","v":""},81,null,null,0,"Insignificante ",null,0,"improbable",1,null,"Remoto-Moderado ",6,"Moderado",null,"Remoto-Moderado ","Moderado",6,"Remoto",2,"Moderado ",3,null,null,null,null,"Destrucción de activos","Violaciones en la seguridad de los sistemas informáticos","Incorrecta segregación de funciones ","Blanqueo de dinero",null,null,"Fallos en la entrega y liquidación de operaciones"]
[{"$f":"'Evaluación de Controles'!AA95","v":""},{"$f":"'Evaluación de Controles'!AB95","v":""},{"$f":"'Evaluación de Controles'!AC95","v":""},91,null,null,2,"Leve",null,2,"Remoto",2,null,"improbable-Severo",4,"Alto",null,"improbable-Severo","Alto",4,"improbable",1,"Severo",4,null,"FACTORES DEL RIESGO",null,null,"Incumplimientos y evasiones fiscales, legales o falseamientos contables",null,"Falta de transparencia y flujo de la información","Incumplimientos administrativos",null,null,"Errores en la contabilización de operaciones"]
[{"$f":"'Evaluación de Controles'!AA105","v":""},{"$f":"'Evaluación de Controles'!AB105","v":""},{"$f":"'Evaluación de Controles'!AC105","v":""},101,null,null,3,"Moderado ",null,3,"Ocasional ",3,null,"inminente-Insignificante ",5,"Alto",null,"inminente-Insignificante ","Alto",5,"inminente",5,"Insignificante ",1,null,1,"PERSONAS (I, III, IV)",null,null,null,null,"Productos defectuosos o no autorizados",null,null,"Diferencia de efectivo en arqueos"]
[{"$f":"'Evaluación de Controles'!AA115","v":""},{"$f":"'Evaluación de Controles'!AB115","v":""},{"$f":"'Evaluación de Controles'!AC115","v":""},111,null,null,4,"Severo",null,4,"Frecuente",4,null,"improbable-Catastrófico",5,"Alto",null,"improbable-Catastrófico","Alto",5,"improbable",1,"Catastrófico",5,null,2,"SISTEMAS (VI)",null,null,null,null,"Modelos defectuosos o no autorizados",null,null,"Fallos de seguimiento e información ",null,null,null,"Criterio Riesgo Residual"]
[{"$f":"'Evaluación de Controles'!AA125","v":""},{"$f":"'Evaluación de Controles'!AB125","v":""},{"$f":"'Evaluación de Controles'!AC125","v":""},121,null,null,5,"Catastrófico",null,5,"inminente",5,null,"Ocasional -Moderado ",9,"Alto",null,"Ocasional -Moderado ","Alto",9,"Ocasional ",3,"Moderado ",3,null,3,"PROCESOS (VII)",null,null,null,null,"Selección, patrocinio y exposiciones",null,null,"Faltas o errores en la documentación y soporte legal",null,null,null,"Riego Residual","Concepto"]
[{"$f":"'Evaluación de Controles'!AA135","v":""},{"$f":"'Evaluación de Controles'!AB135","v":""},{"$f":"'Evaluación de Controles'!AC135","v":""},131,null,null,null,null,null,null,null,null,null,"Frecuente-Leve",8,"Alto",null,"Frecuente-Leve","Alto",8,"Frecuente",4,"Leve",2,null,4,"ACONTECIMIENTOS EXTERNOS (II, V)",null,null,null,null,"Fallos en las actividades de asesoramiento, comunicación y motivos comerciales",null,null,"Extravíos de documentación",null,null,null,0,"Insignificante"]
[{"$f":"'Evaluación de Controles'!AA145","v":""},{"$f":"'Evaluación de Controles'!AB145","v":""},{"$f":"'Evaluación de Controles'!AC145","v":""},141,null,null,0,"Excelente",null,null,null,null,null,"Remoto-Severo",8,"Alto",null,"Remoto-Severo","Alto",8,"Remoto",2,"Severo",4,null,null,null,null,null,null,null,null,null,null,"Inadecuada gestión de cuentas de clientes",null,null,null,2,"Leve"]
[{"$f":"'Evaluación de Controles'!AA155","v":""},{"$f":"'Evaluación de Controles'!AB155","v":""},{"$f":"'Evaluación de Controles'!AC155","v":""},151,null,null,3,"Buena",null,null,null,null,null,"Frecuente-Moderado ",12,"Alto",null,"Frecuente-Moderado ","Alto",12,"Frecuente",4,"Moderado ",3,null,null,null,null,null,null,null,null,null,null,"Disputas con contrapartes y entidades financieras",null,null,null,5,"Moderado"]
[{"$f":"'Evaluación de Controles'!AA165","v":""},{"$f":"'Evaluación de Controles'!AB165","v":""},{"$f":"'Evaluación de Controles'!AC165","v":""},161,null,null,5,"Moderada",null,null,null,null,null,"inminente-Leve",10,"Alto",null,"inminente-Leve","Alto",10,"inminente",5,"Leve",2,null,null,null,null,null,null,null,null,null,null,"Disputas con vendedores",null,null,null,8,"Severo"]
[{"$f":"'Evaluación de Controles'!AA175","v":""},{"$f":"'Evaluación de Controles'!AB175","v":""},{"$f":"'Evaluación de Controles'!AC175","v":""},171,null,null,8,"Insatisfactoria",null,null,null,null,null,"Ocasional -Severo",12,"Muy Alto",null,"Ocasional -Severo","Muy Alto",12,"Ocasional ",3,"Severo",4,null,null,null,null,null,null,null,null,null,null,"Proveedores y externalización de servicios",null,null,null,20,"Catastrófico"]
[{"$f":"'Evaluación de Controles'!AA185","v":""},{"$f":"'Evaluación de Controles'!AB185","v":""},{"$f":"'Evaluación de Controles'!AC185","v":""},181,null,null,15,"Pobre",null,null,null,null,null,"Remoto-Catastrófico",10,"Muy Alto",null,"Remoto-Catastrófico","Muy Alto",10,"Remoto",2,"Catastrófico",5,null,null,null,null,null,null,null,null,null,null,"Fallos en la estructuración de los procesos"]
[{"$f":"'Evaluación de Controles'!AA195","v":""},{"$f":"'Evaluación de Controles'!AB195","v":""},{"$f":"'Evaluación de Controles'!AC195","v":""},191,null,null,null,null,null,null,null,null,null,"inminente-Moderado ",15,"Muy Alto",null,"inminente-Moderado ","Muy Alto",15,"inminente",5,"Moderado ",3,null,null,null,null,null,null,null,null,null,null,"Cambios Regulatorios"]
[{"$f":"'Evaluación de Controles'!AA205","v":""},{"$f":"'Evaluación de Controles'!AB205","v":""},{"$f":"'Evaluación de Controles'!AC205","v":""},201,null,null,null,null,null,null,null,null,null,"Frecuente-Severo",16,"Muy Alto",null,"Frecuente-Severo","Muy Alto",16,"Frecuente",4,"Severo",4]
[{"$f":"'Evaluación de Controles'!AA215","v":""},{"$f":"'Evaluación de Controles'!AB215","v":""},{"$f":"'Evaluación de Controles'!AC215","v":""},211,null,null,null,null,null,null,null,null,null,"Ocasional -Catastrófico",15,"Muy Alto",null,"Ocasional -Catastrófico","Muy Alto",15,"Ocasional ",3,"Catastrófico",5]
[{"$f":"'Evaluación de Controles'!AA225","v":""},{"$f":"'Evaluación de Controles'!AB225","v":""},{"$f":"'Evaluación de Controles'!AC225","v":""},221,null,null,null,null,null,null,null,null,null,"Frecuente-Catastrófico",20,"Muy Alto",null,"Frecuente-Catastrófico","Muy Alto",20,"Frecuente",4,"Catastrófico",5]
[{"$f":"'Evaluación de Controles'!AA235","v":""},{"$f":"'Evaluación de Controles'!AB235","v":""},{"$f":"'Evaluación de Controles'!AC235","v":""},231,null,null,null,null,null,null,null,null,null,"inminente-Severo",20,"Muy Alto",null,"inminente-Severo","Muy Alto",20,"inminente",5,"Severo",4]
[{"$f":"'Evaluación de Controles'!AA245","v":""},{"$f":"'Evaluación de Controles'!AB245","v":""},{"$f":"'Evaluación de Controles'!AC245","v":""},241,null,null,null,null,null,null,null,null,null,"inminente-Catastrófico",25,"Muy Alto",null,"inminente-Catastrófico","Muy Alto",25,"inminente",5,"Catastrófico",5]
[{"$f":"'Evaluación de Controles'!AA255","v":""},{"$f":"'Evaluación de Controles'!AB255","v":""},{"$f":"'Evaluación de Controles'!AC255","v":""},251]
[{"$f":"'Evaluación de Controles'!AA265","v":""},{"$f":"'Evaluación de Controles'!AB265","v":""},{"$f":"'Evaluación de Controles'!AC265","v":""},261]
[{"$f":"'Evaluación de Controles'!AA275","v":""},{"$f":"'Evaluación de Controles'!AB275","v":""},{"$f":"'Evaluación de Controles'!AC275","v":""},271,null,null,null,null,null,null,null,null,null,null,null,null,null,null,null,null,null,null,null,null,null,null,null,null,null,null,null,null,null,null,null,null,null,null,"TABLA CRITERIOS EVALUACIÓN DE RIESGOS"]
[{"$f":"'Evaluación de Controles'!AA285","v":""},{"$f":"'Evaluación de Controles'!AB285","v":""},{"$f":"'Evaluación de Controles'!AC285","v":""},281,null,null,null,null,null,null,null,null,null,null,null,null,null,null,null,null,null,null,null,null,null,null,null,null,null,null,null,null,null,null,null,null,null,null,"DEFINICIÓN","DAÑO ECONÓMICO FINAL","LESIONES O MUERTE","PARÁLISIS DE OPERACIONES","ÁREA AFECTADA","SERVICIO AL CLIENTE E IMAGEN","IMPACTO SOBRE LA INFORMACIÓN","SEGURIDAD FÍSICA Y LÓGICA","ítem","OPINIÓN"]
[{"$f":"'Evaluación de Controles'!AA295","v":""},{"$f":"'Evaluación de Controles'!AB295","v":""},{"$f":"'Evaluación de Controles'!AC295","v":""},291,null,null,null,null,null,null,null,null,null,null,null,null,null,null,null,null,null,null,null,null,null,null,null,null,null,null,null,null,null,null,null,null,null,null,"1\nSituación despreciables que no afecta la operación, no hay daño, pérdida financiera muy baja","1\nHasta el 0.1% del patrimonio","1\nLesiones menores sin suturas ni hospitalizaciones","1\nMenores de dos horas de suspensión","1\nHasta dos puestos de trabajo","1\nInsatisfacción focalizada del servicio. Situaciones que no trascienden en los medios Informativos","1\nNo aplica o no tiene  impacto sobre la información","1\nIntento fallido al ingresar a sistemas operacionales o intentos de atraco no materializados",1,"Insignificante "]
[{"$f":"'Evaluación de Controles'!AA305","v":""},{"$f":"'Evaluación de Controles'!AB305","v":""},{"$f":"'Evaluación de Controles'!AC305","v":""},301,null,null,null,null,null,null,null,null,null,null,null,null,null,null,null,null,null,null,null,null,null,null,null,null,null,null,null,null,null,null,null,null,null,null,"Impacta la operación ligeramente, se contiene en el sitio inmediatamente, de poco peso, perdida financiera baja","2\nMás del 0.1% y hasta 5% del patrimonio","2\nHay suturas, o fracturas no hay hospitalizaciones mayores de un día","2\nHasta 1/2 día de suspensión","2\nEntre dos y cinco puestos de trabajo","2\nAlgunos clientes afectados pero el impacto en ellos es menor \nNoticias aisladas de prensa u otro medio masivo acerca de algún inconveniente.","2\nPerdida de información física y/o electrónica que puede ser recuperada por otros medios.","2\nSuspensión del servicio producto de ataques informáticos.\nInfidelidad",2,"Leve"]
[{"$f":"'Evaluación de Controles'!AA315","v":""},{"$f":"'Evaluación de Controles'!AB315","v":""},{"$f":"'Evaluación de Controles'!AC315","v":""},311,null,null,null,null,null,null,null,null,null,null,null,null,null,null,null,null,null,null,null,null,null,null,null,null,null,null,null,null,null,null,null,null,null,null,"Impacta la operación sin ser extremista, requiere de seguimiento, perdida financiera media.","3\nEntre el 5% y el 15% del patrimonio","3\nHay hospitalizaciones de más de un día hasta dos personas","3\nSuspensión entre 1/2 y dos días","3\nToda el área o sección","3\nUna cantidad importante de clientes son afectados.\nCritica de organismos de control o clientes en medio masivo de comunicación.","3\nInformación no confiable e idonea para la toma de decisiones","3\nInvestigación emprendida por las autoridades.\nLos datos operacionales o los sistemas de control pueden estar comprometidos.",3,"Moderado "]
[{"$f":"'Evaluación de Controles'!AA325","v":""},{"$f":"'Evaluación de Controles'!AB325","v":""},{"$f":"'Evaluación de Controles'!AC325","v":""},321,null,null,null,null,null,null,null,null,null,null,null,null,null,null,null,null,null,null,null,null,null,null,null,null,null,null,null,null,null,null,null,null,null,null,"impacta la operación en forma extrema, datos mayores, perdidas financieras mayores","4\nEntre el 15% y el 40% del patrimonio","4\nHay hospitalizaciones de más de un día de dos o más personas, sin UCI","4\nSuspensión entre dos y cinco días","4\nEntre dos y cuatro áreas o secciones","4\nUna cantidad muy importante de clientes son afectados.\nDivulgación de eventos y/o investigación por organismo regulador, dado a conocer al público en medios informativos masivos y/o principales noticias nacionales","4\nEliminación o perdida definitiva de Información física y/o electrónica confiable y completa para la toma de decisiones","4\nPenetración lógica o física en los sistemas operacionales o instalaciones",4,"Severo"]
[{"$f":"'Evaluación de Controles'!AA335","v":""},{"$f":"'Evaluación de Controles'!AB335","v":""},{"$f":"'Evaluación de Controles'!AC335","v":""},331,null,null,null,null,null,null,null,null,null,null,null,null,null,null,null,null,null,null,null,null,null,null,null,null,null,null,null,null,null,null,null,null,null,null,"Muerte, suceso grave que implicaría incluso el cierre de la operación, perdidas financieras enormes","5\nMás del 40% del patrimonio","5\nUso de UCI o muerte","5\nMás de cinco días","5\nToda la organización","5\nLa mayoria de clientes se encuentran afectados y molestos.\nPérdida de confianza por parte del público.\nIntervención organismo gubernamental","5\nFuga de información confidencial, reservada y/o estratégica","5\nFraude importante y exitoso.\nSistemas totalmente comprometidos",5,"Catastrófico"]
[{"$f":"'Evaluación de Controles'!AA345","v":""},{"$f":"'Evaluación de Controles'!AB345","v":""},{"$f":"'Evaluación de Controles'!AC345","v":""},341]
[{"$f":"'Evaluación de Controles'!AA355","v":""},{"$f":"'Evaluación de Controles'!AB355","v":""},{"$f":"'Evaluación de Controles'!AC355","v":""},351]
[{"$f":"'Evaluación de Controles'!AA365","v":""},{"$f":"'Evaluación de Controles'!AB365","v":""},{"$f":"'Evaluación de Controles'!AC365","v":""},361,null,null,null,null,null,null,null,null,null,null,null,null,null,null,null,null,null,null,null,null,null,null,null,null,null,null,null,null,null,null,null,null,null,null,"TABLA CRITERIOS DE EVALUACIÓN DE CONTROLES"]
[{"$f":"'Evaluación de Controles'!AA375","v":""},{"$f":"'Evaluación de Controles'!AB375","v":""},{"$f":"'Evaluación de Controles'!AC375","v":""},371,null,null,null,null,null,null,null,null,null,null,null,null,null,null,null,null,null,null,null,null,null,null,null,null,null,null,null,null,null,null,null,null,null,null,"DEFINICIÓN",null,"Naturaleza","Complejidad","Procedimiento","Frecuencia","Ambiente del control","Fallas del control","Autoevaluación","Responsabilidad","ítem","OPINIÓN"]
[{"$f":"'Evaluación de Controles'!AA385","v":""},{"$f":"'Evaluación de Controles'!AB385","v":""},{"$f":"'Evaluación de Controles'!AC385","v":""},381,null,null,null,null,null,null,null,null,null,null,null,null,null,null,null,null,null,null,null,null,null,null,null,null,null,null,null,null,null,null,null,null,null,null,"Control no adecuado para prevenir, detectar o corregir el riesgo",null,"1\nControl totalmente manual","1\nProcedimiento del control muy complejo","1\nProcedimiento del control no documentado","1\nEl Control es discreto (Muestreo) y esporádico","1\nAmbiente del control inestable debido a personal no idóneo, carencia de valores, muy alta rotación de personal, grandes cambios recientes en el proceso o procedimientos, u otros factores del entorno o internos que reducen la efectividad del control.","1\nHistóricamente se presentan continuas fallas del control","1\nNunca ha sido autoevaluado","1\nLa responsabilidad del control no esta asignada",0,"Pobre"]
[{"$f":"'Evaluación de Controles'!AA395","v":""},{"$f":"'Evaluación de Controles'!AB395","v":""},{"$f":"'Evaluación de Controles'!AC395","v":""},391,null,null,null,null,null,null,null,null,null,null,null,null,null,null,null,null,null,null,null,null,null,null,null,null,null,null,null,null,null,null,null,null,null,null,"Control deficiente para prevenir, detectar o corregir el riesgo",null,"2\nControl manual","2\nProcedimiento del control bastante complejo","2\nProcedimiento del control no documentado o no actualizado","2\nEl Control es discreto y periódico amplio","2\nAmbiente del control inestable debido a personal no idóneo, inexistencia de valores, alta rotación de personal y moderados cambios recientes en el procedimiento","2\nHistóricamente se presentan frecuentes fallas del control","2\nHa sido auto-evaluado esporadícamente","2\nLa responsabilidad del control esta asignada pero no individualmente",2,"Insatisfactoria"]
[{"$f":"'Evaluación de Controles'!AA405","v":""},{"$f":"'Evaluación de Controles'!AB405","v":""},{"$f":"'Evaluación de Controles'!AC405","v":""},401,null,null,null,null,null,null,null,null,null,null,null,null,null,null,null,null,null,null,null,null,null,null,null,null,null,null,null,null,null,null,null,null,null,null,"El Control puede prevenir, detectar o corregir el riesgo, sin embargo tiene oportunidad de mejora",null,"3\nControl combinado (manual-Automatizado)","3\nProcedimiento del control no muy complejo","3\nProcedimiento del control esta documentado","3\nEl Control es discreto y periódico ajustado","3\nAmbiente del control es generalmente estable debido a moderada rotación de personal y los procedimientos son solo actualizados ocasionalmente","3\nHistóricamente se presentan algunas fallas del control","3\nHa sido auto-evaluado con alguna frecuencia","3\nLa responsabilidad del control esta asignada individualmente pero no formalizada",3,"Moderada"]
[{"$f":"'Evaluación de Controles'!AA415","v":""},{"$f":"'Evaluación de Controles'!AB415","v":""},{"$f":"'Evaluación de Controles'!AC415","v":""},411,null,null,null,null,null,null,null,null,null,null,null,null,null,null,null,null,null,null,null,null,null,null,null,null,null,null,null,null,null,null,null,null,null,null,"Control adecuado para prevenir, detectar o corregir el riesgo",null,"4\nControl automatizado y los controles sobre la integridad del software es bastante confiable","4\nProcedimiento del control no es complejo","4\nProcedimiento del control esta documentado y actualizado","4\nEl Control es de aplicación continua y periódico","4\nAmbiente del control es estable debido a personal idóneo, mínima rotación de personal y los procedimientos son solo actualizados ocasionalmente","4\nHistóricamente se presentan muy pocas fallas del control","4\nEl control es autoevaluado regularmente","4\nLa responsabilidad del control esta asignada individualmente y formalizada",4,"Buena"]
[{"$f":"'Evaluación de Controles'!AA425","v":""},{"$f":"'Evaluación de Controles'!AB425","v":""},{"$f":"'Evaluación de Controles'!AC425","v":""},421,null,null,null,null,null,null,null,null,null,null,null,null,null,null,null,null,null,null,null,null,null,null,null,null,null,null,null,null,null,null,null,null,null,null,"El control muy fuerte y efectivo para mitigar el riesgo",null,"5\nEl control es totalmente automatizado y el ambiente de control sobre la integridad del software y sus cambios es muy fuerte.","5\nPoca complejidad del procedimiento de control","5\nEl control esta documentado y actualizado.","5\nEl Control es de aplicación continua y de frecuencia continua.","5\nEl ambiente de control es considerado muy fuerte, personal idóneo, mínima rotación de personal, no se han presentado cambios recientes en el procedimiento","5\nHistóricamente no se han detectado fallas del control","5\nEl control es autoevaluado constantemente","5\nLa responsabilidad del control esta asignada individualmente y formalizada, y se ha asumido claramente dicha responsabilidad",5,"Excelente"]
[{"$f":"'Evaluación de Controles'!AA435","v":""},{"$f":"'Evaluación de Controles'!AB435","v":""},{"$f":"'Evaluación de Controles'!AC435","v":""},431]
[{"$f":"'Evaluación de Controles'!AA445","v":""},{"$f":"'Evaluación de Controles'!AB445","v":""},{"$f":"'Evaluación de Controles'!AC445","v":""},441,null,null,null,null,null,null,null,null,null,null,null,null,null,null,null,null,null,null,null,null,null,null,null,null,null,null,null,null,null,null,null,null,null,null,"TABLA CRITERIOS COBERTURA DE CONTROLES"]
[{"$f":"'Evaluación de Controles'!AA455","v":""},{"$f":"'Evaluación de Controles'!AB455","v":""},{"$f":"'Evaluación de Controles'!AC455","v":""},451,null,null,null,null,null,null,null,null,null,null,null,null,null,null,null,null,null,null,null,null,null,null,null,null,null,null,null,null,null,null,null,null,null,null,"DEFINICIÓN","Causas Primarias y/o Secundarias","% cobertura","Beneficio/Costo","Ítem","OPINIÓN"]
[{"$f":"'Evaluación de Controles'!AA465","v":""},{"$f":"'Evaluación de Controles'!AB465","v":""},{"$f":"'Evaluación de Controles'!AC465","v":""},461,null,null,null,null,null,null,null,null,null,null,null,null,null,null,null,null,null,null,null,null,null,null,null,null,null,null,null,null,null,null,null,null,null,null,"Cobertura del control insignificante no apunta a causas primarias o secundarias del riesgo.","1\nNo hay Causas identificadas","1\n0% - 10%","1\nEl costo del control es mayor que el riesgo",1,"Pobre"]
[{"$f":"'Evaluación de Controles'!AA475","v":""},{"$f":"'Evaluación de Controles'!AB475","v":""},{"$f":"'Evaluación de Controles'!AC475","v":""},471,null,null,null,null,null,null,null,null,null,null,null,null,null,null,null,null,null,null,null,null,null,null,null,null,null,null,null,null,null,null,null,null,null,null,"La Cobertura baja solo mitiga una causa secundaria del riesgo.","2\nUna causa secundaria identificada","2\n11% - 40%","2\nEl costo del control es igual al riesgo",2,"Insatisfactoria"]
[{"$f":"'Evaluación de Controles'!AA485","v":""},{"$f":"'Evaluación de Controles'!AB485","v":""},{"$f":"'Evaluación de Controles'!AC485","v":""},481,null,null,null,null,null,null,null,null,null,null,null,null,null,null,null,null,null,null,null,null,null,null,null,null,null,null,null,null,null,null,null,null,null,null,"La Cobertura media solo mitiga causas secundarias del riesgo.","3\nHasta dos causas secundarias identificadas","3\n41% - 60%","3\nEl costo del control es inferior al Riesgo",3,"Moderada"]
[{"$f":"'Evaluación de Controles'!AA495","v":""},{"$f":"'Evaluación de Controles'!AB495","v":""},{"$f":"'Evaluación de Controles'!AC495","v":""},491,null,null,null,null,null,null,null,null,null,null,null,null,null,null,null,null,null,null,null,null,null,null,null,null,null,null,null,null,null,null,null,null,null,null,"La Cobertura adecuada para atacar la causa más relevante del riesgo","4\nUna causa primaria identificada","4\n61% - 90%","4\nEl costo del control es muy inferior al riesgo",4,"Buena"]
[{"$f":"'Evaluación de Controles'!AA505","v":""},{"$f":"'Evaluación de Controles'!AB505","v":""},{"$f":"'Evaluación de Controles'!AC505","v":""},501,null,null,null,null,null,null,null,null,null,null,null,null,null,null,null,null,null,null,null,null,null,null,null,null,null,null,null,null,null,null,null,null,null,null,"La cobertura es muy fuerte para atacar las causas primarias, secundarias y permiten preveer escenarios fortuitos.","5\nUna o más causas   Primarias y secundarias identificadas","5\n91% - 99%","5\nEl costo del control es insignificante en relación con el riesgo.",5,"Excelente"]
[{"$f":"'Evaluación de Controles'!AA515","v":""},{"$f":"'Evaluación de Controles'!AB515","v":""},{"$f":"'Evaluación de Controles'!AC515","v":""},511]
[{"$f":"'Evaluación de Controles'!AA525","v":""},{"$f":"'Evaluación de Controles'!AB525","v":""},{"$f":"'Evaluación de Controles'!AC525","v":""},521]
[{"$f":"'Evaluación de Controles'!AA535","v":""},{"$f":"'Evaluación de Controles'!AB535","v":""},{"$f":"'Evaluación de Controles'!AC535","v":""},531]
[{"$f":"'Evaluación de Controles'!AA545","v":""},{"$f":"'Evaluación de Controles'!AB545","v":""},{"$f":"'Evaluación de Controles'!AC545","v":""},541]
[{"$f":"'Evaluación de Controles'!AA555","v":""},{"$f":"'Evaluación de Controles'!AB555","v":""},{"$f":"'Evaluación de Controles'!AC555","v":""},551]
[{"$f":"'Evaluación de Controles'!AA565","v":""},{"$f":"'Evaluación de Controles'!AB565","v":""},{"$f":"'Evaluación de Controles'!AC565","v":""},561]
[{"$f":"'Evaluación de Controles'!AA575","v":""},{"$f":"'Evaluación de Controles'!AB575","v":""},{"$f":"'Evaluación de Controles'!AC575","v":""},571]
[{"$f":"'Evaluación de Controles'!AA585","v":""},{"$f":"'Evaluación de Controles'!AB585","v":""},{"$f":"'Evaluación de Controles'!AC585","v":""},581]
[{"$f":"'Evaluación de Controles'!AA595","v":""},{"$f":"'Evaluación de Controles'!AB595","v":""},{"$f":"'Evaluación de Controles'!AC595","v":""},591]
[{"$f":"'Evaluación de Controles'!AA605","v":""},{"$f":"'Evaluación de Controles'!AB605","v":""},{"$f":"'Evaluación de Controles'!AC605","v":""},601]
[{"$f":"'Evaluación de Controles'!AA615","v":""},{"$f":"'Evaluación de Controles'!AB615","v":""},{"$f":"'Evaluación de Controles'!AC615","v":""},611]
[{"$f":"'Evaluación de Controles'!AA625","v":""},{"$f":"'Evaluación de Controles'!AB625","v":""},{"$f":"'Evaluación de Controles'!AC625","v":""},621]
[{"$f":"'Evaluación de Controles'!AA635","v":""},{"$f":"'Evaluación de Controles'!AB635","v":""},{"$f":"'Evaluación de Controles'!AC635","v":""},631]
[{"$f":"'Evaluación de Controles'!AA645","v":""},{"$f":"'Evaluación de Controles'!AB645","v":""},{"$f":"'Evaluación de Controles'!AC645","v":""},641]
[{"$f":"'Evaluación de Controles'!AA655","v":""},{"$f":"'Evaluación de Controles'!AB655","v":""},{"$f":"'Evaluación de Controles'!AC655","v":""},651]
[{"$f":"'Evaluación de Controles'!AA665","v":""},{"$f":"'Evaluación de Controles'!AB665","v":""},{"$f":"'Evaluación de Controles'!AC665","v":""},661]
[{"$f":"'Evaluación de Controles'!AA675","v":""},{"$f":"'Evaluación de Controles'!AB675","v":""},{"$f":"'Evaluación de Controles'!AC675","v":""},671]
[{"$f":"'Evaluación de Controles'!AA685","v":""},{"$f":"'Evaluación de Controles'!AB685","v":""},{"$f":"'Evaluación de Controles'!AC685","v":""},681]
[{"$f":"'Evaluación de Controles'!AA695","v":0},{"$f":"'Evaluación de Controles'!AB695","v":0},{"$f":"'Evaluación de Controles'!AC695","v":0},691]
[{"$f":"'Evaluación de Controles'!AA705","v":0},{"$f":"'Evaluación de Controles'!AB705","v":0},{"$f":"'Evaluación de Controles'!AC705","v":0},701]
[{"$f":"'Evaluación de Controles'!AA715","v":0},{"$f":"'Evaluación de Controles'!AB715","v":0},{"$f":"'Evaluación de Controles'!AC715","v":0},711]
[{"$f":"'Evaluación de Controles'!AA725","v":0},{"$f":"'Evaluación de Controles'!AB725","v":0},{"$f":"'Evaluación de Controles'!AC725","v":0},721]
[{"$f":"'Evaluación de Controles'!AA735","v":0},{"$f":"'Evaluación de Controles'!AB735","v":0},{"$f":"'Evaluación de Controles'!AC735","v":0},731]
[{"$f":"'Evaluación de Controles'!AA745","v":0},{"$f":"'Evaluación de Controles'!AB745","v":0},{"$f":"'Evaluación de Controles'!AC745","v":0},741]
[{"$f":"'Evaluación de Controles'!AA755","v":0},{"$f":"'Evaluación de Controles'!AB755","v":0},{"$f":"'Evaluación de Controles'!AC755","v":0},751]
[{"$f":"'Evaluación de Controles'!AA765","v":0},{"$f":"'Evaluación de Controles'!AB765","v":0},{"$f":"'Evaluación de Controles'!AC765","v":0},761]
[{"$f":"'Evaluación de Controles'!AA775","v":0},{"$f":"'Evaluación de Controles'!AB775","v":0},{"$f":"'Evaluación de Controles'!AC775","v":0},771]
[{"$f":"'Evaluación de Controles'!AA785","v":0},{"$f":"'Evaluación de Controles'!AB785","v":0},{"$f":"'Evaluación de Controles'!AC785","v":0},781]
[{"$f":"'Evaluación de Controles'!AA795","v":0},{"$f":"'Evaluación de Controles'!AB795","v":0},{"$f":"'Evaluación de Controles'!AC795","v":0},791]
[{"$f":"'Evaluación de Controles'!AA805","v":0},{"$f":"'Evaluación de Controles'!AB805","v":0},{"$f":"'Evaluación de Controles'!AC805","v":0},801]
[{"$f":"'Evaluación de Controles'!AA815","v":0},{"$f":"'Evaluación de Controles'!AB815","v":0},{"$f":"'Evaluación de Controles'!AC815","v":0},811]
[{"$f":"'Evaluación de Controles'!AA825","v":0},{"$f":"'Evaluación de Controles'!AB825","v":0},{"$f":"'Evaluación de Controles'!AC825","v":0},821]
[{"$f":"'Evaluación de Controles'!AA835","v":0},{"$f":"'Evaluación de Controles'!AB835","v":0},{"$f":"'Evaluación de Controles'!AC835","v":0},831]
[{"$f":"'Evaluación de Controles'!AA845","v":0},{"$f":"'Evaluación de Controles'!AB845","v":0},{"$f":"'Evaluación de Controles'!AC845","v":0},841]
[{"$f":"'Evaluación de Controles'!AA855","v":0},{"$f":"'Evaluación de Controles'!AB855","v":0},{"$f":"'Evaluación de Controles'!AC855","v":0},851]
[{"$f":"'Evaluación de Controles'!AA865","v":0},{"$f":"'Evaluación de Controles'!AB865","v":0},{"$f":"'Evaluación de Controles'!AC865","v":0},861]
[{"$f":"'Evaluación de Controles'!AA875","v":0},{"$f":"'Evaluación de Controles'!AB875","v":0},{"$f":"'Evaluación de Controles'!AC875","v":0},871]
[{"$f":"'Evaluación de Controles'!AA885","v":0},{"$f":"'Evaluación de Controles'!AB885","v":0},{"$f":"'Evaluación de Controles'!AC885","v":0},881]
[{"$f":"'Evaluación de Controles'!AA895","v":0},{"$f":"'Evaluación de Controles'!AB895","v":0},{"$f":"'Evaluación de Controles'!AC895","v":0},891]
[{"$f":"'Evaluación de Controles'!AA905","v":0},{"$f":"'Evaluación de Controles'!AB905","v":0},{"$f":"'Evaluación de Controles'!AC905","v":0},901]
[{"$f":"'Evaluación de Controles'!AA915","v":0},{"$f":"'Evaluación de Controles'!AB915","v":0},{"$f":"'Evaluación de Controles'!AC915","v":0},911]
[{"$f":"'Evaluación de Controles'!AA925","v":0},{"$f":"'Evaluación de Controles'!AB925","v":0},{"$f":"'Evaluación de Controles'!AC925","v":0},921]
[{"$f":"'Evaluación de Controles'!AA935","v":0},{"$f":"'Evaluación de Controles'!AB935","v":0},{"$f":"'Evaluación de Controles'!AC935","v":0},931]
[{"$f":"'Evaluación de Controles'!AA945","v":0},{"$f":"'Evaluación de Controles'!AB945","v":0},{"$f":"'Evaluación de Controles'!AC945","v":0},941]
[{"$f":"'Evaluación de Controles'!AA955","v":0},{"$f":"'Evaluación de Controles'!AB955","v":0},{"$f":"'Evaluación de Controles'!AC955","v":0},951]
[{"$f":"'Evaluación de Controles'!AA965","v":0},{"$f":"'Evaluación de Controles'!AB965","v":0},{"$f":"'Evaluación de Controles'!AC965","v":0},961]
[{"$f":"'Evaluación de Controles'!AA975","v":0},{"$f":"'Evaluación de Controles'!AB975","v":0},{"$f":"'Evaluación de Controles'!AC975","v":0},971]
[{"$f":"'Evaluación de Controles'!AA985","v":0},{"$f":"'Evaluación de Controles'!AB985","v":0},{"$f":"'Evaluación de Controles'!AC985","v":0},981]
[{"$f":"'Evaluación de Controles'!AA995","v":0},{"$f":"'Evaluación de Controles'!AB995","v":0},{"$f":"'Evaluación de Controles'!AC995","v":0},991]
[{"$f":"'Evaluación de Controles'!AA1005","v":0},{"$f":"'Evaluación de Controles'!AB1005","v":0},{"$f":"'Evaluación de Controles'!AC1005","v":0},1001]
[{"$f":"'Evaluación de Controles'!AA1015","v":0},{"$f":"'Evaluación de Controles'!AB1015","v":0},{"$f":"'Evaluación de Controles'!AC1015","v":0},1011]
[{"$f":"'Evaluación de Controles'!AA1025","v":0},{"$f":"'Evaluación de Controles'!AB1025","v":0},{"$f":"'Evaluación de Controles'!AC1025","v":0},1021]
[{"$f":"'Evaluación de Controles'!AA1035","v":0},{"$f":"'Evaluación de Controles'!AB1035","v":0},{"$f":"'Evaluación de Controles'!AC1035","v":0},1031]
[{"$f":"'Evaluación de Controles'!AA1045","v":0},{"$f":"'Evaluación de Controles'!AB1045","v":0},{"$f":"'Evaluación de Controles'!AC1045","v":0},1041]
[{"$f":"'Evaluación de Controles'!AA1055","v":0},{"$f":"'Evaluación de Controles'!AB1055","v":0},{"$f":"'Evaluación de Controles'!AC1055","v":0},1051]
[{"$f":"'Evaluación de Controles'!AA1065","v":0},{"$f":"'Evaluación de Controles'!AB1065","v":0},{"$f":"'Evaluación de Controles'!AC1065","v":0},1061]
[{"$f":"'Evaluación de Controles'!AA1075","v":0},{"$f":"'Evaluación de Controles'!AB1075","v":0},{"$f":"'Evaluación de Controles'!AC1075","v":0},1071]
[{"$f":"'Evaluación de Controles'!AA1085","v":0},{"$f":"'Evaluación de Controles'!AB1085","v":0},{"$f":"'Evaluación de Controles'!AC1085","v":0},1081]
[{"$f":"'Evaluación de Controles'!AA1095","v":0},{"$f":"'Evaluación de Controles'!AB1095","v":0},{"$f":"'Evaluación de Controles'!AC1095","v":0},1091]
[{"$f":"'Evaluación de Controles'!AA1105","v":0},{"$f":"'Evaluación de Controles'!AB1105","v":0},{"$f":"'Evaluación de Controles'!AC1105","v":0},1101]
[{"$f":"'Evaluación de Controles'!AA1115","v":0},{"$f":"'Evaluación de Controles'!AB1115","v":0},{"$f":"'Evaluación de Controles'!AC1115","v":0},1111]
[{"$f":"'Evaluación de Controles'!AA1125","v":0},{"$f":"'Evaluación de Controles'!AB1125","v":0},{"$f":"'Evaluación de Controles'!AC1125","v":0},1121]
[{"$f":"'Evaluación de Controles'!AA1135","v":0},{"$f":"'Evaluación de Controles'!AB1135","v":0},{"$f":"'Evaluación de Controles'!AC1135","v":0},1131]
[{"$f":"'Evaluación de Controles'!AA1145","v":0},{"$f":"'Evaluación de Controles'!AB1145","v":0},{"$f":"'Evaluación de Controles'!AC1145","v":0},1141]
[{"$f":"'Evaluación de Controles'!AA1155","v":0},{"$f":"'Evaluación de Controles'!AB1155","v":0},{"$f":"'Evaluación de Controles'!AC1155","v":0},1151]
[{"$f":"'Evaluación de Controles'!AA1165","v":0},{"$f":"'Evaluación de Controles'!AB1165","v":0},{"$f":"'Evaluación de Controles'!AC1165","v":0},1161]
[{"$f":"'Evaluación de Controles'!AA1175","v":0},{"$f":"'Evaluación de Controles'!AB1175","v":0},{"$f":"'Evaluación de Controles'!AC1175","v":0},1171]
[{"$f":"'Evaluación de Controles'!AA1185","v":0},{"$f":"'Evaluación de Controles'!AB1185","v":0},{"$f":"'Evaluación de Controles'!AC1185","v":0},1181]
[{"$f":"'Evaluación de Controles'!AA1195","v":0},{"$f":"'Evaluación de Controles'!AB1195","v":0},{"$f":"'Evaluación de Controles'!AC1195","v":0},1191]
[{"$f":"'Evaluación de Controles'!AA1205","v":0},{"$f":"'Evaluación de Controles'!AB1205","v":0},{"$f":"'Evaluación de Controles'!AC1205","v":0},1201]
[{"$f":"'Evaluación de Controles'!AA1215","v":0},{"$f":"'Evaluación de Controles'!AB1215","v":0},{"$f":"'Evaluación de Controles'!AC1215","v":0},1211]
[{"$f":"'Evaluación de Controles'!AA1225","v":0},{"$f":"'Evaluación de Controles'!AB1225","v":0},{"$f":"'Evaluación de Controles'!AC1225","v":0},1221]
[{"$f":"'Evaluación de Controles'!AA1235","v":0},{"$f":"'Evaluación de Controles'!AB1235","v":0},{"$f":"'Evaluación de Controles'!AC1235","v":0},1231]
[{"$f":"'Evaluación de Controles'!AA1245","v":0},{"$f":"'Evaluación de Controles'!AB1245","v":0},{"$f":"'Evaluación de Controles'!AC1245","v":0},1241]
[{"$f":"'Evaluación de Controles'!AA1255","v":0},{"$f":"'Evaluación de Controles'!AB1255","v":0},{"$f":"'Evaluación de Controles'!AC1255","v":0},1251]
[{"$f":"'Evaluación de Controles'!AA1265","v":0},{"$f":"'Evaluación de Controles'!AB1265","v":0},{"$f":"'Evaluación de Controles'!AC1265","v":0},1261]
[{"$f":"'Evaluación de Controles'!AA1275","v":0},{"$f":"'Evaluación de Controles'!AB1275","v":0},{"$f":"'Evaluación de Controles'!AC1275","v":0},1271]
[{"$f":"'Evaluación de Controles'!AA1285","v":0},{"$f":"'Evaluación de Controles'!AB1285","v":0},{"$f":"'Evaluación de Controles'!AC1285","v":0},1281]
[{"$f":"'Evaluación de Controles'!AA1295","v":0},{"$f":"'Evaluación de Controles'!AB1295","v":0},{"$f":"'Evaluación de Controles'!AC1295","v":0},1291]
[{"$f":"'Evaluación de Controles'!AA1305","v":0},{"$f":"'Evaluación de Controles'!AB1305","v":0},{"$f":"'Evaluación de Controles'!AC1305","v":0},1301]
[{"$f":"'Evaluación de Controles'!AA1315","v":0},{"$f":"'Evaluación de Controles'!AB1315","v":0},{"$f":"'Evaluación de Controles'!AC1315","v":0},1311]
[{"$f":"'Evaluación de Controles'!AA1325","v":0},{"$f":"'Evaluación de Controles'!AB1325","v":0},{"$f":"'Evaluación de Controles'!AC1325","v":0},1321]
[{"$f":"'Evaluación de Controles'!AA1335","v":0},{"$f":"'Evaluación de Controles'!AB1335","v":0},{"$f":"'Evaluación de Controles'!AC1335","v":0},1331]
[{"$f":"'Evaluación de Controles'!AA1345","v":0},{"$f":"'Evaluación de Controles'!AB1345","v":0},{"$f":"'Evaluación de Controles'!AC1345","v":0},1341]
[{"$f":"'Evaluación de Controles'!AA1355","v":0},{"$f":"'Evaluación de Controles'!AB1355","v":0},{"$f":"'Evaluación de Controles'!AC1355","v":0},1351]
[{"$f":"'Evaluación de Controles'!AA1365","v":0},{"$f":"'Evaluación de Controles'!AB1365","v":0},{"$f":"'Evaluación de Controles'!AC1365","v":0},1361]
[{"$f":"'Evaluación de Controles'!AA1375","v":0},{"$f":"'Evaluación de Controles'!AB1375","v":0},{"$f":"'Evaluación de Controles'!AC1375","v":0},1371]
[{"$f":"'Evaluación de Controles'!AA1385","v":0},{"$f":"'Evaluación de Controles'!AB1385","v":0},{"$f":"'Evaluación de Controles'!AC1385","v":0},1381]
[{"$f":"'Evaluación de Controles'!AA1395","v":0},{"$f":"'Evaluación de Controles'!AB1395","v":0},{"$f":"'Evaluación de Controles'!AC1395","v":0},1391]
[{"$f":"'Evaluación de Controles'!AA1405","v":0},{"$f":"'Evaluación de Controles'!AB1405","v":0},{"$f":"'Evaluación de Controles'!AC1405","v":0},1401]
[{"$f":"'Evaluación de Controles'!AA1415","v":0},{"$f":"'Evaluación de Controles'!AB1415","v":0},{"$f":"'Evaluación de Controles'!AC1415","v":0},1411]
[{"$f":"'Evaluación de Controles'!AA1425","v":0},{"$f":"'Evaluación de Controles'!AB1425","v":0},{"$f":"'Evaluación de Controles'!AC1425","v":0},1421]
[{"$f":"'Evaluación de Controles'!AA1435","v":0},{"$f":"'Evaluación de Controles'!AB1435","v":0},{"$f":"'Evaluación de Controles'!AC1435","v":0},1431]
[{"$f":"'Evaluación de Controles'!AA1445","v":0},{"$f":"'Evaluación de Controles'!AB1445","v":0},{"$f":"'Evaluación de Controles'!AC1445","v":0},1441]
[{"$f":"'Evaluación de Controles'!AA1455","v":0},{"$f":"'Evaluación de Controles'!AB1455","v":0},{"$f":"'Evaluación de Controles'!AC1455","v":0},1451]
[{"$f":"'Evaluación de Controles'!AA1465","v":0},{"$f":"'Evaluación de Controles'!AB1465","v":0},{"$f":"'Evaluación de Controles'!AC1465","v":0},1461]
[{"$f":"'Evaluación de Controles'!AA1475","v":0},{"$f":"'Evaluación de Controles'!AB1475","v":0},{"$f":"'Evaluación de Controles'!AC1475","v":0},1471]
[{"$f":"'Evaluación de Controles'!AA1485","v":0},{"$f":"'Evaluación de Controles'!AB1485","v":0},{"$f":"'Evaluación de Controles'!AC1485","v":0},1481]
[{"$f":"'Evaluación de Controles'!AA1495","v":0},{"$f":"'Evaluación de Controles'!AB1495","v":0},{"$f":"'Evaluación de Controles'!AC1495","v":0},1491]
[{"$f":"'Evaluación de Controles'!AA1505","v":0},{"$f":"'Evaluación de Controles'!AB1505","v":0},{"$f":"'Evaluación de Controles'!AC1505","v":0},1501]
[{"$f":"'Evaluación de Controles'!AA1515","v":0},{"$f":"'Evaluación de Controles'!AB1515","v":0},{"$f":"'Evaluación de Controles'!AC1515","v":0},1511]
[{"$f":"'Evaluación de Controles'!AA1525","v":0},{"$f":"'Evaluación de Controles'!AB1525","v":0},{"$f":"'Evaluación de Controles'!AC1525","v":0},1521]
[{"$f":"'Evaluación de Controles'!AA1535","v":0},{"$f":"'Evaluación de Controles'!AB1535","v":0},{"$f":"'Evaluación de Controles'!AC1535","v":0},1531]
[{"$f":"'Evaluación de Controles'!AA1545","v":0},{"$f":"'Evaluación de Controles'!AB1545","v":0},{"$f":"'Evaluación de Controles'!AC1545","v":0},1541]
[{"$f":"'Evaluación de Controles'!AA1555","v":0},{"$f":"'Evaluación de Controles'!AB1555","v":0},{"$f":"'Evaluación de Controles'!AC1555","v":0},1551]
[{"$f":"'Evaluación de Controles'!AA1565","v":0},{"$f":"'Evaluación de Controles'!AB1565","v":0},{"$f":"'Evaluación de Controles'!AC1565","v":0},1561]
[{"$f":"'Evaluación de Controles'!AA1575","v":0},{"$f":"'Evaluación de Controles'!AB1575","v":0},{"$f":"'Evaluación de Controles'!AC1575","v":0},1571]
[{"$f":"'Evaluación de Controles'!AA1585","v":0},{"$f":"'Evaluación de Controles'!AB1585","v":0},{"$f":"'Evaluación de Controles'!AC1585","v":0},1581]
[{"$f":"'Evaluación de Controles'!AA1595","v":0},{"$f":"'Evaluación de Controles'!AB1595","v":0},{"$f":"'Evaluación de Controles'!AC1595","v":0},1591]
[{"$f":"'Evaluación de Controles'!AA1605","v":0},{"$f":"'Evaluación de Controles'!AB1605","v":0},{"$f":"'Evaluación de Controles'!AC1605","v":0},1601]
[{"$f":"'Evaluación de Controles'!AA1615","v":0},{"$f":"'Evaluación de Controles'!AB1615","v":0},{"$f":"'Evaluación de Controles'!AC1615","v":0},1611]
[{"$f":"'Evaluación de Controles'!AA1625","v":0},{"$f":"'Evaluación de Controles'!AB1625","v":0},{"$f":"'Evaluación de Controles'!AC1625","v":0},1621]
[{"$f":"'Evaluación de Controles'!AA1635","v":0},{"$f":"'Evaluación de Controles'!AB1635","v":0},{"$f":"'Evaluación de Controles'!AC1635","v":0},1631]
[{"$f":"'Evaluación de Controles'!AA1645","v":0},{"$f":"'Evaluación de Controles'!AB1645","v":0},{"$f":"'Evaluación de Controles'!AC1645","v":0},1641]
[{"$f":"'Evaluación de Controles'!AA1655","v":0},{"$f":"'Evaluación de Controles'!AB1655","v":0},{"$f":"'Evaluación de Controles'!AC1655","v":0},1651]
[{"$f":"'Evaluación de Controles'!AA1665","v":0},{"$f":"'Evaluación de Controles'!AB1665","v":0},{"$f":"'Evaluación de Controles'!AC1665","v":0},1661]
[{"$f":"'Evaluación de Controles'!AA1675","v":0},{"$f":"'Evaluación de Controles'!AB1675","v":0},{"$f":"'Evaluación de Controles'!AC1675","v":0},1671]
[{"$f":"'Evaluación de Controles'!AA1685","v":0},{"$f":"'Evaluación de Controles'!AB1685","v":0},{"$f":"'Evaluación de Controles'!AC1685","v":0},1681]
[{"$f":"'Evaluación de Controles'!AA1695","v":0},{"$f":"'Evaluación de Controles'!AB1695","v":0},{"$f":"'Evaluación de Controles'!AC1695","v":0},1691]
[{"$f":"'Evaluación de Controles'!AA1705","v":0},{"$f":"'Evaluación de Controles'!AB1705","v":0},{"$f":"'Evaluación de Controles'!AC1705","v":0},1701]
[{"$f":"'Evaluación de Controles'!AA1715","v":0},{"$f":"'Evaluación de Controles'!AB1715","v":0},{"$f":"'Evaluación de Controles'!AC1715","v":0},1711]
[{"$f":"'Evaluación de Controles'!AA1725","v":0},{"$f":"'Evaluación de Controles'!AB1725","v":0},{"$f":"'Evaluación de Controles'!AC1725","v":0},1721]
[{"$f":"'Evaluación de Controles'!AA1735","v":0},{"$f":"'Evaluación de Controles'!AB1735","v":0},{"$f":"'Evaluación de Controles'!AC1735","v":0},1731]
[{"$f":"'Evaluación de Controles'!AA1745","v":0},{"$f":"'Evaluación de Controles'!AB1745","v":0},{"$f":"'Evaluación de Controles'!AC1745","v":0},1741]
[{"$f":"'Evaluación de Controles'!AA1755","v":0},{"$f":"'Evaluación de Controles'!AB1755","v":0},{"$f":"'Evaluación de Controles'!AC1755","v":0},1751]
[{"$f":"'Evaluación de Controles'!AA1765","v":0},{"$f":"'Evaluación de Controles'!AB1765","v":0},{"$f":"'Evaluación de Controles'!AC1765","v":0},1761]
[{"$f":"'Evaluación de Controles'!AA1775","v":0},{"$f":"'Evaluación de Controles'!AB1775","v":0},{"$f":"'Evaluación de Controles'!AC1775","v":0},1771]
[{"$f":"'Evaluación de Controles'!AA1785","v":0},{"$f":"'Evaluación de Controles'!AB1785","v":0},{"$f":"'Evaluación de Controles'!AC1785","v":0},1781]
[{"$f":"'Evaluación de Controles'!AA1795","v":0},{"$f":"'Evaluación de Controles'!AB1795","v":0},{"$f":"'Evaluación de Controles'!AC1795","v":0},1791]
[{"$f":"'Evaluación de Controles'!AA1805","v":0},{"$f":"'Evaluación de Controles'!AB1805","v":0},{"$f":"'Evaluación de Controles'!AC1805","v":0},1801]
[{"$f":"'Evaluación de Controles'!AA1815","v":0},{"$f":"'Evaluación de Controles'!AB1815","v":0},{"$f":"'Evaluación de Controles'!AC1815","v":0},1811]
[{"$f":"'Evaluación de Controles'!AA1825","v":0},{"$f":"'Evaluación de Controles'!AB1825","v":0},{"$f":"'Evaluación de Controles'!AC1825","v":0},1821]
[{"$f":"'Evaluación de Controles'!AA1835","v":0},{"$f":"'Evaluación de Controles'!AB1835","v":0},{"$f":"'Evaluación de Controles'!AC1835","v":0},1831]
[{"$f":"'Evaluación de Controles'!AA1845","v":0},{"$f":"'Evaluación de Controles'!AB1845","v":0},{"$f":"'Evaluación de Controles'!AC1845","v":0},1841]
[{"$f":"'Evaluación de Controles'!AA1855","v":0},{"$f":"'Evaluación de Controles'!AB1855","v":0},{"$f":"'Evaluación de Controles'!AC1855","v":0},1851]
[{"$f":"'Evaluación de Controles'!AA1865","v":0},{"$f":"'Evaluación de Controles'!AB1865","v":0},{"$f":"'Evaluación de Controles'!AC1865","v":0},1861]
[{"$f":"'Evaluación de Controles'!AA1875","v":0},{"$f":"'Evaluación de Controles'!AB1875","v":0},{"$f":"'Evaluación de Controles'!AC1875","v":0},1871]
[{"$f":"'Evaluación de Controles'!AA1885","v":0},{"$f":"'Evaluación de Controles'!AB1885","v":0},{"$f":"'Evaluación de Controles'!AC1885","v":0},1881]
[{"$f":"'Evaluación de Controles'!AA1895","v":0},{"$f":"'Evaluación de Controles'!AB1895","v":0},{"$f":"'Evaluación de Controles'!AC1895","v":0},1891]
[{"$f":"'Evaluación de Controles'!AA1905","v":0},{"$f":"'Evaluación de Controles'!AB1905","v":0},{"$f":"'Evaluación de Controles'!AC1905","v":0},1901]
[{"$f":"'Evaluación de Controles'!AA1915","v":0},{"$f":"'Evaluación de Controles'!AB1915","v":0},{"$f":"'Evaluación de Controles'!AC1915","v":0},1911]
[{"$f":"'Evaluación de Controles'!AA1925","v":0},{"$f":"'Evaluación de Controles'!AB1925","v":0},{"$f":"'Evaluación de Controles'!AC1925","v":0},1921]
[{"$f":"'Evaluación de Controles'!AA1935","v":0},{"$f":"'Evaluación de Controles'!AB1935","v":0},{"$f":"'Evaluación de Controles'!AC1935","v":0},1931]
[{"$f":"'Evaluación de Controles'!AA1945","v":0},{"$f":"'Evaluación de Controles'!AB1945","v":0},{"$f":"'Evaluación de Controles'!AC1945","v":0},1941]
[{"$f":"'Evaluación de Controles'!AA1955","v":0},{"$f":"'Evaluación de Controles'!AB1955","v":0},{"$f":"'Evaluación de Controles'!AC1955","v":0},1951]
[{"$f":"'Evaluación de Controles'!AA1965","v":0},{"$f":"'Evaluación de Controles'!AB1965","v":0},{"$f":"'Evaluación de Controles'!AC1965","v":0},1961]
[{"$f":"'Evaluación de Controles'!AA1975","v":0},{"$f":"'Evaluación de Controles'!AB1975","v":0},{"$f":"'Evaluación de Controles'!AC1975","v":0},1971]
[{"$f":"'Evaluación de Controles'!AA1985","v":0},{"$f":"'Evaluación de Controles'!AB1985","v":0},{"$f":"'Evaluación de Controles'!AC1985","v":0},1981]
[{"$f":"'Evaluación de Controles'!AA1995","v":0},{"$f":"'Evaluación de Controles'!AB1995","v":0},{"$f":"'Evaluación de Controles'!AC1995","v":0},1991]
[{"$f":"'Evaluación de Controles'!AA2005","v":0},{"$f":"'Evaluación de Controles'!AB2005","v":0},{"$f":"'Evaluación de Controles'!AC2005","v":0},2001]
[{"$f":"'Evaluación de Controles'!AA2015","v":0},{"$f":"'Evaluación de Controles'!AB2015","v":0},{"$f":"'Evaluación de Controles'!AC2015","v":0},2011]
[{"$f":"'Evaluación de Controles'!AA2025","v":0},{"$f":"'Evaluación de Controles'!AB2025","v":0},{"$f":"'Evaluación de Controles'!AC2025","v":0},2021]
[{"$f":"'Evaluación de Controles'!AA2035","v":0},{"$f":"'Evaluación de Controles'!AB2035","v":0},{"$f":"'Evaluación de Controles'!AC2035","v":0},2031]
[{"$f":"'Evaluación de Controles'!AA2045","v":0},{"$f":"'Evaluación de Controles'!AB2045","v":0},{"$f":"'Evaluación de Controles'!AC2045","v":0},2041]
[{"$f":"'Evaluación de Controles'!AA2055","v":0},{"$f":"'Evaluación de Controles'!AB2055","v":0},{"$f":"'Evaluación de Controles'!AC2055","v":0},2051]
[{"$f":"'Evaluación de Controles'!AA2065","v":0},{"$f":"'Evaluación de Controles'!AB2065","v":0},{"$f":"'Evaluación de Controles'!AC2065","v":0},2061]
[{"$f":"'Evaluación de Controles'!AA2075","v":0},{"$f":"'Evaluación de Controles'!AB2075","v":0},{"$f":"'Evaluación de Controles'!AC2075","v":0},2071]
[{"$f":"'Evaluación de Controles'!AA2085","v":0},{"$f":"'Evaluación de Controles'!AB2085","v":0},{"$f":"'Evaluación de Controles'!AC2085","v":0},2081]
[{"$f":"'Evaluación de Controles'!AA2095","v":0},{"$f":"'Evaluación de Controles'!AB2095","v":0},{"$f":"'Evaluación de Controles'!AC2095","v":0},2091]
[{"$f":"'Evaluación de Controles'!AA2105","v":0},{"$f":"'Evaluación de Controles'!AB2105","v":0},{"$f":"'Evaluación de Controles'!AC2105","v":0},2101]
[{"$f":"'Evaluación de Controles'!AA2115","v":0},{"$f":"'Evaluación de Controles'!AB2115","v":0},{"$f":"'Evaluación de Controles'!AC2115","v":0},2111]
[{"$f":"'Evaluación de Controles'!AA2125","v":0},{"$f":"'Evaluación de Controles'!AB2125","v":0},{"$f":"'Evaluación de Controles'!AC2125","v":0},2121]
[{"$f":"'Evaluación de Controles'!AA2135","v":0},{"$f":"'Evaluación de Controles'!AB2135","v":0},{"$f":"'Evaluación de Controles'!AC2135","v":0},2131]
[{"$f":"'Evaluación de Controles'!AA2145","v":0},{"$f":"'Evaluación de Controles'!AB2145","v":0},{"$f":"'Evaluación de Controles'!AC2145","v":0},2141]
[{"$f":"'Evaluación de Controles'!AA2155","v":0},{"$f":"'Evaluación de Controles'!AB2155","v":0},{"$f":"'Evaluación de Controles'!AC2155","v":0},2151]
[{"$f":"'Evaluación de Controles'!AA2165","v":0},{"$f":"'Evaluación de Controles'!AB2165","v":0},{"$f":"'Evaluación de Controles'!AC2165","v":0},2161]
[{"$f":"'Evaluación de Controles'!AA2175","v":0},{"$f":"'Evaluación de Controles'!AB2175","v":0},{"$f":"'Evaluación de Controles'!AC2175","v":0},2171]
[{"$f":"'Evaluación de Controles'!AA2185","v":0},{"$f":"'Evaluación de Controles'!AB2185","v":0},{"$f":"'Evaluación de Controles'!AC2185","v":0},2181]
[{"$f":"'Evaluación de Controles'!AA2195","v":0},{"$f":"'Evaluación de Controles'!AB2195","v":0},{"$f":"'Evaluación de Controles'!AC2195","v":0},2191]
[{"$f":"'Evaluación de Controles'!AA2205","v":0},{"$f":"'Evaluación de Controles'!AB2205","v":0},{"$f":"'Evaluación de Controles'!AC2205","v":0},2201]
[{"$f":"'Evaluación de Controles'!AA2215","v":0},{"$f":"'Evaluación de Controles'!AB2215","v":0},{"$f":"'Evaluación de Controles'!AC2215","v":0},2211]
[{"$f":"'Evaluación de Controles'!AA2225","v":0},{"$f":"'Evaluación de Controles'!AB2225","v":0},{"$f":"'Evaluación de Controles'!AC2225","v":0},2221]
[{"$f":"'Evaluación de Controles'!AA2235","v":0},{"$f":"'Evaluación de Controles'!AB2235","v":0},{"$f":"'Evaluación de Controles'!AC2235","v":0},2231]
[{"$f":"'Evaluación de Controles'!AA2245","v":0},{"$f":"'Evaluación de Controles'!AB2245","v":0},{"$f":"'Evaluación de Controles'!AC2245","v":0},2241]
[{"$f":"'Evaluación de Controles'!AA2255","v":0},{"$f":"'Evaluación de Controles'!AB2255","v":0},{"$f":"'Evaluación de Controles'!AC2255","v":0},2251]
[{"$f":"'Evaluación de Controles'!AA2265","v":0},{"$f":"'Evaluación de Controles'!AB2265","v":0},{"$f":"'Evaluación de Controles'!AC2265","v":0},2261]
[{"$f":"'Evaluación de Controles'!AA2275","v":0},{"$f":"'Evaluación de Controles'!AB2275","v":0},{"$f":"'Evaluación de Controles'!AC2275","v":0},2271]
[{"$f":"'Evaluación de Controles'!AA2285","v":0},{"$f":"'Evaluación de Controles'!AB2285","v":0},{"$f":"'Evaluación de Controles'!AC2285","v":0},2281]
[{"$f":"'Evaluación de Controles'!AA2295","v":0},{"$f":"'Evaluación de Controles'!AB2295","v":0},{"$f":"'Evaluación de Controles'!AC2295","v":0},2291]
[{"$f":"'Evaluación de Controles'!AA2305","v":0},{"$f":"'Evaluación de Controles'!AB2305","v":0},{"$f":"'Evaluación de Controles'!AC2305","v":0},2301]
[{"$f":"'Evaluación de Controles'!AA2315","v":0},{"$f":"'Evaluación de Controles'!AB2315","v":0},{"$f":"'Evaluación de Controles'!AC2315","v":0},2311]
[{"$f":"'Evaluación de Controles'!AA2325","v":0},{"$f":"'Evaluación de Controles'!AB2325","v":0},{"$f":"'Evaluación de Controles'!AC2325","v":0},2321]
[{"$f":"'Evaluación de Controles'!AA2335","v":0},{"$f":"'Evaluación de Controles'!AB2335","v":0},{"$f":"'Evaluación de Controles'!AC2335","v":0},2331]
[{"$f":"'Evaluación de Controles'!AA2345","v":0},{"$f":"'Evaluación de Controles'!AB2345","v":0},{"$f":"'Evaluación de Controles'!AC2345","v":0},2341]
[{"$f":"'Evaluación de Controles'!AA2355","v":0},{"$f":"'Evaluación de Controles'!AB2355","v":0},{"$f":"'Evaluación de Controles'!AC2355","v":0},2351]
[{"$f":"'Evaluación de Controles'!AA2365","v":0},{"$f":"'Evaluación de Controles'!AB2365","v":0},{"$f":"'Evaluación de Controles'!AC2365","v":0},2361]
[{"$f":"'Evaluación de Controles'!AA2375","v":0},{"$f":"'Evaluación de Controles'!AB2375","v":0},{"$f":"'Evaluación de Controles'!AC2375","v":0},2371]
[{"$f":"'Evaluación de Controles'!AA2385","v":0},{"$f":"'Evaluación de Controles'!AB2385","v":0},{"$f":"'Evaluación de Controles'!AC2385","v":0},2381]
[{"$f":"'Evaluación de Controles'!AA2395","v":0},{"$f":"'Evaluación de Controles'!AB2395","v":0},{"$f":"'Evaluación de Controles'!AC2395","v":0},2391]
[{"$f":"'Evaluación de Controles'!AA2405","v":0},{"$f":"'Evaluación de Controles'!AB2405","v":0},{"$f":"'Evaluación de Controles'!AC2405","v":0},2401]
[{"$f":"'Evaluación de Controles'!AA2415","v":0},{"$f":"'Evaluación de Controles'!AB2415","v":0},{"$f":"'Evaluación de Controles'!AC2415","v":0},2411]
[{"$f":"'Evaluación de Controles'!AA2425","v":0},{"$f":"'Evaluación de Controles'!AB2425","v":0},{"$f":"'Evaluación de Controles'!AC2425","v":0},2421]
[{"$f":"'Evaluación de Controles'!AA2435","v":0},{"$f":"'Evaluación de Controles'!AB2435","v":0},{"$f":"'Evaluación de Controles'!AC2435","v":0},2431]
[{"$f":"'Evaluación de Controles'!AA2445","v":0},{"$f":"'Evaluación de Controles'!AB2445","v":0},{"$f":"'Evaluación de Controles'!AC2445","v":0},2441]
[{"$f":"'Evaluación de Controles'!AA2455","v":0},{"$f":"'Evaluación de Controles'!AB2455","v":0},{"$f":"'Evaluación de Controles'!AC2455","v":0},2451]
[{"$f":"'Evaluación de Controles'!AA2465","v":0},{"$f":"'Evaluación de Controles'!AB2465","v":0},{"$f":"'Evaluación de Controles'!AC2465","v":0},2461]
[{"$f":"'Evaluación de Controles'!AA2475","v":0},{"$f":"'Evaluación de Controles'!AB2475","v":0},{"$f":"'Evaluación de Controles'!AC2475","v":0},2471]
[{"$f":"'Evaluación de Controles'!AA2485","v":0},{"$f":"'Evaluación de Controles'!AB2485","v":0},{"$f":"'Evaluación de Controles'!AC2485","v":0},2481]
[{"$f":"'Evaluación de Controles'!AA2495","v":0},{"$f":"'Evaluación de Controles'!AB2495","v":0},{"$f":"'Evaluación de Controles'!AC2495","v":0},2491]
[{"$f":"'Evaluación de Controles'!AA2505","v":0},{"$f":"'Evaluación de Controles'!AB2505","v":0},{"$f":"'Evaluación de Controles'!AC2505","v":0},2501]
[{"$f":"'Evaluación de Controles'!AA2515","v":0},{"$f":"'Evaluación de Controles'!AB2515","v":0},{"$f":"'Evaluación de Controles'!AC2515","v":0},2511]
[{"$f":"'Evaluación de Controles'!AA2525","v":0},{"$f":"'Evaluación de Controles'!AB2525","v":0},{"$f":"'Evaluación de Controles'!AC2525","v":0},2521]
[{"$f":"'Evaluación de Controles'!AA2535","v":0},{"$f":"'Evaluación de Controles'!AB2535","v":0},{"$f":"'Evaluación de Controles'!AC2535","v":0},2531]
[{"$f":"'Evaluación de Controles'!AA2545","v":0},{"$f":"'Evaluación de Controles'!AB2545","v":0},{"$f":"'Evaluación de Controles'!AC2545","v":0},2541]
[{"$f":"'Evaluación de Controles'!AA2555","v":0},{"$f":"'Evaluación de Controles'!AB2555","v":0},{"$f":"'Evaluación de Controles'!AC2555","v":0},2551]
[{"$f":"'Evaluación de Controles'!AA2565","v":0},{"$f":"'Evaluación de Controles'!AB2565","v":0},{"$f":"'Evaluación de Controles'!AC2565","v":0},2561]
[{"$f":"'Evaluación de Controles'!AA2575","v":0},{"$f":"'Evaluación de Controles'!AB2575","v":0},{"$f":"'Evaluación de Controles'!AC2575","v":0},2571]
[{"$f":"'Evaluación de Controles'!AA2585","v":0},{"$f":"'Evaluación de Controles'!AB2585","v":0},{"$f":"'Evaluación de Controles'!AC2585","v":0},2581]
[{"$f":"'Evaluación de Controles'!AA2595","v":0},{"$f":"'Evaluación de Controles'!AB2595","v":0},{"$f":"'Evaluación de Controles'!AC2595","v":0},2591]
[{"$f":"'Evaluación de Controles'!AA2605","v":0},{"$f":"'Evaluación de Controles'!AB2605","v":0},{"$f":"'Evaluación de Controles'!AC2605","v":0},2601]
[{"$f":"'Evaluación de Controles'!AA2615","v":0},{"$f":"'Evaluación de Controles'!AB2615","v":0},{"$f":"'Evaluación de Controles'!AC2615","v":0},2611]
[{"$f":"'Evaluación de Controles'!AA2625","v":0},{"$f":"'Evaluación de Controles'!AB2625","v":0},{"$f":"'Evaluación de Controles'!AC2625","v":0},2621]
[{"$f":"'Evaluación de Controles'!AA2635","v":0},{"$f":"'Evaluación de Controles'!AB2635","v":0},{"$f":"'Evaluación de Controles'!AC2635","v":0},2631]
[{"$f":"'Evaluación de Controles'!AA2645","v":0},{"$f":"'Evaluación de Controles'!AB2645","v":0},{"$f":"'Evaluación de Controles'!AC2645","v":0},2641]
[{"$f":"'Evaluación de Controles'!AA2655","v":0},{"$f":"'Evaluación de Controles'!AB2655","v":0},{"$f":"'Evaluación de Controles'!AC2655","v":0},2651]
[{"$f":"'Evaluación de Controles'!AA2665","v":0},{"$f":"'Evaluación de Controles'!AB2665","v":0},{"$f":"'Evaluación de Controles'!AC2665","v":0},2661]
[{"$f":"'Evaluación de Controles'!AA2675","v":0},{"$f":"'Evaluación de Controles'!AB2675","v":0},{"$f":"'Evaluación de Controles'!AC2675","v":0},2671]
[{"$f":"'Evaluación de Controles'!AA2685","v":0},{"$f":"'Evaluación de Controles'!AB2685","v":0},{"$f":"'Evaluación de Controles'!AC2685","v":0},2681]
[{"$f":"'Evaluación de Controles'!AA2695","v":0},{"$f":"'Evaluación de Controles'!AB2695","v":0},{"$f":"'Evaluación de Controles'!AC2695","v":0},2691]
[{"$f":"'Evaluación de Controles'!AA2705","v":0},{"$f":"'Evaluación de Controles'!AB2705","v":0},{"$f":"'Evaluación de Controles'!AC2705","v":0},2701]
[{"$f":"'Evaluación de Controles'!AA2715","v":0},{"$f":"'Evaluación de Controles'!AB2715","v":0},{"$f":"'Evaluación de Controles'!AC2715","v":0},2711]
[{"$f":"'Evaluación de Controles'!AA2725","v":0},{"$f":"'Evaluación de Controles'!AB2725","v":0},{"$f":"'Evaluación de Controles'!AC2725","v":0},2721]
[{"$f":"'Evaluación de Controles'!AA2735","v":0},{"$f":"'Evaluación de Controles'!AB2735","v":0},{"$f":"'Evaluación de Controles'!AC2735","v":0},2731]
[{"$f":"'Evaluación de Controles'!AA2745","v":0},{"$f":"'Evaluación de Controles'!AB2745","v":0},{"$f":"'Evaluación de Controles'!AC2745","v":0},2741]
[{"$f":"'Evaluación de Controles'!AA2755","v":0},{"$f":"'Evaluación de Controles'!AB2755","v":0},{"$f":"'Evaluación de Controles'!AC2755","v":0},2751]
[{"$f":"'Evaluación de Controles'!AA2765","v":0},{"$f":"'Evaluación de Controles'!AB2765","v":0},{"$f":"'Evaluación de Controles'!AC2765","v":0},2761]
[{"$f":"'Evaluación de Controles'!AA2775","v":0},{"$f":"'Evaluación de Controles'!AB2775","v":0},{"$f":"'Evaluación de Controles'!AC2775","v":0},2771]
[{"$f":"'Evaluación de Controles'!AA2785","v":0},{"$f":"'Evaluación de Controles'!AB2785","v":0},{"$f":"'Evaluación de Controles'!AC2785","v":0},2781]
[{"$f":"'Evaluación de Controles'!AA2795","v":0},{"$f":"'Evaluación de Controles'!AB2795","v":0},{"$f":"'Evaluación de Controles'!AC2795","v":0},2791]
[{"$f":"'Evaluación de Controles'!AA2805","v":0},{"$f":"'Evaluación de Controles'!AB2805","v":0},{"$f":"'Evaluación de Controles'!AC2805","v":0},2801]
[{"$f":"'Evaluación de Controles'!AA2815","v":0},{"$f":"'Evaluación de Controles'!AB2815","v":0},{"$f":"'Evaluación de Controles'!AC2815","v":0},2811]
[{"$f":"'Evaluación de Controles'!AA2825","v":0},{"$f":"'Evaluación de Controles'!AB2825","v":0},{"$f":"'Evaluación de Controles'!AC2825","v":0},2821]
[{"$f":"'Evaluación de Controles'!AA2835","v":0},{"$f":"'Evaluación de Controles'!AB2835","v":0},{"$f":"'Evaluación de Controles'!AC2835","v":0},2831]
[{"$f":"'Evaluación de Controles'!AA2845","v":0},{"$f":"'Evaluación de Controles'!AB2845","v":0},{"$f":"'Evaluación de Controles'!AC2845","v":0},2841]
[{"$f":"'Evaluación de Controles'!AA2855","v":0},{"$f":"'Evaluación de Controles'!AB2855","v":0},{"$f":"'Evaluación de Controles'!AC2855","v":0},2851]
[{"$f":"'Evaluación de Controles'!AA2865","v":0},{"$f":"'Evaluación de Controles'!AB2865","v":0},{"$f":"'Evaluación de Controles'!AC2865","v":0},2861]
[{"$f":"'Evaluación de Controles'!AA2875","v":0},{"$f":"'Evaluación de Controles'!AB2875","v":0},{"$f":"'Evaluación de Controles'!AC2875","v":0},2871]
[{"$f":"'Evaluación de Controles'!AA2885","v":0},{"$f":"'Evaluación de Controles'!AB2885","v":0},{"$f":"'Evaluación de Controles'!AC2885","v":0},2881]
[{"$f":"'Evaluación de Controles'!AA2895","v":0},{"$f":"'Evaluación de Controles'!AB2895","v":0},{"$f":"'Evaluación de Controles'!AC2895","v":0},2891]
[{"$f":"'Evaluación de Controles'!AA2905","v":0},{"$f":"'Evaluación de Controles'!AB2905","v":0},{"$f":"'Evaluación de Controles'!AC2905","v":0},2901]
[{"$f":"'Evaluación de Controles'!AA2915","v":0},{"$f":"'Evaluación de Controles'!AB2915","v":0},{"$f":"'Evaluación de Controles'!AC2915","v":0},2911]
[{"$f":"'Evaluación de Controles'!AA2925","v":0},{"$f":"'Evaluación de Controles'!AB2925","v":0},{"$f":"'Evaluación de Controles'!AC2925","v":0},2921]
[{"$f":"'Evaluación de Controles'!AA2935","v":0},{"$f":"'Evaluación de Controles'!AB2935","v":0},{"$f":"'Evaluación de Controles'!AC2935","v":0},2931]
[{"$f":"'Evaluación de Controles'!AA2945","v":0},{"$f":"'Evaluación de Controles'!AB2945","v":0},{"$f":"'Evaluación de Controles'!AC2945","v":0},2941]
[{"$f":"'Evaluación de Controles'!AA2955","v":0},{"$f":"'Evaluación de Controles'!AB2955","v":0},{"$f":"'Evaluación de Controles'!AC2955","v":0},2951]
[{"$f":"'Evaluación de Controles'!AA2965","v":0},{"$f":"'Evaluación de Controles'!AB2965","v":0},{"$f":"'Evaluación de Controles'!AC2965","v":0},2961]
[{"$f":"'Evaluación de Controles'!AA2975","v":0},{"$f":"'Evaluación de Controles'!AB2975","v":0},{"$f":"'Evaluación de Controles'!AC2975","v":0},2971]
[{"$f":"'Evaluación de Controles'!AA2985","v":0},{"$f":"'Evaluación de Controles'!AB2985","v":0},{"$f":"'Evaluación de Controles'!AC2985","v":0},2981]
[{"$f":"'Evaluación de Controles'!AA2995","v":0},{"$f":"'Evaluación de Controles'!AB2995","v":0},{"$f":"'Evaluación de Controles'!AC2995","v":0},2991]
[{"$f":"'Evaluación de Controles'!AA3005","v":0},{"$f":"'Evaluación de Controles'!AB3005","v":0},{"$f":"'Evaluación de Controles'!AC3005","v":0},3001]
[{"$f":"'Evaluación de Controles'!AA3015","v":0},{"$f":"'Evaluación de Controles'!AB3015","v":0},{"$f":"'Evaluación de Controles'!AC3015","v":0},3011]
[{"$f":"'Evaluación de Controles'!AA3025","v":0},{"$f":"'Evaluación de Controles'!AB3025","v":0},{"$f":"'Evaluación de Controles'!AC3025","v":0},3021]
[{"$f":"'Evaluación de Controles'!AA3035","v":0},{"$f":"'Evaluación de Controles'!AB3035","v":0},{"$f":"'Evaluación de Controles'!AC3035","v":0},3031]
[{"$f":"'Evaluación de Controles'!AA3045","v":0},{"$f":"'Evaluación de Controles'!AB3045","v":0},{"$f":"'Evaluación de Controles'!AC3045","v":0},3041]
[{"$f":"'Evaluación de Controles'!AA3055","v":0},{"$f":"'Evaluación de Controles'!AB3055","v":0},{"$f":"'Evaluación de Controles'!AC3055","v":0},3051]
[{"$f":"'Evaluación de Controles'!AA3065","v":0},{"$f":"'Evaluación de Controles'!AB3065","v":0},{"$f":"'Evaluación de Controles'!AC3065","v":0},3061]
[{"$f":"'Evaluación de Controles'!AA3075","v":0},{"$f":"'Evaluación de Controles'!AB3075","v":0},{"$f":"'Evaluación de Controles'!AC3075","v":0},3071]
[{"$f":"'Evaluación de Controles'!AA3085","v":0},{"$f":"'Evaluación de Controles'!AB3085","v":0},{"$f":"'Evaluación de Controles'!AC3085","v":0},3081]
[{"$f":"'Evaluación de Controles'!AA3095","v":0},{"$f":"'Evaluación de Controles'!AB3095","v":0},{"$f":"'Evaluación de Controles'!AC3095","v":0},3091]
[{"$f":"'Evaluación de Controles'!AA3105","v":0},{"$f":"'Evaluación de Controles'!AB3105","v":0},{"$f":"'Evaluación de Controles'!AC3105","v":0},3101]
[{"$f":"'Evaluación de Controles'!AA3115","v":0},{"$f":"'Evaluación de Controles'!AB3115","v":0},{"$f":"'Evaluación de Controles'!AC3115","v":0},3111]
[{"$f":"'Evaluación de Controles'!AA3125","v":0},{"$f":"'Evaluación de Controles'!AB3125","v":0},{"$f":"'Evaluación de Controles'!AC3125","v":0},3121]
[{"$f":"'Evaluación de Controles'!AA3135","v":0},{"$f":"'Evaluación de Controles'!AB3135","v":0},{"$f":"'Evaluación de Controles'!AC3135","v":0},3131]
[{"$f":"'Evaluación de Controles'!AA3145","v":0},{"$f":"'Evaluación de Controles'!AB3145","v":0},{"$f":"'Evaluación de Controles'!AC3145","v":0},3141]
[{"$f":"'Evaluación de Controles'!AA3155","v":0},{"$f":"'Evaluación de Controles'!AB3155","v":0},{"$f":"'Evaluación de Controles'!AC3155","v":0},3151]
[{"$f":"'Evaluación de Controles'!AA3165","v":0},{"$f":"'Evaluación de Controles'!AB3165","v":0},{"$f":"'Evaluación de Controles'!AC3165","v":0},3161]
[{"$f":"'Evaluación de Controles'!AA3175","v":0},{"$f":"'Evaluación de Controles'!AB3175","v":0},{"$f":"'Evaluación de Controles'!AC3175","v":0},3171]
[{"$f":"'Evaluación de Controles'!AA3185","v":0},{"$f":"'Evaluación de Controles'!AB3185","v":0},{"$f":"'Evaluación de Controles'!AC3185","v":0},3181]
[{"$f":"'Evaluación de Controles'!AA3195","v":0},{"$f":"'Evaluación de Controles'!AB3195","v":0},{"$f":"'Evaluación de Controles'!AC3195","v":0},3191]
[{"$f":"'Evaluación de Controles'!AA3205","v":0},{"$f":"'Evaluación de Controles'!AB3205","v":0},{"$f":"'Evaluación de Controles'!AC3205","v":0},3201]
[{"$f":"'Evaluación de Controles'!AA3215","v":0},{"$f":"'Evaluación de Controles'!AB3215","v":0},{"$f":"'Evaluación de Controles'!AC3215","v":0},3211]
[{"$f":"'Evaluación de Controles'!AA3225","v":0},{"$f":"'Evaluación de Controles'!AB3225","v":0},{"$f":"'Evaluación de Controles'!AC3225","v":0},3221]
[{"$f":"'Evaluación de Controles'!AA3235","v":0},{"$f":"'Evaluación de Controles'!AB3235","v":0},{"$f":"'Evaluación de Controles'!AC3235","v":0},3231]
[{"$f":"'Evaluación de Controles'!AA3245","v":0},{"$f":"'Evaluación de Controles'!AB3245","v":0},{"$f":"'Evaluación de Controles'!AC3245","v":0},3241]
[{"$f":"'Evaluación de Controles'!AA3255","v":0},{"$f":"'Evaluación de Controles'!AB3255","v":0},{"$f":"'Evaluación de Controles'!AC3255","v":0},3251]
[{"$f":"'Evaluación de Controles'!AA3265","v":0},{"$f":"'Evaluación de Controles'!AB3265","v":0},{"$f":"'Evaluación de Controles'!AC3265","v":0},3261]
[{"$f":"'Evaluación de Controles'!AA3275","v":0},{"$f":"'Evaluación de Controles'!AB3275","v":0},{"$f":"'Evaluación de Controles'!AC3275","v":0},3271]
[{"$f":"'Evaluación de Controles'!AA3285","v":0},{"$f":"'Evaluación de Controles'!AB3285","v":0},{"$f":"'Evaluación de Controles'!AC3285","v":0},3281]
[{"$f":"'Evaluación de Controles'!AA3295","v":0},{"$f":"'Evaluación de Controles'!AB3295","v":0},{"$f":"'Evaluación de Controles'!AC3295","v":0},3291]
[{"$f":"'Evaluación de Controles'!AA3305","v":0},{"$f":"'Evaluación de Controles'!AB3305","v":0},{"$f":"'Evaluación de Controles'!AC3305","v":0},3301]

{"sheet":"Planilla Rep Riesgos-FOR-CM-36","index":2,"n_rows":195,"n_cols":40,"rows_kept":195,"cut":false,"hidden":false,"merged":[[0,38,0,39],[1,38,1,39],[2,38,2,39],[0,0,2,1],[0,2,2,37]]}
[null,null,"MATRIZ DE RIESGOS",null,null,null,null,null,null,null,null,null,null,null,null,null,null,null,null,null,null,null,null,null,null,null,null,null,null,null,null,null,null,null,null,null,null,null,"CÓDIGO: FOR-CMC-34"]
[null,null,null,null,null,null,null,null,null,null,null,null,null,null,null,null,null,null,null,null,null,null,null,null,null,null,null,null,null,null,null,null,null,null,null,null,null,null,"VERSION:            7"]
[null,null,null,null,null,null,null,null,null,null,null,null,null,null,null,null,null,null,null,null,null,null,null,null,null,null,null,null,null,null,null,null,null,null,null,null,null,null,"FECHA:  29 de junio de 2023"]
["PLANILLA REPORTE DE RIESGOS"]
["Proceso","SubProceso","Responsable","Cargo","No. Situación","Situación Observada","Categoría","Descripción Categoría","Falla","RIESGO","No. Riesgo","15% \nDAÑO ECONÓMICO FINAL","5% \nAUSENTISMO O ENFERMEDAD","10% \nPARÁLISIS DE OPERACIONES","10% \nÁREA AFECTADA","30%\nSERVICIO AL CLIENTE E IMAGEN","20% \nIMPACTO SOBRE LA INFORMACIÓN","10% \nSEGURIDAD FÍSICA Y LÓGICA","Control","Descripción del Control","Tipo de Control","5% \nNaturaleza","10% \nComplejidad","15% \nProcedimiento","10% \nFrecuencia","25%\nAmbiente del control","15% \nFallas del control","5% \nAutoevaluación","15% \nResponsabilidad","20% \nCausas Primarias y/o Secundarias","75% \n% Cubrimiento","5% \nBeneficio/Costo","¿Se usa el control? ó ¿El control apunta a las causas del riesgo?","¿Qué mitiga el control?","Observaciones y/o Sugerencias","Plan de Acción ","Fecha del ajuste (dd/mm/aaaa)","Responsable","Tratamiento","Gestión"]
[null,null,null,null,"H",null,null,{"$f":"IF(ISERROR(VLOOKUP(G6,EventosPerdida,2,0)),\"\",VLOOKUP(G6,EventosPerdida,2,0))","v":""},null,null,"R"]
[null,null,null,null,null,null,null,""]
[null,null,null,null,null,null,null,""]
[null,null,null,null,null,null,null,""]
[null,null,null,null,null,null,null,""]
[null,null,null,null,null,null,null,""]
[null,null,null,null,null,null,null,""]
[null,null,null,null,null,null,null,""]
[null,null,null,null,null,null,null,""]
[null,null,null,null,null,null,null,""]
[null,null,null,null,null,null,null,""]
[null,null,null,null,null,null,null,""]
[null,null,null,null,null,null,null,""]
[null,null,null,null,null,null,null,""]
[null,null,null,null,null,null,null,""]
[null,null,null,null,null,null,null,""]
[null,null,null,null,null,null,null,""]
[null,null,null,null,null,null,null,""]
[null,null,null,null,null,null,null,""]
[null,null,null,null,null,null,null,""]
[null,null,null,null,null,null,null,""]
[null,null,null,null,null,null,null,""]
[null,null,null,null,null,null,null,""]
[null,null,null,null,null,null,null,""]
[null,null,null,null,null,null,null,""]
[null,null,null,null,null,null,null,""]
[null,null,null,null,null,null,null,""]
[null,null,null,null,null,null,null,""]
[null,null,null,null,null,null,null,""]
[null,null,null,null,null,null,null,""]
[null,null,null,null,null,null,null,""]
[null,null,null,null,null,null,null,""]
[null,null,null,null,null,null,null,""]
[null,null,null,null,null,null,null,""]
[null,null,null,null,null,null,null,""]
[null,null,null,null,null,null,null,""]
[null,null,null,null,null,null,null,""]
[null,null,null,null,null,null,null,""]
[null,null,null,null,null,null,null,""]
[null,null,null,null,null,null,null,""]
[null,null,null,null,null,null,null,""]
[null,null,null,null,null,null,null,""]
[null,null,null,null,null,null,null,""]
[null,null,null,null,null,null,null,""]
[null,null,null,null,null,null,null,""]
[null,null,null,null,null,null,null,""]
[null,null,null,null,null,null,null,""]
[null,null,null,null,null,null,null,""]
[null,null,null,null,null,null,null,""]
[null,null,null,null,null,null,null,""]
[null,null,null,null,null,null,null,""]
[null,null,null,null,null,null,null,""]
[null,null,null,null,null,null,null,""]
[null,null,null,null,null,null,null,""]
[null,null,null,null,null,null,null,""]
[null,null,null,null,null,null,null,""]
[null,null,null,null,null,null,null,""]
[null,null,null,null,null,null,null,""]
[null,null,null,null,null,null,null,""]
[null,null,null,null,null,null,null,""]
[null,null,null,null,null,null,null,""]
[null,null,null,null,null,null,null,""]
[null,null,null,null,null,null,null,""]
[]
[]
[null,null,null,null,null,null,null,{"$f":"IF(ISERROR(VLOOKUP(G71,EventosPerdida,2,0)),\"\",VLOOKUP(G71,EventosPerdida,2,0))","v":""}]
[null,null,null,null,null,null,null,{"$f":"IF(ISERROR(VLOOKUP(G72,EventosPerdida,2,0)),\"\",VLOOKUP(G72,EventosPerdida,2,0))","v":""}]
[null,null,null,null,null,null,null,{"$f":"IF(ISERROR(VLOOKUP(G73,EventosPerdida,2,0)),\"\",VLOOKUP(G73,EventosPerdida,2,0))","v":""}]
[]
[]
[]
[]
[]
[]
[]
[]
[]
[]
[]
[]
[]
[]
[]
[]
[]
[]
[]
[]
[]
[]
[]
[]
[]
[]
[]
[]
[]
[]
[]
[]
[]
[]
[]
[]
[]
[]
[]
[]
[]
[]
[]
[]
[]
[]
[]
[]
[]
[]
[]
[]
[]
[]
[]
[]
[]
[]
[]
[]
[]
[]
[]
[]
[]
[]
[]
[]
[]
[]
[]
[]
[]
[]
[]
[]
[]
[]
[]
[]
[]
[]
[]
[]
[]
[]
[]
[]
[]
[]
[]
[]
[]
[]
[]
[]
[]
[]
[]
[]
[]
[]
[]
[]
[]
[]
[]
[]
[]
[]
[]
[]
[]
[]
[]
[]
[]
[]
[]
[]
[]
[null,null,null,null,null," "]

{"sheet":"RIESGO-SITUACIÓN OBSERVADA","index":3,"n_rows":64,"n_cols":7,"rows_kept":64,"cut":false,"hidden":false,"merged":[[44,1,46,1],[44,2,46,2],[63,4,63,6],[57,4,57,6],[58,4,58,6],[59,4,59,6],[60,4,60,6],[61,4,61,6],[62,4,62,6],[56,4,56,6],[43,4,43,6],[44,4,44,6],[45,4,45,6],[46,4,46,6],[47,4,47,6],[51,4,51,6],[52,4,52,6],[53,4,53,6],[54,4,54,6],[55,4,55,6],[48,4,48,6],[49,4,49,6],[50,4,50,6],[42,4,42,6],[31,4,31,6],[32,4,32,6],[33,4,33,6],[34,4,34,6],[35,4,35,6],[36,4,36,6],[37,4,37,6],[38,4,38,6],[39,4,39,6],[40,4,40,6],[41,4,41,6],[26,4,26,6],[27,4,27,6],[28,4,28,6],[29,4,29,6],[30,4,30,6],[27,1,28,1],[27,2,28,2],[25,4,25,6],[15,4,15,6],[16,4,16,6],[17,4,17,6],[18,4,18,6],[19,4,19,6],[20,4,20,6],[21,4,21,6],[22,4,22,6],[23,4,23,6],[24,4,24,6],[14,4,14,6],[2,1,4,2],[2,3,4,4],[5,4,5,6],[6,1,8,1],[6,2,8,2],[6,4,6,6],[7,4,7,6],[8,4,8,6],[9,4,9,6],[10,4,10,6],[11,4,11,6],[12,4,12,6],[13,4,13,6]]}
[]
[]
[null,null,null,"MATRIZ DE RIESGOS",null,"CODIGO: ","FOR-CMC-34"]
[null,null,null,null,null,"VERSION:            5",7]
[null,null,null,null,null,"FECHA: ","29 de junio 2023"]
[null,"No DE RIESGO","RIESGO"," No DE LA SITUACIÓN","SITUACION OBSERVADA"]
[null,"R1","Pérdida de conocimiento y/o Demora en la ejecución de los procesos por sobrecarga operativa y falta de recurso capacitado debido a la rotación de personal.","H1","Rotación de personal que conlleva a la Pérdida de conocimiento, afectando el desarrollo y debido  cumplimiento de los procesos."]
[null,null,null,"H2","Debilidad en capacitación del cargo o rol a desempeñar para el personal nuevo o por traslado de personal de otras áreas que no permite una ejecución apropiada de los procesos, gerando reprocesos o devoluciones."]
[null,null,null,"H3","Falta redistribución de personal para dar apoyo a las diferentes tareas o actividades de las áreas."]
[null,"R2","Fuga de información por falta de aplicación de políticas y protocolos de seguridad informática debido a que se permite el copiado de información de clientes en archivos que pueden ser guardados en dispositivos externos por USB.","H4","Posibilidad de copiar imagenes con información de clientes en archivos de office, imprimir y/o descargarlos en memorias o dispositivos externos por USB."]
[null,"R3","Fuga de información y/o ingreso de un intruso a la red por falta de aplicación de políticas y protocolos de seguridad informática fuera de la empresa debido a que los funcionarios guardan las claves de ingreso a las aplicaciones en el explorador de internet.","H6","Claves de ingreso a las aplicaciones grabadas en el explorador de internet, manejados en los sitios de vivienda de los empleados."]
[null,"R4","Fuga de información y/o ingreso de un intruso a la red por falta de aplicación de políticas y protocolos de seguridad informática en la conectividad wifi de la casa debido a que los funcionarios se conectan de manera remota sin la implementación de medidas adicionales de seguridad.","H7","Por  \"Trabajo en Casa\",  los funcionarios utilizan la conectividad de la red wifi de su sitio de vivienda, sin la aplicación de protocolos  de seguridad adicionales."]
[null,"R5","Demora en la ejecución de los procesos y/o errores en su ejecución por falta de personal de apoyo capacitado entemas especificos, debido a que las actividades son realizadas por personas de perfil diferente al requerido.","H8","Sobrecarga de tareas por falta de personal de apoyo capacitado en temas especificos inherentes al área y/o dirección."]
[null,"R6","Demora y/o limitación en la ejecución de los procesos por falta de personal de apoyo que tenga conocimiento contable debido a que las auditorias realizadas en el área de contabilidad no pueden llegar al nivel de análisis y profundidad demandado.","H9","Falta de apoyo de personal capacitado con competencias afines al area de Control Interno."]
[null,"R7","Incumplimiento de los objetivos estrategicos  y/o  plan anuial de trabajo  por pérdida de continuidad de los proyectos debido a las  desiciones estrategicas gerenciales","H10","Se pierde la continuidad de los proyectos por cambio de estrategias gerenciales."]
[null,"R8","Pérdida y/o daño de expedientes o archivo físico por debilidad en el almacenamiento y/o custodia debido a que no se almacena en condiciones apropiadas o seguras.","H11","Debilidad en almacenamiento y/o custodia de expedientes o archivo físico."]
[null,"R9","Demoras y/o Reprocesos en la operación por debilidad en el control del trámite del proceso de compras debido  a que puede ser finalizado en cualquier etapa de ejecucion por cualquiera  de los actores.","H12","Cualquier funcionario puede finalizar el tramite de compras en cualquier etapa del DocFlow, no hay una validación o control previos. Cuando se finaliza erradamente se debe iniciar nuevamente el proceso."]
[null,"R10"," Pérdida de credibilidad por fallas en el funcionamiento de las aplicaciones y equipos de cómputo que no son atendidos oportunamente o no se reportan debidamente al área correspondiente, generando demora en la ejecución de los procesos e inconformidad del cliente.          ","H13","Generación de errores en las aplicaciones SII y DocFlow por actualizaciones de versión que nos son socializadas con los funcionarios que operan estas aplicaciones por el área encargada (sistemas), fallas en el funcionamiento de equipos de cómputo por Puertos USB dañados o defectuosos, Errores de migración de la aplicación Eclipse a la aplicación SII, que no permiten ver correctamente las imagenes y falta de recurso humano para apoyo de estos requerimientos."]
[null,"R12","Retrasos en la ejecución de los procesos y/o Pérdidas de información por versiones desactualizadas de sistema operativo, office y/o antivirus que generan fallas y bloqueos en las aplicaciones.","H16","Equipos de computo con diferentes versiones de sistema operativo, office y/o antivirus desactualizado que pueden generar bloqueos y/o Pérdidas de información."]
[null,"R13","Demoras en la ejecución de los procesos y/o desviaciones de tiempo en el desarrollo de otras tareas debido a la falta de equipos de computo para cambio que no permite a los usuarios realizar debidamente sus actividades diarias. ","H17","No se cuenta con equipos de computo suficientes para cambio y cubrir la demanda de usarios dentro de la CCF"]
[null,"R14","Pérdida de imagen y/o credibilidad de los clientes por diligenciamiento errado de formatos obsoletos publicados en la página web de la Cámara de Comercio de Factativá que pueden generar quejas, reclamos y/o inconformidades.","H19","Publicación de formatos obsoletos en la página web de la Cámara de Comercio de Facatativá"]
[null,"R15","Pérdida de oportunidad en tiempo y espacio para la puesta en marcha de las operaciones  por desconocimiento y/o inexistencia de un plan estructurado de continuidad de negocio que le permita a los funcionarios saber como actuar en caso de desastres.","H20","Desconocimiento o inexistencia de un plan extructurado de continuidad de negocio"]
[null,"R16","Demora en la ejecución de los procesos por Pérdida de información del buzón del correo electrónico que no permite ser reestablecida para el desarrollo de las actividades.","H21","Pérdida de infomación del buzón de correo electrónico, correos enviados y/o recibidos que se han perdido sin poderse recuperar"]
[null,"R17","Demora en la ejecución de los procesos y/o carga operativa por la generación de informes específicos, certificados o servicios prioritarios que no forman parte de las actividades de los procesos diarios","H22","Generación de tareas adicionales y carga operativa en la elaboración de informes."]
[null,"R18","Pérdidas económicas y/o disminucion de ingresos por manifestaciones y bloqueos  que dismuyen el flujo de clientes y el traslado de empleados a sus puestos de trabajo.","H23","Afectación de ingresos por asonadas debido a las diferentes manifestaciones y paros que disminuye el flujo de clientes y el traslado de los empleados de la CCF a sus puestos de trabajo."]
[null,"R19","Pérdidas económicas y/o disminución de ingresos por restricciones de funcionamiento del sector mercantil y empresarial debido a las medidas tomadas por el gobierno nacional y municipal por contol de la pandemia.","H24","Disminución  de los ingresos de la CCF, por eventos naturales, sociales, políticos, económicos y sanitarios, entre otros, que afectan al sector mercantil y empresarial."]
[null,"R20","Incumplimiento al Sistema de Gestión de Calidad y/o Generación de no conformidades por no ejecutar las actividades descritas en el procedimiento debido a la falta de concientización del personal y/o que no se encuentra actualizada la documentación. ","H25","Documentacion de procesos y/o procedimientos desactualizados, se están ejecutando actividades que no se encuentran relacionadas en los procedimientos."]
[null,"R21","Demora en la ejecución de los procesos y/o incumplimiento del plan de trabajo por reprogramación o cancelación de actividades debido a las diferentes situaciones presentadas por bloqueos, asonadas y pandemia. ","H26","Incumplimiento de las actividades de campo comprendidas en el Plan Anual de Trabajo (PAT) debido a la ocurrencia de eventos naturales, sociales, politicos, economicos y sanitarios, entre otros."]
[null,null,null,"H27","Incumplimiento del plan de capacitaciones comprendido en el Plan Anual de Trabajo (PAT) debido a la ocurrencia de eventos naturales, sociales, politicos, economicos y sanitarios, entre otros."]
[null,"R22","Afectación de la imagen reputacional y/o perdida de credibilidad por actuaciones, acción u omisión erroneas por parte de los funcionarios de la CCF. ","H29","\nPosibilidad de incurrir en acciones o actos  que afecten  la imagen de la organización  por acción u omisión"]
[null,"R23","Pérdidas económicas y/o de credibilidad por malas desiciones tomadas en Junta Directiva debido a la entrega errada de información generada por las áreas involucradas de la CCF. ","H30","Posibilidad de entrega errada de informes por parte de la Presidencia Ejecutiva por mala elaborción de las áreas involucradas que podría conllevar a una mala toma de desiciones. "]
[null,"R24","Pérdida de confidencialidad y/o fuga de información por debilidad en la aplicación de protocolos de seguridad informática debido a que se comparten las claves de ingreso a las aplicaciones.","H31","La Secretaria maneja las claves de ingreso a las diferentes aplicaciones asignadas a la Presidencia Ejecutiva y pueden llegar a ser conocidas por otras personas."]
[null,"R25","Alteración y/o modificación de documentos digitales debido al manejo de un tercero de la fima electrónica y/o  digital del resposable de la emisión del documento.","H32","algunos colaboradores  manejan la firma electrónica y digital del dueño del proceso, lo que permitiria modificar los documentos después de ser firmados oficialmente."]
[null,"R26","Fuga de información y/o Pérdida de confidencialidad por conocimiento  de informacion reservada que solo compete a la Presidencia Ejecutva de la CCF debido a que puede ser divulgada en diferentes niveles de la organización o fuera de ella.","H33","La información confidencial manejada por la Presidencia Ejecutiva de la CCF puede ser de conocimiento de varias personas, Secretaria, Directores y otros funcionarios de la organización."]
[null,"R27","Generación de multas, sanciones y/o Pérdida de imagen por debilidad en la toma de desiciones de Junta Directiva debido a la presentación de estados financieros fuera de tiempo.","H34","Presentación de estados financieros fuera de tiempo, especialmente en los meses de febrero y marzo en donde hay mayor volumen de operaciones."]
[null,"R28","Entrega de documentación falsa  y/o suplantación de personas  en  la  creación de empresas ilícitas, debido al desconocimiento en la verificación de documentos adulterados.","H35","Por la presentación de documentos falsos se pueden llegar a crear empresas ilicitas."]
[null,"R29","Lesiones personales y/o agresiones verbales  por comportamientos agresivos de clientes debido a la exigencia de un servicio preferencial. ","H36","Posibilidad de agresión física y/o verbal de los clientes por falta de criterios de servicios que permitan manejar prioridades para la atención al público."]
[null,"R30","Fuga de información y/o generación de actividades fraudulentas en la red por debilidad en la aplicación de protocolos de segurida informatica debido a que no se bloquea el usuario en las aplicaciones una vez se termina la actividad para la que fue habilitado.\n\n","H37","Habilitación de perfiles de usuario en la aplicación SII para el proceso de renovación, que no se bloquean una vez se termina la brigada para la que fueron habilitados, no existe un procedimiento escrito que indique lo que se debe hacer en estos casos."]
[null,"R33"," Inconformidad de clientes  que no encuentran los medios adecuados para ingresar a las instalaciones debido a que las sedes no cuentan con una infraestructura física adecuada para el ingreso y/o atención de personas discapacitadas.","H40","Falta de adecuación y mejoramientos de la infraestructra de algunas sede sedes  para el acceso de  personas discapacitadas."]
[null,"R34","Afectación de la Imagen Institucional y/o perdidida de credibilidad por las públicaciones de los clientes externos en las redes sociales, por la prestación de un mal servicio y/o atención.","H41","Posibilidad de afectación de la imagen de la CCF por malas publicaciones en redes sociales de clientes que se hallan podido sentir mal atendidos."]
[null,"R35","Pérdida y/o deterioro de equipos de trabajo y material de publicidad por almacenamiento inadecuado debido a que son resguardados y custodiados en espacios ajenos al área de trabajo.","H42","Almacenamiento inadecuado de material de publicidad y custodia de equipos de trabajo como cámara de video, tripode y fotografía que son resguardados y custodiados en espacios ajenos al área de trabajo."]
[null,"R36","Pérdida de imagen y/o de oportunidad frente a la atención de los aliados estrategicos, proveedores o tereceros debido a que no se cuenta con un espacio adecuado para su atención.","H43","Falta adecuación de espacios para reuniones con proveedores y aliados estratégicos."]
[null,"R37","Posibilidad de atentados y/o agresiones personales por la percepción que pueda tener el público sobre la Cámara de Comercio de Facatativá debido a que puede ser catalogada como una entidad del Estado","H44","La Cámara de Comercio está catalogada por la mayoria de personas como una entidad Pública."]
[null,"R38","Generación de no conformidades y/o afectación al Sistema de Gestión de Calidad  por incumplimiento de los procedimientos escritos debido a que los funcionarios de la CCF pueden llegar a cometer errores en la ejecución de los procesos.","H45","Incumplimiento de los funcionarios de la CCF en la ejecución de los procedimientos escritos generando posibles no conformidades afectando el Sistema de Gestión de Calidad."]
[null,"R39","Pérdida de imagen reputacional por afectacion en el proceso del registro de los actos y documentos del cliente externo,  debido a la debilidad de los procesos interno y/o respuestas fuera de tiempo, generando reprocesos, multas y sanciones.","H5","Los funcionarios del Call Center no informan al cliente sobre el manejo de protocolos para la protección de datos."]
[null,null,null,"H46","Afectación del cliente externo por mala gestión de los procesos internos y/o respuestas fuera de tiempo, afectando la imagen reputacional de la CCF por reprocesos, quejas, multas y sanciones"]
[null,null,null,"H47","Incumplimiento de los funcionarios al no archivar la documentación de clientes deacuerdo a las normas establecidas, generando reprocesos en la operación."]
[null,"R40","Perdida de oportunidad de mejora para la prestación del servicio, por falta de gestión para el diligenciamiento de las encuestas de satisfacción por parte del cliente externo, la cual no permite establecer claramente el indicador de servicio.","H48","Los usuarios no diligencian la encuesta de satisfacción para PQRS de forma virtual debido a que el proceso actual no lo exige y se permite la finalización del trámite, afectando los resulados para la evaluación del servicio."]
[null,"R41","Demora y/o incumplimiento en la ejecución de los procesos por falta de recursos tecnológicos debido a que algunos funcionarios que deben trabajar desde la casa no cuentan con un equipo de computo para el desarrollo de sus actividades.","H49","Falta redistribución de equipos de computo para funcionarios que trabajan desde la casa."]
[null,"R42","Estrés laboral  generado por la falta de espacio para la realización de las pausas activas y pasivas con forme a lo indicado en el proceso del Sistema de Gestión de Seguridad y Salud en el Trabajo.","H50","Espacios de trabajo fisico reducidos."]
[null,"R43","Deterioro y/o Pérdida de documentos físicos,  por el  traslado y custodia de los mismos a las diferentes instalaciones que posee la entidad. ","H51","Falta de adecuación y/o mejoras de la infraestructura de la sede principal para el archivo de expedientes."]
[null,"R44","Pérdida de imagen institucional y/o multas o sanciones,  por el extravio de documentos radicados por los clientes externo, debido a que no se utiliza el formato de control de  entrega de documentos al responsable de gestión documental.","H52","En algunas oportunidades no se diligencia o no se utiliza el formato para control de entrega de documentos generando perdida o extravio de los mismos."]
[null,"R45","Reprocesos en las actividades de las áreas y/o direcciones por debilidad en ejecución de los procesos,  debido a que no se cumple con las recomendaciones de mejora dejadas por el área de Control Interno.","H53","Falta de compromiso de las áreas de la CCF al no cumplir con las recomendaciones y solicitudes de información de los controles preventivos que se dejan por parte de Control Interno para el mejoramiento de los procesos."]
[null,"R46","Fraude en las operaciones contables y transaccionales  de la organización.","H54","Falta de herramientas para detectar papel moneda falsificado. \nRegistro de operaciones noa acordes a los parametros de las politicas contables.\nSuplantacion de firmas."]
[null,"R47","Generación de multas, sanciones y/o demandas por incumplimiento de los requisitos establecidos por la legislación colombiana debido a los cambios regulatorios  que afecten la estabilidad y reputación institucional.","H28","Factores externos como cambios regulatorios que pueden llegar a influir en el buen funcionamiento de las operaciones de la CCF."]
[null,"R48","Deterioro de la Imagen Institucional por no ejecutar las actividades programadas debido a inconvenientes no esperados que puedan interferir en el cumplimiento del Plan Anual de Trabajo (PAT)","H55","Inconvenientes internos o externos que afectan la ejecucion o proyección del Plan Anual de Trabajo (PAT)."]
[null,"R49","Demoras en la ejecución de los procesos y/o incumplimiento de responsabilidades por daño y/o Pérdida  de equipos debido a que no se cuenta con metodo estructuado para su traslado o custodia.","H56","No estar preparados para aplicar un plan de contingencia tecnológico (protección de la información, traslado de computadores, etc.…) ya sea por virus informático virus biológico o algún desastre natural."]
[null,"R50","Pérdida de imagen y/o credibilidad por la demora en los pagos a proveedores debido a que las áreas no presentan oportunamente los soportes generando devoluciones de la documentación por vencimiento.","H57","Devolución de documentos en el proceso de pagos a proveedores por vencimiento de los soportes suministrados debido a que los supervisores del contrato, servicio o convenio no realizan el seguimiento correspondiente."]
[null,"R51","Demoras en la ejecución de los procesos por equipos de comunicación desactualizados o con tecnología inapropiada que no permiten una optima prestación del servicio.","H18","Equipos celulares desactualizados y/o con tecnología inapropiada para la prestación del servicio requerido."]
[null,"R52","Generación de multas y/o sanciones por el incumplimiento de pago de impuestos debido a que se cancelan fuera de las fechas límites establecidas ","H58","Incumplimiento al pago de impuestos dentro de las fechas límites"]
[null,"R49","Demoras en la ejecución de los procesos y/o incumplimiento de responsabilidades por daño y/o Pérdida  de equipos debido a que no se cuenta con metodo estructuado para su traslado o custodia.","H56","No estar preparados para aplicar un plan de contingencia tecnológico (protección de la información, traslado de computadores, etc.…) ya sea por virus informático virus biológico o algún desastre natural."]
[null,"R50","Pérdida de imagen y/o credibilidad por la demora en los pagos a proveedores debido a que las áreas no presentan oportunamente los soportes generando devoluciones de la documentación por vencimiento.","H57","Devolución de documentos en el proceso de pagos a proveedores por vencimiento de los soportes suministrados debido a que los supervisores del contrato, servicio o convenio no realizan el seguimiento correspondiente."]
[null,"R51","Demoras en la ejecución de los procesos por equipos de comunicación desactualizados o con tecnología inapropiada que no permiten una optima prestación del servicio.","H18","Equipos celulares desactualizados y/o con tecnología inapropiada para la prestación del servicio requerido."]
[null,"R52","Generación de multas y/o sanciones por el incumplimiento de pago de impuestos debido a que se cancelan fuera de las fechas límites establecidas ","H58","Incumplimiento al pago de impuestos dentro de las fechas límites"]

{"sheet":"Tabla Criterios de Riesgo","index":4,"n_rows":10,"n_cols":11,"rows_kept":10,"cut":false,"hidden":false,"merged":[[3,1,3,10],[0,1,2,2],[0,3,2,8]]}
[null,null,null,"MATRIZ DE RIESGOS",null,null,null,null,null,"CODIGO: ","FOR-CMC-34"]
[null,null,null,null,null,null,null,null,null,"VERSION:            5",7]
[null,null,null,null,null,null,null,null,null,"FECHA: ","29 de junio de 2023"]
[null,"TABLA CRITERIOS DE EVALUACIÓN DE RIESGOS"]
[null,"DEFINICIÓN","DAÑO ECONÓMICO FINAL \n15%","AUSENTISMO O ENFERMEDA 5%","PARÁLISIS DE OPERACIONES 10%","ÁREA AFECTADA 10%","SERVICIO AL CLIENTE E IMAGEN \n30%","IMPACTO SOBRE LA INFORMACIÓN 20%","SEGURIDAD FÍSICA Y LÓGICA \n10%","ítem","OPINIÓN"]
[null,"Situación despreciable que no afecta la operación, no hay daño, pérdida financiera muy baja","1\nHasta el 0.1% del patrimonio","1\nLesiones menores sin suturas ni hospitalizaciones","1\nMenores de dos horas de suspensión","1\nHasta dos puestos de trabajo","1\nInsatisfacción focalizada del servicio. Situaciones que no trascienden en los medios Informativos","CODIGO: ","FOR-CMC-34",1,"Insignificante "]
[null,"Impacta la operación ligeramente, se contiene en el sitio inmediatamente, de poco peso, perdida financiera baja","2\nMás del 0.1% y hasta 5% del patrimonio","2\nHay suturas, o fracturas no hay hospitalizaciones mayores de un día","2\nHasta 1/2 día de suspensión","2\nEntre dos y cinco puestos de trabajo","2\nAlgunos clientes afectados pero el impacto en ellos es menor \nNoticias aisladas de prensa u otro medio masivo acerca de algún inconveniente.","VERSION:            5",6,2,"Leve"]
[null,"Impacta la operación sin ser extremista, requiere de seguimiento, perdida financiera media.","3\nEntre el 5% y el 15% del patrimonio","3\nHay hospitalizaciones de más de un día hasta dos personas","3\nSuspensión entre 1/2 y dos días","3\nToda el área o sección","3\nUna cantidad importante de clientes son afectados.\nCritica de organismos de control o clientes en medio masivo de comunicación.","FECHA: ","29 de noviembre 2021",3,"Moderado "]
[null,"impacta la operación en forma extrema, datos mayores, perdidas financieras mayores","4\nEntre el 15% y el 40% del patrimonio","4\nHay hospitalizaciones de más de un día de dos o más personas, sin UCI","4\nSuspensión entre dos y cinco días","4\nEntre dos y cuatro áreas o secciones","4\nUna cantidad muy importante de clientes son afectados.\nDivulgación de eventos y/o investigación por organismo regulador, dado a conocer al público en medios informativos masivos y/o principales noticias nacionales","4\nEliminación o perdida definitiva de Información física y/o electrónica confiable y completa para la toma de decisiones","4\nPenetración lógica o física en los sistemas operacionales o instalaciones",4,"Severo"]
[null,"Muerte, suceso grave que implicaría incluso el cierre de la operación, perdidas financieras enormes","5\nMás del 40% del patrimonio","5\nUso de UCI o muerte","5\nMás de cinco días","5\nToda la organización","5\nLa mayoria de clientes se encuentran afectados y molestos.\nPérdida de confianza por parte del público.\nIntervención organismo gubernamental","5\nFuga de información confidencial, reservada y/o estratégica","5\nFraude importante y exitoso.\nSistemas totalmente comprometidos",5,"Catastrófico"]

{"sheet":"Tabla Criterios de Controles","index":5,"n_rows":10,"n_cols":7,"rows_kept":10,"cut":false,"hidden":false,"merged":[[3,1,3,6],[0,1,2,1],[0,2,2,4]]}
[null,null,"MATRIZ DE RIESGOS",null,null,"CODIGO: ","FOR-CMC-34"]
[null,null,null,null,null,"VERSION:            5",7]
[null,null,null,null,null,"FECHA: ","29 de junio de 2023"]
[null,"TABLA CRITERIOS COBERTURA DE CONTROLES"]
[null,"DEFINICIÓN","Causas Primarias y/o Secundarias","% cobertura","Beneficio/Costo","Ítem","OPINIÓN"]
[null,"Cobertura del control insignificante no apunta a causas primarias o secundarias del riesgo.","1\nNo hay Causas identificadas","1\n0% - 10%","1\nEl costo del control es mayor que el riesgo",1,"Pobre"]
[null,"La Cobertura baja solo mitiga una causa secundaria del riesgo.","2\nUna causa secundaria identificada","2\n11% - 40%","2\nEl costo del control es igual al riesgo",2,"Insatisfactoria"]
[null,"La Cobertura media solo mitiga causas secundarias del riesgo.","3\nHasta dos causas secundarias identificadas","3\n41% - 60%","3\nEl costo del control es inferior al Riesgo",3,"Moderada"]
[null,"La Cobertura adecuada para atacar la causa más relevante del riesgo","4\nUna causa primaria identificada","4\n61% - 90%","4\nEl costo del control es muy inferior al riesgo",4,"Buena"]
[null,"La cobertura es muy fuerte para atacar las causas primarias, secundarias y permiten preveer escenarios fortuitos.","5\nUna o más causas   Primarias y secundarias identificadas","5\n91% - 99%","5\nEl costo del control es insignificante en relación con el riesgo.",5,"Excelente"]

{"sheet":"Categorias del Riesgo","index":6,"n_rows":23,"n_cols":10,"rows_kept":23,"cut":false,"hidden":false,"merged":[[3,0,3,1],[3,3,3,9],[0,1,2,1],[0,2,2,7]]}
[null,null,"MATRIZ DE RIESGOS",null,null,null,null,null,"CODIGO: ","FOR-CMC-34"]
[null,null,null,null,null,null,null,null,"             VERSION:     ",7]
[null,null,null,null,null,null,null,null,"FECHA: ","29 de junio de 2023"]
["CLASIFICACION DE RIESGOS\nEVENTOS DE PERDIDA\nCATEGORIAS",null,null,"SUBCATEGORIAS DE RIESGO EVENTOS DE PERDIDA"]
["I","Fraude interno",null,"I Fraude interno","II Fraude externo","III Relaciones laborales y seguridad en el puesto de trabajo","IV Clientes, productos y prácticas empresariales","V Daños a activos materiales","VI Incidencias en el negocio y fallos en los sistemas","VII Ejecución, entrega y gestión de procesos"]
["II","Fraude externo",null,"Actividades o posiciones no autorizadas o informadas","Falsificación de firma o importe","Incumplimientos de las relaciones y acuerdos laborales","Violaciones en la confidencialidad y privacidad","Catástrofes naturales y accidentes en activos físicos","Inadecuada estrategia y arquitectura tecnológica","Ejecución errónea en mercado"]
["III","Relaciones laborales y seguridad en el puesto de trabajo",null,"Falsificación de firma o importe","Billetes falsos","Salud y seguridad laboral","Utilización de información privilegiada","Terrorismo y actos vandálicos","Falta o deficiencias de equipos tecnológicos o aplicaciones","Demoras en operaciones o servicios"]
["IV","Clientes, productos y prácticas empresariales",null,"Robo y malversación de fondos","Robo","Diversidad y discriminación laboral","Realización de ventas agresivas","Pandemia","Inadecuada gestión de los sistemas de explotación y apoyo","Errores en la captura, registro e imputación de datos"]
["V","Daños a activos materiales",null,"Sobornos","Rueda de cheques/Papel colusión","Insuficiente personal o exceso de rotación","Prácticas inadecuadas de contratación ",null,"Caídas de sistemas, comunicaciones y suministro de energía","Mantenimiento inadecuado de datos estáticos"]
["VI","Incidencias en el negocio y fallos en los sistemas",null,"Fraudes con tarjeta de crédito/débito","Fraudes con tarjeta de crédito/débito","Asignación ineficiente de tareas y responsabilidades","Manipulación de mercados",null,null,"Fallos en la ejecución de los procesos"]
["VII","Ejecución, entrega y gestión de procesos",null,"Violaciones en la seguridad de los sistemas informáticos","Destrucción de activos","Falta de formación o desconocimiento operativo","Violación de códigos de conducta internos y normativa afín",null,null,"Fallos en la verificación de datos "]
[null,null,null,"Violaciones en la seguridad de los documentos","Violaciones en la seguridad de los documentos","Selección de Personal","Incumplimiento de normativa",null,null,"Falta de cuadres y conciliaciones "]
[null,null,null,"Destrucción de activos","Violaciones en la seguridad de los sistemas informáticos","Incorrecta segregación de funciones ","Blanqueo de dinero",null,null,"Fallos en la entrega y liquidación de operaciones"]
[null,null,null,"Incumplimientos y evasiones fiscales, legales o falseamientos contables",null,"Falta de transparencia y flujo de la información","Incumplimientos administrativos",null,null,"Errores en la contabilización de operaciones"]
[null,null,null,null,null,null,"Productos defectuosos o no autorizados",null,null,"Diferencia de efectivo en arqueos"]
[null,null,null,null,null,null,"Modelos defectuosos o no autorizados",null,null,"Fallos de seguimiento e información "]
[null,null,null,null,null,null,"Selección, patrocinio y exposiciones",null,null,"Faltas o errores en la documentación y soporte legal"]
[null,null,null,null,null,null,"Fallos en las actividades de asesoramiento, comunicación y motivos comerciales",null,null,"Extravíos de documentación"]
[null,null,null,null,null,null,null,null,null,"Inadecuada gestión de cuentas de clientes"]
[null,null,null,null,null,null,null,null,null,"Disputas con contrapartes y entidades financieras"]
[null,null,null,null,null,null,null,null,null,"Disputas con vendedores"]
[null,null,null,null,null,null,null,null,null,"Proveedores y externalización de servicios"]
[null,null,null,null,null,null,null,null,null,"Fallos en la estructuración de los procesos"]

{"sheet":"Situaciones Observadas","index":7,"n_rows":195,"n_cols":12,"rows_kept":195,"cut":false,"hidden":false,"merged":[[3,0,3,10],[0,1,2,1],[0,2,2,8]]}
[null,null,"MATRIZ DE RIESGOS",null,null,null,null,null,null,"CODIGO: ","FOR-CMC-34"]
[null,null,null,null,null,null,null,null,null,"VERSION:   ",7]
[null,null,null,null,null,null,null,null,null,"FECHA: ","29 de junio de 2023"]
["RELACION CONSOLIDADA DE SITUACIONES OBSERVADAS"]
["Proceso","SubProceso","Responsable","Cargo","No. Situación","Situación Observada","Categoría","Descripción Categoría","Falla","RIESGO","No. Riesgo","concepto"]
[null,null,null,null,"H",null,null,{"$f":"IF(ISERROR(VLOOKUP(G6,EventosPerdida,2,0)),\"\",VLOOKUP(G6,EventosPerdida,2,0))","v":""},null,null,"R","información sensible"]
[null,null,null,null,null,null,null,"",null,null,null,"ccctv"]
[null,null,null,null,null,null,null,"",null,null,null,"correo información sensible"]
[null,null,null,null,null,null,null,"",null,null,null,"datos tarjeta"]
[null,null,null,null,null,null,null,""]
[null,null,null,null,null,null,null,"",null,null,null,"procedimientos"]
[null,null,null,null,null,null,null,"",null,null,null,"información sensible"]
[null,null,null,null,null,null,null,"",null,null,null,"correo información sensible"]
[null,null,null,null,null,null,null,""]
[null,null,null,null,null,null,null,""]
[null,null,null,null,null,null,null,"",null,null,null,"políticas"]
[null,null,null,null,null,null,null,""]
[null,null,null,null,null,null,null,""]
[null,null,null,null,null,null,null,"",null,null,null,"procedimientos"]
[null,null,null,null,null,null,null,"",null,null,null,"información sensible"]
[null,null,null,null,null,null,null,"",null,null,null,"información sensible"]
[null,null,null,null,null,null,null,""]
[null,null,null,null,null,null,null,""]
[null,null,null,null,null,null,null,"",null,null,null,"ccctv"]
[null,null,null,null,null,null,null,"",null,null,null,"ingreso áreas"]
[null,null,null,null,null,null,null,"",null,null,null,"procedimientos"]
[null,null,null,null,null,null,null,"",null,null,null,"entrega documentos"]
[null,null,null,null,null,null,null,"",null,null,null,"ccctv"]
[null,null,null,null,null,null,null,"",null,null,null,"correo información sensible"]
[null,null,null,null,null,null,null,"",null,null,null,"ccctv"]
[null,null,null,null,null,null,null,"",null,null,null,"funciones"]
[null,null,null,null,null,null,null,"",null,null,null,"información sensible"]
[null,null,null,null,null,null,null,"",null,null,null,"ingreso áreas"]
[null,null,null,null,null,null,null,"",null,null,null,"funciones"]
[null,null,null,null,null,null,null,"",null,null,null,"copaso"]
[null,null,null,null,null,null,null,"",null,null,null,"correo información sensible"]
[null,null,null,null,null,null,null,""]
[null,null,null,null,null,null,null,{"$f":"IF(ISERROR(VLOOKUP(G38,EventosPerdida,2,0)),\"\",VLOOKUP(G38,EventosPerdida,2,0))","v":""},null,null,null,"información sensible"]
[null,null,null,null,null,null,null,"",null,null,null,"políticas"]
[null,null,null,null,null,null,null,"",null,null,null,"información sensible"]
[null,null,null,null,null,null,null,"",null,null,null,"políticas"]
[null,null,null,null,null,null,null,"",null,null,null,"políticas"]
[null,null,null,null,null,null,null,"",null,null,null,"información sensible"]
[null,null,null,null,null,null,null,"",null,null,null,"información sensible"]
[null,null,null,null,null,null,null,"",null,null,null,"información sensible"]
[null,null,null,null,null,null,null,"",null,null,null,"información sensible"]
[null,null,null,null,null,null,null,"",null,null,null,"políticas"]
[null,null,null,null,null,null,null,"",null,null,null,"funciones"]
[null,null,null,null,null,null,null,"",null,null,null,"capacitación"]
[null,null,null,null,null,null,null,"",null,null,null,"reprocesos"]
[null,null,null,null,null,null,null,"",null,null,null,"procedimientos"]
[null,null,null,null,null,null,null,"",null,null,null,"procedimientos"]
[null,null,null,null,null,null,null,"",null,null,null,"funciones"]
[null,null,null,null,null,null,null,"",null,null,null,"funciones"]
[null,null,null,null,null,null,null,"",null,null,null,"información sensible"]
[null,null,null,null,null,null,null,"",null,null,null,"reprocesos"]
[null,null,null,null,null,null,null,""]
[null,null,null,null,null,null,null,""]
[null,null,null,null,null,null,null,""]
[null,null,null,null,null,null,null,""]
[null,null,null,null,null,null,null,""]
[null,null,null,null,null,null,null,""]
[null,null,null,null,null,null,null,""]
[null,null,null,null,null,null,null,""]
[null,null,null,null,null,null,null,""]
[null,null,null,null,null,null,null,""]
[null,null,null,null,null,null,null,""]
[null,null,null,null,null,null,null,""]
[]
[]
[null,null,null,null,null,null,null,{"$f":"IF(ISERROR(VLOOKUP(G71,EventosPerdida,2,0)),\"\",VLOOKUP(G71,EventosPerdida,2,0))","v":""}]
[null,null,null,null,null,null,null,{"$f":"IF(ISERROR(VLOOKUP(G72,EventosPerdida,2,0)),\"\",VLOOKUP(G72,EventosPerdida,2,0))","v":""}]
[null,null,null,null,null,null,null,{"$f":"IF(ISERROR(VLOOKUP(G73,EventosPerdida,2,0)),\"\",VLOOKUP(G73,EventosPerdida,2,0))","v":""}]
[]
[]
[]
[]
[]
[]
[]
[]
[]
[]
[]
[]
[]
[]
[]
[]
[]
[]
[]
[]
[]
[]
[]
[]
[]
[]
[]
[]
[]
[]
[]
[]
[]
[]
[]
[]
[]
[]
[]
[]
[]
[]
[]
[]
[]
[]
[]
[]
[]
[]
[]
[]
[]
[]
[]
[]
[]
[]
[]
[]
[]
[]
[]
[]
[]
[]
[]
[]
[]
[]
[]
[]
[]
[]
[]
[]
[]
[]
[]
[]
[]
[]
[]
[]
[]
[]
[]
[]
[]
[]
[]
[]
[]
[]
[]
[]
[]
[]
[]
[]
[]
[]
[]
[]
[]
[]
[]
[]
[]
[]
[]
[]
[]
[]
[]
[]
[]
[]
[]
[]
[]
[null,null,null,null,null," "]

{"sheet":"Análisis de Riesgo","index":8,"n_rows":514,"n_cols":252,"rows_kept":514,"cut":false,"hidden":false,"merged":[[0,1,2,1],[0,2,2,23]]}
[null,null,"MATRIZ DE RIESGOS",null,null,null,null,null,null,null,null,null,null,null,null,null,null,null,null,null,null,null,null,null,"CODIGO: ","FOR-CMC-34"]
[null,null,null,null,null,null,null,null,null,null,null,null,null,null,null,null,null,null,null,null,null,null,null,null,"VERSION:",7]
[null,null,null,null,null,null,null,null,null,null,null,null,null,null,null,null,null,null,null,null,null,null,null,null,"FECHA: ","29 de junio 2023"]
["No. Riesgo","Proceso","SubProceso","Cargo","Riesgo","Categoría","Descripción Categoría","Subcategoría",{"$f":"'Criterios de Riesgo'!C3*100&\"% \nDAÑO ECONÓMICO FINAL\"","v":"15% \nDAÑO ECONÓMICO FINAL"},{"$f":"'Criterios de Riesgo'!C4*100&\"% \nAUSENTISMO O ENFERMEDAD\"","v":"5% \nAUSENTISMO O ENFERMEDAD"},{"$f":"'Criterios de Riesgo'!C5*100&\"% \nPARÁLISIS DE OPERACIONES\"","v":"10% \nPARÁLISIS DE OPERACIONES"},{"$f":"'Criterios de Riesgo'!C6*100&\"% \nÁREA AFECTADA\"","v":"10% \nÁREA AFECTADA"},{"$f":"'Criterios de Riesgo'!C7*100&\"%\nSERVICIO AL CLIENTE E IMAGEN\"","v":"30%\nSERVICIO AL CLIENTE E IMAGEN"},{"$f":"'Criterios de Riesgo'!C8*100&\"% \nIMPACTO SOBRE LA INFORMACIÓN\"","v":"20% \nIMPACTO SOBRE LA INFORMACIÓN"},{"$f":"'Criterios de Riesgo'!C9*100&\"% \nSEGURIDAD FÍSICA Y LÓGICA\"","v":"10% \nSEGURIDAD FÍSICA Y LÓGICA"},"Impacto","Probabilidad","Riesgo Inherente","Riesgo","Cobertura Impacto con  Controles","Efectividad Probabilidad con Controles","Mitigación \nConjunto \nControles","Riesgo Controlado","Riesgo Residual","Criterio Riesgo Residual","Tratamiento",null,null,null,null,null,null,null,null,null,null,null,null,null,null,null,null,null,null,null,null,null,null,null,null,null,null,null,null,null,null,null,null,null,null,null,null,null,null,null,null,null,null,null,null,null,null,null,null,null,null,null,null,null,null,null,null,null,null,null,null,null,null,null,null,null,null,null,null,null,null,null,null,null,null,null,null,null,null,null,null,null,null,null,null,null,null,null,null,null,null,null,null,null,null,null,null,null,null,null,null,null,null,null,null,null,null,null,null,null,null,null,null,null,null,null,null,null,null,null,null,null,null,null,null,null,null,null,null,null,null,null,null,null,null,null,null,null,null,null,null,null,null,null,null,null,null,null,null,null,null,null,null,null,null,null,null,null,null,null,null,null,null,null,null,null,null,null,null,null,null,null,null,null,null,null,null,null,null,null,null,null,null,null,null,null,null,null,null,null,null,null,null,null,null,null,null,null,null,null,null,null,null,null,null,null,null,null,null,null,null,null,null,null,null,null,null,null,null,null,null,null,null,null,null,null,11]
["R",null,null,null,null,null,{"$f":"IF(ISERROR(VLOOKUP(F5,EventosPerdida,2,0)),\"\",VLOOKUP(F5,EventosPerdida,2,0))","v":""},null,null,null,null,null,null,null,null,{"$f":"IF(COUNTA(I5:O5)<7,\"\",VLOOKUP(ROUNDUP((LEFT(I5,1)*'Criterios de Riesgo'!$C$3+LEFT(J5,1)*'Criterios de Riesgo'!$C$4+LEFT(K5,1)*'Criterios de Riesgo'!$C$5+LEFT(L5,1)*'Criterios de Riesgo'!$C$6+LEFT(M5,1)*'Criterios de Riesgo'!$C$7+LEFT(N5,1)*'Criterios de Riesgo'!$C$8+LEFT(O5,1)*'Criterios de Riesgo'!$C$9),0),Calif_Impacto,2))","v":""},null,{"$f":"IF(OR(P5=\"\",Q5=\"\"),\"\",VLOOKUP(P5,VrImpacto,2,0)*VLOOKUP(Q5,Vr_Probabilidad1,2,0))","v":""},{"$f":"IF(ISERROR(VLOOKUP(Q5&\"-\"&P5,NivelRiesgo,3,0)),\"\",VLOOKUP(Q5&\"-\"&P5,NivelRiesgo,3,0))","v":""},{"$f":"IF(OR(Datos!A2=0,Datos!A2=\"\"),P5,IF(ISERROR(VLOOKUP(VLOOKUP(P5,VrImpacto,2,0)-ROUNDDOWN(VLOOKUP(P5,VrImpacto,2,0)*Datos!A2,0),Vr_Impacto,2,1)),\"\",VLOOKUP(VLOOKUP(P5,VrImpacto,2,0)-ROUNDDOWN(VLOOKUP(P5,VrImpacto,2,0)*Datos!A2,0),Vr_Impacto,2,1)))","v":""},{"$f":"IF(Datos!B2=0,Q5,IF(Datos!B2=\"\",Q5,IF(ISERROR(VLOOKUP(VLOOKUP(Q5,Vr_Probabilidad1,2,0)+1-ROUNDDOWN(VLOOKUP(Q5,Vr_Probabilidad1,2,0)*Datos!B2,0),Vr_Probabilidad,2,1)),\"\",VLOOKUP(VLOOKUP(Q5,Vr_Probabilidad1,2,0)-ROUNDDOWN(VLOOKUP(Q5,Vr_Probabilidad1,2,0)*Datos!B2,0),Vr_Probabilidad,2,1))))","v":0},{"$f":"Datos!C2","v":""},{"$f":"IF(X5=\"\",\"\",R5-X5)","v":""},{"$f":"IF(R5=\"\",\"\",VLOOKUP(T5,VrImpacto,2,0)*VLOOKUP(U5,Vr_Probabilidad1,2,0))","v":""},{"$f":"IF(ISERROR(VLOOKUP(X5,Criterio_Riesgo_Residual,2,1)),\"\",VLOOKUP(X5,Criterio_Riesgo_Residual,2,1))","v":""}]
["R",null,null,null,null,null,{"$f":"IF(ISERROR(VLOOKUP(F6,EventosPerdida,2,0)),\"\",VLOOKUP(F6,EventosPerdida,2,0))","v":""},null,null,null,null,null,null,null,null,{"$f":"IF(COUNTA(I6:O6)<7,\"\",VLOOKUP(ROUNDUP((LEFT(I6,1)*'Criterios de Riesgo'!$C$3+LEFT(J6,1)*'Criterios de Riesgo'!$C$4+LEFT(K6,1)*'Criterios de Riesgo'!$C$5+LEFT(L6,1)*'Criterios de Riesgo'!$C$6+LEFT(M6,1)*'Criterios de Riesgo'!$C$7+LEFT(N6,1)*'Criterios de Riesgo'!$C$8+LEFT(O6,1)*'Criterios de Riesgo'!$C$9),0),Calif_Impacto,2))","v":""},null,"","",{"$f":"IF(OR(Datos!A3=0,Datos!A3=\"\"),P6,IF(ISERROR(VLOOKUP(VLOOKUP(P6,VrImpacto,2,0)-ROUNDDOWN(VLOOKUP(P6,VrImpacto,2,0)*Datos!A3,0),Vr_Impacto,2,1)),\"\",VLOOKUP(VLOOKUP(P6,VrImpacto,2,0)-ROUNDDOWN(VLOOKUP(P6,VrImpacto,2,0)*Datos!A3,0),Vr_Impacto,2,1)))","v":""},{"$f":"IF(Datos!B3=0,Q6,IF(Datos!B3=\"\",Q6,IF(ISERROR(VLOOKUP(VLOOKUP(Q6,Vr_Probabilidad1,2,0)+1-ROUNDDOWN(VLOOKUP(Q6,Vr_Probabilidad1,2,0)*Datos!B3,0),Vr_Probabilidad,2,1)),\"\",VLOOKUP(VLOOKUP(Q6,Vr_Probabilidad1,2,0)-ROUNDDOWN(VLOOKUP(Q6,Vr_Probabilidad1,2,0)*Datos!B3,0),Vr_Probabilidad,2,1))))","v":0},{"$f":"Datos!C3","v":""},{"$f":"IF(X6=\"\",\"\",R6-X6)","v":""},{"$f":"IF(R6=\"\",\"\",VLOOKUP(T6,VrImpacto,2,0)*VLOOKUP(U6,Vr_Probabilidad1,2,0))","v":""},""]
["R",null,null,null,null,null,"",null,null,null,null,null,null,null,null,{"$f":"IF(COUNTA(I7:O7)<7,\"\",VLOOKUP(ROUNDUP((LEFT(I7,1)*'Criterios de Riesgo'!$C$3+LEFT(J7,1)*'Criterios de Riesgo'!$C$4+LEFT(K7,1)*'Criterios de Riesgo'!$C$5+LEFT(L7,1)*'Criterios de Riesgo'!$C$6+LEFT(M7,1)*'Criterios de Riesgo'!$C$7+LEFT(N7,1)*'Criterios de Riesgo'!$C$8+LEFT(O7,1)*'Criterios de Riesgo'!$C$9),0),Calif_Impacto,2))","v":""},null,"","",{"$f":"IF(OR(Datos!A4=0,Datos!A4=\"\"),P7,IF(ISERROR(VLOOKUP(VLOOKUP(P7,VrImpacto,2,0)-ROUNDDOWN(VLOOKUP(P7,VrImpacto,2,0)*Datos!A4,0),Vr_Impacto,2,1)),\"\",VLOOKUP(VLOOKUP(P7,VrImpacto,2,0)-ROUNDDOWN(VLOOKUP(P7,VrImpacto,2,0)*Datos!A4,0),Vr_Impacto,2,1)))","v":""},{"$f":"IF(Datos!B4=0,Q7,IF(Datos!B4=\"\",Q7,IF(ISERROR(VLOOKUP(VLOOKUP(Q7,Vr_Probabilidad1,2,0)+1-ROUNDDOWN(VLOOKUP(Q7,Vr_Probabilidad1,2,0)*Datos!B4,0),Vr_Probabilidad,2,1)),\"\",VLOOKUP(VLOOKUP(Q7,Vr_Probabilidad1,2,0)-ROUNDDOWN(VLOOKUP(Q7,Vr_Probabilidad1,2,0)*Datos!B4,0),Vr_Probabilidad,2,1))))","v":0},{"$f":"Datos!C4","v":""},"","",""]
["R",null,null,null,null,null,"",null,null,null,null,null,null,null,null,{"$f":"IF(COUNTA(I8:O8)<7,\"\",VLOOKUP(ROUNDUP((LEFT(I8,1)*'Criterios de Riesgo'!$C$3+LEFT(J8,1)*'Criterios de Riesgo'!$C$4+LEFT(K8,1)*'Criterios de Riesgo'!$C$5+LEFT(L8,1)*'Criterios de Riesgo'!$C$6+LEFT(M8,1)*'Criterios de Riesgo'!$C$7+LEFT(N8,1)*'Criterios de Riesgo'!$C$8+LEFT(O8,1)*'Criterios de Riesgo'!$C$9),0),Calif_Impacto,2))","v":""},null,"","",{"$f":"IF(OR(Datos!A5=0,Datos!A5=\"\"),P8,IF(ISERROR(VLOOKUP(VLOOKUP(P8,VrImpacto,2,0)-ROUNDDOWN(VLOOKUP(P8,VrImpacto,2,0)*Datos!A5,0),Vr_Impacto,2,1)),\"\",VLOOKUP(VLOOKUP(P8,VrImpacto,2,0)-ROUNDDOWN(VLOOKUP(P8,VrImpacto,2,0)*Datos!A5,0),Vr_Impacto,2,1)))","v":""},{"$f":"IF(Datos!B5=0,Q8,IF(Datos!B5=\"\",Q8,IF(ISERROR(VLOOKUP(VLOOKUP(Q8,Vr_Probabilidad1,2,0)+1-ROUNDDOWN(VLOOKUP(Q8,Vr_Probabilidad1,2,0)*Datos!B5,0),Vr_Probabilidad,2,1)),\"\",VLOOKUP(VLOOKUP(Q8,Vr_Probabilidad1,2,0)-ROUNDDOWN(VLOOKUP(Q8,Vr_Probabilidad1,2,0)*Datos!B5,0),Vr_Probabilidad,2,1))))","v":0},{"$f":"Datos!C5","v":""},"","",""]
["R",null,null,null,null,null,"",null,null,null,null,null,null,null,null,{"$f":"IF(COUNTA(I9:O9)<7,\"\",VLOOKUP(ROUNDUP((LEFT(I9,1)*'Criterios de Riesgo'!$C$3+LEFT(J9,1)*'Criterios de Riesgo'!$C$4+LEFT(K9,1)*'Criterios de Riesgo'!$C$5+LEFT(L9,1)*'Criterios de Riesgo'!$C$6+LEFT(M9,1)*'Criterios de Riesgo'!$C$7+LEFT(N9,1)*'Criterios de Riesgo'!$C$8+LEFT(O9,1)*'Criterios de Riesgo'!$C$9),0),Calif_Impacto,2))","v":""},null,"","",{"$f":"IF(OR(Datos!A6=0,Datos!A6=\"\"),P9,IF(ISERROR(VLOOKUP(VLOOKUP(P9,VrImpacto,2,0)-ROUNDDOWN(VLOOKUP(P9,VrImpacto,2,0)*Datos!A6,0),Vr_Impacto,2,1)),\"\",VLOOKUP(VLOOKUP(P9,VrImpacto,2,0)-ROUNDDOWN(VLOOKUP(P9,VrImpacto,2,0)*Datos!A6,0),Vr_Impacto,2,1)))","v":""},{"$f":"IF(Datos!B6=0,Q9,IF(Datos!B6=\"\",Q9,IF(ISERROR(VLOOKUP(VLOOKUP(Q9,Vr_Probabilidad1,2,0)+1-ROUNDDOWN(VLOOKUP(Q9,Vr_Probabilidad1,2,0)*Datos!B6,0),Vr_Probabilidad,2,1)),\"\",VLOOKUP(VLOOKUP(Q9,Vr_Probabilidad1,2,0)-ROUNDDOWN(VLOOKUP(Q9,Vr_Probabilidad1,2,0)*Datos!B6,0),Vr_Probabilidad,2,1))))","v":0},{"$f":"Datos!C6","v":""},"","",""]
["R",null,null,null,null,null,"",null,null,null,null,null,null,null,null,{"$f":"IF(COUNTA(I10:O10)<7,\"\",VLOOKUP(ROUNDUP((LEFT(I10,1)*'Criterios de Riesgo'!$C$3+LEFT(J10,1)*'Criterios de Riesgo'!$C$4+LEFT(K10,1)*'Criterios de Riesgo'!$C$5+LEFT(L10,1)*'Criterios de Riesgo'!$C$6+LEFT(M10,1)*'Criterios de Riesgo'!$C$7+LEFT(N10,1)*'Criterios de Riesgo'!$C$8+LEFT(O10,1)*'Criterios de Riesgo'!$C$9),0),Calif_Impacto,2))","v":""},null,"","",{"$f":"IF(OR(Datos!A7=0,Datos!A7=\"\"),P10,IF(ISERROR(VLOOKUP(VLOOKUP(P10,VrImpacto,2,0)-ROUNDDOWN(VLOOKUP(P10,VrImpacto,2,0)*Datos!A7,0),Vr_Impacto,2,1)),\"\",VLOOKUP(VLOOKUP(P10,VrImpacto,2,0)-ROUNDDOWN(VLOOKUP(P10,VrImpacto,2,0)*Datos!A7,0),Vr_Impacto,2,1)))","v":""},{"$f":"IF(Datos!B7=0,Q10,IF(Datos!B7=\"\",Q10,IF(ISERROR(VLOOKUP(VLOOKUP(Q10,Vr_Probabilidad1,2,0)+1-ROUNDDOWN(VLOOKUP(Q10,Vr_Probabilidad1,2,0)*Datos!B7,0),Vr_Probabilidad,2,1)),\"\",VLOOKUP(VLOOKUP(Q10,Vr_Probabilidad1,2,0)-ROUNDDOWN(VLOOKUP(Q10,Vr_Probabilidad1,2,0)*Datos!B7,0),Vr_Probabilidad,2,1))))","v":0},{"$f":"Datos!C7","v":""},"","",""]
["R",null,null,null,null,null,"",null,null,null,null,null,null,null,null,{"$f":"IF(COUNTA(I11:O11)<7,\"\",VLOOKUP(ROUNDUP((LEFT(I11,1)*'Criterios de Riesgo'!$C$3+LEFT(J11,1)*'Criterios de Riesgo'!$C$4+LEFT(K11,1)*'Criterios de Riesgo'!$C$5+LEFT(L11,1)*'Criterios de Riesgo'!$C$6+LEFT(M11,1)*'Criterios de Riesgo'!$C$7+LEFT(N11,1)*'Criterios de Riesgo'!$C$8+LEFT(O11,1)*'Criterios de Riesgo'!$C$9),0),Calif_Impacto,2))","v":""},null,"","",{"$f":"IF(OR(Datos!A8=0,Datos!A8=\"\"),P11,IF(ISERROR(VLOOKUP(VLOOKUP(P11,VrImpacto,2,0)-ROUNDDOWN(VLOOKUP(P11,VrImpacto,2,0)*Datos!A8,0),Vr_Impacto,2,1)),\"\",VLOOKUP(VLOOKUP(P11,VrImpacto,2,0)-ROUNDDOWN(VLOOKUP(P11,VrImpacto,2,0)*Datos!A8,0),Vr_Impacto,2,1)))","v":""},{"$f":"IF(Datos!B8=0,Q11,IF(Datos!B8=\"\",Q11,IF(ISERROR(VLOOKUP(VLOOKUP(Q11,Vr_Probabilidad1,2,0)+1-ROUNDDOWN(VLOOKUP(Q11,Vr_Probabilidad1,2,0)*Datos!B8,0),Vr_Probabilidad,2,1)),\"\",VLOOKUP(VLOOKUP(Q11,Vr_Probabilidad1,2,0)-ROUNDDOWN(VLOOKUP(Q11,Vr_Probabilidad1,2,0)*Datos!B8,0),Vr_Probabilidad,2,1))))","v":0},{"$f":"Datos!C8","v":""},"","",""]
["R",null,null,null,null,null,"",null,null,null,null,null,null,null,null,{"$f":"IF(COUNTA(I12:O12)<7,\"\",VLOOKUP(ROUNDUP((LEFT(I12,1)*'Criterios de Riesgo'!$C$3+LEFT(J12,1)*'Criterios de Riesgo'!$C$4+LEFT(K12,1)*'Criterios de Riesgo'!$C$5+LEFT(L12,1)*'Criterios de Riesgo'!$C$6+LEFT(M12,1)*'Criterios de Riesgo'!$C$7+LEFT(N12,1)*'Criterios de Riesgo'!$C$8+LEFT(O12,1)*'Criterios de Riesgo'!$C$9),0),Calif_Impacto,2))","v":""},null,"","",{"$f":"IF(OR(Datos!A9=0,Datos!A9=\"\"),P12,IF(ISERROR(VLOOKUP(VLOOKUP(P12,VrImpacto,2,0)-ROUNDDOWN(VLOOKUP(P12,VrImpacto,2,0)*Datos!A9,0),Vr_Impacto,2,1)),\"\",VLOOKUP(VLOOKUP(P12,VrImpacto,2,0)-ROUNDDOWN(VLOOKUP(P12,VrImpacto,2,0)*Datos!A9,0),Vr_Impacto,2,1)))","v":""},{"$f":"IF(Datos!B9=0,Q12,IF(Datos!B9=\"\",Q12,IF(ISERROR(VLOOKUP(VLOOKUP(Q12,Vr_Probabilidad1,2,0)+1-ROUNDDOWN(VLOOKUP(Q12,Vr_Probabilidad1,2,0)*Datos!B9,0),Vr_Probabilidad,2,1)),\"\",VLOOKUP(VLOOKUP(Q12,Vr_Probabilidad1,2,0)-ROUNDDOWN(VLOOKUP(Q12,Vr_Probabilidad1,2,0)*Datos!B9,0),Vr_Probabilidad,2,1))))","v":0},{"$f":"Datos!C9","v":""},"","",""]
["R",null,null,null,null,null,"",null,null,null,null,null,null,null,null,{"$f":"IF(COUNTA(I13:O13)<7,\"\",VLOOKUP(ROUNDUP((LEFT(I13,1)*'Criterios de Riesgo'!$C$3+LEFT(J13,1)*'Criterios de Riesgo'!$C$4+LEFT(K13,1)*'Criterios de Riesgo'!$C$5+LEFT(L13,1)*'Criterios de Riesgo'!$C$6+LEFT(M13,1)*'Criterios de Riesgo'!$C$7+LEFT(N13,1)*'Criterios de Riesgo'!$C$8+LEFT(O13,1)*'Criterios de Riesgo'!$C$9),0),Calif_Impacto,2))","v":""},null,"","",{"$f":"IF(OR(Datos!A10=0,Datos!A10=\"\"),P13,IF(ISERROR(VLOOKUP(VLOOKUP(P13,VrImpacto,2,0)-ROUNDDOWN(VLOOKUP(P13,VrImpacto,2,0)*Datos!A10,0),Vr_Impacto,2,1)),\"\",VLOOKUP(VLOOKUP(P13,VrImpacto,2,0)-ROUNDDOWN(VLOOKUP(P13,VrImpacto,2,0)*Datos!A10,0),Vr_Impacto,2,1)))","v":""},{"$f":"IF(Datos!B10=0,Q13,IF(Datos!B10=\"\",Q13,IF(ISERROR(VLOOKUP(VLOOKUP(Q13,Vr_Probabilidad1,2,0)+1-ROUNDDOWN(VLOOKUP(Q13,Vr_Probabilidad1,2,0)*Datos!B10,0),Vr_Probabilidad,2,1)),\"\",VLOOKUP(VLOOKUP(Q13,Vr_Probabilidad1,2,0)-ROUNDDOWN(VLOOKUP(Q13,Vr_Probabilidad1,2,0)*Datos!B10,0),Vr_Probabilidad,2,1))))","v":0},{"$f":"Datos!C10","v":""},"","",""]
["R",null,null,null,null,null,"",null,null,null,null,null,null,null,null,{"$f":"IF(COUNTA(I14:O14)<7,\"\",VLOOKUP(ROUNDUP((LEFT(I14,1)*'Criterios de Riesgo'!$C$3+LEFT(J14,1)*'Criterios de Riesgo'!$C$4+LEFT(K14,1)*'Criterios de Riesgo'!$C$5+LEFT(L14,1)*'Criterios de Riesgo'!$C$6+LEFT(M14,1)*'Criterios de Riesgo'!$C$7+LEFT(N14,1)*'Criterios de Riesgo'!$C$8+LEFT(O14,1)*'Criterios de Riesgo'!$C$9),0),Calif_Impacto,2))","v":""},null,"","",{"$f":"IF(OR(Datos!A11=0,Datos!A11=\"\"),P14,IF(ISERROR(VLOOKUP(VLOOKUP(P14,VrImpacto,2,0)-ROUNDDOWN(VLOOKUP(P14,VrImpacto,2,0)*Datos!A11,0),Vr_Impacto,2,1)),\"\",VLOOKUP(VLOOKUP(P14,VrImpacto,2,0)-ROUNDDOWN(VLOOKUP(P14,VrImpacto,2,0)*Datos!A11,0),Vr_Impacto,2,1)))","v":""},{"$f":"IF(Datos!B11=0,Q14,IF(Datos!B11=\"\",Q14,IF(ISERROR(VLOOKUP(VLOOKUP(Q14,Vr_Probabilidad1,2,0)+1-ROUNDDOWN(VLOOKUP(Q14,Vr_Probabilidad1,2,0)*Datos!B11,0),Vr_Probabilidad,2,1)),\"\",VLOOKUP(VLOOKUP(Q14,Vr_Probabilidad1,2,0)-ROUNDDOWN(VLOOKUP(Q14,Vr_Probabilidad1,2,0)*Datos!B11,0),Vr_Probabilidad,2,1))))","v":0},{"$f":"Datos!C11","v":""},"","",""]
["R",null,null,null,null,null,"",null,null,null,null,null,null,null,null,{"$f":"IF(COUNTA(I15:O15)<7,\"\",VLOOKUP(ROUNDUP((LEFT(I15,1)*'Criterios de Riesgo'!$C$3+LEFT(J15,1)*'Criterios de Riesgo'!$C$4+LEFT(K15,1)*'Criterios de Riesgo'!$C$5+LEFT(L15,1)*'Criterios de Riesgo'!$C$6+LEFT(M15,1)*'Criterios de Riesgo'!$C$7+LEFT(N15,1)*'Criterios de Riesgo'!$C$8+LEFT(O15,1)*'Criterios de Riesgo'!$C$9),0),Calif_Impacto,2))","v":""},null,"","",{"$f":"IF(OR(Datos!A12=0,Datos!A12=\"\"),P15,IF(ISERROR(VLOOKUP(VLOOKUP(P15,VrImpacto,2,0)-ROUNDDOWN(VLOOKUP(P15,VrImpacto,2,0)*Datos!A12,0),Vr_Impacto,2,1)),\"\",VLOOKUP(VLOOKUP(P15,VrImpacto,2,0)-ROUNDDOWN(VLOOKUP(P15,VrImpacto,2,0)*Datos!A12,0),Vr_Impacto,2,1)))","v":""},{"$f":"IF(Datos!B12=0,Q15,IF(Datos!B12=\"\",Q15,IF(ISERROR(VLOOKUP(VLOOKUP(Q15,Vr_Probabilidad1,2,0)+1-ROUNDDOWN(VLOOKUP(Q15,Vr_Probabilidad1,2,0)*Datos!B12,0),Vr_Probabilidad,2,1)),\"\",VLOOKUP(VLOOKUP(Q15,Vr_Probabilidad1,2,0)-ROUNDDOWN(VLOOKUP(Q15,Vr_Probabilidad1,2,0)*Datos!B12,0),Vr_Probabilidad,2,1))))","v":0},{"$f":"Datos!C12","v":""},"","",""]
["R",null,null,null,null,null,{"$f":"IF(ISERROR(VLOOKUP(F16,EventosPerdida,2,0)),\"\",VLOOKUP(F16,EventosPerdida,2,0))","v":""},null,null,null,null,null,null,null,null,{"$f":"IF(COUNTA(I16:O16)<7,\"\",VLOOKUP(ROUNDUP((LEFT(I16,1)*'Criterios de Riesgo'!$C$3+LEFT(J16,1)*'Criterios de Riesgo'!$C$4+LEFT(K16,1)*'Criterios de Riesgo'!$C$5+LEFT(L16,1)*'Criterios de Riesgo'!$C$6+LEFT(M16,1)*'Criterios de Riesgo'!$C$7+LEFT(N16,1)*'Criterios de Riesgo'!$C$8+LEFT(O16,1)*'Criterios de Riesgo'!$C$9),0),Calif_Impacto,2))","v":""},null,"","",{"$f":"IF(OR(Datos!A13=0,Datos!A13=\"\"),P16,IF(ISERROR(VLOOKUP(VLOOKUP(P16,VrImpacto,2,0)-ROUNDDOWN(VLOOKUP(P16,VrImpacto,2,0)*Datos!A13,0),Vr_Impacto,2,1)),\"\",VLOOKUP(VLOOKUP(P16,VrImpacto,2,0)-ROUNDDOWN(VLOOKUP(P16,VrImpacto,2,0)*Datos!A13,0),Vr_Impacto,2,1)))","v":""},{"$f":"IF(Datos!B13=0,Q16,IF(Datos!B13=\"\",Q16,IF(ISERROR(VLOOKUP(VLOOKUP(Q16,Vr_Probabilidad1,2,0)+1-ROUNDDOWN(VLOOKUP(Q16,Vr_Probabilidad1,2,0)*Datos!B13,0),Vr_Probabilidad,2,1)),\"\",VLOOKUP(VLOOKUP(Q16,Vr_Probabilidad1,2,0)-ROUNDDOWN(VLOOKUP(Q16,Vr_Probabilidad1,2,0)*Datos!B13,0),Vr_Probabilidad,2,1))))","v":0},{"$f":"Datos!C13","v":""},"","",""]
["R",null,null,null,null,null,"",null,null,null,null,null,null,null,null,{"$f":"IF(COUNTA(I17:O17)<7,\"\",VLOOKUP(ROUNDUP((LEFT(I17,1)*'Criterios de Riesgo'!$C$3+LEFT(J17,1)*'Criterios de Riesgo'!$C$4+LEFT(K17,1)*'Criterios de Riesgo'!$C$5+LEFT(L17,1)*'Criterios de Riesgo'!$C$6+LEFT(M17,1)*'Criterios de Riesgo'!$C$7+LEFT(N17,1)*'Criterios de Riesgo'!$C$8+LEFT(O17,1)*'Criterios de Riesgo'!$C$9),0),Calif_Impacto,2))","v":""},null,"","",{"$f":"IF(OR(Datos!A14=0,Datos!A14=\"\"),P17,IF(ISERROR(VLOOKUP(VLOOKUP(P17,VrImpacto,2,0)-ROUNDDOWN(VLOOKUP(P17,VrImpacto,2,0)*Datos!A14,0),Vr_Impacto,2,1)),\"\",VLOOKUP(VLOOKUP(P17,VrImpacto,2,0)-ROUNDDOWN(VLOOKUP(P17,VrImpacto,2,0)*Datos!A14,0),Vr_Impacto,2,1)))","v":""},{"$f":"IF(Datos!B14=0,Q17,IF(Datos!B14=\"\",Q17,IF(ISERROR(VLOOKUP(VLOOKUP(Q17,Vr_Probabilidad1,2,0)+1-ROUNDDOWN(VLOOKUP(Q17,Vr_Probabilidad1,2,0)*Datos!B14,0),Vr_Probabilidad,2,1)),\"\",VLOOKUP(VLOOKUP(Q17,Vr_Probabilidad1,2,0)-ROUNDDOWN(VLOOKUP(Q17,Vr_Probabilidad1,2,0)*Datos!B14,0),Vr_Probabilidad,2,1))))","v":0},{"$f":"Datos!C14","v":""},"","",""]
["R",null,null,null,null,null,"",null,null,null,null,null,null,null,null,{"$f":"IF(COUNTA(I18:O18)<7,\"\",VLOOKUP(ROUNDUP((LEFT(I18,1)*'Criterios de Riesgo'!$C$3+LEFT(J18,1)*'Criterios de Riesgo'!$C$4+LEFT(K18,1)*'Criterios de Riesgo'!$C$5+LEFT(L18,1)*'Criterios de Riesgo'!$C$6+LEFT(M18,1)*'Criterios de Riesgo'!$C$7+LEFT(N18,1)*'Criterios de Riesgo'!$C$8+LEFT(O18,1)*'Criterios de Riesgo'!$C$9),0),Calif_Impacto,2))","v":""},null,"","",{"$f":"IF(OR(Datos!A15=0,Datos!A15=\"\"),P18,IF(ISERROR(VLOOKUP(VLOOKUP(P18,VrImpacto,2,0)-ROUNDDOWN(VLOOKUP(P18,VrImpacto,2,0)*Datos!A15,0),Vr_Impacto,2,1)),\"\",VLOOKUP(VLOOKUP(P18,VrImpacto,2,0)-ROUNDDOWN(VLOOKUP(P18,VrImpacto,2,0)*Datos!A15,0),Vr_Impacto,2,1)))","v":""},{"$f":"IF(Datos!B15=0,Q18,IF(Datos!B15=\"\",Q18,IF(ISERROR(VLOOKUP(VLOOKUP(Q18,Vr_Probabilidad1,2,0)+1-ROUNDDOWN(VLOOKUP(Q18,Vr_Probabilidad1,2,0)*Datos!B15,0),Vr_Probabilidad,2,1)),\"\",VLOOKUP(VLOOKUP(Q18,Vr_Probabilidad1,2,0)-ROUNDDOWN(VLOOKUP(Q18,Vr_Probabilidad1,2,0)*Datos!B15,0),Vr_Probabilidad,2,1))))","v":0},{"$f":"Datos!C15","v":""},"","",""]
["R",null,null,null,null,null,"",null,null,null,null,null,null,null,null,{"$f":"IF(COUNTA(I19:O19)<7,\"\",VLOOKUP(ROUNDUP((LEFT(I19,1)*'Criterios de Riesgo'!$C$3+LEFT(J19,1)*'Criterios de Riesgo'!$C$4+LEFT(K19,1)*'Criterios de Riesgo'!$C$5+LEFT(L19,1)*'Criterios de Riesgo'!$C$6+LEFT(M19,1)*'Criterios de Riesgo'!$C$7+LEFT(N19,1)*'Criterios de Riesgo'!$C$8+LEFT(O19,1)*'Criterios de Riesgo'!$C$9),0),Calif_Impacto,2))","v":""},null,"","",{"$f":"IF(OR(Datos!A16=0,Datos!A16=\"\"),P19,IF(ISERROR(VLOOKUP(VLOOKUP(P19,VrImpacto,2,0)-ROUNDDOWN(VLOOKUP(P19,VrImpacto,2,0)*Datos!A16,0),Vr_Impacto,2,1)),\"\",VLOOKUP(VLOOKUP(P19,VrImpacto,2,0)-ROUNDDOWN(VLOOKUP(P19,VrImpacto,2,0)*Datos!A16,0),Vr_Impacto,2,1)))","v":""},{"$f":"IF(Datos!B16=0,Q19,IF(Datos!B16=\"\",Q19,IF(ISERROR(VLOOKUP(VLOOKUP(Q19,Vr_Probabilidad1,2,0)+1-ROUNDDOWN(VLOOKUP(Q19,Vr_Probabilidad1,2,0)*Datos!B16,0),Vr_Probabilidad,2,1)),\"\",VLOOKUP(VLOOKUP(Q19,Vr_Probabilidad1,2,0)-ROUNDDOWN(VLOOKUP(Q19,Vr_Probabilidad1,2,0)*Datos!B16,0),Vr_Probabilidad,2,1))))","v":0},{"$f":"Datos!C16","v":""},"","",""]
["R",null,null,null,null,null,"",null,null,null,null,null,null,null,null,{"$f":"IF(COUNTA(I20:O20)<7,\"\",VLOOKUP(ROUNDUP((LEFT(I20,1)*'Criterios de Riesgo'!$C$3+LEFT(J20,1)*'Criterios de Riesgo'!$C$4+LEFT(K20,1)*'Criterios de Riesgo'!$C$5+LEFT(L20,1)*'Criterios de Riesgo'!$C$6+LEFT(M20,1)*'Criterios de Riesgo'!$C$7+LEFT(N20,1)*'Criterios de Riesgo'!$C$8+LEFT(O20,1)*'Criterios de Riesgo'!$C$9),0),Calif_Impacto,2))","v":""},null,"","",{"$f":"IF(OR(Datos!A17=0,Datos!A17=\"\"),P20,IF(ISERROR(VLOOKUP(VLOOKUP(P20,VrImpacto,2,0)-ROUNDDOWN(VLOOKUP(P20,VrImpacto,2,0)*Datos!A17,0),Vr_Impacto,2,1)),\"\",VLOOKUP(VLOOKUP(P20,VrImpacto,2,0)-ROUNDDOWN(VLOOKUP(P20,VrImpacto,2,0)*Datos!A17,0),Vr_Impacto,2,1)))","v":""},{"$f":"IF(Datos!B17=0,Q20,IF(Datos!B17=\"\",Q20,IF(ISERROR(VLOOKUP(VLOOKUP(Q20,Vr_Probabilidad1,2,0)+1-ROUNDDOWN(VLOOKUP(Q20,Vr_Probabilidad1,2,0)*Datos!B17,0),Vr_Probabilidad,2,1)),\"\",VLOOKUP(VLOOKUP(Q20,Vr_Probabilidad1,2,0)-ROUNDDOWN(VLOOKUP(Q20,Vr_Probabilidad1,2,0)*Datos!B17,0),Vr_Probabilidad,2,1))))","v":0},{"$f":"Datos!C17","v":""},"","",""]
["R",null,null,null,null,null,"",null,null,null,null,null,null,null,null,{"$f":"IF(COUNTA(I21:O21)<7,\"\",VLOOKUP(ROUNDUP((LEFT(I21,1)*'Criterios de Riesgo'!$C$3+LEFT(J21,1)*'Criterios de Riesgo'!$C$4+LEFT(K21,1)*'Criterios de Riesgo'!$C$5+LEFT(L21,1)*'Criterios de Riesgo'!$C$6+LEFT(M21,1)*'Criterios de Riesgo'!$C$7+LEFT(N21,1)*'Criterios de Riesgo'!$C$8+LEFT(O21,1)*'Criterios de Riesgo'!$C$9),0),Calif_Impacto,2))","v":""},null,"","",{"$f":"IF(OR(Datos!A18=0,Datos!A18=\"\"),P21,IF(ISERROR(VLOOKUP(VLOOKUP(P21,VrImpacto,2,0)-ROUNDDOWN(VLOOKUP(P21,VrImpacto,2,0)*Datos!A18,0),Vr_Impacto,2,1)),\"\",VLOOKUP(VLOOKUP(P21,VrImpacto,2,0)-ROUNDDOWN(VLOOKUP(P21,VrImpacto,2,0)*Datos!A18,0),Vr_Impacto,2,1)))","v":""},{"$f":"IF(Datos!B18=0,Q21,IF(Datos!B18=\"\",Q21,IF(ISERROR(VLOOKUP(VLOOKUP(Q21,Vr_Probabilidad1,2,0)+1-ROUNDDOWN(VLOOKUP(Q21,Vr_Probabilidad1,2,0)*Datos!B18,0),Vr_Probabilidad,2,1)),\"\",VLOOKUP(VLOOKUP(Q21,Vr_Probabilidad1,2,0)-ROUNDDOWN(VLOOKUP(Q21,Vr_Probabilidad1,2,0)*Datos!B18,0),Vr_Probabilidad,2,1))))","v":0},{"$f":"Datos!C18","v":""},"","",""]
["R",null,null,null,null,null,"",null,null,null,null,null,null,null,null,{"$f":"IF(COUNTA(I22:O22)<7,\"\",VLOOKUP(ROUNDUP((LEFT(I22,1)*'Criterios de Riesgo'!$C$3+LEFT(J22,1)*'Criterios de Riesgo'!$C$4+LEFT(K22,1)*'Criterios de Riesgo'!$C$5+LEFT(L22,1)*'Criterios de Riesgo'!$C$6+LEFT(M22,1)*'Criterios de Riesgo'!$C$7+LEFT(N22,1)*'Criterios de Riesgo'!$C$8+LEFT(O22,1)*'Criterios de Riesgo'!$C$9),0),Calif_Impacto,2))","v":""},null,"","",{"$f":"IF(OR(Datos!A19=0,Datos!A19=\"\"),P22,IF(ISERROR(VLOOKUP(VLOOKUP(P22,VrImpacto,2,0)-ROUNDDOWN(VLOOKUP(P22,VrImpacto,2,0)*Datos!A19,0),Vr_Impacto,2,1)),\"\",VLOOKUP(VLOOKUP(P22,VrImpacto,2,0)-ROUNDDOWN(VLOOKUP(P22,VrImpacto,2,0)*Datos!A19,0),Vr_Impacto,2,1)))","v":""},{"$f":"IF(Datos!B19=0,Q22,IF(Datos!B19=\"\",Q22,IF(ISERROR(VLOOKUP(VLOOKUP(Q22,Vr_Probabilidad1,2,0)+1-ROUNDDOWN(VLOOKUP(Q22,Vr_Probabilidad1,2,0)*Datos!B19,0),Vr_Probabilidad,2,1)),\"\",VLOOKUP(VLOOKUP(Q22,Vr_Probabilidad1,2,0)-ROUNDDOWN(VLOOKUP(Q22,Vr_Probabilidad1,2,0)*Datos!B19,0),Vr_Probabilidad,2,1))))","v":0},{"$f":"Datos!C19","v":""},"","",""]
["R",null,null,null,null,null,"",null,null,null,null,null,null,null,null,{"$f":"IF(COUNTA(I23:O23)<7,\"\",VLOOKUP(ROUNDUP((LEFT(I23,1)*'Criterios de Riesgo'!$C$3+LEFT(J23,1)*'Criterios de Riesgo'!$C$4+LEFT(K23,1)*'Criterios de Riesgo'!$C$5+LEFT(L23,1)*'Criterios de Riesgo'!$C$6+LEFT(M23,1)*'Criterios de Riesgo'!$C$7+LEFT(N23,1)*'Criterios de Riesgo'!$C$8+LEFT(O23,1)*'Criterios de Riesgo'!$C$9),0),Calif_Impacto,2))","v":""},null,"","",{"$f":"IF(OR(Datos!A20=0,Datos!A20=\"\"),P23,IF(ISERROR(VLOOKUP(VLOOKUP(P23,VrImpacto,2,0)-ROUNDDOWN(VLOOKUP(P23,VrImpacto,2,0)*Datos!A20,0),Vr_Impacto,2,1)),\"\",VLOOKUP(VLOOKUP(P23,VrImpacto,2,0)-ROUNDDOWN(VLOOKUP(P23,VrImpacto,2,0)*Datos!A20,0),Vr_Impacto,2,1)))","v":""},{"$f":"IF(Datos!B20=0,Q23,IF(Datos!B20=\"\",Q23,IF(ISERROR(VLOOKUP(VLOOKUP(Q23,Vr_Probabilidad1,2,0)+1-ROUNDDOWN(VLOOKUP(Q23,Vr_Probabilidad1,2,0)*Datos!B20,0),Vr_Probabilidad,2,1)),\"\",VLOOKUP(VLOOKUP(Q23,Vr_Probabilidad1,2,0)-ROUNDDOWN(VLOOKUP(Q23,Vr_Probabilidad1,2,0)*Datos!B20,0),Vr_Probabilidad,2,1))))","v":0},{"$f":"Datos!C20","v":""},"","",""]
["R",null,null,null,null,null,"",null,null,null,null,null,null,null,null,{"$f":"IF(COUNTA(I24:O24)<7,\"\",VLOOKUP(ROUNDUP((LEFT(I24,1)*'Criterios de Riesgo'!$C$3+LEFT(J24,1)*'Criterios de Riesgo'!$C$4+LEFT(K24,1)*'Criterios de Riesgo'!$C$5+LEFT(L24,1)*'Criterios de Riesgo'!$C$6+LEFT(M24,1)*'Criterios de Riesgo'!$C$7+LEFT(N24,1)*'Criterios de Riesgo'!$C$8+LEFT(O24,1)*'Criterios de Riesgo'!$C$9),0),Calif_Impacto,2))","v":""},null,"","",{"$f":"IF(OR(Datos!A21=0,Datos!A21=\"\"),P24,IF(ISERROR(VLOOKUP(VLOOKUP(P24,VrImpacto,2,0)-ROUNDDOWN(VLOOKUP(P24,VrImpacto,2,0)*Datos!A21,0),Vr_Impacto,2,1)),\"\",VLOOKUP(VLOOKUP(P24,VrImpacto,2,0)-ROUNDDOWN(VLOOKUP(P24,VrImpacto,2,0)*Datos!A21,0),Vr_Impacto,2,1)))","v":""},{"$f":"IF(Datos!B21=0,Q24,IF(Datos!B21=\"\",Q24,IF(ISERROR(VLOOKUP(VLOOKUP(Q24,Vr_Probabilidad1,2,0)+1-ROUNDDOWN(VLOOKUP(Q24,Vr_Probabilidad1,2,0)*Datos!B21,0),Vr_Probabilidad,2,1)),\"\",VLOOKUP(VLOOKUP(Q24,Vr_Probabilidad1,2,0)-ROUNDDOWN(VLOOKUP(Q24,Vr_Probabilidad1,2,0)*Datos!B21,0),Vr_Probabilidad,2,1))))","v":0},{"$f":"Datos!C21","v":""},"","",""]
["R",null,null,null,null,null,"",null,null,null,null,null,null,null,null,{"$f":"IF(COUNTA(I25:O25)<7,\"\",VLOOKUP(ROUNDUP((LEFT(I25,1)*'Criterios de Riesgo'!$C$3+LEFT(J25,1)*'Criterios de Riesgo'!$C$4+LEFT(K25,1)*'Criterios de Riesgo'!$C$5+LEFT(L25,1)*'Criterios de Riesgo'!$C$6+LEFT(M25,1)*'Criterios de Riesgo'!$C$7+LEFT(N25,1)*'Criterios de Riesgo'!$C$8+LEFT(O25,1)*'Criterios de Riesgo'!$C$9),0),Calif_Impacto,2))","v":""},null,"","",{"$f":"IF(OR(Datos!A22=0,Datos!A22=\"\"),P25,IF(ISERROR(VLOOKUP(VLOOKUP(P25,VrImpacto,2,0)-ROUNDDOWN(VLOOKUP(P25,VrImpacto,2,0)*Datos!A22,0),Vr_Impacto,2,1)),\"\",VLOOKUP(VLOOKUP(P25,VrImpacto,2,0)-ROUNDDOWN(VLOOKUP(P25,VrImpacto,2,0)*Datos!A22,0),Vr_Impacto,2,1)))","v":""},{"$f":"IF(Datos!B22=0,Q25,IF(Datos!B22=\"\",Q25,IF(ISERROR(VLOOKUP(VLOOKUP(Q25,Vr_Probabilidad1,2,0)+1-ROUNDDOWN(VLOOKUP(Q25,Vr_Probabilidad1,2,0)*Datos!B22,0),Vr_Probabilidad,2,1)),\"\",VLOOKUP(VLOOKUP(Q25,Vr_Probabilidad1,2,0)-ROUNDDOWN(VLOOKUP(Q25,Vr_Probabilidad1,2,0)*Datos!B22,0),Vr_Probabilidad,2,1))))","v":0},{"$f":"Datos!C22","v":""},"","",""]
["R",null,null,null,null,null,"",null,null,null,null,null,null,null,null,{"$f":"IF(COUNTA(I26:O26)<7,\"\",VLOOKUP(ROUNDUP((LEFT(I26,1)*'Criterios de Riesgo'!$C$3+LEFT(J26,1)*'Criterios de Riesgo'!$C$4+LEFT(K26,1)*'Criterios de Riesgo'!$C$5+LEFT(L26,1)*'Criterios de Riesgo'!$C$6+LEFT(M26,1)*'Criterios de Riesgo'!$C$7+LEFT(N26,1)*'Criterios de Riesgo'!$C$8+LEFT(O26,1)*'Criterios de Riesgo'!$C$9),0),Calif_Impacto,2))","v":""},null,"","",{"$f":"IF(OR(Datos!A23=0,Datos!A23=\"\"),P26,IF(ISERROR(VLOOKUP(VLOOKUP(P26,VrImpacto,2,0)-ROUNDDOWN(VLOOKUP(P26,VrImpacto,2,0)*Datos!A23,0),Vr_Impacto,2,1)),\"\",VLOOKUP(VLOOKUP(P26,VrImpacto,2,0)-ROUNDDOWN(VLOOKUP(P26,VrImpacto,2,0)*Datos!A23,0),Vr_Impacto,2,1)))","v":""},{"$f":"IF(Datos!B23=0,Q26,IF(Datos!B23=\"\",Q26,IF(ISERROR(VLOOKUP(VLOOKUP(Q26,Vr_Probabilidad1,2,0)+1-ROUNDDOWN(VLOOKUP(Q26,Vr_Probabilidad1,2,0)*Datos!B23,0),Vr_Probabilidad,2,1)),\"\",VLOOKUP(VLOOKUP(Q26,Vr_Probabilidad1,2,0)-ROUNDDOWN(VLOOKUP(Q26,Vr_Probabilidad1,2,0)*Datos!B23,0),Vr_Probabilidad,2,1))))","v":0},{"$f":"Datos!C23","v":""},"","",""]
["R",null,null,null,null,null,"",null,null,null,null,null,null,null,null,{"$f":"IF(COUNTA(I27:O27)<7,\"\",VLOOKUP(ROUNDUP((LEFT(I27,1)*'Criterios de Riesgo'!$C$3+LEFT(J27,1)*'Criterios de Riesgo'!$C$4+LEFT(K27,1)*'Criterios de Riesgo'!$C$5+LEFT(L27,1)*'Criterios de Riesgo'!$C$6+LEFT(M27,1)*'Criterios de Riesgo'!$C$7+LEFT(N27,1)*'Criterios de Riesgo'!$C$8+LEFT(O27,1)*'Criterios de Riesgo'!$C$9),0),Calif_Impacto,2))","v":""},null,"","",{"$f":"IF(OR(Datos!A24=0,Datos!A24=\"\"),P27,IF(ISERROR(VLOOKUP(VLOOKUP(P27,VrImpacto,2,0)-ROUNDDOWN(VLOOKUP(P27,VrImpacto,2,0)*Datos!A24,0),Vr_Impacto,2,1)),\"\",VLOOKUP(VLOOKUP(P27,VrImpacto,2,0)-ROUNDDOWN(VLOOKUP(P27,VrImpacto,2,0)*Datos!A24,0),Vr_Impacto,2,1)))","v":""},{"$f":"IF(Datos!B24=0,Q27,IF(Datos!B24=\"\",Q27,IF(ISERROR(VLOOKUP(VLOOKUP(Q27,Vr_Probabilidad1,2,0)+1-ROUNDDOWN(VLOOKUP(Q27,Vr_Probabilidad1,2,0)*Datos!B24,0),Vr_Probabilidad,2,1)),\"\",VLOOKUP(VLOOKUP(Q27,Vr_Probabilidad1,2,0)-ROUNDDOWN(VLOOKUP(Q27,Vr_Probabilidad1,2,0)*Datos!B24,0),Vr_Probabilidad,2,1))))","v":0},{"$f":"Datos!C24","v":""},"","",""]
["R",null,null,null,null,null,"",null,null,null,null,null,null,null,null,{"$f":"IF(COUNTA(I28:O28)<7,\"\",VLOOKUP(ROUNDUP((LEFT(I28,1)*'Criterios de Riesgo'!$C$3+LEFT(J28,1)*'Criterios de Riesgo'!$C$4+LEFT(K28,1)*'Criterios de Riesgo'!$C$5+LEFT(L28,1)*'Criterios de Riesgo'!$C$6+LEFT(M28,1)*'Criterios de Riesgo'!$C$7+LEFT(N28,1)*'Criterios de Riesgo'!$C$8+LEFT(O28,1)*'Criterios de Riesgo'!$C$9),0),Calif_Impacto,2))","v":""},null,"","",{"$f":"IF(OR(Datos!A25=0,Datos!A25=\"\"),P28,IF(ISERROR(VLOOKUP(VLOOKUP(P28,VrImpacto,2,0)-ROUNDDOWN(VLOOKUP(P28,VrImpacto,2,0)*Datos!A25,0),Vr_Impacto,2,1)),\"\",VLOOKUP(VLOOKUP(P28,VrImpacto,2,0)-ROUNDDOWN(VLOOKUP(P28,VrImpacto,2,0)*Datos!A25,0),Vr_Impacto,2,1)))","v":""},{"$f":"IF(Datos!B25=0,Q28,IF(Datos!B25=\"\",Q28,IF(ISERROR(VLOOKUP(VLOOKUP(Q28,Vr_Probabilidad1,2,0)+1-ROUNDDOWN(VLOOKUP(Q28,Vr_Probabilidad1,2,0)*Datos!B25,0),Vr_Probabilidad,2,1)),\"\",VLOOKUP(VLOOKUP(Q28,Vr_Probabilidad1,2,0)-ROUNDDOWN(VLOOKUP(Q28,Vr_Probabilidad1,2,0)*Datos!B25,0),Vr_Probabilidad,2,1))))","v":0},{"$f":"Datos!C25","v":""},"","",""]
["R",null,null,null,null,null,"",null,null,null,null,null,null,null,null,{"$f":"IF(COUNTA(I29:O29)<7,\"\",VLOOKUP(ROUNDUP((LEFT(I29,1)*'Criterios de Riesgo'!$C$3+LEFT(J29,1)*'Criterios de Riesgo'!$C$4+LEFT(K29,1)*'Criterios de Riesgo'!$C$5+LEFT(L29,1)*'Criterios de Riesgo'!$C$6+LEFT(M29,1)*'Criterios de Riesgo'!$C$7+LEFT(N29,1)*'Criterios de Riesgo'!$C$8+LEFT(O29,1)*'Criterios de Riesgo'!$C$9),0),Calif_Impacto,2))","v":""},null,"","",{"$f":"IF(OR(Datos!A26=0,Datos!A26=\"\"),P29,IF(ISERROR(VLOOKUP(VLOOKUP(P29,VrImpacto,2,0)-ROUNDDOWN(VLOOKUP(P29,VrImpacto,2,0)*Datos!A26,0),Vr_Impacto,2,1)),\"\",VLOOKUP(VLOOKUP(P29,VrImpacto,2,0)-ROUNDDOWN(VLOOKUP(P29,VrImpacto,2,0)*Datos!A26,0),Vr_Impacto,2,1)))","v":""},{"$f":"IF(Datos!B26=0,Q29,IF(Datos!B26=\"\",Q29,IF(ISERROR(VLOOKUP(VLOOKUP(Q29,Vr_Probabilidad1,2,0)+1-ROUNDDOWN(VLOOKUP(Q29,Vr_Probabilidad1,2,0)*Datos!B26,0),Vr_Probabilidad,2,1)),\"\",VLOOKUP(VLOOKUP(Q29,Vr_Probabilidad1,2,0)-ROUNDDOWN(VLOOKUP(Q29,Vr_Probabilidad1,2,0)*Datos!B26,0),Vr_Probabilidad,2,1))))","v":0},{"$f":"Datos!C26","v":""},"","",""]
["R",null,null,null,null,null,"",null,null,null,null,null,null,null,null,{"$f":"IF(COUNTA(I30:O30)<7,\"\",VLOOKUP(ROUNDUP((LEFT(I30,1)*'Criterios de Riesgo'!$C$3+LEFT(J30,1)*'Criterios de Riesgo'!$C$4+LEFT(K30,1)*'Criterios de Riesgo'!$C$5+LEFT(L30,1)*'Criterios de Riesgo'!$C$6+LEFT(M30,1)*'Criterios de Riesgo'!$C$7+LEFT(N30,1)*'Criterios de Riesgo'!$C$8+LEFT(O30,1)*'Criterios de Riesgo'!$C$9),0),Calif_Impacto,2))","v":""},null,"","",{"$f":"IF(OR(Datos!A27=0,Datos!A27=\"\"),P30,IF(ISERROR(VLOOKUP(VLOOKUP(P30,VrImpacto,2,0)-ROUNDDOWN(VLOOKUP(P30,VrImpacto,2,0)*Datos!A27,0),Vr_Impacto,2,1)),\"\",VLOOKUP(VLOOKUP(P30,VrImpacto,2,0)-ROUNDDOWN(VLOOKUP(P30,VrImpacto,2,0)*Datos!A27,0),Vr_Impacto,2,1)))","v":""},{"$f":"IF(Datos!B27=0,Q30,IF(Datos!B27=\"\",Q30,IF(ISERROR(VLOOKUP(VLOOKUP(Q30,Vr_Probabilidad1,2,0)+1-ROUNDDOWN(VLOOKUP(Q30,Vr_Probabilidad1,2,0)*Datos!B27,0),Vr_Probabilidad,2,1)),\"\",VLOOKUP(VLOOKUP(Q30,Vr_Probabilidad1,2,0)-ROUNDDOWN(VLOOKUP(Q30,Vr_Probabilidad1,2,0)*Datos!B27,0),Vr_Probabilidad,2,1))))","v":0},{"$f":"Datos!C27","v":""},"","",""]
["R",null,null,null,null,null,"",null,null,null,null,null,null,null,null,{"$f":"IF(COUNTA(I31:O31)<7,\"\",VLOOKUP(ROUNDUP((LEFT(I31,1)*'Criterios de Riesgo'!$C$3+LEFT(J31,1)*'Criterios de Riesgo'!$C$4+LEFT(K31,1)*'Criterios de Riesgo'!$C$5+LEFT(L31,1)*'Criterios de Riesgo'!$C$6+LEFT(M31,1)*'Criterios de Riesgo'!$C$7+LEFT(N31,1)*'Criterios de Riesgo'!$C$8+LEFT(O31,1)*'Criterios de Riesgo'!$C$9),0),Calif_Impacto,2))","v":""},null,"","",{"$f":"IF(OR(Datos!A28=0,Datos!A28=\"\"),P31,IF(ISERROR(VLOOKUP(VLOOKUP(P31,VrImpacto,2,0)-ROUNDDOWN(VLOOKUP(P31,VrImpacto,2,0)*Datos!A28,0),Vr_Impacto,2,1)),\"\",VLOOKUP(VLOOKUP(P31,VrImpacto,2,0)-ROUNDDOWN(VLOOKUP(P31,VrImpacto,2,0)*Datos!A28,0),Vr_Impacto,2,1)))","v":""},{"$f":"IF(Datos!B28=0,Q31,IF(Datos!B28=\"\",Q31,IF(ISERROR(VLOOKUP(VLOOKUP(Q31,Vr_Probabilidad1,2,0)+1-ROUNDDOWN(VLOOKUP(Q31,Vr_Probabilidad1,2,0)*Datos!B28,0),Vr_Probabilidad,2,1)),\"\",VLOOKUP(VLOOKUP(Q31,Vr_Probabilidad1,2,0)-ROUNDDOWN(VLOOKUP(Q31,Vr_Probabilidad1,2,0)*Datos!B28,0),Vr_Probabilidad,2,1))))","v":0},{"$f":"Datos!C28","v":""},"","",""]
["R",null,null,null,null,null,"",null,null,null,null,null,null,null,null,{"$f":"IF(COUNTA(I32:O32)<7,\"\",VLOOKUP(ROUNDUP((LEFT(I32,1)*'Criterios de Riesgo'!$C$3+LEFT(J32,1)*'Criterios de Riesgo'!$C$4+LEFT(K32,1)*'Criterios de Riesgo'!$C$5+LEFT(L32,1)*'Criterios de Riesgo'!$C$6+LEFT(M32,1)*'Criterios de Riesgo'!$C$7+LEFT(N32,1)*'Criterios de Riesgo'!$C$8+LEFT(O32,1)*'Criterios de Riesgo'!$C$9),0),Calif_Impacto,2))","v":""},null,"","",{"$f":"IF(OR(Datos!A29=0,Datos!A29=\"\"),P32,IF(ISERROR(VLOOKUP(VLOOKUP(P32,VrImpacto,2,0)-ROUNDDOWN(VLOOKUP(P32,VrImpacto,2,0)*Datos!A29,0),Vr_Impacto,2,1)),\"\",VLOOKUP(VLOOKUP(P32,VrImpacto,2,0)-ROUNDDOWN(VLOOKUP(P32,VrImpacto,2,0)*Datos!A29,0),Vr_Impacto,2,1)))","v":""},{"$f":"IF(Datos!B29=0,Q32,IF(Datos!B29=\"\",Q32,IF(ISERROR(VLOOKUP(VLOOKUP(Q32,Vr_Probabilidad1,2,0)+1-ROUNDDOWN(VLOOKUP(Q32,Vr_Probabilidad1,2,0)*Datos!B29,0),Vr_Probabilidad,2,1)),\"\",VLOOKUP(VLOOKUP(Q32,Vr_Probabilidad1,2,0)-ROUNDDOWN(VLOOKUP(Q32,Vr_Probabilidad1,2,0)*Datos!B29,0),Vr_Probabilidad,2,1))))","v":0},{"$f":"Datos!C29","v":""},"","",""]
["R",null,null,null,null,null,"",null,null,null,null,null,null,null,null,{"$f":"IF(COUNTA(I33:O33)<7,\"\",VLOOKUP(ROUNDUP((LEFT(I33,1)*'Criterios de Riesgo'!$C$3+LEFT(J33,1)*'Criterios de Riesgo'!$C$4+LEFT(K33,1)*'Criterios de Riesgo'!$C$5+LEFT(L33,1)*'Criterios de Riesgo'!$C$6+LEFT(M33,1)*'Criterios de Riesgo'!$C$7+LEFT(N33,1)*'Criterios de Riesgo'!$C$8+LEFT(O33,1)*'Criterios de Riesgo'!$C$9),0),Calif_Impacto,2))","v":""},null,"","",{"$f":"IF(OR(Datos!A30=0,Datos!A30=\"\"),P33,IF(ISERROR(VLOOKUP(VLOOKUP(P33,VrImpacto,2,0)-ROUNDDOWN(VLOOKUP(P33,VrImpacto,2,0)*Datos!A30,0),Vr_Impacto,2,1)),\"\",VLOOKUP(VLOOKUP(P33,VrImpacto,2,0)-ROUNDDOWN(VLOOKUP(P33,VrImpacto,2,0)*Datos!A30,0),Vr_Impacto,2,1)))","v":""},{"$f":"IF(Datos!B30=0,Q33,IF(Datos!B30=\"\",Q33,IF(ISERROR(VLOOKUP(VLOOKUP(Q33,Vr_Probabilidad1,2,0)+1-ROUNDDOWN(VLOOKUP(Q33,Vr_Probabilidad1,2,0)*Datos!B30,0),Vr_Probabilidad,2,1)),\"\",VLOOKUP(VLOOKUP(Q33,Vr_Probabilidad1,2,0)-ROUNDDOWN(VLOOKUP(Q33,Vr_Probabilidad1,2,0)*Datos!B30,0),Vr_Probabilidad,2,1))))","v":0},{"$f":"Datos!C30","v":""},"","",""]
["R",null,null,null,null,null,"",null,null,null,null,null,null,null,null,{"$f":"IF(COUNTA(I34:O34)<7,\"\",VLOOKUP(ROUNDUP((LEFT(I34,1)*'Criterios de Riesgo'!$C$3+LEFT(J34,1)*'Criterios de Riesgo'!$C$4+LEFT(K34,1)*'Criterios de Riesgo'!$C$5+LEFT(L34,1)*'Criterios de Riesgo'!$C$6+LEFT(M34,1)*'Criterios de Riesgo'!$C$7+LEFT(N34,1)*'Criterios de Riesgo'!$C$8+LEFT(O34,1)*'Criterios de Riesgo'!$C$9),0),Calif_Impacto,2))","v":""},null,"","",{"$f":"IF(OR(Datos!A31=0,Datos!A31=\"\"),P34,IF(ISERROR(VLOOKUP(VLOOKUP(P34,VrImpacto,2,0)-ROUNDDOWN(VLOOKUP(P34,VrImpacto,2,0)*Datos!A31,0),Vr_Impacto,2,1)),\"\",VLOOKUP(VLOOKUP(P34,VrImpacto,2,0)-ROUNDDOWN(VLOOKUP(P34,VrImpacto,2,0)*Datos!A31,0),Vr_Impacto,2,1)))","v":""},{"$f":"IF(Datos!B31=0,Q34,IF(Datos!B31=\"\",Q34,IF(ISERROR(VLOOKUP(VLOOKUP(Q34,Vr_Probabilidad1,2,0)+1-ROUNDDOWN(VLOOKUP(Q34,Vr_Probabilidad1,2,0)*Datos!B31,0),Vr_Probabilidad,2,1)),\"\",VLOOKUP(VLOOKUP(Q34,Vr_Probabilidad1,2,0)-ROUNDDOWN(VLOOKUP(Q34,Vr_Probabilidad1,2,0)*Datos!B31,0),Vr_Probabilidad,2,1))))","v":0},{"$f":"Datos!C31","v":""},"","",""]
["R",null,null,null,null,null,"",null,null,null,null,null,null,null,null,{"$f":"IF(COUNTA(I35:O35)<7,\"\",VLOOKUP(ROUNDUP((LEFT(I35,1)*'Criterios de Riesgo'!$C$3+LEFT(J35,1)*'Criterios de Riesgo'!$C$4+LEFT(K35,1)*'Criterios de Riesgo'!$C$5+LEFT(L35,1)*'Criterios de Riesgo'!$C$6+LEFT(M35,1)*'Criterios de Riesgo'!$C$7+LEFT(N35,1)*'Criterios de Riesgo'!$C$8+LEFT(O35,1)*'Criterios de Riesgo'!$C$9),0),Calif_Impacto,2))","v":""},null,"","",{"$f":"IF(OR(Datos!A32=0,Datos!A32=\"\"),P35,IF(ISERROR(VLOOKUP(VLOOKUP(P35,VrImpacto,2,0)-ROUNDDOWN(VLOOKUP(P35,VrImpacto,2,0)*Datos!A32,0),Vr_Impacto,2,1)),\"\",VLOOKUP(VLOOKUP(P35,VrImpacto,2,0)-ROUNDDOWN(VLOOKUP(P35,VrImpacto,2,0)*Datos!A32,0),Vr_Impacto,2,1)))","v":""},{"$f":"IF(Datos!B32=0,Q35,IF(Datos!B32=\"\",Q35,IF(ISERROR(VLOOKUP(VLOOKUP(Q35,Vr_Probabilidad1,2,0)+1-ROUNDDOWN(VLOOKUP(Q35,Vr_Probabilidad1,2,0)*Datos!B32,0),Vr_Probabilidad,2,1)),\"\",VLOOKUP(VLOOKUP(Q35,Vr_Probabilidad1,2,0)-ROUNDDOWN(VLOOKUP(Q35,Vr_Probabilidad1,2,0)*Datos!B32,0),Vr_Probabilidad,2,1))))","v":0},{"$f":"Datos!C32","v":""},"","",""]
["R",null,null,null,null,null,"",null,null,null,null,null,null,null,null,{"$f":"IF(COUNTA(I36:O36)<7,\"\",VLOOKUP(ROUNDUP((LEFT(I36,1)*'Criterios de Riesgo'!$C$3+LEFT(J36,1)*'Criterios de Riesgo'!$C$4+LEFT(K36,1)*'Criterios de Riesgo'!$C$5+LEFT(L36,1)*'Criterios de Riesgo'!$C$6+LEFT(M36,1)*'Criterios de Riesgo'!$C$7+LEFT(N36,1)*'Criterios de Riesgo'!$C$8+LEFT(O36,1)*'Criterios de Riesgo'!$C$9),0),Calif_Impacto,2))","v":""},null,"","",{"$f":"IF(OR(Datos!A33=0,Datos!A33=\"\"),P36,IF(ISERROR(VLOOKUP(VLOOKUP(P36,VrImpacto,2,0)-ROUNDDOWN(VLOOKUP(P36,VrImpacto,2,0)*Datos!A33,0),Vr_Impacto,2,1)),\"\",VLOOKUP(VLOOKUP(P36,VrImpacto,2,0)-ROUNDDOWN(VLOOKUP(P36,VrImpacto,2,0)*Datos!A33,0),Vr_Impacto,2,1)))","v":""},{"$f":"IF(Datos!B33=0,Q36,IF(Datos!B33=\"\",Q36,IF(ISERROR(VLOOKUP(VLOOKUP(Q36,Vr_Probabilidad1,2,0)+1-ROUNDDOWN(VLOOKUP(Q36,Vr_Probabilidad1,2,0)*Datos!B33,0),Vr_Probabilidad,2,1)),\"\",VLOOKUP(VLOOKUP(Q36,Vr_Probabilidad1,2,0)-ROUNDDOWN(VLOOKUP(Q36,Vr_Probabilidad1,2,0)*Datos!B33,0),Vr_Probabilidad,2,1))))","v":0},{"$f":"Datos!C33","v":""},"","",""]
["R",null,null,null,null,null,"",null,null,null,null,null,null,null,null,{"$f":"IF(COUNTA(I37:O37)<7,\"\",VLOOKUP(ROUNDUP((LEFT(I37,1)*'Criterios de Riesgo'!$C$3+LEFT(J37,1)*'Criterios de Riesgo'!$C$4+LEFT(K37,1)*'Criterios de Riesgo'!$C$5+LEFT(L37,1)*'Criterios de Riesgo'!$C$6+LEFT(M37,1)*'Criterios de Riesgo'!$C$7+LEFT(N37,1)*'Criterios de Riesgo'!$C$8+LEFT(O37,1)*'Criterios de Riesgo'!$C$9),0),Calif_Impacto,2))","v":""},null,"","",{"$f":"IF(OR(Datos!A34=0,Datos!A34=\"\"),P37,IF(ISERROR(VLOOKUP(VLOOKUP(P37,VrImpacto,2,0)-ROUNDDOWN(VLOOKUP(P37,VrImpacto,2,0)*Datos!A34,0),Vr_Impacto,2,1)),\"\",VLOOKUP(VLOOKUP(P37,VrImpacto,2,0)-ROUNDDOWN(VLOOKUP(P37,VrImpacto,2,0)*Datos!A34,0),Vr_Impacto,2,1)))","v":""},{"$f":"IF(Datos!B34=0,Q37,IF(Datos!B34=\"\",Q37,IF(ISERROR(VLOOKUP(VLOOKUP(Q37,Vr_Probabilidad1,2,0)+1-ROUNDDOWN(VLOOKUP(Q37,Vr_Probabilidad1,2,0)*Datos!B34,0),Vr_Probabilidad,2,1)),\"\",VLOOKUP(VLOOKUP(Q37,Vr_Probabilidad1,2,0)-ROUNDDOWN(VLOOKUP(Q37,Vr_Probabilidad1,2,0)*Datos!B34,0),Vr_Probabilidad,2,1))))","v":0},{"$f":"Datos!C34","v":""},"","",""]
["R",null,null,null,null,null,"",null,null,null,null,null,null,null,null,{"$f":"IF(COUNTA(I38:O38)<7,\"\",VLOOKUP(ROUNDUP((LEFT(I38,1)*'Criterios de Riesgo'!$C$3+LEFT(J38,1)*'Criterios de Riesgo'!$C$4+LEFT(K38,1)*'Criterios de Riesgo'!$C$5+LEFT(L38,1)*'Criterios de Riesgo'!$C$6+LEFT(M38,1)*'Criterios de Riesgo'!$C$7+LEFT(N38,1)*'Criterios de Riesgo'!$C$8+LEFT(O38,1)*'Criterios de Riesgo'!$C$9),0),Calif_Impacto,2))","v":""},null,"","",{"$f":"IF(OR(Datos!A35=0,Datos!A35=\"\"),P38,IF(ISERROR(VLOOKUP(VLOOKUP(P38,VrImpacto,2,0)-ROUNDDOWN(VLOOKUP(P38,VrImpacto,2,0)*Datos!A35,0),Vr_Impacto,2,1)),\"\",VLOOKUP(VLOOKUP(P38,VrImpacto,2,0)-ROUNDDOWN(VLOOKUP(P38,VrImpacto,2,0)*Datos!A35,0),Vr_Impacto,2,1)))","v":""},{"$f":"IF(Datos!B35=0,Q38,IF(Datos!B35=\"\",Q38,IF(ISERROR(VLOOKUP(VLOOKUP(Q38,Vr_Probabilidad1,2,0)+1-ROUNDDOWN(VLOOKUP(Q38,Vr_Probabilidad1,2,0)*Datos!B35,0),Vr_Probabilidad,2,1)),\"\",VLOOKUP(VLOOKUP(Q38,Vr_Probabilidad1,2,0)-ROUNDDOWN(VLOOKUP(Q38,Vr_Probabilidad1,2,0)*Datos!B35,0),Vr_Probabilidad,2,1))))","v":0},{"$f":"Datos!C35","v":""},"","",""]
["R",null,null,null,null,null,"",null,null,null,null,null,null,null,null,{"$f":"IF(COUNTA(I39:O39)<7,\"\",VLOOKUP(ROUNDUP((LEFT(I39,1)*'Criterios de Riesgo'!$C$3+LEFT(J39,1)*'Criterios de Riesgo'!$C$4+LEFT(K39,1)*'Criterios de Riesgo'!$C$5+LEFT(L39,1)*'Criterios de Riesgo'!$C$6+LEFT(M39,1)*'Criterios de Riesgo'!$C$7+LEFT(N39,1)*'Criterios de Riesgo'!$C$8+LEFT(O39,1)*'Criterios de Riesgo'!$C$9),0),Calif_Impacto,2))","v":""},null,"","",{"$f":"IF(OR(Datos!A36=0,Datos!A36=\"\"),P39,IF(ISERROR(VLOOKUP(VLOOKUP(P39,VrImpacto,2,0)-ROUNDDOWN(VLOOKUP(P39,VrImpacto,2,0)*Datos!A36,0),Vr_Impacto,2,1)),\"\",VLOOKUP(VLOOKUP(P39,VrImpacto,2,0)-ROUNDDOWN(VLOOKUP(P39,VrImpacto,2,0)*Datos!A36,0),Vr_Impacto,2,1)))","v":""},{"$f":"IF(Datos!B36=0,Q39,IF(Datos!B36=\"\",Q39,IF(ISERROR(VLOOKUP(VLOOKUP(Q39,Vr_Probabilidad1,2,0)+1-ROUNDDOWN(VLOOKUP(Q39,Vr_Probabilidad1,2,0)*Datos!B36,0),Vr_Probabilidad,2,1)),\"\",VLOOKUP(VLOOKUP(Q39,Vr_Probabilidad1,2,0)-ROUNDDOWN(VLOOKUP(Q39,Vr_Probabilidad1,2,0)*Datos!B36,0),Vr_Probabilidad,2,1))))","v":0},{"$f":"Datos!C36","v":""},"","",""]
["R",null,null,null,null,null,"",null,null,null,null,null,null,null,null,{"$f":"IF(COUNTA(I40:O40)<7,\"\",VLOOKUP(ROUNDUP((LEFT(I40,1)*'Criterios de Riesgo'!$C$3+LEFT(J40,1)*'Criterios de Riesgo'!$C$4+LEFT(K40,1)*'Criterios de Riesgo'!$C$5+LEFT(L40,1)*'Criterios de Riesgo'!$C$6+LEFT(M40,1)*'Criterios de Riesgo'!$C$7+LEFT(N40,1)*'Criterios de Riesgo'!$C$8+LEFT(O40,1)*'Criterios de Riesgo'!$C$9),0),Calif_Impacto,2))","v":""},null,"","",{"$f":"IF(OR(Datos!A37=0,Datos!A37=\"\"),P40,IF(ISERROR(VLOOKUP(VLOOKUP(P40,VrImpacto,2,0)-ROUNDDOWN(VLOOKUP(P40,VrImpacto,2,0)*Datos!A37,0),Vr_Impacto,2,1)),\"\",VLOOKUP(VLOOKUP(P40,VrImpacto,2,0)-ROUNDDOWN(VLOOKUP(P40,VrImpacto,2,0)*Datos!A37,0),Vr_Impacto,2,1)))","v":""},{"$f":"IF(Datos!B37=0,Q40,IF(Datos!B37=\"\",Q40,IF(ISERROR(VLOOKUP(VLOOKUP(Q40,Vr_Probabilidad1,2,0)+1-ROUNDDOWN(VLOOKUP(Q40,Vr_Probabilidad1,2,0)*Datos!B37,0),Vr_Probabilidad,2,1)),\"\",VLOOKUP(VLOOKUP(Q40,Vr_Probabilidad1,2,0)-ROUNDDOWN(VLOOKUP(Q40,Vr_Probabilidad1,2,0)*Datos!B37,0),Vr_Probabilidad,2,1))))","v":0},{"$f":"Datos!C37","v":""},"","",""]
["R",null,null,null,null,null,"",null,null,null,null,null,null,null,null,{"$f":"IF(COUNTA(I41:O41)<7,\"\",VLOOKUP(ROUNDUP((LEFT(I41,1)*'Criterios de Riesgo'!$C$3+LEFT(J41,1)*'Criterios de Riesgo'!$C$4+LEFT(K41,1)*'Criterios de Riesgo'!$C$5+LEFT(L41,1)*'Criterios de Riesgo'!$C$6+LEFT(M41,1)*'Criterios de Riesgo'!$C$7+LEFT(N41,1)*'Criterios de Riesgo'!$C$8+LEFT(O41,1)*'Criterios de Riesgo'!$C$9),0),Calif_Impacto,2))","v":""},null,"","",{"$f":"IF(OR(Datos!A38=0,Datos!A38=\"\"),P41,IF(ISERROR(VLOOKUP(VLOOKUP(P41,VrImpacto,2,0)-ROUNDDOWN(VLOOKUP(P41,VrImpacto,2,0)*Datos!A38,0),Vr_Impacto,2,1)),\"\",VLOOKUP(VLOOKUP(P41,VrImpacto,2,0)-ROUNDDOWN(VLOOKUP(P41,VrImpacto,2,0)*Datos!A38,0),Vr_Impacto,2,1)))","v":""},{"$f":"IF(Datos!B38=0,Q41,IF(Datos!B38=\"\",Q41,IF(ISERROR(VLOOKUP(VLOOKUP(Q41,Vr_Probabilidad1,2,0)+1-ROUNDDOWN(VLOOKUP(Q41,Vr_Probabilidad1,2,0)*Datos!B38,0),Vr_Probabilidad,2,1)),\"\",VLOOKUP(VLOOKUP(Q41,Vr_Probabilidad1,2,0)-ROUNDDOWN(VLOOKUP(Q41,Vr_Probabilidad1,2,0)*Datos!B38,0),Vr_Probabilidad,2,1))))","v":0},{"$f":"Datos!C38","v":""},"","",""]
["R",null,null,null,null,null,"",null,null,null,null,null,null,null,null,{"$f":"IF(COUNTA(I42:O42)<7,\"\",VLOOKUP(ROUNDUP((LEFT(I42,1)*'Criterios de Riesgo'!$C$3+LEFT(J42,1)*'Criterios de Riesgo'!$C$4+LEFT(K42,1)*'Criterios de Riesgo'!$C$5+LEFT(L42,1)*'Criterios de Riesgo'!$C$6+LEFT(M42,1)*'Criterios de Riesgo'!$C$7+LEFT(N42,1)*'Criterios de Riesgo'!$C$8+LEFT(O42,1)*'Criterios de Riesgo'!$C$9),0),Calif_Impacto,2))","v":""},null,"","",{"$f":"IF(OR(Datos!A39=0,Datos!A39=\"\"),P42,IF(ISERROR(VLOOKUP(VLOOKUP(P42,VrImpacto,2,0)-ROUNDDOWN(VLOOKUP(P42,VrImpacto,2,0)*Datos!A39,0),Vr_Impacto,2,1)),\"\",VLOOKUP(VLOOKUP(P42,VrImpacto,2,0)-ROUNDDOWN(VLOOKUP(P42,VrImpacto,2,0)*Datos!A39,0),Vr_Impacto,2,1)))","v":""},{"$f":"IF(Datos!B39=0,Q42,IF(Datos!B39=\"\",Q42,IF(ISERROR(VLOOKUP(VLOOKUP(Q42,Vr_Probabilidad1,2,0)+1-ROUNDDOWN(VLOOKUP(Q42,Vr_Probabilidad1,2,0)*Datos!B39,0),Vr_Probabilidad,2,1)),\"\",VLOOKUP(VLOOKUP(Q42,Vr_Probabilidad1,2,0)-ROUNDDOWN(VLOOKUP(Q42,Vr_Probabilidad1,2,0)*Datos!B39,0),Vr_Probabilidad,2,1))))","v":0},{"$f":"Datos!C39","v":""},"","",""]
["R",null,null,null,null,null,"",null,null,null,null,null,null,null,null,{"$f":"IF(COUNTA(I43:O43)<7,\"\",VLOOKUP(ROUNDUP((LEFT(I43,1)*'Criterios de Riesgo'!$C$3+LEFT(J43,1)*'Criterios de Riesgo'!$C$4+LEFT(K43,1)*'Criterios de Riesgo'!$C$5+LEFT(L43,1)*'Criterios de Riesgo'!$C$6+LEFT(M43,1)*'Criterios de Riesgo'!$C$7+LEFT(N43,1)*'Criterios de Riesgo'!$C$8+LEFT(O43,1)*'Criterios de Riesgo'!$C$9),0),Calif_Impacto,2))","v":""},null,"","",{"$f":"IF(OR(Datos!A40=0,Datos!A40=\"\"),P43,IF(ISERROR(VLOOKUP(VLOOKUP(P43,VrImpacto,2,0)-ROUNDDOWN(VLOOKUP(P43,VrImpacto,2,0)*Datos!A40,0),Vr_Impacto,2,1)),\"\",VLOOKUP(VLOOKUP(P43,VrImpacto,2,0)-ROUNDDOWN(VLOOKUP(P43,VrImpacto,2,0)*Datos!A40,0),Vr_Impacto,2,1)))","v":""},{"$f":"IF(Datos!B40=0,Q43,IF(Datos!B40=\"\",Q43,IF(ISERROR(VLOOKUP(VLOOKUP(Q43,Vr_Probabilidad1,2,0)+1-ROUNDDOWN(VLOOKUP(Q43,Vr_Probabilidad1,2,0)*Datos!B40,0),Vr_Probabilidad,2,1)),\"\",VLOOKUP(VLOOKUP(Q43,Vr_Probabilidad1,2,0)-ROUNDDOWN(VLOOKUP(Q43,Vr_Probabilidad1,2,0)*Datos!B40,0),Vr_Probabilidad,2,1))))","v":0},{"$f":"Datos!C40","v":""},"","",""]
["R",null,null,null,null,null,"",null,null,null,null,null,null,null,null,{"$f":"IF(COUNTA(I44:O44)<7,\"\",VLOOKUP(ROUNDUP((LEFT(I44,1)*'Criterios de Riesgo'!$C$3+LEFT(J44,1)*'Criterios de Riesgo'!$C$4+LEFT(K44,1)*'Criterios de Riesgo'!$C$5+LEFT(L44,1)*'Criterios de Riesgo'!$C$6+LEFT(M44,1)*'Criterios de Riesgo'!$C$7+LEFT(N44,1)*'Criterios de Riesgo'!$C$8+LEFT(O44,1)*'Criterios de Riesgo'!$C$9),0),Calif_Impacto,2))","v":""},null,{"$f":"IF(OR(P44=\"\",Q44=\"\"),\"\",VLOOKUP(P44,VrImpacto,2,0)*VLOOKUP(Q44,Vr_Probabilidad1,2,0))","v":""},{"$f":"IF(ISERROR(VLOOKUP(Q44&\"-\"&P44,NivelRiesgo,3,0)),\"\",VLOOKUP(Q44&\"-\"&P44,NivelRiesgo,3,0))","v":""},{"$f":"IF(OR(Datos!A41=0,Datos!A41=\"\"),P44,IF(ISERROR(VLOOKUP(VLOOKUP(P44,VrImpacto,2,0)-ROUNDDOWN(VLOOKUP(P44,VrImpacto,2,0)*Datos!A41,0),Vr_Impacto,2,1)),\"\",VLOOKUP(VLOOKUP(P44,VrImpacto,2,0)-ROUNDDOWN(VLOOKUP(P44,VrImpacto,2,0)*Datos!A41,0),Vr_Impacto,2,1)))","v":""},{"$f":"IF(Datos!B41=0,Q44,IF(Datos!B41=\"\",Q44,IF(ISERROR(VLOOKUP(VLOOKUP(Q44,Vr_Probabilidad1,2,0)+1-ROUNDDOWN(VLOOKUP(Q44,Vr_Probabilidad1,2,0)*Datos!B41,0),Vr_Probabilidad,2,1)),\"\",VLOOKUP(VLOOKUP(Q44,Vr_Probabilidad1,2,0)-ROUNDDOWN(VLOOKUP(Q44,Vr_Probabilidad1,2,0)*Datos!B41,0),Vr_Probabilidad,2,1))))","v":0},{"$f":"Datos!C41","v":""},"","",{"$f":"IF(ISERROR(VLOOKUP(X44,Criterio_Riesgo_Residual,2,1)),\"\",VLOOKUP(X44,Criterio_Riesgo_Residual,2,1))","v":""}]
["R",null,null,null,null,null,"",null,null,null,null,null,null,null,null,{"$f":"IF(COUNTA(I45:O45)<7,\"\",VLOOKUP(ROUNDUP((LEFT(I45,1)*'Criterios de Riesgo'!$C$3+LEFT(J45,1)*'Criterios de Riesgo'!$C$4+LEFT(K45,1)*'Criterios de Riesgo'!$C$5+LEFT(L45,1)*'Criterios de Riesgo'!$C$6+LEFT(M45,1)*'Criterios de Riesgo'!$C$7+LEFT(N45,1)*'Criterios de Riesgo'!$C$8+LEFT(O45,1)*'Criterios de Riesgo'!$C$9),0),Calif_Impacto,2))","v":""},null,"","",{"$f":"IF(OR(Datos!A42=0,Datos!A42=\"\"),P45,IF(ISERROR(VLOOKUP(VLOOKUP(P45,VrImpacto,2,0)-ROUNDDOWN(VLOOKUP(P45,VrImpacto,2,0)*Datos!A42,0),Vr_Impacto,2,1)),\"\",VLOOKUP(VLOOKUP(P45,VrImpacto,2,0)-ROUNDDOWN(VLOOKUP(P45,VrImpacto,2,0)*Datos!A42,0),Vr_Impacto,2,1)))","v":""},{"$f":"IF(Datos!B42=0,Q45,IF(Datos!B42=\"\",Q45,IF(ISERROR(VLOOKUP(VLOOKUP(Q45,Vr_Probabilidad1,2,0)+1-ROUNDDOWN(VLOOKUP(Q45,Vr_Probabilidad1,2,0)*Datos!B42,0),Vr_Probabilidad,2,1)),\"\",VLOOKUP(VLOOKUP(Q45,Vr_Probabilidad1,2,0)-ROUNDDOWN(VLOOKUP(Q45,Vr_Probabilidad1,2,0)*Datos!B42,0),Vr_Probabilidad,2,1))))","v":0},{"$f":"Datos!C42","v":""},"","",""]
["R",null,null,null,null,null,"",null,null,null,null,null,null,null,null,{"$f":"IF(COUNTA(I46:O46)<7,\"\",VLOOKUP(ROUNDUP((LEFT(I46,1)*'Criterios de Riesgo'!$C$3+LEFT(J46,1)*'Criterios de Riesgo'!$C$4+LEFT(K46,1)*'Criterios de Riesgo'!$C$5+LEFT(L46,1)*'Criterios de Riesgo'!$C$6+LEFT(M46,1)*'Criterios de Riesgo'!$C$7+LEFT(N46,1)*'Criterios de Riesgo'!$C$8+LEFT(O46,1)*'Criterios de Riesgo'!$C$9),0),Calif_Impacto,2))","v":""},null,"","",{"$f":"IF(OR(Datos!A43=0,Datos!A43=\"\"),P46,IF(ISERROR(VLOOKUP(VLOOKUP(P46,VrImpacto,2,0)-ROUNDDOWN(VLOOKUP(P46,VrImpacto,2,0)*Datos!A43,0),Vr_Impacto,2,1)),\"\",VLOOKUP(VLOOKUP(P46,VrImpacto,2,0)-ROUNDDOWN(VLOOKUP(P46,VrImpacto,2,0)*Datos!A43,0),Vr_Impacto,2,1)))","v":""},{"$f":"IF(Datos!B43=0,Q46,IF(Datos!B43=\"\",Q46,IF(ISERROR(VLOOKUP(VLOOKUP(Q46,Vr_Probabilidad1,2,0)+1-ROUNDDOWN(VLOOKUP(Q46,Vr_Probabilidad1,2,0)*Datos!B43,0),Vr_Probabilidad,2,1)),\"\",VLOOKUP(VLOOKUP(Q46,Vr_Probabilidad1,2,0)-ROUNDDOWN(VLOOKUP(Q46,Vr_Probabilidad1,2,0)*Datos!B43,0),Vr_Probabilidad,2,1))))","v":0},{"$f":"Datos!C43","v":""},"","",""]
["R",null,null,null,null,null,"",null,null,null,null,null,null,null,null,{"$f":"IF(COUNTA(I47:O47)<7,\"\",VLOOKUP(ROUNDUP((LEFT(I47,1)*'Criterios de Riesgo'!$C$3+LEFT(J47,1)*'Criterios de Riesgo'!$C$4+LEFT(K47,1)*'Criterios de Riesgo'!$C$5+LEFT(L47,1)*'Criterios de Riesgo'!$C$6+LEFT(M47,1)*'Criterios de Riesgo'!$C$7+LEFT(N47,1)*'Criterios de Riesgo'!$C$8+LEFT(O47,1)*'Criterios de Riesgo'!$C$9),0),Calif_Impacto,2))","v":""},null,"","",{"$f":"IF(OR(Datos!A44=0,Datos!A44=\"\"),P47,IF(ISERROR(VLOOKUP(VLOOKUP(P47,VrImpacto,2,0)-ROUNDDOWN(VLOOKUP(P47,VrImpacto,2,0)*Datos!A44,0),Vr_Impacto,2,1)),\"\",VLOOKUP(VLOOKUP(P47,VrImpacto,2,0)-ROUNDDOWN(VLOOKUP(P47,VrImpacto,2,0)*Datos!A44,0),Vr_Impacto,2,1)))","v":""},{"$f":"IF(Datos!B44=0,Q47,IF(Datos!B44=\"\",Q47,IF(ISERROR(VLOOKUP(VLOOKUP(Q47,Vr_Probabilidad1,2,0)+1-ROUNDDOWN(VLOOKUP(Q47,Vr_Probabilidad1,2,0)*Datos!B44,0),Vr_Probabilidad,2,1)),\"\",VLOOKUP(VLOOKUP(Q47,Vr_Probabilidad1,2,0)-ROUNDDOWN(VLOOKUP(Q47,Vr_Probabilidad1,2,0)*Datos!B44,0),Vr_Probabilidad,2,1))))","v":0},{"$f":"Datos!C44","v":""},"","",""]
["R",null,null,null,null,null,"",null,null,null,null,null,null,null,null,{"$f":"IF(COUNTA(I48:O48)<7,\"\",VLOOKUP(ROUNDUP((LEFT(I48,1)*'Criterios de Riesgo'!$C$3+LEFT(J48,1)*'Criterios de Riesgo'!$C$4+LEFT(K48,1)*'Criterios de Riesgo'!$C$5+LEFT(L48,1)*'Criterios de Riesgo'!$C$6+LEFT(M48,1)*'Criterios de Riesgo'!$C$7+LEFT(N48,1)*'Criterios de Riesgo'!$C$8+LEFT(O48,1)*'Criterios de Riesgo'!$C$9),0),Calif_Impacto,2))","v":""},null,"","",{"$f":"IF(OR(Datos!A45=0,Datos!A45=\"\"),P48,IF(ISERROR(VLOOKUP(VLOOKUP(P48,VrImpacto,2,0)-ROUNDDOWN(VLOOKUP(P48,VrImpacto,2,0)*Datos!A45,0),Vr_Impacto,2,1)),\"\",VLOOKUP(VLOOKUP(P48,VrImpacto,2,0)-ROUNDDOWN(VLOOKUP(P48,VrImpacto,2,0)*Datos!A45,0),Vr_Impacto,2,1)))","v":""},{"$f":"IF(Datos!B45=0,Q48,IF(Datos!B45=\"\",Q48,IF(ISERROR(VLOOKUP(VLOOKUP(Q48,Vr_Probabilidad1,2,0)+1-ROUNDDOWN(VLOOKUP(Q48,Vr_Probabilidad1,2,0)*Datos!B45,0),Vr_Probabilidad,2,1)),\"\",VLOOKUP(VLOOKUP(Q48,Vr_Probabilidad1,2,0)-ROUNDDOWN(VLOOKUP(Q48,Vr_Probabilidad1,2,0)*Datos!B45,0),Vr_Probabilidad,2,1))))","v":0},{"$f":"Datos!C45","v":""},"","",""]
["R",null,null,null,null,null,"",null,null,null,null,null,null,null,null,{"$f":"IF(COUNTA(I49:O49)<7,\"\",VLOOKUP(ROUNDUP((LEFT(I49,1)*'Criterios de Riesgo'!$C$3+LEFT(J49,1)*'Criterios de Riesgo'!$C$4+LEFT(K49,1)*'Criterios de Riesgo'!$C$5+LEFT(L49,1)*'Criterios de Riesgo'!$C$6+LEFT(M49,1)*'Criterios de Riesgo'!$C$7+LEFT(N49,1)*'Criterios de Riesgo'!$C$8+LEFT(O49,1)*'Criterios de Riesgo'!$C$9),0),Calif_Impacto,2))","v":""},null,"","",{"$f":"IF(OR(Datos!A46=0,Datos!A46=\"\"),P49,IF(ISERROR(VLOOKUP(VLOOKUP(P49,VrImpacto,2,0)-ROUNDDOWN(VLOOKUP(P49,VrImpacto,2,0)*Datos!A46,0),Vr_Impacto,2,1)),\"\",VLOOKUP(VLOOKUP(P49,VrImpacto,2,0)-ROUNDDOWN(VLOOKUP(P49,VrImpacto,2,0)*Datos!A46,0),Vr_Impacto,2,1)))","v":""},{"$f":"IF(Datos!B46=0,Q49,IF(Datos!B46=\"\",Q49,IF(ISERROR(VLOOKUP(VLOOKUP(Q49,Vr_Probabilidad1,2,0)+1-ROUNDDOWN(VLOOKUP(Q49,Vr_Probabilidad1,2,0)*Datos!B46,0),Vr_Probabilidad,2,1)),\"\",VLOOKUP(VLOOKUP(Q49,Vr_Probabilidad1,2,0)-ROUNDDOWN(VLOOKUP(Q49,Vr_Probabilidad1,2,0)*Datos!B46,0),Vr_Probabilidad,2,1))))","v":0},{"$f":"Datos!C46","v":""},"","",""]
["R",null,null,null,null,null,"",null,null,null,null,null,null,null,null,{"$f":"IF(COUNTA(I50:O50)<7,\"\",VLOOKUP(ROUNDUP((LEFT(I50,1)*'Criterios de Riesgo'!$C$3+LEFT(J50,1)*'Criterios de Riesgo'!$C$4+LEFT(K50,1)*'Criterios de Riesgo'!$C$5+LEFT(L50,1)*'Criterios de Riesgo'!$C$6+LEFT(M50,1)*'Criterios de Riesgo'!$C$7+LEFT(N50,1)*'Criterios de Riesgo'!$C$8+LEFT(O50,1)*'Criterios de Riesgo'!$C$9),0),Calif_Impacto,2))","v":""},null,"","",{"$f":"IF(OR(Datos!A47=0,Datos!A47=\"\"),P50,IF(ISERROR(VLOOKUP(VLOOKUP(P50,VrImpacto,2,0)-ROUNDDOWN(VLOOKUP(P50,VrImpacto,2,0)*Datos!A47,0),Vr_Impacto,2,1)),\"\",VLOOKUP(VLOOKUP(P50,VrImpacto,2,0)-ROUNDDOWN(VLOOKUP(P50,VrImpacto,2,0)*Datos!A47,0),Vr_Impacto,2,1)))","v":""},{"$f":"IF(Datos!B47=0,Q50,IF(Datos!B47=\"\",Q50,IF(ISERROR(VLOOKUP(VLOOKUP(Q50,Vr_Probabilidad1,2,0)+1-ROUNDDOWN(VLOOKUP(Q50,Vr_Probabilidad1,2,0)*Datos!B47,0),Vr_Probabilidad,2,1)),\"\",VLOOKUP(VLOOKUP(Q50,Vr_Probabilidad1,2,0)-ROUNDDOWN(VLOOKUP(Q50,Vr_Probabilidad1,2,0)*Datos!B47,0),Vr_Probabilidad,2,1))))","v":0},{"$f":"Datos!C47","v":""},"","",""]
["R",null,null,null,null,null,"",null,null,null,null,null,null,null,null,{"$f":"IF(COUNTA(I51:O51)<7,\"\",VLOOKUP(ROUNDUP((LEFT(I51,1)*'Criterios de Riesgo'!$C$3+LEFT(J51,1)*'Criterios de Riesgo'!$C$4+LEFT(K51,1)*'Criterios de Riesgo'!$C$5+LEFT(L51,1)*'Criterios de Riesgo'!$C$6+LEFT(M51,1)*'Criterios de Riesgo'!$C$7+LEFT(N51,1)*'Criterios de Riesgo'!$C$8+LEFT(O51,1)*'Criterios de Riesgo'!$C$9),0),Calif_Impacto,2))","v":""},null,"","",{"$f":"IF(OR(Datos!A48=0,Datos!A48=\"\"),P51,IF(ISERROR(VLOOKUP(VLOOKUP(P51,VrImpacto,2,0)-ROUNDDOWN(VLOOKUP(P51,VrImpacto,2,0)*Datos!A48,0),Vr_Impacto,2,1)),\"\",VLOOKUP(VLOOKUP(P51,VrImpacto,2,0)-ROUNDDOWN(VLOOKUP(P51,VrImpacto,2,0)*Datos!A48,0),Vr_Impacto,2,1)))","v":""},{"$f":"IF(Datos!B48=0,Q51,IF(Datos!B48=\"\",Q51,IF(ISERROR(VLOOKUP(VLOOKUP(Q51,Vr_Probabilidad1,2,0)+1-ROUNDDOWN(VLOOKUP(Q51,Vr_Probabilidad1,2,0)*Datos!B48,0),Vr_Probabilidad,2,1)),\"\",VLOOKUP(VLOOKUP(Q51,Vr_Probabilidad1,2,0)-ROUNDDOWN(VLOOKUP(Q51,Vr_Probabilidad1,2,0)*Datos!B48,0),Vr_Probabilidad,2,1))))","v":0},{"$f":"Datos!C48","v":""},"","",""]
["R",null,null,null,null,null,"",null,null,null,null,null,null,null,null,{"$f":"IF(COUNTA(I52:O52)<7,\"\",VLOOKUP(ROUNDUP((LEFT(I52,1)*'Criterios de Riesgo'!$C$3+LEFT(J52,1)*'Criterios de Riesgo'!$C$4+LEFT(K52,1)*'Criterios de Riesgo'!$C$5+LEFT(L52,1)*'Criterios de Riesgo'!$C$6+LEFT(M52,1)*'Criterios de Riesgo'!$C$7+LEFT(N52,1)*'Criterios de Riesgo'!$C$8+LEFT(O52,1)*'Criterios de Riesgo'!$C$9),0),Calif_Impacto,2))","v":""},null,"","",{"$f":"IF(OR(Datos!A49=0,Datos!A49=\"\"),P52,IF(ISERROR(VLOOKUP(VLOOKUP(P52,VrImpacto,2,0)-ROUNDDOWN(VLOOKUP(P52,VrImpacto,2,0)*Datos!A49,0),Vr_Impacto,2,1)),\"\",VLOOKUP(VLOOKUP(P52,VrImpacto,2,0)-ROUNDDOWN(VLOOKUP(P52,VrImpacto,2,0)*Datos!A49,0),Vr_Impacto,2,1)))","v":""},{"$f":"IF(Datos!B49=0,Q52,IF(Datos!B49=\"\",Q52,IF(ISERROR(VLOOKUP(VLOOKUP(Q52,Vr_Probabilidad1,2,0)+1-ROUNDDOWN(VLOOKUP(Q52,Vr_Probabilidad1,2,0)*Datos!B49,0),Vr_Probabilidad,2,1)),\"\",VLOOKUP(VLOOKUP(Q52,Vr_Probabilidad1,2,0)-ROUNDDOWN(VLOOKUP(Q52,Vr_Probabilidad1,2,0)*Datos!B49,0),Vr_Probabilidad,2,1))))","v":0},{"$f":"Datos!C49","v":""},"","",""]
["R",null,null,null,null,null,"",null,null,null,null,null,null,null,null,{"$f":"IF(COUNTA(I53:O53)<7,\"\",VLOOKUP(ROUNDUP((LEFT(I53,1)*'Criterios de Riesgo'!$C$3+LEFT(J53,1)*'Criterios de Riesgo'!$C$4+LEFT(K53,1)*'Criterios de Riesgo'!$C$5+LEFT(L53,1)*'Criterios de Riesgo'!$C$6+LEFT(M53,1)*'Criterios de Riesgo'!$C$7+LEFT(N53,1)*'Criterios de Riesgo'!$C$8+LEFT(O53,1)*'Criterios de Riesgo'!$C$9),0),Calif_Impacto,2))","v":""},null,"","",{"$f":"IF(OR(Datos!A50=0,Datos!A50=\"\"),P53,IF(ISERROR(VLOOKUP(VLOOKUP(P53,VrImpacto,2,0)-ROUNDDOWN(VLOOKUP(P53,VrImpacto,2,0)*Datos!A50,0),Vr_Impacto,2,1)),\"\",VLOOKUP(VLOOKUP(P53,VrImpacto,2,0)-ROUNDDOWN(VLOOKUP(P53,VrImpacto,2,0)*Datos!A50,0),Vr_Impacto,2,1)))","v":""},{"$f":"IF(Datos!B50=0,Q53,IF(Datos!B50=\"\",Q53,IF(ISERROR(VLOOKUP(VLOOKUP(Q53,Vr_Probabilidad1,2,0)+1-ROUNDDOWN(VLOOKUP(Q53,Vr_Probabilidad1,2,0)*Datos!B50,0),Vr_Probabilidad,2,1)),\"\",VLOOKUP(VLOOKUP(Q53,Vr_Probabilidad1,2,0)-ROUNDDOWN(VLOOKUP(Q53,Vr_Probabilidad1,2,0)*Datos!B50,0),Vr_Probabilidad,2,1))))","v":0},{"$f":"Datos!C50","v":""},"","",""]
["R",null,null,null,null,null,"",null,null,null,null,null,null,null,null,{"$f":"IF(COUNTA(I54:O54)<7,\"\",VLOOKUP(ROUNDUP((LEFT(I54,1)*'Criterios de Riesgo'!$C$3+LEFT(J54,1)*'Criterios de Riesgo'!$C$4+LEFT(K54,1)*'Criterios de Riesgo'!$C$5+LEFT(L54,1)*'Criterios de Riesgo'!$C$6+LEFT(M54,1)*'Criterios de Riesgo'!$C$7+LEFT(N54,1)*'Criterios de Riesgo'!$C$8+LEFT(O54,1)*'Criterios de Riesgo'!$C$9),0),Calif_Impacto,2))","v":""},null,"","",{"$f":"IF(OR(Datos!A51=0,Datos!A51=\"\"),P54,IF(ISERROR(VLOOKUP(VLOOKUP(P54,VrImpacto,2,0)-ROUNDDOWN(VLOOKUP(P54,VrImpacto,2,0)*Datos!A51,0),Vr_Impacto,2,1)),\"\",VLOOKUP(VLOOKUP(P54,VrImpacto,2,0)-ROUNDDOWN(VLOOKUP(P54,VrImpacto,2,0)*Datos!A51,0),Vr_Impacto,2,1)))","v":""},{"$f":"IF(Datos!B51=0,Q54,IF(Datos!B51=\"\",Q54,IF(ISERROR(VLOOKUP(VLOOKUP(Q54,Vr_Probabilidad1,2,0)+1-ROUNDDOWN(VLOOKUP(Q54,Vr_Probabilidad1,2,0)*Datos!B51,0),Vr_Probabilidad,2,1)),\"\",VLOOKUP(VLOOKUP(Q54,Vr_Probabilidad1,2,0)-ROUNDDOWN(VLOOKUP(Q54,Vr_Probabilidad1,2,0)*Datos!B51,0),Vr_Probabilidad,2,1))))","v":0},{"$f":"Datos!C51","v":""},"","",""]
["R",null,null,null,null,null,"",null,null,null,null,null,null,null,null,{"$f":"IF(COUNTA(I55:O55)<7,\"\",VLOOKUP(ROUNDUP((LEFT(I55,1)*'Criterios de Riesgo'!$C$3+LEFT(J55,1)*'Criterios de Riesgo'!$C$4+LEFT(K55,1)*'Criterios de Riesgo'!$C$5+LEFT(L55,1)*'Criterios de Riesgo'!$C$6+LEFT(M55,1)*'Criterios de Riesgo'!$C$7+LEFT(N55,1)*'Criterios de Riesgo'!$C$8+LEFT(O55,1)*'Criterios de Riesgo'!$C$9),0),Calif_Impacto,2))","v":""},null,"","",{"$f":"IF(OR(Datos!A52=0,Datos!A52=\"\"),P55,IF(ISERROR(VLOOKUP(VLOOKUP(P55,VrImpacto,2,0)-ROUNDDOWN(VLOOKUP(P55,VrImpacto,2,0)*Datos!A52,0),Vr_Impacto,2,1)),\"\",VLOOKUP(VLOOKUP(P55,VrImpacto,2,0)-ROUNDDOWN(VLOOKUP(P55,VrImpacto,2,0)*Datos!A52,0),Vr_Impacto,2,1)))","v":""},{"$f":"IF(Datos!B52=0,Q55,IF(Datos!B52=\"\",Q55,IF(ISERROR(VLOOKUP(VLOOKUP(Q55,Vr_Probabilidad1,2,0)+1-ROUNDDOWN(VLOOKUP(Q55,Vr_Probabilidad1,2,0)*Datos!B52,0),Vr_Probabilidad,2,1)),\"\",VLOOKUP(VLOOKUP(Q55,Vr_Probabilidad1,2,0)-ROUNDDOWN(VLOOKUP(Q55,Vr_Probabilidad1,2,0)*Datos!B52,0),Vr_Probabilidad,2,1))))","v":0},{"$f":"Datos!C52","v":""},"","",""]
["R",null,null,null,null,null,{"$f":"IF(ISERROR(VLOOKUP(F56,EventosPerdida,2,0)),\"\",VLOOKUP(F56,EventosPerdida,2,0))","v":""},null,null,null,null,null,null,null,null,{"$f":"IF(COUNTA(I56:O56)<7,\"\",VLOOKUP(ROUNDUP((LEFT(I56,1)*'Criterios de Riesgo'!$C$3+LEFT(J56,1)*'Criterios de Riesgo'!$C$4+LEFT(K56,1)*'Criterios de Riesgo'!$C$5+LEFT(L56,1)*'Criterios de Riesgo'!$C$6+LEFT(M56,1)*'Criterios de Riesgo'!$C$7+LEFT(N56,1)*'Criterios de Riesgo'!$C$8+LEFT(O56,1)*'Criterios de Riesgo'!$C$9),0),Calif_Impacto,2))","v":""},null,{"$f":"IF(OR(P56=\"\",Q56=\"\"),\"\",VLOOKUP(P56,VrImpacto,2,0)*VLOOKUP(Q56,Vr_Probabilidad1,2,0))","v":""},{"$f":"IF(ISERROR(VLOOKUP(Q56&\"-\"&P56,NivelRiesgo,3,0)),\"\",VLOOKUP(Q56&\"-\"&P56,NivelRiesgo,3,0))","v":""},{"$f":"IF(OR(Datos!A53=0,Datos!A53=\"\"),P56,IF(ISERROR(VLOOKUP(VLOOKUP(P56,VrImpacto,2,0)-ROUNDDOWN(VLOOKUP(P56,VrImpacto,2,0)*Datos!A53,0),Vr_Impacto,2,1)),\"\",VLOOKUP(VLOOKUP(P56,VrImpacto,2,0)-ROUNDDOWN(VLOOKUP(P56,VrImpacto,2,0)*Datos!A53,0),Vr_Impacto,2,1)))","v":""},{"$f":"IF(Datos!B53=0,Q56,IF(Datos!B53=\"\",Q56,IF(ISERROR(VLOOKUP(VLOOKUP(Q56,Vr_Probabilidad1,2,0)+1-ROUNDDOWN(VLOOKUP(Q56,Vr_Probabilidad1,2,0)*Datos!B53,0),Vr_Probabilidad,2,1)),\"\",VLOOKUP(VLOOKUP(Q56,Vr_Probabilidad1,2,0)-ROUNDDOWN(VLOOKUP(Q56,Vr_Probabilidad1,2,0)*Datos!B53,0),Vr_Probabilidad,2,1))))","v":0},{"$f":"Datos!C53","v":""},"","",{"$f":"IF(ISERROR(VLOOKUP(X56,Criterio_Riesgo_Residual,2,1)),\"\",VLOOKUP(X56,Criterio_Riesgo_Residual,2,1))","v":""}]
["R",null,null,null,null,null,"",null,null,null,null,null,null,null,null,{"$f":"IF(COUNTA(I57:O57)<7,\"\",VLOOKUP(ROUNDUP((LEFT(I57,1)*'Criterios de Riesgo'!$C$3+LEFT(J57,1)*'Criterios de Riesgo'!$C$4+LEFT(K57,1)*'Criterios de Riesgo'!$C$5+LEFT(L57,1)*'Criterios de Riesgo'!$C$6+LEFT(M57,1)*'Criterios de Riesgo'!$C$7+LEFT(N57,1)*'Criterios de Riesgo'!$C$8+LEFT(O57,1)*'Criterios de Riesgo'!$C$9),0),Calif_Impacto,2))","v":""},null,"","",{"$f":"IF(OR(Datos!A54=0,Datos!A54=\"\"),P57,IF(ISERROR(VLOOKUP(VLOOKUP(P57,VrImpacto,2,0)-ROUNDDOWN(VLOOKUP(P57,VrImpacto,2,0)*Datos!A54,0),Vr_Impacto,2,1)),\"\",VLOOKUP(VLOOKUP(P57,VrImpacto,2,0)-ROUNDDOWN(VLOOKUP(P57,VrImpacto,2,0)*Datos!A54,0),Vr_Impacto,2,1)))","v":""},{"$f":"IF(Datos!B54=0,Q57,IF(Datos!B54=\"\",Q57,IF(ISERROR(VLOOKUP(VLOOKUP(Q57,Vr_Probabilidad1,2,0)+1-ROUNDDOWN(VLOOKUP(Q57,Vr_Probabilidad1,2,0)*Datos!B54,0),Vr_Probabilidad,2,1)),\"\",VLOOKUP(VLOOKUP(Q57,Vr_Probabilidad1,2,0)-ROUNDDOWN(VLOOKUP(Q57,Vr_Probabilidad1,2,0)*Datos!B54,0),Vr_Probabilidad,2,1))))","v":0},{"$f":"Datos!C54","v":""},{"$f":"IF(X57=\"\",\"\",R57-X57)","v":""},{"$f":"IF(R57=\"\",\"\",VLOOKUP(T57,VrImpacto,2,0)*VLOOKUP(U57,Vr_Probabilidad1,2,0))","v":""},""]
["R",null,null,null,null,null,"",null,null,null,null,null,null,null,null,{"$f":"IF(COUNTA(I58:O58)<7,\"\",VLOOKUP(ROUNDUP((LEFT(I58,1)*'Criterios de Riesgo'!$C$3+LEFT(J58,1)*'Criterios de Riesgo'!$C$4+LEFT(K58,1)*'Criterios de Riesgo'!$C$5+LEFT(L58,1)*'Criterios de Riesgo'!$C$6+LEFT(M58,1)*'Criterios de Riesgo'!$C$7+LEFT(N58,1)*'Criterios de Riesgo'!$C$8+LEFT(O58,1)*'Criterios de Riesgo'!$C$9),0),Calif_Impacto,2))","v":""},null,"","",{"$f":"IF(OR(Datos!A55=0,Datos!A55=\"\"),P58,IF(ISERROR(VLOOKUP(VLOOKUP(P58,VrImpacto,2,0)-ROUNDDOWN(VLOOKUP(P58,VrImpacto,2,0)*Datos!A55,0),Vr_Impacto,2,1)),\"\",VLOOKUP(VLOOKUP(P58,VrImpacto,2,0)-ROUNDDOWN(VLOOKUP(P58,VrImpacto,2,0)*Datos!A55,0),Vr_Impacto,2,1)))","v":""},{"$f":"IF(Datos!B55=0,Q58,IF(Datos!B55=\"\",Q58,IF(ISERROR(VLOOKUP(VLOOKUP(Q58,Vr_Probabilidad1,2,0)+1-ROUNDDOWN(VLOOKUP(Q58,Vr_Probabilidad1,2,0)*Datos!B55,0),Vr_Probabilidad,2,1)),\"\",VLOOKUP(VLOOKUP(Q58,Vr_Probabilidad1,2,0)-ROUNDDOWN(VLOOKUP(Q58,Vr_Probabilidad1,2,0)*Datos!B55,0),Vr_Probabilidad,2,1))))","v":0},{"$f":"Datos!C55","v":""},{"$f":"IF(X58=\"\",\"\",R58-X58)","v":""},{"$f":"IF(R58=\"\",\"\",VLOOKUP(T58,VrImpacto,2,0)*VLOOKUP(U58,Vr_Probabilidad1,2,0))","v":""},""]
["R",null,null,null,null,null,"",null,null,null,null,null,null,null,null,{"$f":"IF(COUNTA(I59:O59)<7,\"\",VLOOKUP(ROUNDUP((LEFT(I59,1)*'Criterios de Riesgo'!$C$3+LEFT(J59,1)*'Criterios de Riesgo'!$C$4+LEFT(K59,1)*'Criterios de Riesgo'!$C$5+LEFT(L59,1)*'Criterios de Riesgo'!$C$6+LEFT(M59,1)*'Criterios de Riesgo'!$C$7+LEFT(N59,1)*'Criterios de Riesgo'!$C$8+LEFT(O59,1)*'Criterios de Riesgo'!$C$9),0),Calif_Impacto,2))","v":""},null,"","",{"$f":"IF(OR(Datos!A56=0,Datos!A56=\"\"),P59,IF(ISERROR(VLOOKUP(VLOOKUP(P59,VrImpacto,2,0)-ROUNDDOWN(VLOOKUP(P59,VrImpacto,2,0)*Datos!A56,0),Vr_Impacto,2,1)),\"\",VLOOKUP(VLOOKUP(P59,VrImpacto,2,0)-ROUNDDOWN(VLOOKUP(P59,VrImpacto,2,0)*Datos!A56,0),Vr_Impacto,2,1)))","v":""},{"$f":"IF(Datos!B56=0,Q59,IF(Datos!B56=\"\",Q59,IF(ISERROR(VLOOKUP(VLOOKUP(Q59,Vr_Probabilidad1,2,0)+1-ROUNDDOWN(VLOOKUP(Q59,Vr_Probabilidad1,2,0)*Datos!B56,0),Vr_Probabilidad,2,1)),\"\",VLOOKUP(VLOOKUP(Q59,Vr_Probabilidad1,2,0)-ROUNDDOWN(VLOOKUP(Q59,Vr_Probabilidad1,2,0)*Datos!B56,0),Vr_Probabilidad,2,1))))","v":0},{"$f":"Datos!C56","v":""},"","",""]
["R",null,null,null,null,null,"",null,null,null,null,null,null,null,null,{"$f":"IF(COUNTA(I60:O60)<7,\"\",VLOOKUP(ROUNDUP((LEFT(I60,1)*'Criterios de Riesgo'!$C$3+LEFT(J60,1)*'Criterios de Riesgo'!$C$4+LEFT(K60,1)*'Criterios de Riesgo'!$C$5+LEFT(L60,1)*'Criterios de Riesgo'!$C$6+LEFT(M60,1)*'Criterios de Riesgo'!$C$7+LEFT(N60,1)*'Criterios de Riesgo'!$C$8+LEFT(O60,1)*'Criterios de Riesgo'!$C$9),0),Calif_Impacto,2))","v":""},null,"","",{"$f":"IF(OR(Datos!A57=0,Datos!A57=\"\"),P60,IF(ISERROR(VLOOKUP(VLOOKUP(P60,VrImpacto,2,0)-ROUNDDOWN(VLOOKUP(P60,VrImpacto,2,0)*Datos!A57,0),Vr_Impacto,2,1)),\"\",VLOOKUP(VLOOKUP(P60,VrImpacto,2,0)-ROUNDDOWN(VLOOKUP(P60,VrImpacto,2,0)*Datos!A57,0),Vr_Impacto,2,1)))","v":""},{"$f":"IF(Datos!B57=0,Q60,IF(Datos!B57=\"\",Q60,IF(ISERROR(VLOOKUP(VLOOKUP(Q60,Vr_Probabilidad1,2,0)+1-ROUNDDOWN(VLOOKUP(Q60,Vr_Probabilidad1,2,0)*Datos!B57,0),Vr_Probabilidad,2,1)),\"\",VLOOKUP(VLOOKUP(Q60,Vr_Probabilidad1,2,0)-ROUNDDOWN(VLOOKUP(Q60,Vr_Probabilidad1,2,0)*Datos!B57,0),Vr_Probabilidad,2,1))))","v":0},{"$f":"Datos!C57","v":""},"","",""]
["R",null,null,null,null,null,"",null,null,null,null,null,null,null,null,{"$f":"IF(COUNTA(I61:O61)<7,\"\",VLOOKUP(ROUNDUP((LEFT(I61,1)*'Criterios de Riesgo'!$C$3+LEFT(J61,1)*'Criterios de Riesgo'!$C$4+LEFT(K61,1)*'Criterios de Riesgo'!$C$5+LEFT(L61,1)*'Criterios de Riesgo'!$C$6+LEFT(M61,1)*'Criterios de Riesgo'!$C$7+LEFT(N61,1)*'Criterios de Riesgo'!$C$8+LEFT(O61,1)*'Criterios de Riesgo'!$C$9),0),Calif_Impacto,2))","v":""},null,"","",{"$f":"IF(OR(Datos!A58=0,Datos!A58=\"\"),P61,IF(ISERROR(VLOOKUP(VLOOKUP(P61,VrImpacto,2,0)-ROUNDDOWN(VLOOKUP(P61,VrImpacto,2,0)*Datos!A58,0),Vr_Impacto,2,1)),\"\",VLOOKUP(VLOOKUP(P61,VrImpacto,2,0)-ROUNDDOWN(VLOOKUP(P61,VrImpacto,2,0)*Datos!A58,0),Vr_Impacto,2,1)))","v":""},{"$f":"IF(Datos!B58=0,Q61,IF(Datos!B58=\"\",Q61,IF(ISERROR(VLOOKUP(VLOOKUP(Q61,Vr_Probabilidad1,2,0)+1-ROUNDDOWN(VLOOKUP(Q61,Vr_Probabilidad1,2,0)*Datos!B58,0),Vr_Probabilidad,2,1)),\"\",VLOOKUP(VLOOKUP(Q61,Vr_Probabilidad1,2,0)-ROUNDDOWN(VLOOKUP(Q61,Vr_Probabilidad1,2,0)*Datos!B58,0),Vr_Probabilidad,2,1))))","v":0},{"$f":"Datos!C58","v":""},"","",""]
["R",null,null,null,null,null,"",null,null,null,null,null,null,null,null,{"$f":"IF(COUNTA(I62:O62)<7,\"\",VLOOKUP(ROUNDUP((LEFT(I62,1)*'Criterios de Riesgo'!$C$3+LEFT(J62,1)*'Criterios de Riesgo'!$C$4+LEFT(K62,1)*'Criterios de Riesgo'!$C$5+LEFT(L62,1)*'Criterios de Riesgo'!$C$6+LEFT(M62,1)*'Criterios de Riesgo'!$C$7+LEFT(N62,1)*'Criterios de Riesgo'!$C$8+LEFT(O62,1)*'Criterios de Riesgo'!$C$9),0),Calif_Impacto,2))","v":""},null,"","",{"$f":"IF(OR(Datos!A59=0,Datos!A59=\"\"),P62,IF(ISERROR(VLOOKUP(VLOOKUP(P62,VrImpacto,2,0)-ROUNDDOWN(VLOOKUP(P62,VrImpacto,2,0)*Datos!A59,0),Vr_Impacto,2,1)),\"\",VLOOKUP(VLOOKUP(P62,VrImpacto,2,0)-ROUNDDOWN(VLOOKUP(P62,VrImpacto,2,0)*Datos!A59,0),Vr_Impacto,2,1)))","v":""},{"$f":"IF(Datos!B59=0,Q62,IF(Datos!B59=\"\",Q62,IF(ISERROR(VLOOKUP(VLOOKUP(Q62,Vr_Probabilidad1,2,0)+1-ROUNDDOWN(VLOOKUP(Q62,Vr_Probabilidad1,2,0)*Datos!B59,0),Vr_Probabilidad,2,1)),\"\",VLOOKUP(VLOOKUP(Q62,Vr_Probabilidad1,2,0)-ROUNDDOWN(VLOOKUP(Q62,Vr_Probabilidad1,2,0)*Datos!B59,0),Vr_Probabilidad,2,1))))","v":0},{"$f":"Datos!C59","v":""},"","",""]
["R",null,null,null,null,null,"",null,null,null,null,null,null,null,null,{"$f":"IF(COUNTA(I63:O63)<7,\"\",VLOOKUP(ROUNDUP((LEFT(I63,1)*'Criterios de Riesgo'!$C$3+LEFT(J63,1)*'Criterios de Riesgo'!$C$4+LEFT(K63,1)*'Criterios de Riesgo'!$C$5+LEFT(L63,1)*'Criterios de Riesgo'!$C$6+LEFT(M63,1)*'Criterios de Riesgo'!$C$7+LEFT(N63,1)*'Criterios de Riesgo'!$C$8+LEFT(O63,1)*'Criterios de Riesgo'!$C$9),0),Calif_Impacto,2))","v":""},null,"","",{"$f":"IF(OR(Datos!A60=0,Datos!A60=\"\"),P63,IF(ISERROR(VLOOKUP(VLOOKUP(P63,VrImpacto,2,0)-ROUNDDOWN(VLOOKUP(P63,VrImpacto,2,0)*Datos!A60,0),Vr_Impacto,2,1)),\"\",VLOOKUP(VLOOKUP(P63,VrImpacto,2,0)-ROUNDDOWN(VLOOKUP(P63,VrImpacto,2,0)*Datos!A60,0),Vr_Impacto,2,1)))","v":""},{"$f":"IF(Datos!B60=0,Q63,IF(Datos!B60=\"\",Q63,IF(ISERROR(VLOOKUP(VLOOKUP(Q63,Vr_Probabilidad1,2,0)+1-ROUNDDOWN(VLOOKUP(Q63,Vr_Probabilidad1,2,0)*Datos!B60,0),Vr_Probabilidad,2,1)),\"\",VLOOKUP(VLOOKUP(Q63,Vr_Probabilidad1,2,0)-ROUNDDOWN(VLOOKUP(Q63,Vr_Probabilidad1,2,0)*Datos!B60,0),Vr_Probabilidad,2,1))))","v":0},{"$f":"Datos!C60","v":""},"","",""]
["R",null,null,null,null,null,"",null,null,null,null,null,null,null,null,{"$f":"IF(COUNTA(I64:O64)<7,\"\",VLOOKUP(ROUNDUP((LEFT(I64,1)*'Criterios de Riesgo'!$C$3+LEFT(J64,1)*'Criterios de Riesgo'!$C$4+LEFT(K64,1)*'Criterios de Riesgo'!$C$5+LEFT(L64,1)*'Criterios de Riesgo'!$C$6+LEFT(M64,1)*'Criterios de Riesgo'!$C$7+LEFT(N64,1)*'Criterios de Riesgo'!$C$8+LEFT(O64,1)*'Criterios de Riesgo'!$C$9),0),Calif_Impacto,2))","v":""},null,"","",{"$f":"IF(OR(Datos!A61=0,Datos!A61=\"\"),P64,IF(ISERROR(VLOOKUP(VLOOKUP(P64,VrImpacto,2,0)-ROUNDDOWN(VLOOKUP(P64,VrImpacto,2,0)*Datos!A61,0),Vr_Impacto,2,1)),\"\",VLOOKUP(VLOOKUP(P64,VrImpacto,2,0)-ROUNDDOWN(VLOOKUP(P64,VrImpacto,2,0)*Datos!A61,0),Vr_Impacto,2,1)))","v":""},{"$f":"IF(Datos!B61=0,Q64,IF(Datos!B61=\"\",Q64,IF(ISERROR(VLOOKUP(VLOOKUP(Q64,Vr_Probabilidad1,2,0)+1-ROUNDDOWN(VLOOKUP(Q64,Vr_Probabilidad1,2,0)*Datos!B61,0),Vr_Probabilidad,2,1)),\"\",VLOOKUP(VLOOKUP(Q64,Vr_Probabilidad1,2,0)-ROUNDDOWN(VLOOKUP(Q64,Vr_Probabilidad1,2,0)*Datos!B61,0),Vr_Probabilidad,2,1))))","v":0},{"$f":"Datos!C61","v":""},"","",""]
["R",null,null,null,null,null,"",null,null,null,null,null,null,null,null,{"$f":"IF(COUNTA(I65:O65)<7,\"\",VLOOKUP(ROUNDUP((LEFT(I65,1)*'Criterios de Riesgo'!$C$3+LEFT(J65,1)*'Criterios de Riesgo'!$C$4+LEFT(K65,1)*'Criterios de Riesgo'!$C$5+LEFT(L65,1)*'Criterios de Riesgo'!$C$6+LEFT(M65,1)*'Criterios de Riesgo'!$C$7+LEFT(N65,1)*'Criterios de Riesgo'!$C$8+LEFT(O65,1)*'Criterios de Riesgo'!$C$9),0),Calif_Impacto,2))","v":""},null,"","",{"$f":"IF(OR(Datos!A62=0,Datos!A62=\"\"),P65,IF(ISERROR(VLOOKUP(VLOOKUP(P65,VrImpacto,2,0)-ROUNDDOWN(VLOOKUP(P65,VrImpacto,2,0)*Datos!A62,0),Vr_Impacto,2,1)),\"\",VLOOKUP(VLOOKUP(P65,VrImpacto,2,0)-ROUNDDOWN(VLOOKUP(P65,VrImpacto,2,0)*Datos!A62,0),Vr_Impacto,2,1)))","v":""},{"$f":"IF(Datos!B62=0,Q65,IF(Datos!B62=\"\",Q65,IF(ISERROR(VLOOKUP(VLOOKUP(Q65,Vr_Probabilidad1,2,0)+1-ROUNDDOWN(VLOOKUP(Q65,Vr_Probabilidad1,2,0)*Datos!B62,0),Vr_Probabilidad,2,1)),\"\",VLOOKUP(VLOOKUP(Q65,Vr_Probabilidad1,2,0)-ROUNDDOWN(VLOOKUP(Q65,Vr_Probabilidad1,2,0)*Datos!B62,0),Vr_Probabilidad,2,1))))","v":0},{"$f":"Datos!C62","v":""},"","",""]
["R",null,null,null,null,null,"",null,null,null,null,null,null,null,null,{"$f":"IF(COUNTA(I66:O66)<7,\"\",VLOOKUP(ROUNDUP((LEFT(I66,1)*'Criterios de Riesgo'!$C$3+LEFT(J66,1)*'Criterios de Riesgo'!$C$4+LEFT(K66,1)*'Criterios de Riesgo'!$C$5+LEFT(L66,1)*'Criterios de Riesgo'!$C$6+LEFT(M66,1)*'Criterios de Riesgo'!$C$7+LEFT(N66,1)*'Criterios de Riesgo'!$C$8+LEFT(O66,1)*'Criterios de Riesgo'!$C$9),0),Calif_Impacto,2))","v":""},null,"","",{"$f":"IF(OR(Datos!A63=0,Datos!A63=\"\"),P66,IF(ISERROR(VLOOKUP(VLOOKUP(P66,VrImpacto,2,0)-ROUNDDOWN(VLOOKUP(P66,VrImpacto,2,0)*Datos!A63,0),Vr_Impacto,2,1)),\"\",VLOOKUP(VLOOKUP(P66,VrImpacto,2,0)-ROUNDDOWN(VLOOKUP(P66,VrImpacto,2,0)*Datos!A63,0),Vr_Impacto,2,1)))","v":""},{"$f":"IF(Datos!B63=0,Q66,IF(Datos!B63=\"\",Q66,IF(ISERROR(VLOOKUP(VLOOKUP(Q66,Vr_Probabilidad1,2,0)+1-ROUNDDOWN(VLOOKUP(Q66,Vr_Probabilidad1,2,0)*Datos!B63,0),Vr_Probabilidad,2,1)),\"\",VLOOKUP(VLOOKUP(Q66,Vr_Probabilidad1,2,0)-ROUNDDOWN(VLOOKUP(Q66,Vr_Probabilidad1,2,0)*Datos!B63,0),Vr_Probabilidad,2,1))))","v":0},{"$f":"Datos!C63","v":""},"","",""]
["R",null,null,null,null,null,"",null,null,null,null,null,null,null,null,{"$f":"IF(COUNTA(I67:O67)<7,\"\",VLOOKUP(ROUNDUP((LEFT(I67,1)*'Criterios de Riesgo'!$C$3+LEFT(J67,1)*'Criterios de Riesgo'!$C$4+LEFT(K67,1)*'Criterios de Riesgo'!$C$5+LEFT(L67,1)*'Criterios de Riesgo'!$C$6+LEFT(M67,1)*'Criterios de Riesgo'!$C$7+LEFT(N67,1)*'Criterios de Riesgo'!$C$8+LEFT(O67,1)*'Criterios de Riesgo'!$C$9),0),Calif_Impacto,2))","v":""},null,"","",{"$f":"IF(OR(Datos!A64=0,Datos!A64=\"\"),P67,IF(ISERROR(VLOOKUP(VLOOKUP(P67,VrImpacto,2,0)-ROUNDDOWN(VLOOKUP(P67,VrImpacto,2,0)*Datos!A64,0),Vr_Impacto,2,1)),\"\",VLOOKUP(VLOOKUP(P67,VrImpacto,2,0)-ROUNDDOWN(VLOOKUP(P67,VrImpacto,2,0)*Datos!A64,0),Vr_Impacto,2,1)))","v":""},{"$f":"IF(Datos!B64=0,Q67,IF(Datos!B64=\"\",Q67,IF(ISERROR(VLOOKUP(VLOOKUP(Q67,Vr_Probabilidad1,2,0)+1-ROUNDDOWN(VLOOKUP(Q67,Vr_Probabilidad1,2,0)*Datos!B64,0),Vr_Probabilidad,2,1)),\"\",VLOOKUP(VLOOKUP(Q67,Vr_Probabilidad1,2,0)-ROUNDDOWN(VLOOKUP(Q67,Vr_Probabilidad1,2,0)*Datos!B64,0),Vr_Probabilidad,2,1))))","v":0},{"$f":"Datos!C64","v":""},"","",""]
["R",null,null,null,null,null,"",null,null,null,null,null,null,null,null,{"$f":"IF(COUNTA(I68:O68)<7,\"\",VLOOKUP(ROUNDUP((LEFT(I68,1)*'Criterios de Riesgo'!$C$3+LEFT(J68,1)*'Criterios de Riesgo'!$C$4+LEFT(K68,1)*'Criterios de Riesgo'!$C$5+LEFT(L68,1)*'Criterios de Riesgo'!$C$6+LEFT(M68,1)*'Criterios de Riesgo'!$C$7+LEFT(N68,1)*'Criterios de Riesgo'!$C$8+LEFT(O68,1)*'Criterios de Riesgo'!$C$9),0),Calif_Impacto,2))","v":""},null,"","",{"$f":"IF(OR(Datos!A65=0,Datos!A65=\"\"),P68,IF(ISERROR(VLOOKUP(VLOOKUP(P68,VrImpacto,2,0)-ROUNDDOWN(VLOOKUP(P68,VrImpacto,2,0)*Datos!A65,0),Vr_Impacto,2,1)),\"\",VLOOKUP(VLOOKUP(P68,VrImpacto,2,0)-ROUNDDOWN(VLOOKUP(P68,VrImpacto,2,0)*Datos!A65,0),Vr_Impacto,2,1)))","v":""},{"$f":"IF(Datos!B65=0,Q68,IF(Datos!B65=\"\",Q68,IF(ISERROR(VLOOKUP(VLOOKUP(Q68,Vr_Probabilidad1,2,0)+1-ROUNDDOWN(VLOOKUP(Q68,Vr_Probabilidad1,2,0)*Datos!B65,0),Vr_Probabilidad,2,1)),\"\",VLOOKUP(VLOOKUP(Q68,Vr_Probabilidad1,2,0)-ROUNDDOWN(VLOOKUP(Q68,Vr_Probabilidad1,2,0)*Datos!B65,0),Vr_Probabilidad,2,1))))","v":0},{"$f":"Datos!C65","v":""},"","",""]
["R",null,null,null,null,null,"",null,null,null,null,null,null,null,null,{"$f":"IF(COUNTA(I69:O69)<7,\"\",VLOOKUP(ROUNDUP((LEFT(I69,1)*'Criterios de Riesgo'!$C$3+LEFT(J69,1)*'Criterios de Riesgo'!$C$4+LEFT(K69,1)*'Criterios de Riesgo'!$C$5+LEFT(L69,1)*'Criterios de Riesgo'!$C$6+LEFT(M69,1)*'Criterios de Riesgo'!$C$7+LEFT(N69,1)*'Criterios de Riesgo'!$C$8+LEFT(O69,1)*'Criterios de Riesgo'!$C$9),0),Calif_Impacto,2))","v":""},null,"","",{"$f":"IF(OR(Datos!A66=0,Datos!A66=\"\"),P69,IF(ISERROR(VLOOKUP(VLOOKUP(P69,VrImpacto,2,0)-ROUNDDOWN(VLOOKUP(P69,VrImpacto,2,0)*Datos!A66,0),Vr_Impacto,2,1)),\"\",VLOOKUP(VLOOKUP(P69,VrImpacto,2,0)-ROUNDDOWN(VLOOKUP(P69,VrImpacto,2,0)*Datos!A66,0),Vr_Impacto,2,1)))","v":""},{"$f":"IF(Datos!B66=0,Q69,IF(Datos!B66=\"\",Q69,IF(ISERROR(VLOOKUP(VLOOKUP(Q69,Vr_Probabilidad1,2,0)+1-ROUNDDOWN(VLOOKUP(Q69,Vr_Probabilidad1,2,0)*Datos!B66,0),Vr_Probabilidad,2,1)),\"\",VLOOKUP(VLOOKUP(Q69,Vr_Probabilidad1,2,0)-ROUNDDOWN(VLOOKUP(Q69,Vr_Probabilidad1,2,0)*Datos!B66,0),Vr_Probabilidad,2,1))))","v":0},{"$f":"Datos!C66","v":""},"","",""]
["R",null,null,null,null,null,"",null,null,null,null,null,null,null,null,{"$f":"IF(COUNTA(I70:O70)<7,\"\",VLOOKUP(ROUNDUP((LEFT(I70,1)*'Criterios de Riesgo'!$C$3+LEFT(J70,1)*'Criterios de Riesgo'!$C$4+LEFT(K70,1)*'Criterios de Riesgo'!$C$5+LEFT(L70,1)*'Criterios de Riesgo'!$C$6+LEFT(M70,1)*'Criterios de Riesgo'!$C$7+LEFT(N70,1)*'Criterios de Riesgo'!$C$8+LEFT(O70,1)*'Criterios de Riesgo'!$C$9),0),Calif_Impacto,2))","v":""},null,"","",{"$f":"IF(OR(Datos!A67=0,Datos!A67=\"\"),P70,IF(ISERROR(VLOOKUP(VLOOKUP(P70,VrImpacto,2,0)-ROUNDDOWN(VLOOKUP(P70,VrImpacto,2,0)*Datos!A67,0),Vr_Impacto,2,1)),\"\",VLOOKUP(VLOOKUP(P70,VrImpacto,2,0)-ROUNDDOWN(VLOOKUP(P70,VrImpacto,2,0)*Datos!A67,0),Vr_Impacto,2,1)))","v":""},{"$f":"IF(Datos!B67=0,Q70,IF(Datos!B67=\"\",Q70,IF(ISERROR(VLOOKUP(VLOOKUP(Q70,Vr_Probabilidad1,2,0)+1-ROUNDDOWN(VLOOKUP(Q70,Vr_Probabilidad1,2,0)*Datos!B67,0),Vr_Probabilidad,2,1)),\"\",VLOOKUP(VLOOKUP(Q70,Vr_Probabilidad1,2,0)-ROUNDDOWN(VLOOKUP(Q70,Vr_Probabilidad1,2,0)*Datos!B67,0),Vr_Probabilidad,2,1))))","v":0},{"$f":"Datos!C67","v":""},"","",""]
["R",null,null,null,null,null,"",null,null,null,null,null,null,null,null,{"$f":"IF(COUNTA(I71:O71)<7,\"\",VLOOKUP(ROUNDUP((LEFT(I71,1)*'Criterios de Riesgo'!$C$3+LEFT(J71,1)*'Criterios de Riesgo'!$C$4+LEFT(K71,1)*'Criterios de Riesgo'!$C$5+LEFT(L71,1)*'Criterios de Riesgo'!$C$6+LEFT(M71,1)*'Criterios de Riesgo'!$C$7+LEFT(N71,1)*'Criterios de Riesgo'!$C$8+LEFT(O71,1)*'Criterios de Riesgo'!$C$9),0),Calif_Impacto,2))","v":""},null,"","",{"$f":"IF(OR(Datos!A68=0,Datos!A68=\"\"),P71,IF(ISERROR(VLOOKUP(VLOOKUP(P71,VrImpacto,2,0)-ROUNDDOWN(VLOOKUP(P71,VrImpacto,2,0)*Datos!A68,0),Vr_Impacto,2,1)),\"\",VLOOKUP(VLOOKUP(P71,VrImpacto,2,0)-ROUNDDOWN(VLOOKUP(P71,VrImpacto,2,0)*Datos!A68,0),Vr_Impacto,2,1)))","v":""},{"$f":"IF(Datos!B68=0,Q71,IF(Datos!B68=\"\",Q71,IF(ISERROR(VLOOKUP(VLOOKUP(Q71,Vr_Probabilidad1,2,0)+1-ROUNDDOWN(VLOOKUP(Q71,Vr_Probabilidad1,2,0)*Datos!B68,0),Vr_Probabilidad,2,1)),\"\",VLOOKUP(VLOOKUP(Q71,Vr_Probabilidad1,2,0)-ROUNDDOWN(VLOOKUP(Q71,Vr_Probabilidad1,2,0)*Datos!B68,0),Vr_Probabilidad,2,1))))","v":0},{"$f":"Datos!C68","v":""},"","",""]
["R",null,null,null,null,null,"",null,null,null,null,null,null,null,null,{"$f":"IF(COUNTA(I72:O72)<7,\"\",VLOOKUP(ROUNDUP((LEFT(I72,1)*'Criterios de Riesgo'!$C$3+LEFT(J72,1)*'Criterios de Riesgo'!$C$4+LEFT(K72,1)*'Criterios de Riesgo'!$C$5+LEFT(L72,1)*'Criterios de Riesgo'!$C$6+LEFT(M72,1)*'Criterios de Riesgo'!$C$7+LEFT(N72,1)*'Criterios de Riesgo'!$C$8+LEFT(O72,1)*'Criterios de Riesgo'!$C$9),0),Calif_Impacto,2))","v":""},null,"","",{"$f":"IF(OR(Datos!A69=0,Datos!A69=\"\"),P72,IF(ISERROR(VLOOKUP(VLOOKUP(P72,VrImpacto,2,0)-ROUNDDOWN(VLOOKUP(P72,VrImpacto,2,0)*Datos!A69,0),Vr_Impacto,2,1)),\"\",VLOOKUP(VLOOKUP(P72,VrImpacto,2,0)-ROUNDDOWN(VLOOKUP(P72,VrImpacto,2,0)*Datos!A69,0),Vr_Impacto,2,1)))","v":""},{"$f":"IF(Datos!B69=0,Q72,IF(Datos!B69=\"\",Q72,IF(ISERROR(VLOOKUP(VLOOKUP(Q72,Vr_Probabilidad1,2,0)+1-ROUNDDOWN(VLOOKUP(Q72,Vr_Probabilidad1,2,0)*Datos!B69,0),Vr_Probabilidad,2,1)),\"\",VLOOKUP(VLOOKUP(Q72,Vr_Probabilidad1,2,0)-ROUNDDOWN(VLOOKUP(Q72,Vr_Probabilidad1,2,0)*Datos!B69,0),Vr_Probabilidad,2,1))))","v":0},{"$f":"Datos!C69","v":""},"","",""]
["R",null,null,null,null,null,"",null,null,null,null,null,null,null,null,{"$f":"IF(COUNTA(I73:O73)<7,\"\",VLOOKUP(ROUNDUP((LEFT(I73,1)*'Criterios de Riesgo'!$C$3+LEFT(J73,1)*'Criterios de Riesgo'!$C$4+LEFT(K73,1)*'Criterios de Riesgo'!$C$5+LEFT(L73,1)*'Criterios de Riesgo'!$C$6+LEFT(M73,1)*'Criterios de Riesgo'!$C$7+LEFT(N73,1)*'Criterios de Riesgo'!$C$8+LEFT(O73,1)*'Criterios de Riesgo'!$C$9),0),Calif_Impacto,2))","v":""},null,"","",{"$f":"IF(OR(Datos!A70=0,Datos!A70=\"\"),P73,IF(ISERROR(VLOOKUP(VLOOKUP(P73,VrImpacto,2,0)-ROUNDDOWN(VLOOKUP(P73,VrImpacto,2,0)*Datos!A70,0),Vr_Impacto,2,1)),\"\",VLOOKUP(VLOOKUP(P73,VrImpacto,2,0)-ROUNDDOWN(VLOOKUP(P73,VrImpacto,2,0)*Datos!A70,0),Vr_Impacto,2,1)))","v":""},{"$f":"IF(Datos!B70=0,Q73,IF(Datos!B70=\"\",Q73,IF(ISERROR(VLOOKUP(VLOOKUP(Q73,Vr_Probabilidad1,2,0)+1-ROUNDDOWN(VLOOKUP(Q73,Vr_Probabilidad1,2,0)*Datos!B70,0),Vr_Probabilidad,2,1)),\"\",VLOOKUP(VLOOKUP(Q73,Vr_Probabilidad1,2,0)-ROUNDDOWN(VLOOKUP(Q73,Vr_Probabilidad1,2,0)*Datos!B70,0),Vr_Probabilidad,2,1))))","v":0},{"$f":"Datos!C70","v":""},"","",""]
["R",null,null,null,null,null,"",null,null,null,null,null,null,null,null,{"$f":"IF(COUNTA(I74:O74)<7,\"\",VLOOKUP(ROUNDUP((LEFT(I74,1)*'Criterios de Riesgo'!$C$3+LEFT(J74,1)*'Criterios de Riesgo'!$C$4+LEFT(K74,1)*'Criterios de Riesgo'!$C$5+LEFT(L74,1)*'Criterios de Riesgo'!$C$6+LEFT(M74,1)*'Criterios de Riesgo'!$C$7+LEFT(N74,1)*'Criterios de Riesgo'!$C$8+LEFT(O74,1)*'Criterios de Riesgo'!$C$9),0),Calif_Impacto,2))","v":""},null,"","",{"$f":"IF(OR(Datos!A71=0,Datos!A71=\"\"),P74,IF(ISERROR(VLOOKUP(VLOOKUP(P74,VrImpacto,2,0)-ROUNDDOWN(VLOOKUP(P74,VrImpacto,2,0)*Datos!A71,0),Vr_Impacto,2,1)),\"\",VLOOKUP(VLOOKUP(P74,VrImpacto,2,0)-ROUNDDOWN(VLOOKUP(P74,VrImpacto,2,0)*Datos!A71,0),Vr_Impacto,2,1)))","v":""},{"$f":"IF(Datos!B71=0,Q74,IF(Datos!B71=\"\",Q74,IF(ISERROR(VLOOKUP(VLOOKUP(Q74,Vr_Probabilidad1,2,0)+1-ROUNDDOWN(VLOOKUP(Q74,Vr_Probabilidad1,2,0)*Datos!B71,0),Vr_Probabilidad,2,1)),\"\",VLOOKUP(VLOOKUP(Q74,Vr_Probabilidad1,2,0)-ROUNDDOWN(VLOOKUP(Q74,Vr_Probabilidad1,2,0)*Datos!B71,0),Vr_Probabilidad,2,1))))","v":0},{"$f":"Datos!C71","v":0},"","",""]
["R",null,null,null,null,null,"",null,null,null,null,null,null,null,null,{"$f":"IF(COUNTA(I75:O75)<7,\"\",VLOOKUP(ROUNDUP((LEFT(I75,1)*'Criterios de Riesgo'!$C$3+LEFT(J75,1)*'Criterios de Riesgo'!$C$4+LEFT(K75,1)*'Criterios de Riesgo'!$C$5+LEFT(L75,1)*'Criterios de Riesgo'!$C$6+LEFT(M75,1)*'Criterios de Riesgo'!$C$7+LEFT(N75,1)*'Criterios de Riesgo'!$C$8+LEFT(O75,1)*'Criterios de Riesgo'!$C$9),0),Calif_Impacto,2))","v":""},null,"","",{"$f":"IF(OR(Datos!A72=0,Datos!A72=\"\"),P75,IF(ISERROR(VLOOKUP(VLOOKUP(P75,VrImpacto,2,0)-ROUNDDOWN(VLOOKUP(P75,VrImpacto,2,0)*Datos!A72,0),Vr_Impacto,2,1)),\"\",VLOOKUP(VLOOKUP(P75,VrImpacto,2,0)-ROUNDDOWN(VLOOKUP(P75,VrImpacto,2,0)*Datos!A72,0),Vr_Impacto,2,1)))","v":""},{"$f":"IF(Datos!B72=0,Q75,IF(Datos!B72=\"\",Q75,IF(ISERROR(VLOOKUP(VLOOKUP(Q75,Vr_Probabilidad1,2,0)+1-ROUNDDOWN(VLOOKUP(Q75,Vr_Probabilidad1,2,0)*Datos!B72,0),Vr_Probabilidad,2,1)),\"\",VLOOKUP(VLOOKUP(Q75,Vr_Probabilidad1,2,0)-ROUNDDOWN(VLOOKUP(Q75,Vr_Probabilidad1,2,0)*Datos!B72,0),Vr_Probabilidad,2,1))))","v":0},{"$f":"Datos!C72","v":0},"","",""]
["R",null,null,null,null,null,"",null,null,null,null,null,null,null,null,{"$f":"IF(COUNTA(I76:O76)<7,\"\",VLOOKUP(ROUNDUP((LEFT(I76,1)*'Criterios de Riesgo'!$C$3+LEFT(J76,1)*'Criterios de Riesgo'!$C$4+LEFT(K76,1)*'Criterios de Riesgo'!$C$5+LEFT(L76,1)*'Criterios de Riesgo'!$C$6+LEFT(M76,1)*'Criterios de Riesgo'!$C$7+LEFT(N76,1)*'Criterios de Riesgo'!$C$8+LEFT(O76,1)*'Criterios de Riesgo'!$C$9),0),Calif_Impacto,2))","v":""},null,"","",{"$f":"IF(OR(Datos!A73=0,Datos!A73=\"\"),P76,IF(ISERROR(VLOOKUP(VLOOKUP(P76,VrImpacto,2,0)-ROUNDDOWN(VLOOKUP(P76,VrImpacto,2,0)*Datos!A73,0),Vr_Impacto,2,1)),\"\",VLOOKUP(VLOOKUP(P76,VrImpacto,2,0)-ROUNDDOWN(VLOOKUP(P76,VrImpacto,2,0)*Datos!A73,0),Vr_Impacto,2,1)))","v":""},{"$f":"IF(Datos!B73=0,Q76,IF(Datos!B73=\"\",Q76,IF(ISERROR(VLOOKUP(VLOOKUP(Q76,Vr_Probabilidad1,2,0)+1-ROUNDDOWN(VLOOKUP(Q76,Vr_Probabilidad1,2,0)*Datos!B73,0),Vr_Probabilidad,2,1)),\"\",VLOOKUP(VLOOKUP(Q76,Vr_Probabilidad1,2,0)-ROUNDDOWN(VLOOKUP(Q76,Vr_Probabilidad1,2,0)*Datos!B73,0),Vr_Probabilidad,2,1))))","v":0},{"$f":"Datos!C73","v":0},"","",""]
["R",null,null,null,null,null,"",null,null,null,null,null,null,null,null,{"$f":"IF(COUNTA(I77:O77)<7,\"\",VLOOKUP(ROUNDUP((LEFT(I77,1)*'Criterios de Riesgo'!$C$3+LEFT(J77,1)*'Criterios de Riesgo'!$C$4+LEFT(K77,1)*'Criterios de Riesgo'!$C$5+LEFT(L77,1)*'Criterios de Riesgo'!$C$6+LEFT(M77,1)*'Criterios de Riesgo'!$C$7+LEFT(N77,1)*'Criterios de Riesgo'!$C$8+LEFT(O77,1)*'Criterios de Riesgo'!$C$9),0),Calif_Impacto,2))","v":""},null,"","",{"$f":"IF(OR(Datos!A74=0,Datos!A74=\"\"),P77,IF(ISERROR(VLOOKUP(VLOOKUP(P77,VrImpacto,2,0)-ROUNDDOWN(VLOOKUP(P77,VrImpacto,2,0)*Datos!A74,0),Vr_Impacto,2,1)),\"\",VLOOKUP(VLOOKUP(P77,VrImpacto,2,0)-ROUNDDOWN(VLOOKUP(P77,VrImpacto,2,0)*Datos!A74,0),Vr_Impacto,2,1)))","v":""},{"$f":"IF(Datos!B74=0,Q77,IF(Datos!B74=\"\",Q77,IF(ISERROR(VLOOKUP(VLOOKUP(Q77,Vr_Probabilidad1,2,0)+1-ROUNDDOWN(VLOOKUP(Q77,Vr_Probabilidad1,2,0)*Datos!B74,0),Vr_Probabilidad,2,1)),\"\",VLOOKUP(VLOOKUP(Q77,Vr_Probabilidad1,2,0)-ROUNDDOWN(VLOOKUP(Q77,Vr_Probabilidad1,2,0)*Datos!B74,0),Vr_Probabilidad,2,1))))","v":0},{"$f":"Datos!C74","v":0},"","",""]
["R",null,null,null,null,null,"",null,null,null,null,null,null,null,null,{"$f":"IF(COUNTA(I78:O78)<7,\"\",VLOOKUP(ROUNDUP((LEFT(I78,1)*'Criterios de Riesgo'!$C$3+LEFT(J78,1)*'Criterios de Riesgo'!$C$4+LEFT(K78,1)*'Criterios de Riesgo'!$C$5+LEFT(L78,1)*'Criterios de Riesgo'!$C$6+LEFT(M78,1)*'Criterios de Riesgo'!$C$7+LEFT(N78,1)*'Criterios de Riesgo'!$C$8+LEFT(O78,1)*'Criterios de Riesgo'!$C$9),0),Calif_Impacto,2))","v":""},null,"","",{"$f":"IF(OR(Datos!A75=0,Datos!A75=\"\"),P78,IF(ISERROR(VLOOKUP(VLOOKUP(P78,VrImpacto,2,0)-ROUNDDOWN(VLOOKUP(P78,VrImpacto,2,0)*Datos!A75,0),Vr_Impacto,2,1)),\"\",VLOOKUP(VLOOKUP(P78,VrImpacto,2,0)-ROUNDDOWN(VLOOKUP(P78,VrImpacto,2,0)*Datos!A75,0),Vr_Impacto,2,1)))","v":""},{"$f":"IF(Datos!B75=0,Q78,IF(Datos!B75=\"\",Q78,IF(ISERROR(VLOOKUP(VLOOKUP(Q78,Vr_Probabilidad1,2,0)+1-ROUNDDOWN(VLOOKUP(Q78,Vr_Probabilidad1,2,0)*Datos!B75,0),Vr_Probabilidad,2,1)),\"\",VLOOKUP(VLOOKUP(Q78,Vr_Probabilidad1,2,0)-ROUNDDOWN(VLOOKUP(Q78,Vr_Probabilidad1,2,0)*Datos!B75,0),Vr_Probabilidad,2,1))))","v":0},{"$f":"Datos!C75","v":0},"","",""]
["R",null,null,null,null,null,"",null,null,null,null,null,null,null,null,{"$f":"IF(COUNTA(I79:O79)<7,\"\",VLOOKUP(ROUNDUP((LEFT(I79,1)*'Criterios de Riesgo'!$C$3+LEFT(J79,1)*'Criterios de Riesgo'!$C$4+LEFT(K79,1)*'Criterios de Riesgo'!$C$5+LEFT(L79,1)*'Criterios de Riesgo'!$C$6+LEFT(M79,1)*'Criterios de Riesgo'!$C$7+LEFT(N79,1)*'Criterios de Riesgo'!$C$8+LEFT(O79,1)*'Criterios de Riesgo'!$C$9),0),Calif_Impacto,2))","v":""},null,"","",{"$f":"IF(OR(Datos!A76=0,Datos!A76=\"\"),P79,IF(ISERROR(VLOOKUP(VLOOKUP(P79,VrImpacto,2,0)-ROUNDDOWN(VLOOKUP(P79,VrImpacto,2,0)*Datos!A76,0),Vr_Impacto,2,1)),\"\",VLOOKUP(VLOOKUP(P79,VrImpacto,2,0)-ROUNDDOWN(VLOOKUP(P79,VrImpacto,2,0)*Datos!A76,0),Vr_Impacto,2,1)))","v":""},{"$f":"IF(Datos!B76=0,Q79,IF(Datos!B76=\"\",Q79,IF(ISERROR(VLOOKUP(VLOOKUP(Q79,Vr_Probabilidad1,2,0)+1-ROUNDDOWN(VLOOKUP(Q79,Vr_Probabilidad1,2,0)*Datos!B76,0),Vr_Probabilidad,2,1)),\"\",VLOOKUP(VLOOKUP(Q79,Vr_Probabilidad1,2,0)-ROUNDDOWN(VLOOKUP(Q79,Vr_Probabilidad1,2,0)*Datos!B76,0),Vr_Probabilidad,2,1))))","v":0},{"$f":"Datos!C76","v":0},"","",""]
["R",null,null,null,null,null,"",null,null,null,null,null,null,null,null,{"$f":"IF(COUNTA(I80:O80)<7,\"\",VLOOKUP(ROUNDUP((LEFT(I80,1)*'Criterios de Riesgo'!$C$3+LEFT(J80,1)*'Criterios de Riesgo'!$C$4+LEFT(K80,1)*'Criterios de Riesgo'!$C$5+LEFT(L80,1)*'Criterios de Riesgo'!$C$6+LEFT(M80,1)*'Criterios de Riesgo'!$C$7+LEFT(N80,1)*'Criterios de Riesgo'!$C$8+LEFT(O80,1)*'Criterios de Riesgo'!$C$9),0),Calif_Impacto,2))","v":""},null,"","",{"$f":"IF(OR(Datos!A77=0,Datos!A77=\"\"),P80,IF(ISERROR(VLOOKUP(VLOOKUP(P80,VrImpacto,2,0)-ROUNDDOWN(VLOOKUP(P80,VrImpacto,2,0)*Datos!A77,0),Vr_Impacto,2,1)),\"\",VLOOKUP(VLOOKUP(P80,VrImpacto,2,0)-ROUNDDOWN(VLOOKUP(P80,VrImpacto,2,0)*Datos!A77,0),Vr_Impacto,2,1)))","v":""},{"$f":"IF(Datos!B77=0,Q80,IF(Datos!B77=\"\",Q80,IF(ISERROR(VLOOKUP(VLOOKUP(Q80,Vr_Probabilidad1,2,0)+1-ROUNDDOWN(VLOOKUP(Q80,Vr_Probabilidad1,2,0)*Datos!B77,0),Vr_Probabilidad,2,1)),\"\",VLOOKUP(VLOOKUP(Q80,Vr_Probabilidad1,2,0)-ROUNDDOWN(VLOOKUP(Q80,Vr_Probabilidad1,2,0)*Datos!B77,0),Vr_Probabilidad,2,1))))","v":0},{"$f":"Datos!C77","v":0},"","",""]
["R",null,null,null,null,null,"",null,null,null,null,null,null,null,null,{"$f":"IF(COUNTA(I81:O81)<7,\"\",VLOOKUP(ROUNDUP((LEFT(I81,1)*'Criterios de Riesgo'!$C$3+LEFT(J81,1)*'Criterios de Riesgo'!$C$4+LEFT(K81,1)*'Criterios de Riesgo'!$C$5+LEFT(L81,1)*'Criterios de Riesgo'!$C$6+LEFT(M81,1)*'Criterios de Riesgo'!$C$7+LEFT(N81,1)*'Criterios de Riesgo'!$C$8+LEFT(O81,1)*'Criterios de Riesgo'!$C$9),0),Calif_Impacto,2))","v":""},null,"","",{"$f":"IF(OR(Datos!A78=0,Datos!A78=\"\"),P81,IF(ISERROR(VLOOKUP(VLOOKUP(P81,VrImpacto,2,0)-ROUNDDOWN(VLOOKUP(P81,VrImpacto,2,0)*Datos!A78,0),Vr_Impacto,2,1)),\"\",VLOOKUP(VLOOKUP(P81,VrImpacto,2,0)-ROUNDDOWN(VLOOKUP(P81,VrImpacto,2,0)*Datos!A78,0),Vr_Impacto,2,1)))","v":""},{"$f":"IF(Datos!B78=0,Q81,IF(Datos!B78=\"\",Q81,IF(ISERROR(VLOOKUP(VLOOKUP(Q81,Vr_Probabilidad1,2,0)+1-ROUNDDOWN(VLOOKUP(Q81,Vr_Probabilidad1,2,0)*Datos!B78,0),Vr_Probabilidad,2,1)),\"\",VLOOKUP(VLOOKUP(Q81,Vr_Probabilidad1,2,0)-ROUNDDOWN(VLOOKUP(Q81,Vr_Probabilidad1,2,0)*Datos!B78,0),Vr_Probabilidad,2,1))))","v":0},{"$f":"Datos!C78","v":0},"","",""]
["R",null,null,null,null,null,"",null,null,null,null,null,null,null,null,{"$f":"IF(COUNTA(I82:O82)<7,\"\",VLOOKUP(ROUNDUP((LEFT(I82,1)*'Criterios de Riesgo'!$C$3+LEFT(J82,1)*'Criterios de Riesgo'!$C$4+LEFT(K82,1)*'Criterios de Riesgo'!$C$5+LEFT(L82,1)*'Criterios de Riesgo'!$C$6+LEFT(M82,1)*'Criterios de Riesgo'!$C$7+LEFT(N82,1)*'Criterios de Riesgo'!$C$8+LEFT(O82,1)*'Criterios de Riesgo'!$C$9),0),Calif_Impacto,2))","v":""},null,"","",{"$f":"IF(OR(Datos!A79=0,Datos!A79=\"\"),P82,IF(ISERROR(VLOOKUP(VLOOKUP(P82,VrImpacto,2,0)-ROUNDDOWN(VLOOKUP(P82,VrImpacto,2,0)*Datos!A79,0),Vr_Impacto,2,1)),\"\",VLOOKUP(VLOOKUP(P82,VrImpacto,2,0)-ROUNDDOWN(VLOOKUP(P82,VrImpacto,2,0)*Datos!A79,0),Vr_Impacto,2,1)))","v":""},{"$f":"IF(Datos!B79=0,Q82,IF(Datos!B79=\"\",Q82,IF(ISERROR(VLOOKUP(VLOOKUP(Q82,Vr_Probabilidad1,2,0)+1-ROUNDDOWN(VLOOKUP(Q82,Vr_Probabilidad1,2,0)*Datos!B79,0),Vr_Probabilidad,2,1)),\"\",VLOOKUP(VLOOKUP(Q82,Vr_Probabilidad1,2,0)-ROUNDDOWN(VLOOKUP(Q82,Vr_Probabilidad1,2,0)*Datos!B79,0),Vr_Probabilidad,2,1))))","v":0},{"$f":"Datos!C79","v":0},"","",""]
["R",null,null,null,null,null,"",null,null,null,null,null,null,null,null,{"$f":"IF(COUNTA(I83:O83)<7,\"\",VLOOKUP(ROUNDUP((LEFT(I83,1)*'Criterios de Riesgo'!$C$3+LEFT(J83,1)*'Criterios de Riesgo'!$C$4+LEFT(K83,1)*'Criterios de Riesgo'!$C$5+LEFT(L83,1)*'Criterios de Riesgo'!$C$6+LEFT(M83,1)*'Criterios de Riesgo'!$C$7+LEFT(N83,1)*'Criterios de Riesgo'!$C$8+LEFT(O83,1)*'Criterios de Riesgo'!$C$9),0),Calif_Impacto,2))","v":""},null,"","",{"$f":"IF(OR(Datos!A80=0,Datos!A80=\"\"),P83,IF(ISERROR(VLOOKUP(VLOOKUP(P83,VrImpacto,2,0)-ROUNDDOWN(VLOOKUP(P83,VrImpacto,2,0)*Datos!A80,0),Vr_Impacto,2,1)),\"\",VLOOKUP(VLOOKUP(P83,VrImpacto,2,0)-ROUNDDOWN(VLOOKUP(P83,VrImpacto,2,0)*Datos!A80,0),Vr_Impacto,2,1)))","v":""},{"$f":"IF(Datos!B80=0,Q83,IF(Datos!B80=\"\",Q83,IF(ISERROR(VLOOKUP(VLOOKUP(Q83,Vr_Probabilidad1,2,0)+1-ROUNDDOWN(VLOOKUP(Q83,Vr_Probabilidad1,2,0)*Datos!B80,0),Vr_Probabilidad,2,1)),\"\",VLOOKUP(VLOOKUP(Q83,Vr_Probabilidad1,2,0)-ROUNDDOWN(VLOOKUP(Q83,Vr_Probabilidad1,2,0)*Datos!B80,0),Vr_Probabilidad,2,1))))","v":0},{"$f":"Datos!C80","v":0},"","",""]
["R",null,null,null,null,null,"",null,null,null,null,null,null,null,null,{"$f":"IF(COUNTA(I84:O84)<7,\"\",VLOOKUP(ROUNDUP((LEFT(I84,1)*'Criterios de Riesgo'!$C$3+LEFT(J84,1)*'Criterios de Riesgo'!$C$4+LEFT(K84,1)*'Criterios de Riesgo'!$C$5+LEFT(L84,1)*'Criterios de Riesgo'!$C$6+LEFT(M84,1)*'Criterios de Riesgo'!$C$7+LEFT(N84,1)*'Criterios de Riesgo'!$C$8+LEFT(O84,1)*'Criterios de Riesgo'!$C$9),0),Calif_Impacto,2))","v":""},null,"","",{"$f":"IF(OR(Datos!A81=0,Datos!A81=\"\"),P84,IF(ISERROR(VLOOKUP(VLOOKUP(P84,VrImpacto,2,0)-ROUNDDOWN(VLOOKUP(P84,VrImpacto,2,0)*Datos!A81,0),Vr_Impacto,2,1)),\"\",VLOOKUP(VLOOKUP(P84,VrImpacto,2,0)-ROUNDDOWN(VLOOKUP(P84,VrImpacto,2,0)*Datos!A81,0),Vr_Impacto,2,1)))","v":""},{"$f":"IF(Datos!B81=0,Q84,IF(Datos!B81=\"\",Q84,IF(ISERROR(VLOOKUP(VLOOKUP(Q84,Vr_Probabilidad1,2,0)+1-ROUNDDOWN(VLOOKUP(Q84,Vr_Probabilidad1,2,0)*Datos!B81,0),Vr_Probabilidad,2,1)),\"\",VLOOKUP(VLOOKUP(Q84,Vr_Probabilidad1,2,0)-ROUNDDOWN(VLOOKUP(Q84,Vr_Probabilidad1,2,0)*Datos!B81,0),Vr_Probabilidad,2,1))))","v":0},{"$f":"Datos!C81","v":0},"","",""]
["R",null,null,null,null,null,"",null,null,null,null,null,null,null,null,{"$f":"IF(COUNTA(I85:O85)<7,\"\",VLOOKUP(ROUNDUP((LEFT(I85,1)*'Criterios de Riesgo'!$C$3+LEFT(J85,1)*'Criterios de Riesgo'!$C$4+LEFT(K85,1)*'Criterios de Riesgo'!$C$5+LEFT(L85,1)*'Criterios de Riesgo'!$C$6+LEFT(M85,1)*'Criterios de Riesgo'!$C$7+LEFT(N85,1)*'Criterios de Riesgo'!$C$8+LEFT(O85,1)*'Criterios de Riesgo'!$C$9),0),Calif_Impacto,2))","v":""},null,"","",{"$f":"IF(OR(Datos!A82=0,Datos!A82=\"\"),P85,IF(ISERROR(VLOOKUP(VLOOKUP(P85,VrImpacto,2,0)-ROUNDDOWN(VLOOKUP(P85,VrImpacto,2,0)*Datos!A82,0),Vr_Impacto,2,1)),\"\",VLOOKUP(VLOOKUP(P85,VrImpacto,2,0)-ROUNDDOWN(VLOOKUP(P85,VrImpacto,2,0)*Datos!A82,0),Vr_Impacto,2,1)))","v":""},{"$f":"IF(Datos!B82=0,Q85,IF(Datos!B82=\"\",Q85,IF(ISERROR(VLOOKUP(VLOOKUP(Q85,Vr_Probabilidad1,2,0)+1-ROUNDDOWN(VLOOKUP(Q85,Vr_Probabilidad1,2,0)*Datos!B82,0),Vr_Probabilidad,2,1)),\"\",VLOOKUP(VLOOKUP(Q85,Vr_Probabilidad1,2,0)-ROUNDDOWN(VLOOKUP(Q85,Vr_Probabilidad1,2,0)*Datos!B82,0),Vr_Probabilidad,2,1))))","v":0},{"$f":"Datos!C82","v":0},"","",""]
["R",null,null,null,null,null,"",null,null,null,null,null,null,null,null,{"$f":"IF(COUNTA(I86:O86)<7,\"\",VLOOKUP(ROUNDUP((LEFT(I86,1)*'Criterios de Riesgo'!$C$3+LEFT(J86,1)*'Criterios de Riesgo'!$C$4+LEFT(K86,1)*'Criterios de Riesgo'!$C$5+LEFT(L86,1)*'Criterios de Riesgo'!$C$6+LEFT(M86,1)*'Criterios de Riesgo'!$C$7+LEFT(N86,1)*'Criterios de Riesgo'!$C$8+LEFT(O86,1)*'Criterios de Riesgo'!$C$9),0),Calif_Impacto,2))","v":""},null,"","",{"$f":"IF(OR(Datos!A83=0,Datos!A83=\"\"),P86,IF(ISERROR(VLOOKUP(VLOOKUP(P86,VrImpacto,2,0)-ROUNDDOWN(VLOOKUP(P86,VrImpacto,2,0)*Datos!A83,0),Vr_Impacto,2,1)),\"\",VLOOKUP(VLOOKUP(P86,VrImpacto,2,0)-ROUNDDOWN(VLOOKUP(P86,VrImpacto,2,0)*Datos!A83,0),Vr_Impacto,2,1)))","v":""},{"$f":"IF(Datos!B83=0,Q86,IF(Datos!B83=\"\",Q86,IF(ISERROR(VLOOKUP(VLOOKUP(Q86,Vr_Probabilidad1,2,0)+1-ROUNDDOWN(VLOOKUP(Q86,Vr_Probabilidad1,2,0)*Datos!B83,0),Vr_Probabilidad,2,1)),\"\",VLOOKUP(VLOOKUP(Q86,Vr_Probabilidad1,2,0)-ROUNDDOWN(VLOOKUP(Q86,Vr_Probabilidad1,2,0)*Datos!B83,0),Vr_Probabilidad,2,1))))","v":0},{"$f":"Datos!C83","v":0},"","",""]
["R",null,null,null,null,null,"",null,null,null,null,null,null,null,null,{"$f":"IF(COUNTA(I87:O87)<7,\"\",VLOOKUP(ROUNDUP((LEFT(I87,1)*'Criterios de Riesgo'!$C$3+LEFT(J87,1)*'Criterios de Riesgo'!$C$4+LEFT(K87,1)*'Criterios de Riesgo'!$C$5+LEFT(L87,1)*'Criterios de Riesgo'!$C$6+LEFT(M87,1)*'Criterios de Riesgo'!$C$7+LEFT(N87,1)*'Criterios de Riesgo'!$C$8+LEFT(O87,1)*'Criterios de Riesgo'!$C$9),0),Calif_Impacto,2))","v":""},null,"","",{"$f":"IF(OR(Datos!A84=0,Datos!A84=\"\"),P87,IF(ISERROR(VLOOKUP(VLOOKUP(P87,VrImpacto,2,0)-ROUNDDOWN(VLOOKUP(P87,VrImpacto,2,0)*Datos!A84,0),Vr_Impacto,2,1)),\"\",VLOOKUP(VLOOKUP(P87,VrImpacto,2,0)-ROUNDDOWN(VLOOKUP(P87,VrImpacto,2,0)*Datos!A84,0),Vr_Impacto,2,1)))","v":""},{"$f":"IF(Datos!B84=0,Q87,IF(Datos!B84=\"\",Q87,IF(ISERROR(VLOOKUP(VLOOKUP(Q87,Vr_Probabilidad1,2,0)+1-ROUNDDOWN(VLOOKUP(Q87,Vr_Probabilidad1,2,0)*Datos!B84,0),Vr_Probabilidad,2,1)),\"\",VLOOKUP(VLOOKUP(Q87,Vr_Probabilidad1,2,0)-ROUNDDOWN(VLOOKUP(Q87,Vr_Probabilidad1,2,0)*Datos!B84,0),Vr_Probabilidad,2,1))))","v":0},{"$f":"Datos!C84","v":0},"","",""]
["R",null,null,null,null,null,"",null,null,null,null,null,null,null,null,{"$f":"IF(COUNTA(I88:O88)<7,\"\",VLOOKUP(ROUNDUP((LEFT(I88,1)*'Criterios de Riesgo'!$C$3+LEFT(J88,1)*'Criterios de Riesgo'!$C$4+LEFT(K88,1)*'Criterios de Riesgo'!$C$5+LEFT(L88,1)*'Criterios de Riesgo'!$C$6+LEFT(M88,1)*'Criterios de Riesgo'!$C$7+LEFT(N88,1)*'Criterios de Riesgo'!$C$8+LEFT(O88,1)*'Criterios de Riesgo'!$C$9),0),Calif_Impacto,2))","v":""},null,"","",{"$f":"IF(OR(Datos!A85=0,Datos!A85=\"\"),P88,IF(ISERROR(VLOOKUP(VLOOKUP(P88,VrImpacto,2,0)-ROUNDDOWN(VLOOKUP(P88,VrImpacto,2,0)*Datos!A85,0),Vr_Impacto,2,1)),\"\",VLOOKUP(VLOOKUP(P88,VrImpacto,2,0)-ROUNDDOWN(VLOOKUP(P88,VrImpacto,2,0)*Datos!A85,0),Vr_Impacto,2,1)))","v":""},{"$f":"IF(Datos!B85=0,Q88,IF(Datos!B85=\"\",Q88,IF(ISERROR(VLOOKUP(VLOOKUP(Q88,Vr_Probabilidad1,2,0)+1-ROUNDDOWN(VLOOKUP(Q88,Vr_Probabilidad1,2,0)*Datos!B85,0),Vr_Probabilidad,2,1)),\"\",VLOOKUP(VLOOKUP(Q88,Vr_Probabilidad1,2,0)-ROUNDDOWN(VLOOKUP(Q88,Vr_Probabilidad1,2,0)*Datos!B85,0),Vr_Probabilidad,2,1))))","v":0},{"$f":"Datos!C85","v":0},"","",""]
["R",null,null,null,null,null,"",null,null,null,null,null,null,null,null,{"$f":"IF(COUNTA(I89:O89)<7,\"\",VLOOKUP(ROUNDUP((LEFT(I89,1)*'Criterios de Riesgo'!$C$3+LEFT(J89,1)*'Criterios de Riesgo'!$C$4+LEFT(K89,1)*'Criterios de Riesgo'!$C$5+LEFT(L89,1)*'Criterios de Riesgo'!$C$6+LEFT(M89,1)*'Criterios de Riesgo'!$C$7+LEFT(N89,1)*'Criterios de Riesgo'!$C$8+LEFT(O89,1)*'Criterios de Riesgo'!$C$9),0),Calif_Impacto,2))","v":""},null,"","",{"$f":"IF(OR(Datos!A86=0,Datos!A86=\"\"),P89,IF(ISERROR(VLOOKUP(VLOOKUP(P89,VrImpacto,2,0)-ROUNDDOWN(VLOOKUP(P89,VrImpacto,2,0)*Datos!A86,0),Vr_Impacto,2,1)),\"\",VLOOKUP(VLOOKUP(P89,VrImpacto,2,0)-ROUNDDOWN(VLOOKUP(P89,VrImpacto,2,0)*Datos!A86,0),Vr_Impacto,2,1)))","v":""},{"$f":"IF(Datos!B86=0,Q89,IF(Datos!B86=\"\",Q89,IF(ISERROR(VLOOKUP(VLOOKUP(Q89,Vr_Probabilidad1,2,0)+1-ROUNDDOWN(VLOOKUP(Q89,Vr_Probabilidad1,2,0)*Datos!B86,0),Vr_Probabilidad,2,1)),\"\",VLOOKUP(VLOOKUP(Q89,Vr_Probabilidad1,2,0)-ROUNDDOWN(VLOOKUP(Q89,Vr_Probabilidad1,2,0)*Datos!B86,0),Vr_Probabilidad,2,1))))","v":0},{"$f":"Datos!C86","v":0},"","",""]
["R",null,null,null,null,null,"",null,null,null,null,null,null,null,null,{"$f":"IF(COUNTA(I90:O90)<7,\"\",VLOOKUP(ROUNDUP((LEFT(I90,1)*'Criterios de Riesgo'!$C$3+LEFT(J90,1)*'Criterios de Riesgo'!$C$4+LEFT(K90,1)*'Criterios de Riesgo'!$C$5+LEFT(L90,1)*'Criterios de Riesgo'!$C$6+LEFT(M90,1)*'Criterios de Riesgo'!$C$7+LEFT(N90,1)*'Criterios de Riesgo'!$C$8+LEFT(O90,1)*'Criterios de Riesgo'!$C$9),0),Calif_Impacto,2))","v":""},null,"","",{"$f":"IF(OR(Datos!A87=0,Datos!A87=\"\"),P90,IF(ISERROR(VLOOKUP(VLOOKUP(P90,VrImpacto,2,0)-ROUNDDOWN(VLOOKUP(P90,VrImpacto,2,0)*Datos!A87,0),Vr_Impacto,2,1)),\"\",VLOOKUP(VLOOKUP(P90,VrImpacto,2,0)-ROUNDDOWN(VLOOKUP(P90,VrImpacto,2,0)*Datos!A87,0),Vr_Impacto,2,1)))","v":""},{"$f":"IF(Datos!B87=0,Q90,IF(Datos!B87=\"\",Q90,IF(ISERROR(VLOOKUP(VLOOKUP(Q90,Vr_Probabilidad1,2,0)+1-ROUNDDOWN(VLOOKUP(Q90,Vr_Probabilidad1,2,0)*Datos!B87,0),Vr_Probabilidad,2,1)),\"\",VLOOKUP(VLOOKUP(Q90,Vr_Probabilidad1,2,0)-ROUNDDOWN(VLOOKUP(Q90,Vr_Probabilidad1,2,0)*Datos!B87,0),Vr_Probabilidad,2,1))))","v":0},{"$f":"Datos!C87","v":0},"","",""]
["R",null,null,null,null,null,"",null,null,null,null,null,null,null,null,{"$f":"IF(COUNTA(I91:O91)<7,\"\",VLOOKUP(ROUNDUP((LEFT(I91,1)*'Criterios de Riesgo'!$C$3+LEFT(J91,1)*'Criterios de Riesgo'!$C$4+LEFT(K91,1)*'Criterios de Riesgo'!$C$5+LEFT(L91,1)*'Criterios de Riesgo'!$C$6+LEFT(M91,1)*'Criterios de Riesgo'!$C$7+LEFT(N91,1)*'Criterios de Riesgo'!$C$8+LEFT(O91,1)*'Criterios de Riesgo'!$C$9),0),Calif_Impacto,2))","v":""},null,"","",{"$f":"IF(OR(Datos!A88=0,Datos!A88=\"\"),P91,IF(ISERROR(VLOOKUP(VLOOKUP(P91,VrImpacto,2,0)-ROUNDDOWN(VLOOKUP(P91,VrImpacto,2,0)*Datos!A88,0),Vr_Impacto,2,1)),\"\",VLOOKUP(VLOOKUP(P91,VrImpacto,2,0)-ROUNDDOWN(VLOOKUP(P91,VrImpacto,2,0)*Datos!A88,0),Vr_Impacto,2,1)))","v":""},{"$f":"IF(Datos!B88=0,Q91,IF(Datos!B88=\"\",Q91,IF(ISERROR(VLOOKUP(VLOOKUP(Q91,Vr_Probabilidad1,2,0)+1-ROUNDDOWN(VLOOKUP(Q91,Vr_Probabilidad1,2,0)*Datos!B88,0),Vr_Probabilidad,2,1)),\"\",VLOOKUP(VLOOKUP(Q91,Vr_Probabilidad1,2,0)-ROUNDDOWN(VLOOKUP(Q91,Vr_Probabilidad1,2,0)*Datos!B88,0),Vr_Probabilidad,2,1))))","v":0},{"$f":"Datos!C88","v":0},"","",""]
["R",null,null,null,null,null,"",null,null,null,null,null,null,null,null,{"$f":"IF(COUNTA(I92:O92)<7,\"\",VLOOKUP(ROUNDUP((LEFT(I92,1)*'Criterios de Riesgo'!$C$3+LEFT(J92,1)*'Criterios de Riesgo'!$C$4+LEFT(K92,1)*'Criterios de Riesgo'!$C$5+LEFT(L92,1)*'Criterios de Riesgo'!$C$6+LEFT(M92,1)*'Criterios de Riesgo'!$C$7+LEFT(N92,1)*'Criterios de Riesgo'!$C$8+LEFT(O92,1)*'Criterios de Riesgo'!$C$9),0),Calif_Impacto,2))","v":""},null,"","",{"$f":"IF(OR(Datos!A89=0,Datos!A89=\"\"),P92,IF(ISERROR(VLOOKUP(VLOOKUP(P92,VrImpacto,2,0)-ROUNDDOWN(VLOOKUP(P92,VrImpacto,2,0)*Datos!A89,0),Vr_Impacto,2,1)),\"\",VLOOKUP(VLOOKUP(P92,VrImpacto,2,0)-ROUNDDOWN(VLOOKUP(P92,VrImpacto,2,0)*Datos!A89,0),Vr_Impacto,2,1)))","v":""},{"$f":"IF(Datos!B89=0,Q92,IF(Datos!B89=\"\",Q92,IF(ISERROR(VLOOKUP(VLOOKUP(Q92,Vr_Probabilidad1,2,0)+1-ROUNDDOWN(VLOOKUP(Q92,Vr_Probabilidad1,2,0)*Datos!B89,0),Vr_Probabilidad,2,1)),\"\",VLOOKUP(VLOOKUP(Q92,Vr_Probabilidad1,2,0)-ROUNDDOWN(VLOOKUP(Q92,Vr_Probabilidad1,2,0)*Datos!B89,0),Vr_Probabilidad,2,1))))","v":0},{"$f":"Datos!C89","v":0},"","",""]
["R",null,null,null,null,null,"",null,null,null,null,null,null,null,null,{"$f":"IF(COUNTA(I93:O93)<7,\"\",VLOOKUP(ROUNDUP((LEFT(I93,1)*'Criterios de Riesgo'!$C$3+LEFT(J93,1)*'Criterios de Riesgo'!$C$4+LEFT(K93,1)*'Criterios de Riesgo'!$C$5+LEFT(L93,1)*'Criterios de Riesgo'!$C$6+LEFT(M93,1)*'Criterios de Riesgo'!$C$7+LEFT(N93,1)*'Criterios de Riesgo'!$C$8+LEFT(O93,1)*'Criterios de Riesgo'!$C$9),0),Calif_Impacto,2))","v":""},null,"","",{"$f":"IF(OR(Datos!A90=0,Datos!A90=\"\"),P93,IF(ISERROR(VLOOKUP(VLOOKUP(P93,VrImpacto,2,0)-ROUNDDOWN(VLOOKUP(P93,VrImpacto,2,0)*Datos!A90,0),Vr_Impacto,2,1)),\"\",VLOOKUP(VLOOKUP(P93,VrImpacto,2,0)-ROUNDDOWN(VLOOKUP(P93,VrImpacto,2,0)*Datos!A90,0),Vr_Impacto,2,1)))","v":""},{"$f":"IF(Datos!B90=0,Q93,IF(Datos!B90=\"\",Q93,IF(ISERROR(VLOOKUP(VLOOKUP(Q93,Vr_Probabilidad1,2,0)+1-ROUNDDOWN(VLOOKUP(Q93,Vr_Probabilidad1,2,0)*Datos!B90,0),Vr_Probabilidad,2,1)),\"\",VLOOKUP(VLOOKUP(Q93,Vr_Probabilidad1,2,0)-ROUNDDOWN(VLOOKUP(Q93,Vr_Probabilidad1,2,0)*Datos!B90,0),Vr_Probabilidad,2,1))))","v":0},{"$f":"Datos!C90","v":0},"","",""]
["R",null,null,null,null,null,"",null,null,null,null,null,null,null,null,{"$f":"IF(COUNTA(I94:O94)<7,\"\",VLOOKUP(ROUNDUP((LEFT(I94,1)*'Criterios de Riesgo'!$C$3+LEFT(J94,1)*'Criterios de Riesgo'!$C$4+LEFT(K94,1)*'Criterios de Riesgo'!$C$5+LEFT(L94,1)*'Criterios de Riesgo'!$C$6+LEFT(M94,1)*'Criterios de Riesgo'!$C$7+LEFT(N94,1)*'Criterios de Riesgo'!$C$8+LEFT(O94,1)*'Criterios de Riesgo'!$C$9),0),Calif_Impacto,2))","v":""},null,"","",{"$f":"IF(OR(Datos!A91=0,Datos!A91=\"\"),P94,IF(ISERROR(VLOOKUP(VLOOKUP(P94,VrImpacto,2,0)-ROUNDDOWN(VLOOKUP(P94,VrImpacto,2,0)*Datos!A91,0),Vr_Impacto,2,1)),\"\",VLOOKUP(VLOOKUP(P94,VrImpacto,2,0)-ROUNDDOWN(VLOOKUP(P94,VrImpacto,2,0)*Datos!A91,0),Vr_Impacto,2,1)))","v":""},{"$f":"IF(Datos!B91=0,Q94,IF(Datos!B91=\"\",Q94,IF(ISERROR(VLOOKUP(VLOOKUP(Q94,Vr_Probabilidad1,2,0)+1-ROUNDDOWN(VLOOKUP(Q94,Vr_Probabilidad1,2,0)*Datos!B91,0),Vr_Probabilidad,2,1)),\"\",VLOOKUP(VLOOKUP(Q94,Vr_Probabilidad1,2,0)-ROUNDDOWN(VLOOKUP(Q94,Vr_Probabilidad1,2,0)*Datos!B91,0),Vr_Probabilidad,2,1))))","v":0},{"$f":"Datos!C91","v":0},"","",""]
["R",null,null,null,null,null,"",null,null,null,null,null,null,null,null,{"$f":"IF(COUNTA(I95:O95)<7,\"\",VLOOKUP(ROUNDUP((LEFT(I95,1)*'Criterios de Riesgo'!$C$3+LEFT(J95,1)*'Criterios de Riesgo'!$C$4+LEFT(K95,1)*'Criterios de Riesgo'!$C$5+LEFT(L95,1)*'Criterios de Riesgo'!$C$6+LEFT(M95,1)*'Criterios de Riesgo'!$C$7+LEFT(N95,1)*'Criterios de Riesgo'!$C$8+LEFT(O95,1)*'Criterios de Riesgo'!$C$9),0),Calif_Impacto,2))","v":""},null,"","",{"$f":"IF(OR(Datos!A92=0,Datos!A92=\"\"),P95,IF(ISERROR(VLOOKUP(VLOOKUP(P95,VrImpacto,2,0)-ROUNDDOWN(VLOOKUP(P95,VrImpacto,2,0)*Datos!A92,0),Vr_Impacto,2,1)),\"\",VLOOKUP(VLOOKUP(P95,VrImpacto,2,0)-ROUNDDOWN(VLOOKUP(P95,VrImpacto,2,0)*Datos!A92,0),Vr_Impacto,2,1)))","v":""},{"$f":"IF(Datos!B92=0,Q95,IF(Datos!B92=\"\",Q95,IF(ISERROR(VLOOKUP(VLOOKUP(Q95,Vr_Probabilidad1,2,0)+1-ROUNDDOWN(VLOOKUP(Q95,Vr_Probabilidad1,2,0)*Datos!B92,0),Vr_Probabilidad,2,1)),\"\",VLOOKUP(VLOOKUP(Q95,Vr_Probabilidad1,2,0)-ROUNDDOWN(VLOOKUP(Q95,Vr_Probabilidad1,2,0)*Datos!B92,0),Vr_Probabilidad,2,1))))","v":0},{"$f":"Datos!C92","v":0},"","",""]
["R",null,null,null,null,null,"",null,null,null,null,null,null,null,null,{"$f":"IF(COUNTA(I96:O96)<7,\"\",VLOOKUP(ROUNDUP((LEFT(I96,1)*'Criterios de Riesgo'!$C$3+LEFT(J96,1)*'Criterios de Riesgo'!$C$4+LEFT(K96,1)*'Criterios de Riesgo'!$C$5+LEFT(L96,1)*'Criterios de Riesgo'!$C$6+LEFT(M96,1)*'Criterios de Riesgo'!$C$7+LEFT(N96,1)*'Criterios de Riesgo'!$C$8+LEFT(O96,1)*'Criterios de Riesgo'!$C$9),0),Calif_Impacto,2))","v":""},null,"","",{"$f":"IF(OR(Datos!A93=0,Datos!A93=\"\"),P96,IF(ISERROR(VLOOKUP(VLOOKUP(P96,VrImpacto,2,0)-ROUNDDOWN(VLOOKUP(P96,VrImpacto,2,0)*Datos!A93,0),Vr_Impacto,2,1)),\"\",VLOOKUP(VLOOKUP(P96,VrImpacto,2,0)-ROUNDDOWN(VLOOKUP(P96,VrImpacto,2,0)*Datos!A93,0),Vr_Impacto,2,1)))","v":""},{"$f":"IF(Datos!B93=0,Q96,IF(Datos!B93=\"\",Q96,IF(ISERROR(VLOOKUP(VLOOKUP(Q96,Vr_Probabilidad1,2,0)+1-ROUNDDOWN(VLOOKUP(Q96,Vr_Probabilidad1,2,0)*Datos!B93,0),Vr_Probabilidad,2,1)),\"\",VLOOKUP(VLOOKUP(Q96,Vr_Probabilidad1,2,0)-ROUNDDOWN(VLOOKUP(Q96,Vr_Probabilidad1,2,0)*Datos!B93,0),Vr_Probabilidad,2,1))))","v":0},{"$f":"Datos!C93","v":0},"","",""]
["R",null,null,null,null,null,"",null,null,null,null,null,null,null,null,{"$f":"IF(COUNTA(I97:O97)<7,\"\",VLOOKUP(ROUNDUP((LEFT(I97,1)*'Criterios de Riesgo'!$C$3+LEFT(J97,1)*'Criterios de Riesgo'!$C$4+LEFT(K97,1)*'Criterios de Riesgo'!$C$5+LEFT(L97,1)*'Criterios de Riesgo'!$C$6+LEFT(M97,1)*'Criterios de Riesgo'!$C$7+LEFT(N97,1)*'Criterios de Riesgo'!$C$8+LEFT(O97,1)*'Criterios de Riesgo'!$C$9),0),Calif_Impacto,2))","v":""},null,"","",{"$f":"IF(OR(Datos!A94=0,Datos!A94=\"\"),P97,IF(ISERROR(VLOOKUP(VLOOKUP(P97,VrImpacto,2,0)-ROUNDDOWN(VLOOKUP(P97,VrImpacto,2,0)*Datos!A94,0),Vr_Impacto,2,1)),\"\",VLOOKUP(VLOOKUP(P97,VrImpacto,2,0)-ROUNDDOWN(VLOOKUP(P97,VrImpacto,2,0)*Datos!A94,0),Vr_Impacto,2,1)))","v":""},{"$f":"IF(Datos!B94=0,Q97,IF(Datos!B94=\"\",Q97,IF(ISERROR(VLOOKUP(VLOOKUP(Q97,Vr_Probabilidad1,2,0)+1-ROUNDDOWN(VLOOKUP(Q97,Vr_Probabilidad1,2,0)*Datos!B94,0),Vr_Probabilidad,2,1)),\"\",VLOOKUP(VLOOKUP(Q97,Vr_Probabilidad1,2,0)-ROUNDDOWN(VLOOKUP(Q97,Vr_Probabilidad1,2,0)*Datos!B94,0),Vr_Probabilidad,2,1))))","v":0},{"$f":"Datos!C94","v":0},"","",""]
["R",null,null,null,null,null,"",null,null,null,null,null,null,null,null,{"$f":"IF(COUNTA(I98:O98)<7,\"\",VLOOKUP(ROUNDUP((LEFT(I98,1)*'Criterios de Riesgo'!$C$3+LEFT(J98,1)*'Criterios de Riesgo'!$C$4+LEFT(K98,1)*'Criterios de Riesgo'!$C$5+LEFT(L98,1)*'Criterios de Riesgo'!$C$6+LEFT(M98,1)*'Criterios de Riesgo'!$C$7+LEFT(N98,1)*'Criterios de Riesgo'!$C$8+LEFT(O98,1)*'Criterios de Riesgo'!$C$9),0),Calif_Impacto,2))","v":""},null,"","",{"$f":"IF(OR(Datos!A95=0,Datos!A95=\"\"),P98,IF(ISERROR(VLOOKUP(VLOOKUP(P98,VrImpacto,2,0)-ROUNDDOWN(VLOOKUP(P98,VrImpacto,2,0)*Datos!A95,0),Vr_Impacto,2,1)),\"\",VLOOKUP(VLOOKUP(P98,VrImpacto,2,0)-ROUNDDOWN(VLOOKUP(P98,VrImpacto,2,0)*Datos!A95,0),Vr_Impacto,2,1)))","v":""},{"$f":"IF(Datos!B95=0,Q98,IF(Datos!B95=\"\",Q98,IF(ISERROR(VLOOKUP(VLOOKUP(Q98,Vr_Probabilidad1,2,0)+1-ROUNDDOWN(VLOOKUP(Q98,Vr_Probabilidad1,2,0)*Datos!B95,0),Vr_Probabilidad,2,1)),\"\",VLOOKUP(VLOOKUP(Q98,Vr_Probabilidad1,2,0)-ROUNDDOWN(VLOOKUP(Q98,Vr_Probabilidad1,2,0)*Datos!B95,0),Vr_Probabilidad,2,1))))","v":0},{"$f":"Datos!C95","v":0},"","",""]
["R",null,null,null,null,null,"",null,null,null,null,null,null,null,null,{"$f":"IF(COUNTA(I99:O99)<7,\"\",VLOOKUP(ROUNDUP((LEFT(I99,1)*'Criterios de Riesgo'!$C$3+LEFT(J99,1)*'Criterios de Riesgo'!$C$4+LEFT(K99,1)*'Criterios de Riesgo'!$C$5+LEFT(L99,1)*'Criterios de Riesgo'!$C$6+LEFT(M99,1)*'Criterios de Riesgo'!$C$7+LEFT(N99,1)*'Criterios de Riesgo'!$C$8+LEFT(O99,1)*'Criterios de Riesgo'!$C$9),0),Calif_Impacto,2))","v":""},null,"","",{"$f":"IF(OR(Datos!A96=0,Datos!A96=\"\"),P99,IF(ISERROR(VLOOKUP(VLOOKUP(P99,VrImpacto,2,0)-ROUNDDOWN(VLOOKUP(P99,VrImpacto,2,0)*Datos!A96,0),Vr_Impacto,2,1)),\"\",VLOOKUP(VLOOKUP(P99,VrImpacto,2,0)-ROUNDDOWN(VLOOKUP(P99,VrImpacto,2,0)*Datos!A96,0),Vr_Impacto,2,1)))","v":""},{"$f":"IF(Datos!B96=0,Q99,IF(Datos!B96=\"\",Q99,IF(ISERROR(VLOOKUP(VLOOKUP(Q99,Vr_Probabilidad1,2,0)+1-ROUNDDOWN(VLOOKUP(Q99,Vr_Probabilidad1,2,0)*Datos!B96,0),Vr_Probabilidad,2,1)),\"\",VLOOKUP(VLOOKUP(Q99,Vr_Probabilidad1,2,0)-ROUNDDOWN(VLOOKUP(Q99,Vr_Probabilidad1,2,0)*Datos!B96,0),Vr_Probabilidad,2,1))))","v":0},{"$f":"Datos!C96","v":0},"","",""]
["R",null,null,null,null,null,"",null,null,null,null,null,null,null,null,{"$f":"IF(COUNTA(I100:O100)<7,\"\",VLOOKUP(ROUNDUP((LEFT(I100,1)*'Criterios de Riesgo'!$C$3+LEFT(J100,1)*'Criterios de Riesgo'!$C$4+LEFT(K100,1)*'Criterios de Riesgo'!$C$5+LEFT(L100,1)*'Criterios de Riesgo'!$C$6+LEFT(M100,1)*'Criterios de Riesgo'!$C$7+LEFT(N100,1)*'Criterios de Riesgo'!$C$8+LEFT(O100,1)*'Criterios de Riesgo'!$C$9),0),Calif_Impacto,2))","v":""},null,"","",{"$f":"IF(OR(Datos!A97=0,Datos!A97=\"\"),P100,IF(ISERROR(VLOOKUP(VLOOKUP(P100,VrImpacto,2,0)-ROUNDDOWN(VLOOKUP(P100,VrImpacto,2,0)*Datos!A97,0),Vr_Impacto,2,1)),\"\",VLOOKUP(VLOOKUP(P100,VrImpacto,2,0)-ROUNDDOWN(VLOOKUP(P100,VrImpacto,2,0)*Datos!A97,0),Vr_Impacto,2,1)))","v":""},{"$f":"IF(Datos!B97=0,Q100,IF(Datos!B97=\"\",Q100,IF(ISERROR(VLOOKUP(VLOOKUP(Q100,Vr_Probabilidad1,2,0)+1-ROUNDDOWN(VLOOKUP(Q100,Vr_Probabilidad1,2,0)*Datos!B97,0),Vr_Probabilidad,2,1)),\"\",VLOOKUP(VLOOKUP(Q100,Vr_Probabilidad1,2,0)-ROUNDDOWN(VLOOKUP(Q100,Vr_Probabilidad1,2,0)*Datos!B97,0),Vr_Probabilidad,2,1))))","v":0},{"$f":"Datos!C97","v":0},"","",""]
["R",null,null,null,null,null,"",null,null,null,null,null,null,null,null,{"$f":"IF(COUNTA(I101:O101)<7,\"\",VLOOKUP(ROUNDUP((LEFT(I101,1)*'Criterios de Riesgo'!$C$3+LEFT(J101,1)*'Criterios de Riesgo'!$C$4+LEFT(K101,1)*'Criterios de Riesgo'!$C$5+LEFT(L101,1)*'Criterios de Riesgo'!$C$6+LEFT(M101,1)*'Criterios de Riesgo'!$C$7+LEFT(N101,1)*'Criterios de Riesgo'!$C$8+LEFT(O101,1)*'Criterios de Riesgo'!$C$9),0),Calif_Impacto,2))","v":""},null,"","",{"$f":"IF(OR(Datos!A98=0,Datos!A98=\"\"),P101,IF(ISERROR(VLOOKUP(VLOOKUP(P101,VrImpacto,2,0)-ROUNDDOWN(VLOOKUP(P101,VrImpacto,2,0)*Datos!A98,0),Vr_Impacto,2,1)),\"\",VLOOKUP(VLOOKUP(P101,VrImpacto,2,0)-ROUNDDOWN(VLOOKUP(P101,VrImpacto,2,0)*Datos!A98,0),Vr_Impacto,2,1)))","v":""},{"$f":"IF(Datos!B98=0,Q101,IF(Datos!B98=\"\",Q101,IF(ISERROR(VLOOKUP(VLOOKUP(Q101,Vr_Probabilidad1,2,0)+1-ROUNDDOWN(VLOOKUP(Q101,Vr_Probabilidad1,2,0)*Datos!B98,0),Vr_Probabilidad,2,1)),\"\",VLOOKUP(VLOOKUP(Q101,Vr_Probabilidad1,2,0)-ROUNDDOWN(VLOOKUP(Q101,Vr_Probabilidad1,2,0)*Datos!B98,0),Vr_Probabilidad,2,1))))","v":0},{"$f":"Datos!C98","v":0},"","",""]
["R",null,null,null,null,null,"",null,null,null,null,null,null,null,null,{"$f":"IF(COUNTA(I102:O102)<7,\"\",VLOOKUP(ROUNDUP((LEFT(I102,1)*'Criterios de Riesgo'!$C$3+LEFT(J102,1)*'Criterios de Riesgo'!$C$4+LEFT(K102,1)*'Criterios de Riesgo'!$C$5+LEFT(L102,1)*'Criterios de Riesgo'!$C$6+LEFT(M102,1)*'Criterios de Riesgo'!$C$7+LEFT(N102,1)*'Criterios de Riesgo'!$C$8+LEFT(O102,1)*'Criterios de Riesgo'!$C$9),0),Calif_Impacto,2))","v":""},null,"","",{"$f":"IF(OR(Datos!A99=0,Datos!A99=\"\"),P102,IF(ISERROR(VLOOKUP(VLOOKUP(P102,VrImpacto,2,0)-ROUNDDOWN(VLOOKUP(P102,VrImpacto,2,0)*Datos!A99,0),Vr_Impacto,2,1)),\"\",VLOOKUP(VLOOKUP(P102,VrImpacto,2,0)-ROUNDDOWN(VLOOKUP(P102,VrImpacto,2,0)*Datos!A99,0),Vr_Impacto,2,1)))","v":""},{"$f":"IF(Datos!B99=0,Q102,IF(Datos!B99=\"\",Q102,IF(ISERROR(VLOOKUP(VLOOKUP(Q102,Vr_Probabilidad1,2,0)+1-ROUNDDOWN(VLOOKUP(Q102,Vr_Probabilidad1,2,0)*Datos!B99,0),Vr_Probabilidad,2,1)),\"\",VLOOKUP(VLOOKUP(Q102,Vr_Probabilidad1,2,0)-ROUNDDOWN(VLOOKUP(Q102,Vr_Probabilidad1,2,0)*Datos!B99,0),Vr_Probabilidad,2,1))))","v":0},{"$f":"Datos!C99","v":0},"","",""]
["R",null,null,null,null,null,"",null,null,null,null,null,null,null,null,{"$f":"IF(COUNTA(I103:O103)<7,\"\",VLOOKUP(ROUNDUP((LEFT(I103,1)*'Criterios de Riesgo'!$C$3+LEFT(J103,1)*'Criterios de Riesgo'!$C$4+LEFT(K103,1)*'Criterios de Riesgo'!$C$5+LEFT(L103,1)*'Criterios de Riesgo'!$C$6+LEFT(M103,1)*'Criterios de Riesgo'!$C$7+LEFT(N103,1)*'Criterios de Riesgo'!$C$8+LEFT(O103,1)*'Criterios de Riesgo'!$C$9),0),Calif_Impacto,2))","v":""},null,"","",{"$f":"IF(OR(Datos!A100=0,Datos!A100=\"\"),P103,IF(ISERROR(VLOOKUP(VLOOKUP(P103,VrImpacto,2,0)-ROUNDDOWN(VLOOKUP(P103,VrImpacto,2,0)*Datos!A100,0),Vr_Impacto,2,1)),\"\",VLOOKUP(VLOOKUP(P103,VrImpacto,2,0)-ROUNDDOWN(VLOOKUP(P103,VrImpacto,2,0)*Datos!A100,0),Vr_Impacto,2,1)))","v":""},{"$f":"IF(Datos!B100=0,Q103,IF(Datos!B100=\"\",Q103,IF(ISERROR(VLOOKUP(VLOOKUP(Q103,Vr_Probabilidad1,2,0)+1-ROUNDDOWN(VLOOKUP(Q103,Vr_Probabilidad1,2,0)*Datos!B100,0),Vr_Probabilidad,2,1)),\"\",VLOOKUP(VLOOKUP(Q103,Vr_Probabilidad1,2,0)-ROUNDDOWN(VLOOKUP(Q103,Vr_Probabilidad1,2,0)*Datos!B100,0),Vr_Probabilidad,2,1))))","v":0},{"$f":"Datos!C100","v":0},"","",""]
["R",null,null,null,null,null,"",null,null,null,null,null,null,null,null,{"$f":"IF(COUNTA(I104:O104)<7,\"\",VLOOKUP(ROUNDUP((LEFT(I104,1)*'Criterios de Riesgo'!$C$3+LEFT(J104,1)*'Criterios de Riesgo'!$C$4+LEFT(K104,1)*'Criterios de Riesgo'!$C$5+LEFT(L104,1)*'Criterios de Riesgo'!$C$6+LEFT(M104,1)*'Criterios de Riesgo'!$C$7+LEFT(N104,1)*'Criterios de Riesgo'!$C$8+LEFT(O104,1)*'Criterios de Riesgo'!$C$9),0),Calif_Impacto,2))","v":""},null,"","",{"$f":"IF(OR(Datos!A101=0,Datos!A101=\"\"),P104,IF(ISERROR(VLOOKUP(VLOOKUP(P104,VrImpacto,2,0)-ROUNDDOWN(VLOOKUP(P104,VrImpacto,2,0)*Datos!A101,0),Vr_Impacto,2,1)),\"\",VLOOKUP(VLOOKUP(P104,VrImpacto,2,0)-ROUNDDOWN(VLOOKUP(P104,VrImpacto,2,0)*Datos!A101,0),Vr_Impacto,2,1)))","v":""},{"$f":"IF(Datos!B101=0,Q104,IF(Datos!B101=\"\",Q104,IF(ISERROR(VLOOKUP(VLOOKUP(Q104,Vr_Probabilidad1,2,0)+1-ROUNDDOWN(VLOOKUP(Q104,Vr_Probabilidad1,2,0)*Datos!B101,0),Vr_Probabilidad,2,1)),\"\",VLOOKUP(VLOOKUP(Q104,Vr_Probabilidad1,2,0)-ROUNDDOWN(VLOOKUP(Q104,Vr_Probabilidad1,2,0)*Datos!B101,0),Vr_Probabilidad,2,1))))","v":0},{"$f":"Datos!C101","v":0},"","",""]
["R",null,null,null,null,null,"",null,null,null,null,null,null,null,null,{"$f":"IF(COUNTA(I105:O105)<7,\"\",VLOOKUP(ROUNDUP((LEFT(I105,1)*'Criterios de Riesgo'!$C$3+LEFT(J105,1)*'Criterios de Riesgo'!$C$4+LEFT(K105,1)*'Criterios de Riesgo'!$C$5+LEFT(L105,1)*'Criterios de Riesgo'!$C$6+LEFT(M105,1)*'Criterios de Riesgo'!$C$7+LEFT(N105,1)*'Criterios de Riesgo'!$C$8+LEFT(O105,1)*'Criterios de Riesgo'!$C$9),0),Calif_Impacto,2))","v":""},null,"","",{"$f":"IF(OR(Datos!A102=0,Datos!A102=\"\"),P105,IF(ISERROR(VLOOKUP(VLOOKUP(P105,VrImpacto,2,0)-ROUNDDOWN(VLOOKUP(P105,VrImpacto,2,0)*Datos!A102,0),Vr_Impacto,2,1)),\"\",VLOOKUP(VLOOKUP(P105,VrImpacto,2,0)-ROUNDDOWN(VLOOKUP(P105,VrImpacto,2,0)*Datos!A102,0),Vr_Impacto,2,1)))","v":""},{"$f":"IF(Datos!B102=0,Q105,IF(Datos!B102=\"\",Q105,IF(ISERROR(VLOOKUP(VLOOKUP(Q105,Vr_Probabilidad1,2,0)+1-ROUNDDOWN(VLOOKUP(Q105,Vr_Probabilidad1,2,0)*Datos!B102,0),Vr_Probabilidad,2,1)),\"\",VLOOKUP(VLOOKUP(Q105,Vr_Probabilidad1,2,0)-ROUNDDOWN(VLOOKUP(Q105,Vr_Probabilidad1,2,0)*Datos!B102,0),Vr_Probabilidad,2,1))))","v":0},{"$f":"Datos!C102","v":0},"","",""]
["R",null,null,null,null,null,"",null,null,null,null,null,null,null,null,{"$f":"IF(COUNTA(I106:O106)<7,\"\",VLOOKUP(ROUNDUP((LEFT(I106,1)*'Criterios de Riesgo'!$C$3+LEFT(J106,1)*'Criterios de Riesgo'!$C$4+LEFT(K106,1)*'Criterios de Riesgo'!$C$5+LEFT(L106,1)*'Criterios de Riesgo'!$C$6+LEFT(M106,1)*'Criterios de Riesgo'!$C$7+LEFT(N106,1)*'Criterios de Riesgo'!$C$8+LEFT(O106,1)*'Criterios de Riesgo'!$C$9),0),Calif_Impacto,2))","v":""},null,"","",{"$f":"IF(OR(Datos!A103=0,Datos!A103=\"\"),P106,IF(ISERROR(VLOOKUP(VLOOKUP(P106,VrImpacto,2,0)-ROUNDDOWN(VLOOKUP(P106,VrImpacto,2,0)*Datos!A103,0),Vr_Impacto,2,1)),\"\",VLOOKUP(VLOOKUP(P106,VrImpacto,2,0)-ROUNDDOWN(VLOOKUP(P106,VrImpacto,2,0)*Datos!A103,0),Vr_Impacto,2,1)))","v":""},{"$f":"IF(Datos!B103=0,Q106,IF(Datos!B103=\"\",Q106,IF(ISERROR(VLOOKUP(VLOOKUP(Q106,Vr_Probabilidad1,2,0)+1-ROUNDDOWN(VLOOKUP(Q106,Vr_Probabilidad1,2,0)*Datos!B103,0),Vr_Probabilidad,2,1)),\"\",VLOOKUP(VLOOKUP(Q106,Vr_Probabilidad1,2,0)-ROUNDDOWN(VLOOKUP(Q106,Vr_Probabilidad1,2,0)*Datos!B103,0),Vr_Probabilidad,2,1))))","v":0},{"$f":"Datos!C103","v":0},"","",""]
["R",null,null,null,null,null,"",null,null,null,null,null,null,null,null,{"$f":"IF(COUNTA(I107:O107)<7,\"\",VLOOKUP(ROUNDUP((LEFT(I107,1)*'Criterios de Riesgo'!$C$3+LEFT(J107,1)*'Criterios de Riesgo'!$C$4+LEFT(K107,1)*'Criterios de Riesgo'!$C$5+LEFT(L107,1)*'Criterios de Riesgo'!$C$6+LEFT(M107,1)*'Criterios de Riesgo'!$C$7+LEFT(N107,1)*'Criterios de Riesgo'!$C$8+LEFT(O107,1)*'Criterios de Riesgo'!$C$9),0),Calif_Impacto,2))","v":""},null,"","",{"$f":"IF(OR(Datos!A104=0,Datos!A104=\"\"),P107,IF(ISERROR(VLOOKUP(VLOOKUP(P107,VrImpacto,2,0)-ROUNDDOWN(VLOOKUP(P107,VrImpacto,2,0)*Datos!A104,0),Vr_Impacto,2,1)),\"\",VLOOKUP(VLOOKUP(P107,VrImpacto,2,0)-ROUNDDOWN(VLOOKUP(P107,VrImpacto,2,0)*Datos!A104,0),Vr_Impacto,2,1)))","v":""},{"$f":"IF(Datos!B104=0,Q107,IF(Datos!B104=\"\",Q107,IF(ISERROR(VLOOKUP(VLOOKUP(Q107,Vr_Probabilidad1,2,0)+1-ROUNDDOWN(VLOOKUP(Q107,Vr_Probabilidad1,2,0)*Datos!B104,0),Vr_Probabilidad,2,1)),\"\",VLOOKUP(VLOOKUP(Q107,Vr_Probabilidad1,2,0)-ROUNDDOWN(VLOOKUP(Q107,Vr_Probabilidad1,2,0)*Datos!B104,0),Vr_Probabilidad,2,1))))","v":0},{"$f":"Datos!C104","v":0},"","",""]
["R",null,null,null,null,null,"",null,null,null,null,null,null,null,null,{"$f":"IF(COUNTA(I108:O108)<7,\"\",VLOOKUP(ROUNDUP((LEFT(I108,1)*'Criterios de Riesgo'!$C$3+LEFT(J108,1)*'Criterios de Riesgo'!$C$4+LEFT(K108,1)*'Criterios de Riesgo'!$C$5+LEFT(L108,1)*'Criterios de Riesgo'!$C$6+LEFT(M108,1)*'Criterios de Riesgo'!$C$7+LEFT(N108,1)*'Criterios de Riesgo'!$C$8+LEFT(O108,1)*'Criterios de Riesgo'!$C$9),0),Calif_Impacto,2))","v":""},null,"","",{"$f":"IF(OR(Datos!A105=0,Datos!A105=\"\"),P108,IF(ISERROR(VLOOKUP(VLOOKUP(P108,VrImpacto,2,0)-ROUNDDOWN(VLOOKUP(P108,VrImpacto,2,0)*Datos!A105,0),Vr_Impacto,2,1)),\"\",VLOOKUP(VLOOKUP(P108,VrImpacto,2,0)-ROUNDDOWN(VLOOKUP(P108,VrImpacto,2,0)*Datos!A105,0),Vr_Impacto,2,1)))","v":""},{"$f":"IF(Datos!B105=0,Q108,IF(Datos!B105=\"\",Q108,IF(ISERROR(VLOOKUP(VLOOKUP(Q108,Vr_Probabilidad1,2,0)+1-ROUNDDOWN(VLOOKUP(Q108,Vr_Probabilidad1,2,0)*Datos!B105,0),Vr_Probabilidad,2,1)),\"\",VLOOKUP(VLOOKUP(Q108,Vr_Probabilidad1,2,0)-ROUNDDOWN(VLOOKUP(Q108,Vr_Probabilidad1,2,0)*Datos!B105,0),Vr_Probabilidad,2,1))))","v":0},{"$f":"Datos!C105","v":0},"","",""]
["R",null,null,null,null,null,"",null,null,null,null,null,null,null,null,{"$f":"IF(COUNTA(I109:O109)<7,\"\",VLOOKUP(ROUNDUP((LEFT(I109,1)*'Criterios de Riesgo'!$C$3+LEFT(J109,1)*'Criterios de Riesgo'!$C$4+LEFT(K109,1)*'Criterios de Riesgo'!$C$5+LEFT(L109,1)*'Criterios de Riesgo'!$C$6+LEFT(M109,1)*'Criterios de Riesgo'!$C$7+LEFT(N109,1)*'Criterios de Riesgo'!$C$8+LEFT(O109,1)*'Criterios de Riesgo'!$C$9),0),Calif_Impacto,2))","v":""},null,"","",{"$f":"IF(OR(Datos!A106=0,Datos!A106=\"\"),P109,IF(ISERROR(VLOOKUP(VLOOKUP(P109,VrImpacto,2,0)-ROUNDDOWN(VLOOKUP(P109,VrImpacto,2,0)*Datos!A106,0),Vr_Impacto,2,1)),\"\",VLOOKUP(VLOOKUP(P109,VrImpacto,2,0)-ROUNDDOWN(VLOOKUP(P109,VrImpacto,2,0)*Datos!A106,0),Vr_Impacto,2,1)))","v":""},{"$f":"IF(Datos!B106=0,Q109,IF(Datos!B106=\"\",Q109,IF(ISERROR(VLOOKUP(VLOOKUP(Q109,Vr_Probabilidad1,2,0)+1-ROUNDDOWN(VLOOKUP(Q109,Vr_Probabilidad1,2,0)*Datos!B106,0),Vr_Probabilidad,2,1)),\"\",VLOOKUP(VLOOKUP(Q109,Vr_Probabilidad1,2,0)-ROUNDDOWN(VLOOKUP(Q109,Vr_Probabilidad1,2,0)*Datos!B106,0),Vr_Probabilidad,2,1))))","v":0},{"$f":"Datos!C106","v":0},"","",""]
["R",null,null,null,null,null,"",null,null,null,null,null,null,null,null,{"$f":"IF(COUNTA(I110:O110)<7,\"\",VLOOKUP(ROUNDUP((LEFT(I110,1)*'Criterios de Riesgo'!$C$3+LEFT(J110,1)*'Criterios de Riesgo'!$C$4+LEFT(K110,1)*'Criterios de Riesgo'!$C$5+LEFT(L110,1)*'Criterios de Riesgo'!$C$6+LEFT(M110,1)*'Criterios de Riesgo'!$C$7+LEFT(N110,1)*'Criterios de Riesgo'!$C$8+LEFT(O110,1)*'Criterios de Riesgo'!$C$9),0),Calif_Impacto,2))","v":""},null,"","",{"$f":"IF(OR(Datos!A107=0,Datos!A107=\"\"),P110,IF(ISERROR(VLOOKUP(VLOOKUP(P110,VrImpacto,2,0)-ROUNDDOWN(VLOOKUP(P110,VrImpacto,2,0)*Datos!A107,0),Vr_Impacto,2,1)),\"\",VLOOKUP(VLOOKUP(P110,VrImpacto,2,0)-ROUNDDOWN(VLOOKUP(P110,VrImpacto,2,0)*Datos!A107,0),Vr_Impacto,2,1)))","v":""},{"$f":"IF(Datos!B107=0,Q110,IF(Datos!B107=\"\",Q110,IF(ISERROR(VLOOKUP(VLOOKUP(Q110,Vr_Probabilidad1,2,0)+1-ROUNDDOWN(VLOOKUP(Q110,Vr_Probabilidad1,2,0)*Datos!B107,0),Vr_Probabilidad,2,1)),\"\",VLOOKUP(VLOOKUP(Q110,Vr_Probabilidad1,2,0)-ROUNDDOWN(VLOOKUP(Q110,Vr_Probabilidad1,2,0)*Datos!B107,0),Vr_Probabilidad,2,1))))","v":0},{"$f":"Datos!C107","v":0},"","",""]
["R",null,null,null,null,null,"",null,null,null,null,null,null,null,null,{"$f":"IF(COUNTA(I111:O111)<7,\"\",VLOOKUP(ROUNDUP((LEFT(I111,1)*'Criterios de Riesgo'!$C$3+LEFT(J111,1)*'Criterios de Riesgo'!$C$4+LEFT(K111,1)*'Criterios de Riesgo'!$C$5+LEFT(L111,1)*'Criterios de Riesgo'!$C$6+LEFT(M111,1)*'Criterios de Riesgo'!$C$7+LEFT(N111,1)*'Criterios de Riesgo'!$C$8+LEFT(O111,1)*'Criterios de Riesgo'!$C$9),0),Calif_Impacto,2))","v":""},null,"","",{"$f":"IF(OR(Datos!A108=0,Datos!A108=\"\"),P111,IF(ISERROR(VLOOKUP(VLOOKUP(P111,VrImpacto,2,0)-ROUNDDOWN(VLOOKUP(P111,VrImpacto,2,0)*Datos!A108,0),Vr_Impacto,2,1)),\"\",VLOOKUP(VLOOKUP(P111,VrImpacto,2,0)-ROUNDDOWN(VLOOKUP(P111,VrImpacto,2,0)*Datos!A108,0),Vr_Impacto,2,1)))","v":""},{"$f":"IF(Datos!B108=0,Q111,IF(Datos!B108=\"\",Q111,IF(ISERROR(VLOOKUP(VLOOKUP(Q111,Vr_Probabilidad1,2,0)+1-ROUNDDOWN(VLOOKUP(Q111,Vr_Probabilidad1,2,0)*Datos!B108,0),Vr_Probabilidad,2,1)),\"\",VLOOKUP(VLOOKUP(Q111,Vr_Probabilidad1,2,0)-ROUNDDOWN(VLOOKUP(Q111,Vr_Probabilidad1,2,0)*Datos!B108,0),Vr_Probabilidad,2,1))))","v":0},{"$f":"Datos!C108","v":0},"","",""]
["R",null,null,null,null,null,"",null,null,null,null,null,null,null,null,{"$f":"IF(COUNTA(I112:O112)<7,\"\",VLOOKUP(ROUNDUP((LEFT(I112,1)*'Criterios de Riesgo'!$C$3+LEFT(J112,1)*'Criterios de Riesgo'!$C$4+LEFT(K112,1)*'Criterios de Riesgo'!$C$5+LEFT(L112,1)*'Criterios de Riesgo'!$C$6+LEFT(M112,1)*'Criterios de Riesgo'!$C$7+LEFT(N112,1)*'Criterios de Riesgo'!$C$8+LEFT(O112,1)*'Criterios de Riesgo'!$C$9),0),Calif_Impacto,2))","v":""},null,"","",{"$f":"IF(OR(Datos!A109=0,Datos!A109=\"\"),P112,IF(ISERROR(VLOOKUP(VLOOKUP(P112,VrImpacto,2,0)-ROUNDDOWN(VLOOKUP(P112,VrImpacto,2,0)*Datos!A109,0),Vr_Impacto,2,1)),\"\",VLOOKUP(VLOOKUP(P112,VrImpacto,2,0)-ROUNDDOWN(VLOOKUP(P112,VrImpacto,2,0)*Datos!A109,0),Vr_Impacto,2,1)))","v":""},{"$f":"IF(Datos!B109=0,Q112,IF(Datos!B109=\"\",Q112,IF(ISERROR(VLOOKUP(VLOOKUP(Q112,Vr_Probabilidad1,2,0)+1-ROUNDDOWN(VLOOKUP(Q112,Vr_Probabilidad1,2,0)*Datos!B109,0),Vr_Probabilidad,2,1)),\"\",VLOOKUP(VLOOKUP(Q112,Vr_Probabilidad1,2,0)-ROUNDDOWN(VLOOKUP(Q112,Vr_Probabilidad1,2,0)*Datos!B109,0),Vr_Probabilidad,2,1))))","v":0},{"$f":"Datos!C109","v":0},"","",""]
["R",null,null,null,null,null,"",null,null,null,null,null,null,null,null,{"$f":"IF(COUNTA(I113:O113)<7,\"\",VLOOKUP(ROUNDUP((LEFT(I113,1)*'Criterios de Riesgo'!$C$3+LEFT(J113,1)*'Criterios de Riesgo'!$C$4+LEFT(K113,1)*'Criterios de Riesgo'!$C$5+LEFT(L113,1)*'Criterios de Riesgo'!$C$6+LEFT(M113,1)*'Criterios de Riesgo'!$C$7+LEFT(N113,1)*'Criterios de Riesgo'!$C$8+LEFT(O113,1)*'Criterios de Riesgo'!$C$9),0),Calif_Impacto,2))","v":""},null,"","",{"$f":"IF(OR(Datos!A110=0,Datos!A110=\"\"),P113,IF(ISERROR(VLOOKUP(VLOOKUP(P113,VrImpacto,2,0)-ROUNDDOWN(VLOOKUP(P113,VrImpacto,2,0)*Datos!A110,0),Vr_Impacto,2,1)),\"\",VLOOKUP(VLOOKUP(P113,VrImpacto,2,0)-ROUNDDOWN(VLOOKUP(P113,VrImpacto,2,0)*Datos!A110,0),Vr_Impacto,2,1)))","v":""},{"$f":"IF(Datos!B110=0,Q113,IF(Datos!B110=\"\",Q113,IF(ISERROR(VLOOKUP(VLOOKUP(Q113,Vr_Probabilidad1,2,0)+1-ROUNDDOWN(VLOOKUP(Q113,Vr_Probabilidad1,2,0)*Datos!B110,0),Vr_Probabilidad,2,1)),\"\",VLOOKUP(VLOOKUP(Q113,Vr_Probabilidad1,2,0)-ROUNDDOWN(VLOOKUP(Q113,Vr_Probabilidad1,2,0)*Datos!B110,0),Vr_Probabilidad,2,1))))","v":0},{"$f":"Datos!C110","v":0},"","",""]
["R",null,null,null,null,null,"",null,null,null,null,null,null,null,null,{"$f":"IF(COUNTA(I114:O114)<7,\"\",VLOOKUP(ROUNDUP((LEFT(I114,1)*'Criterios de Riesgo'!$C$3+LEFT(J114,1)*'Criterios de Riesgo'!$C$4+LEFT(K114,1)*'Criterios de Riesgo'!$C$5+LEFT(L114,1)*'Criterios de Riesgo'!$C$6+LEFT(M114,1)*'Criterios de Riesgo'!$C$7+LEFT(N114,1)*'Criterios de Riesgo'!$C$8+LEFT(O114,1)*'Criterios de Riesgo'!$C$9),0),Calif_Impacto,2))","v":""},null,"","",{"$f":"IF(OR(Datos!A111=0,Datos!A111=\"\"),P114,IF(ISERROR(VLOOKUP(VLOOKUP(P114,VrImpacto,2,0)-ROUNDDOWN(VLOOKUP(P114,VrImpacto,2,0)*Datos!A111,0),Vr_Impacto,2,1)),\"\",VLOOKUP(VLOOKUP(P114,VrImpacto,2,0)-ROUNDDOWN(VLOOKUP(P114,VrImpacto,2,0)*Datos!A111,0),Vr_Impacto,2,1)))","v":""},{"$f":"IF(Datos!B111=0,Q114,IF(Datos!B111=\"\",Q114,IF(ISERROR(VLOOKUP(VLOOKUP(Q114,Vr_Probabilidad1,2,0)+1-ROUNDDOWN(VLOOKUP(Q114,Vr_Probabilidad1,2,0)*Datos!B111,0),Vr_Probabilidad,2,1)),\"\",VLOOKUP(VLOOKUP(Q114,Vr_Probabilidad1,2,0)-ROUNDDOWN(VLOOKUP(Q114,Vr_Probabilidad1,2,0)*Datos!B111,0),Vr_Probabilidad,2,1))))","v":0},{"$f":"Datos!C111","v":0},"","",""]
["R",null,null,null,null,null,"",null,null,null,null,null,null,null,null,{"$f":"IF(COUNTA(I115:O115)<7,\"\",VLOOKUP(ROUNDUP((LEFT(I115,1)*'Criterios de Riesgo'!$C$3+LEFT(J115,1)*'Criterios de Riesgo'!$C$4+LEFT(K115,1)*'Criterios de Riesgo'!$C$5+LEFT(L115,1)*'Criterios de Riesgo'!$C$6+LEFT(M115,1)*'Criterios de Riesgo'!$C$7+LEFT(N115,1)*'Criterios de Riesgo'!$C$8+LEFT(O115,1)*'Criterios de Riesgo'!$C$9),0),Calif_Impacto,2))","v":""},null,"","",{"$f":"IF(OR(Datos!A112=0,Datos!A112=\"\"),P115,IF(ISERROR(VLOOKUP(VLOOKUP(P115,VrImpacto,2,0)-ROUNDDOWN(VLOOKUP(P115,VrImpacto,2,0)*Datos!A112,0),Vr_Impacto,2,1)),\"\",VLOOKUP(VLOOKUP(P115,VrImpacto,2,0)-ROUNDDOWN(VLOOKUP(P115,VrImpacto,2,0)*Datos!A112,0),Vr_Impacto,2,1)))","v":""},{"$f":"IF(Datos!B112=0,Q115,IF(Datos!B112=\"\",Q115,IF(ISERROR(VLOOKUP(VLOOKUP(Q115,Vr_Probabilidad1,2,0)+1-ROUNDDOWN(VLOOKUP(Q115,Vr_Probabilidad1,2,0)*Datos!B112,0),Vr_Probabilidad,2,1)),\"\",VLOOKUP(VLOOKUP(Q115,Vr_Probabilidad1,2,0)-ROUNDDOWN(VLOOKUP(Q115,Vr_Probabilidad1,2,0)*Datos!B112,0),Vr_Probabilidad,2,1))))","v":0},{"$f":"Datos!C112","v":0},"","",""]
["R",null,null,null,null,null,"",null,null,null,null,null,null,null,null,{"$f":"IF(COUNTA(I116:O116)<7,\"\",VLOOKUP(ROUNDUP((LEFT(I116,1)*'Criterios de Riesgo'!$C$3+LEFT(J116,1)*'Criterios de Riesgo'!$C$4+LEFT(K116,1)*'Criterios de Riesgo'!$C$5+LEFT(L116,1)*'Criterios de Riesgo'!$C$6+LEFT(M116,1)*'Criterios de Riesgo'!$C$7+LEFT(N116,1)*'Criterios de Riesgo'!$C$8+LEFT(O116,1)*'Criterios de Riesgo'!$C$9),0),Calif_Impacto,2))","v":""},null,"","",{"$f":"IF(OR(Datos!A113=0,Datos!A113=\"\"),P116,IF(ISERROR(VLOOKUP(VLOOKUP(P116,VrImpacto,2,0)-ROUNDDOWN(VLOOKUP(P116,VrImpacto,2,0)*Datos!A113,0),Vr_Impacto,2,1)),\"\",VLOOKUP(VLOOKUP(P116,VrImpacto,2,0)-ROUNDDOWN(VLOOKUP(P116,VrImpacto,2,0)*Datos!A113,0),Vr_Impacto,2,1)))","v":""},{"$f":"IF(Datos!B113=0,Q116,IF(Datos!B113=\"\",Q116,IF(ISERROR(VLOOKUP(VLOOKUP(Q116,Vr_Probabilidad1,2,0)+1-ROUNDDOWN(VLOOKUP(Q116,Vr_Probabilidad1,2,0)*Datos!B113,0),Vr_Probabilidad,2,1)),\"\",VLOOKUP(VLOOKUP(Q116,Vr_Probabilidad1,2,0)-ROUNDDOWN(VLOOKUP(Q116,Vr_Probabilidad1,2,0)*Datos!B113,0),Vr_Probabilidad,2,1))))","v":0},{"$f":"Datos!C113","v":0},"","",""]
["R",null,null,null,null,null,"",null,null,null,null,null,null,null,null,{"$f":"IF(COUNTA(I117:O117)<7,\"\",VLOOKUP(ROUNDUP((LEFT(I117,1)*'Criterios de Riesgo'!$C$3+LEFT(J117,1)*'Criterios de Riesgo'!$C$4+LEFT(K117,1)*'Criterios de Riesgo'!$C$5+LEFT(L117,1)*'Criterios de Riesgo'!$C$6+LEFT(M117,1)*'Criterios de Riesgo'!$C$7+LEFT(N117,1)*'Criterios de Riesgo'!$C$8+LEFT(O117,1)*'Criterios de Riesgo'!$C$9),0),Calif_Impacto,2))","v":""},null,"","",{"$f":"IF(OR(Datos!A114=0,Datos!A114=\"\"),P117,IF(ISERROR(VLOOKUP(VLOOKUP(P117,VrImpacto,2,0)-ROUNDDOWN(VLOOKUP(P117,VrImpacto,2,0)*Datos!A114,0),Vr_Impacto,2,1)),\"\",VLOOKUP(VLOOKUP(P117,VrImpacto,2,0)-ROUNDDOWN(VLOOKUP(P117,VrImpacto,2,0)*Datos!A114,0),Vr_Impacto,2,1)))","v":""},{"$f":"IF(Datos!B114=0,Q117,IF(Datos!B114=\"\",Q117,IF(ISERROR(VLOOKUP(VLOOKUP(Q117,Vr_Probabilidad1,2,0)+1-ROUNDDOWN(VLOOKUP(Q117,Vr_Probabilidad1,2,0)*Datos!B114,0),Vr_Probabilidad,2,1)),\"\",VLOOKUP(VLOOKUP(Q117,Vr_Probabilidad1,2,0)-ROUNDDOWN(VLOOKUP(Q117,Vr_Probabilidad1,2,0)*Datos!B114,0),Vr_Probabilidad,2,1))))","v":0},{"$f":"Datos!C114","v":0},"","",""]
["R",null,null,null,null,null,"",null,null,null,null,null,null,null,null,{"$f":"IF(COUNTA(I118:O118)<7,\"\",VLOOKUP(ROUNDUP((LEFT(I118,1)*'Criterios de Riesgo'!$C$3+LEFT(J118,1)*'Criterios de Riesgo'!$C$4+LEFT(K118,1)*'Criterios de Riesgo'!$C$5+LEFT(L118,1)*'Criterios de Riesgo'!$C$6+LEFT(M118,1)*'Criterios de Riesgo'!$C$7+LEFT(N118,1)*'Criterios de Riesgo'!$C$8+LEFT(O118,1)*'Criterios de Riesgo'!$C$9),0),Calif_Impacto,2))","v":""},null,"","",{"$f":"IF(OR(Datos!A115=0,Datos!A115=\"\"),P118,IF(ISERROR(VLOOKUP(VLOOKUP(P118,VrImpacto,2,0)-ROUNDDOWN(VLOOKUP(P118,VrImpacto,2,0)*Datos!A115,0),Vr_Impacto,2,1)),\"\",VLOOKUP(VLOOKUP(P118,VrImpacto,2,0)-ROUNDDOWN(VLOOKUP(P118,VrImpacto,2,0)*Datos!A115,0),Vr_Impacto,2,1)))","v":""},{"$f":"IF(Datos!B115=0,Q118,IF(Datos!B115=\"\",Q118,IF(ISERROR(VLOOKUP(VLOOKUP(Q118,Vr_Probabilidad1,2,0)+1-ROUNDDOWN(VLOOKUP(Q118,Vr_Probabilidad1,2,0)*Datos!B115,0),Vr_Probabilidad,2,1)),\"\",VLOOKUP(VLOOKUP(Q118,Vr_Probabilidad1,2,0)-ROUNDDOWN(VLOOKUP(Q118,Vr_Probabilidad1,2,0)*Datos!B115,0),Vr_Probabilidad,2,1))))","v":0},{"$f":"Datos!C115","v":0},"","",""]
["R",null,null,null,null,null,"",null,null,null,null,null,null,null,null,{"$f":"IF(COUNTA(I119:O119)<7,\"\",VLOOKUP(ROUNDUP((LEFT(I119,1)*'Criterios de Riesgo'!$C$3+LEFT(J119,1)*'Criterios de Riesgo'!$C$4+LEFT(K119,1)*'Criterios de Riesgo'!$C$5+LEFT(L119,1)*'Criterios de Riesgo'!$C$6+LEFT(M119,1)*'Criterios de Riesgo'!$C$7+LEFT(N119,1)*'Criterios de Riesgo'!$C$8+LEFT(O119,1)*'Criterios de Riesgo'!$C$9),0),Calif_Impacto,2))","v":""},null,"","",{"$f":"IF(OR(Datos!A116=0,Datos!A116=\"\"),P119,IF(ISERROR(VLOOKUP(VLOOKUP(P119,VrImpacto,2,0)-ROUNDDOWN(VLOOKUP(P119,VrImpacto,2,0)*Datos!A116,0),Vr_Impacto,2,1)),\"\",VLOOKUP(VLOOKUP(P119,VrImpacto,2,0)-ROUNDDOWN(VLOOKUP(P119,VrImpacto,2,0)*Datos!A116,0),Vr_Impacto,2,1)))","v":""},{"$f":"IF(Datos!B116=0,Q119,IF(Datos!B116=\"\",Q119,IF(ISERROR(VLOOKUP(VLOOKUP(Q119,Vr_Probabilidad1,2,0)+1-ROUNDDOWN(VLOOKUP(Q119,Vr_Probabilidad1,2,0)*Datos!B116,0),Vr_Probabilidad,2,1)),\"\",VLOOKUP(VLOOKUP(Q119,Vr_Probabilidad1,2,0)-ROUNDDOWN(VLOOKUP(Q119,Vr_Probabilidad1,2,0)*Datos!B116,0),Vr_Probabilidad,2,1))))","v":0},{"$f":"Datos!C116","v":0},"","",""]
["R",null,null,null,null,null,{"$f":"IF(ISERROR(VLOOKUP(F120,EventosPerdida,2,0)),\"\",VLOOKUP(F120,EventosPerdida,2,0))","v":""},null,null,null,null,null,null,null,null,{"$f":"IF(COUNTA(I120:O120)<7,\"\",VLOOKUP(ROUNDUP((LEFT(I120,1)*'Criterios de Riesgo'!$C$3+LEFT(J120,1)*'Criterios de Riesgo'!$C$4+LEFT(K120,1)*'Criterios de Riesgo'!$C$5+LEFT(L120,1)*'Criterios de Riesgo'!$C$6+LEFT(M120,1)*'Criterios de Riesgo'!$C$7+LEFT(N120,1)*'Criterios de Riesgo'!$C$8+LEFT(O120,1)*'Criterios de Riesgo'!$C$9),0),Calif_Impacto,2))","v":""},null,{"$f":"IF(OR(P120=\"\",Q120=\"\"),\"\",VLOOKUP(P120,VrImpacto,2,0)*VLOOKUP(Q120,Vr_Probabilidad1,2,0))","v":""},{"$f":"IF(ISERROR(VLOOKUP(Q120&\"-\"&P120,NivelRiesgo,3,0)),\"\",VLOOKUP(Q120&\"-\"&P120,NivelRiesgo,3,0))","v":""},{"$f":"IF(OR(Datos!A117=0,Datos!A117=\"\"),P120,IF(ISERROR(VLOOKUP(VLOOKUP(P120,VrImpacto,2,0)-ROUNDDOWN(VLOOKUP(P120,VrImpacto,2,0)*Datos!A117,0),Vr_Impacto,2,1)),\"\",VLOOKUP(VLOOKUP(P120,VrImpacto,2,0)-ROUNDDOWN(VLOOKUP(P120,VrImpacto,2,0)*Datos!A117,0),Vr_Impacto,2,1)))","v":""},{"$f":"IF(Datos!B117=0,Q120,IF(Datos!B117=\"\",Q120,IF(ISERROR(VLOOKUP(VLOOKUP(Q120,Vr_Probabilidad1,2,0)+1-ROUNDDOWN(VLOOKUP(Q120,Vr_Probabilidad1,2,0)*Datos!B117,0),Vr_Probabilidad,2,1)),\"\",VLOOKUP(VLOOKUP(Q120,Vr_Probabilidad1,2,0)-ROUNDDOWN(VLOOKUP(Q120,Vr_Probabilidad1,2,0)*Datos!B117,0),Vr_Probabilidad,2,1))))","v":0},{"$f":"Datos!C117","v":0},"","",{"$f":"IF(ISERROR(VLOOKUP(X120,Criterio_Riesgo_Residual,2,1)),\"\",VLOOKUP(X120,Criterio_Riesgo_Residual,2,1))","v":""}]
["R",null,null,null,null,null,"",null,null,null,null,null,null,null,null,{"$f":"IF(COUNTA(I121:O121)<7,\"\",VLOOKUP(ROUNDUP((LEFT(I121,1)*'Criterios de Riesgo'!$C$3+LEFT(J121,1)*'Criterios de Riesgo'!$C$4+LEFT(K121,1)*'Criterios de Riesgo'!$C$5+LEFT(L121,1)*'Criterios de Riesgo'!$C$6+LEFT(M121,1)*'Criterios de Riesgo'!$C$7+LEFT(N121,1)*'Criterios de Riesgo'!$C$8+LEFT(O121,1)*'Criterios de Riesgo'!$C$9),0),Calif_Impacto,2))","v":""},null,"","",{"$f":"IF(OR(Datos!A118=0,Datos!A118=\"\"),P121,IF(ISERROR(VLOOKUP(VLOOKUP(P121,VrImpacto,2,0)-ROUNDDOWN(VLOOKUP(P121,VrImpacto,2,0)*Datos!A118,0),Vr_Impacto,2,1)),\"\",VLOOKUP(VLOOKUP(P121,VrImpacto,2,0)-ROUNDDOWN(VLOOKUP(P121,VrImpacto,2,0)*Datos!A118,0),Vr_Impacto,2,1)))","v":""},{"$f":"IF(Datos!B118=0,Q121,IF(Datos!B118=\"\",Q121,IF(ISERROR(VLOOKUP(VLOOKUP(Q121,Vr_Probabilidad1,2,0)+1-ROUNDDOWN(VLOOKUP(Q121,Vr_Probabilidad1,2,0)*Datos!B118,0),Vr_Probabilidad,2,1)),\"\",VLOOKUP(VLOOKUP(Q121,Vr_Probabilidad1,2,0)-ROUNDDOWN(VLOOKUP(Q121,Vr_Probabilidad1,2,0)*Datos!B118,0),Vr_Probabilidad,2,1))))","v":0},{"$f":"Datos!C118","v":0},"","",""]
["R",null,null,null,null,null,"",null,null,null,null,null,null,null,null,{"$f":"IF(COUNTA(I122:O122)<7,\"\",VLOOKUP(ROUNDUP((LEFT(I122,1)*'Criterios de Riesgo'!$C$3+LEFT(J122,1)*'Criterios de Riesgo'!$C$4+LEFT(K122,1)*'Criterios de Riesgo'!$C$5+LEFT(L122,1)*'Criterios de Riesgo'!$C$6+LEFT(M122,1)*'Criterios de Riesgo'!$C$7+LEFT(N122,1)*'Criterios de Riesgo'!$C$8+LEFT(O122,1)*'Criterios de Riesgo'!$C$9),0),Calif_Impacto,2))","v":""},null,"","",{"$f":"IF(OR(Datos!A119=0,Datos!A119=\"\"),P122,IF(ISERROR(VLOOKUP(VLOOKUP(P122,VrImpacto,2,0)-ROUNDDOWN(VLOOKUP(P122,VrImpacto,2,0)*Datos!A119,0),Vr_Impacto,2,1)),\"\",VLOOKUP(VLOOKUP(P122,VrImpacto,2,0)-ROUNDDOWN(VLOOKUP(P122,VrImpacto,2,0)*Datos!A119,0),Vr_Impacto,2,1)))","v":""},{"$f":"IF(Datos!B119=0,Q122,IF(Datos!B119=\"\",Q122,IF(ISERROR(VLOOKUP(VLOOKUP(Q122,Vr_Probabilidad1,2,0)+1-ROUNDDOWN(VLOOKUP(Q122,Vr_Probabilidad1,2,0)*Datos!B119,0),Vr_Probabilidad,2,1)),\"\",VLOOKUP(VLOOKUP(Q122,Vr_Probabilidad1,2,0)-ROUNDDOWN(VLOOKUP(Q122,Vr_Probabilidad1,2,0)*Datos!B119,0),Vr_Probabilidad,2,1))))","v":0},{"$f":"Datos!C119","v":0},{"$f":"IF(X122=\"\",\"\",R122-X122)","v":""},{"$f":"IF(R122=\"\",\"\",VLOOKUP(T122,VrImpacto,2,0)*VLOOKUP(U122,Vr_Probabilidad1,2,0))","v":""},""]
["R",null,null,null,null,null,"",null,null,null,null,null,null,null,null,{"$f":"IF(COUNTA(I123:O123)<7,\"\",VLOOKUP(ROUNDUP((LEFT(I123,1)*'Criterios de Riesgo'!$C$3+LEFT(J123,1)*'Criterios de Riesgo'!$C$4+LEFT(K123,1)*'Criterios de Riesgo'!$C$5+LEFT(L123,1)*'Criterios de Riesgo'!$C$6+LEFT(M123,1)*'Criterios de Riesgo'!$C$7+LEFT(N123,1)*'Criterios de Riesgo'!$C$8+LEFT(O123,1)*'Criterios de Riesgo'!$C$9),0),Calif_Impacto,2))","v":""},null,"","",{"$f":"IF(OR(Datos!A120=0,Datos!A120=\"\"),P123,IF(ISERROR(VLOOKUP(VLOOKUP(P123,VrImpacto,2,0)-ROUNDDOWN(VLOOKUP(P123,VrImpacto,2,0)*Datos!A120,0),Vr_Impacto,2,1)),\"\",VLOOKUP(VLOOKUP(P123,VrImpacto,2,0)-ROUNDDOWN(VLOOKUP(P123,VrImpacto,2,0)*Datos!A120,0),Vr_Impacto,2,1)))","v":""},{"$f":"IF(Datos!B120=0,Q123,IF(Datos!B120=\"\",Q123,IF(ISERROR(VLOOKUP(VLOOKUP(Q123,Vr_Probabilidad1,2,0)+1-ROUNDDOWN(VLOOKUP(Q123,Vr_Probabilidad1,2,0)*Datos!B120,0),Vr_Probabilidad,2,1)),\"\",VLOOKUP(VLOOKUP(Q123,Vr_Probabilidad1,2,0)-ROUNDDOWN(VLOOKUP(Q123,Vr_Probabilidad1,2,0)*Datos!B120,0),Vr_Probabilidad,2,1))))","v":0},{"$f":"Datos!C120","v":0},"","",""]
["R",null,null,null,null,null,"",null,null,null,null,null,null,null,null,{"$f":"IF(COUNTA(I124:O124)<7,\"\",VLOOKUP(ROUNDUP((LEFT(I124,1)*'Criterios de Riesgo'!$C$3+LEFT(J124,1)*'Criterios de Riesgo'!$C$4+LEFT(K124,1)*'Criterios de Riesgo'!$C$5+LEFT(L124,1)*'Criterios de Riesgo'!$C$6+LEFT(M124,1)*'Criterios de Riesgo'!$C$7+LEFT(N124,1)*'Criterios de Riesgo'!$C$8+LEFT(O124,1)*'Criterios de Riesgo'!$C$9),0),Calif_Impacto,2))","v":""},null,"","",{"$f":"IF(OR(Datos!A121=0,Datos!A121=\"\"),P124,IF(ISERROR(VLOOKUP(VLOOKUP(P124,VrImpacto,2,0)-ROUNDDOWN(VLOOKUP(P124,VrImpacto,2,0)*Datos!A121,0),Vr_Impacto,2,1)),\"\",VLOOKUP(VLOOKUP(P124,VrImpacto,2,0)-ROUNDDOWN(VLOOKUP(P124,VrImpacto,2,0)*Datos!A121,0),Vr_Impacto,2,1)))","v":""},{"$f":"IF(Datos!B121=0,Q124,IF(Datos!B121=\"\",Q124,IF(ISERROR(VLOOKUP(VLOOKUP(Q124,Vr_Probabilidad1,2,0)+1-ROUNDDOWN(VLOOKUP(Q124,Vr_Probabilidad1,2,0)*Datos!B121,0),Vr_Probabilidad,2,1)),\"\",VLOOKUP(VLOOKUP(Q124,Vr_Probabilidad1,2,0)-ROUNDDOWN(VLOOKUP(Q124,Vr_Probabilidad1,2,0)*Datos!B121,0),Vr_Probabilidad,2,1))))","v":0},{"$f":"Datos!C121","v":0},"","",""]
["R",null,null,null,null,null,"",null,null,null,null,null,null,null,null,{"$f":"IF(COUNTA(I125:O125)<7,\"\",VLOOKUP(ROUNDUP((LEFT(I125,1)*'Criterios de Riesgo'!$C$3+LEFT(J125,1)*'Criterios de Riesgo'!$C$4+LEFT(K125,1)*'Criterios de Riesgo'!$C$5+LEFT(L125,1)*'Criterios de Riesgo'!$C$6+LEFT(M125,1)*'Criterios de Riesgo'!$C$7+LEFT(N125,1)*'Criterios de Riesgo'!$C$8+LEFT(O125,1)*'Criterios de Riesgo'!$C$9),0),Calif_Impacto,2))","v":""},null,"","",{"$f":"IF(OR(Datos!A122=0,Datos!A122=\"\"),P125,IF(ISERROR(VLOOKUP(VLOOKUP(P125,VrImpacto,2,0)-ROUNDDOWN(VLOOKUP(P125,VrImpacto,2,0)*Datos!A122,0),Vr_Impacto,2,1)),\"\",VLOOKUP(VLOOKUP(P125,VrImpacto,2,0)-ROUNDDOWN(VLOOKUP(P125,VrImpacto,2,0)*Datos!A122,0),Vr_Impacto,2,1)))","v":""},{"$f":"IF(Datos!B122=0,Q125,IF(Datos!B122=\"\",Q125,IF(ISERROR(VLOOKUP(VLOOKUP(Q125,Vr_Probabilidad1,2,0)+1-ROUNDDOWN(VLOOKUP(Q125,Vr_Probabilidad1,2,0)*Datos!B122,0),Vr_Probabilidad,2,1)),\"\",VLOOKUP(VLOOKUP(Q125,Vr_Probabilidad1,2,0)-ROUNDDOWN(VLOOKUP(Q125,Vr_Probabilidad1,2,0)*Datos!B122,0),Vr_Probabilidad,2,1))))","v":0},{"$f":"Datos!C122","v":0},"","",""]
["R",null,null,null,null,null,"",null,null,null,null,null,null,null,null,{"$f":"IF(COUNTA(I126:O126)<7,\"\",VLOOKUP(ROUNDUP((LEFT(I126,1)*'Criterios de Riesgo'!$C$3+LEFT(J126,1)*'Criterios de Riesgo'!$C$4+LEFT(K126,1)*'Criterios de Riesgo'!$C$5+LEFT(L126,1)*'Criterios de Riesgo'!$C$6+LEFT(M126,1)*'Criterios de Riesgo'!$C$7+LEFT(N126,1)*'Criterios de Riesgo'!$C$8+LEFT(O126,1)*'Criterios de Riesgo'!$C$9),0),Calif_Impacto,2))","v":""},null,"","",{"$f":"IF(OR(Datos!A123=0,Datos!A123=\"\"),P126,IF(ISERROR(VLOOKUP(VLOOKUP(P126,VrImpacto,2,0)-ROUNDDOWN(VLOOKUP(P126,VrImpacto,2,0)*Datos!A123,0),Vr_Impacto,2,1)),\"\",VLOOKUP(VLOOKUP(P126,VrImpacto,2,0)-ROUNDDOWN(VLOOKUP(P126,VrImpacto,2,0)*Datos!A123,0),Vr_Impacto,2,1)))","v":""},{"$f":"IF(Datos!B123=0,Q126,IF(Datos!B123=\"\",Q126,IF(ISERROR(VLOOKUP(VLOOKUP(Q126,Vr_Probabilidad1,2,0)+1-ROUNDDOWN(VLOOKUP(Q126,Vr_Probabilidad1,2,0)*Datos!B123,0),Vr_Probabilidad,2,1)),\"\",VLOOKUP(VLOOKUP(Q126,Vr_Probabilidad1,2,0)-ROUNDDOWN(VLOOKUP(Q126,Vr_Probabilidad1,2,0)*Datos!B123,0),Vr_Probabilidad,2,1))))","v":0},{"$f":"Datos!C123","v":0},"","",""]
["R",null,null,null,null,null,"",null,null,null,null,null,null,null,null,{"$f":"IF(COUNTA(I127:O127)<7,\"\",VLOOKUP(ROUNDUP((LEFT(I127,1)*'Criterios de Riesgo'!$C$3+LEFT(J127,1)*'Criterios de Riesgo'!$C$4+LEFT(K127,1)*'Criterios de Riesgo'!$C$5+LEFT(L127,1)*'Criterios de Riesgo'!$C$6+LEFT(M127,1)*'Criterios de Riesgo'!$C$7+LEFT(N127,1)*'Criterios de Riesgo'!$C$8+LEFT(O127,1)*'Criterios de Riesgo'!$C$9),0),Calif_Impacto,2))","v":""},null,"","",{"$f":"IF(OR(Datos!A124=0,Datos!A124=\"\"),P127,IF(ISERROR(VLOOKUP(VLOOKUP(P127,VrImpacto,2,0)-ROUNDDOWN(VLOOKUP(P127,VrImpacto,2,0)*Datos!A124,0),Vr_Impacto,2,1)),\"\",VLOOKUP(VLOOKUP(P127,VrImpacto,2,0)-ROUNDDOWN(VLOOKUP(P127,VrImpacto,2,0)*Datos!A124,0),Vr_Impacto,2,1)))","v":""},{"$f":"IF(Datos!B124=0,Q127,IF(Datos!B124=\"\",Q127,IF(ISERROR(VLOOKUP(VLOOKUP(Q127,Vr_Probabilidad1,2,0)+1-ROUNDDOWN(VLOOKUP(Q127,Vr_Probabilidad1,2,0)*Datos!B124,0),Vr_Probabilidad,2,1)),\"\",VLOOKUP(VLOOKUP(Q127,Vr_Probabilidad1,2,0)-ROUNDDOWN(VLOOKUP(Q127,Vr_Probabilidad1,2,0)*Datos!B124,0),Vr_Probabilidad,2,1))))","v":0},{"$f":"Datos!C124","v":0},"","",""]
["R",null,null,null,null,null,"",null,null,null,null,null,null,null,null,{"$f":"IF(COUNTA(I128:O128)<7,\"\",VLOOKUP(ROUNDUP((LEFT(I128,1)*'Criterios de Riesgo'!$C$3+LEFT(J128,1)*'Criterios de Riesgo'!$C$4+LEFT(K128,1)*'Criterios de Riesgo'!$C$5+LEFT(L128,1)*'Criterios de Riesgo'!$C$6+LEFT(M128,1)*'Criterios de Riesgo'!$C$7+LEFT(N128,1)*'Criterios de Riesgo'!$C$8+LEFT(O128,1)*'Criterios de Riesgo'!$C$9),0),Calif_Impacto,2))","v":""},null,"","",{"$f":"IF(OR(Datos!A125=0,Datos!A125=\"\"),P128,IF(ISERROR(VLOOKUP(VLOOKUP(P128,VrImpacto,2,0)-ROUNDDOWN(VLOOKUP(P128,VrImpacto,2,0)*Datos!A125,0),Vr_Impacto,2,1)),\"\",VLOOKUP(VLOOKUP(P128,VrImpacto,2,0)-ROUNDDOWN(VLOOKUP(P128,VrImpacto,2,0)*Datos!A125,0),Vr_Impacto,2,1)))","v":""},{"$f":"IF(Datos!B125=0,Q128,IF(Datos!B125=\"\",Q128,IF(ISERROR(VLOOKUP(VLOOKUP(Q128,Vr_Probabilidad1,2,0)+1-ROUNDDOWN(VLOOKUP(Q128,Vr_Probabilidad1,2,0)*Datos!B125,0),Vr_Probabilidad,2,1)),\"\",VLOOKUP(VLOOKUP(Q128,Vr_Probabilidad1,2,0)-ROUNDDOWN(VLOOKUP(Q128,Vr_Probabilidad1,2,0)*Datos!B125,0),Vr_Probabilidad,2,1))))","v":0},{"$f":"Datos!C125","v":0},"","",""]
["R",null,null,null,null,null,"",null,null,null,null,null,null,null,null,{"$f":"IF(COUNTA(I129:O129)<7,\"\",VLOOKUP(ROUNDUP((LEFT(I129,1)*'Criterios de Riesgo'!$C$3+LEFT(J129,1)*'Criterios de Riesgo'!$C$4+LEFT(K129,1)*'Criterios de Riesgo'!$C$5+LEFT(L129,1)*'Criterios de Riesgo'!$C$6+LEFT(M129,1)*'Criterios de Riesgo'!$C$7+LEFT(N129,1)*'Criterios de Riesgo'!$C$8+LEFT(O129,1)*'Criterios de Riesgo'!$C$9),0),Calif_Impacto,2))","v":""},null,"","",{"$f":"IF(OR(Datos!A126=0,Datos!A126=\"\"),P129,IF(ISERROR(VLOOKUP(VLOOKUP(P129,VrImpacto,2,0)-ROUNDDOWN(VLOOKUP(P129,VrImpacto,2,0)*Datos!A126,0),Vr_Impacto,2,1)),\"\",VLOOKUP(VLOOKUP(P129,VrImpacto,2,0)-ROUNDDOWN(VLOOKUP(P129,VrImpacto,2,0)*Datos!A126,0),Vr_Impacto,2,1)))","v":""},{"$f":"IF(Datos!B126=0,Q129,IF(Datos!B126=\"\",Q129,IF(ISERROR(VLOOKUP(VLOOKUP(Q129,Vr_Probabilidad1,2,0)+1-ROUNDDOWN(VLOOKUP(Q129,Vr_Probabilidad1,2,0)*Datos!B126,0),Vr_Probabilidad,2,1)),\"\",VLOOKUP(VLOOKUP(Q129,Vr_Probabilidad1,2,0)-ROUNDDOWN(VLOOKUP(Q129,Vr_Probabilidad1,2,0)*Datos!B126,0),Vr_Probabilidad,2,1))))","v":0},{"$f":"Datos!C126","v":0},"","",""]
["R",null,null,null,null,null,"",null,null,null,null,null,null,null,null,{"$f":"IF(COUNTA(I130:O130)<7,\"\",VLOOKUP(ROUNDUP((LEFT(I130,1)*'Criterios de Riesgo'!$C$3+LEFT(J130,1)*'Criterios de Riesgo'!$C$4+LEFT(K130,1)*'Criterios de Riesgo'!$C$5+LEFT(L130,1)*'Criterios de Riesgo'!$C$6+LEFT(M130,1)*'Criterios de Riesgo'!$C$7+LEFT(N130,1)*'Criterios de Riesgo'!$C$8+LEFT(O130,1)*'Criterios de Riesgo'!$C$9),0),Calif_Impacto,2))","v":""},null,"","",{"$f":"IF(OR(Datos!A127=0,Datos!A127=\"\"),P130,IF(ISERROR(VLOOKUP(VLOOKUP(P130,VrImpacto,2,0)-ROUNDDOWN(VLOOKUP(P130,VrImpacto,2,0)*Datos!A127,0),Vr_Impacto,2,1)),\"\",VLOOKUP(VLOOKUP(P130,VrImpacto,2,0)-ROUNDDOWN(VLOOKUP(P130,VrImpacto,2,0)*Datos!A127,0),Vr_Impacto,2,1)))","v":""},{"$f":"IF(Datos!B127=0,Q130,IF(Datos!B127=\"\",Q130,IF(ISERROR(VLOOKUP(VLOOKUP(Q130,Vr_Probabilidad1,2,0)+1-ROUNDDOWN(VLOOKUP(Q130,Vr_Probabilidad1,2,0)*Datos!B127,0),Vr_Probabilidad,2,1)),\"\",VLOOKUP(VLOOKUP(Q130,Vr_Probabilidad1,2,0)-ROUNDDOWN(VLOOKUP(Q130,Vr_Probabilidad1,2,0)*Datos!B127,0),Vr_Probabilidad,2,1))))","v":0},{"$f":"Datos!C127","v":0},"","",""]
["R",null,null,null,null,null,"",null,null,null,null,null,null,null,null,{"$f":"IF(COUNTA(I131:O131)<7,\"\",VLOOKUP(ROUNDUP((LEFT(I131,1)*'Criterios de Riesgo'!$C$3+LEFT(J131,1)*'Criterios de Riesgo'!$C$4+LEFT(K131,1)*'Criterios de Riesgo'!$C$5+LEFT(L131,1)*'Criterios de Riesgo'!$C$6+LEFT(M131,1)*'Criterios de Riesgo'!$C$7+LEFT(N131,1)*'Criterios de Riesgo'!$C$8+LEFT(O131,1)*'Criterios de Riesgo'!$C$9),0),Calif_Impacto,2))","v":""},null,"","",{"$f":"IF(OR(Datos!A128=0,Datos!A128=\"\"),P131,IF(ISERROR(VLOOKUP(VLOOKUP(P131,VrImpacto,2,0)-ROUNDDOWN(VLOOKUP(P131,VrImpacto,2,0)*Datos!A128,0),Vr_Impacto,2,1)),\"\",VLOOKUP(VLOOKUP(P131,VrImpacto,2,0)-ROUNDDOWN(VLOOKUP(P131,VrImpacto,2,0)*Datos!A128,0),Vr_Impacto,2,1)))","v":""},{"$f":"IF(Datos!B128=0,Q131,IF(Datos!B128=\"\",Q131,IF(ISERROR(VLOOKUP(VLOOKUP(Q131,Vr_Probabilidad1,2,0)+1-ROUNDDOWN(VLOOKUP(Q131,Vr_Probabilidad1,2,0)*Datos!B128,0),Vr_Probabilidad,2,1)),\"\",VLOOKUP(VLOOKUP(Q131,Vr_Probabilidad1,2,0)-ROUNDDOWN(VLOOKUP(Q131,Vr_Probabilidad1,2,0)*Datos!B128,0),Vr_Probabilidad,2,1))))","v":0},{"$f":"Datos!C128","v":0},"","",""]
["R",null,null,null,null,null,"",null,null,null,null,null,null,null,null,{"$f":"IF(COUNTA(I132:O132)<7,\"\",VLOOKUP(ROUNDUP((LEFT(I132,1)*'Criterios de Riesgo'!$C$3+LEFT(J132,1)*'Criterios de Riesgo'!$C$4+LEFT(K132,1)*'Criterios de Riesgo'!$C$5+LEFT(L132,1)*'Criterios de Riesgo'!$C$6+LEFT(M132,1)*'Criterios de Riesgo'!$C$7+LEFT(N132,1)*'Criterios de Riesgo'!$C$8+LEFT(O132,1)*'Criterios de Riesgo'!$C$9),0),Calif_Impacto,2))","v":""},null,"","",{"$f":"IF(OR(Datos!A129=0,Datos!A129=\"\"),P132,IF(ISERROR(VLOOKUP(VLOOKUP(P132,VrImpacto,2,0)-ROUNDDOWN(VLOOKUP(P132,VrImpacto,2,0)*Datos!A129,0),Vr_Impacto,2,1)),\"\",VLOOKUP(VLOOKUP(P132,VrImpacto,2,0)-ROUNDDOWN(VLOOKUP(P132,VrImpacto,2,0)*Datos!A129,0),Vr_Impacto,2,1)))","v":""},{"$f":"IF(Datos!B129=0,Q132,IF(Datos!B129=\"\",Q132,IF(ISERROR(VLOOKUP(VLOOKUP(Q132,Vr_Probabilidad1,2,0)+1-ROUNDDOWN(VLOOKUP(Q132,Vr_Probabilidad1,2,0)*Datos!B129,0),Vr_Probabilidad,2,1)),\"\",VLOOKUP(VLOOKUP(Q132,Vr_Probabilidad1,2,0)-ROUNDDOWN(VLOOKUP(Q132,Vr_Probabilidad1,2,0)*Datos!B129,0),Vr_Probabilidad,2,1))))","v":0},{"$f":"Datos!C129","v":0},"","",""]
["R",null,null,null,null,null,"",null,null,null,null,null,null,null,null,{"$f":"IF(COUNTA(I133:O133)<7,\"\",VLOOKUP(ROUNDUP((LEFT(I133,1)*'Criterios de Riesgo'!$C$3+LEFT(J133,1)*'Criterios de Riesgo'!$C$4+LEFT(K133,1)*'Criterios de Riesgo'!$C$5+LEFT(L133,1)*'Criterios de Riesgo'!$C$6+LEFT(M133,1)*'Criterios de Riesgo'!$C$7+LEFT(N133,1)*'Criterios de Riesgo'!$C$8+LEFT(O133,1)*'Criterios de Riesgo'!$C$9),0),Calif_Impacto,2))","v":""},null,"","",{"$f":"IF(OR(Datos!A130=0,Datos!A130=\"\"),P133,IF(ISERROR(VLOOKUP(VLOOKUP(P133,VrImpacto,2,0)-ROUNDDOWN(VLOOKUP(P133,VrImpacto,2,0)*Datos!A130,0),Vr_Impacto,2,1)),\"\",VLOOKUP(VLOOKUP(P133,VrImpacto,2,0)-ROUNDDOWN(VLOOKUP(P133,VrImpacto,2,0)*Datos!A130,0),Vr_Impacto,2,1)))","v":""},{"$f":"IF(Datos!B130=0,Q133,IF(Datos!B130=\"\",Q133,IF(ISERROR(VLOOKUP(VLOOKUP(Q133,Vr_Probabilidad1,2,0)+1-ROUNDDOWN(VLOOKUP(Q133,Vr_Probabilidad1,2,0)*Datos!B130,0),Vr_Probabilidad,2,1)),\"\",VLOOKUP(VLOOKUP(Q133,Vr_Probabilidad1,2,0)-ROUNDDOWN(VLOOKUP(Q133,Vr_Probabilidad1,2,0)*Datos!B130,0),Vr_Probabilidad,2,1))))","v":0},{"$f":"Datos!C130","v":0},"","",""]
["R",null,null,null,null,null,"",null,null,null,null,null,null,null,null,{"$f":"IF(COUNTA(I134:O134)<7,\"\",VLOOKUP(ROUNDUP((LEFT(I134,1)*'Criterios de Riesgo'!$C$3+LEFT(J134,1)*'Criterios de Riesgo'!$C$4+LEFT(K134,1)*'Criterios de Riesgo'!$C$5+LEFT(L134,1)*'Criterios de Riesgo'!$C$6+LEFT(M134,1)*'Criterios de Riesgo'!$C$7+LEFT(N134,1)*'Criterios de Riesgo'!$C$8+LEFT(O134,1)*'Criterios de Riesgo'!$C$9),0),Calif_Impacto,2))","v":""},null,"","",{"$f":"IF(OR(Datos!A131=0,Datos!A131=\"\"),P134,IF(ISERROR(VLOOKUP(VLOOKUP(P134,VrImpacto,2,0)-ROUNDDOWN(VLOOKUP(P134,VrImpacto,2,0)*Datos!A131,0),Vr_Impacto,2,1)),\"\",VLOOKUP(VLOOKUP(P134,VrImpacto,2,0)-ROUNDDOWN(VLOOKUP(P134,VrImpacto,2,0)*Datos!A131,0),Vr_Impacto,2,1)))","v":""},{"$f":"IF(Datos!B131=0,Q134,IF(Datos!B131=\"\",Q134,IF(ISERROR(VLOOKUP(VLOOKUP(Q134,Vr_Probabilidad1,2,0)+1-ROUNDDOWN(VLOOKUP(Q134,Vr_Probabilidad1,2,0)*Datos!B131,0),Vr_Probabilidad,2,1)),\"\",VLOOKUP(VLOOKUP(Q134,Vr_Probabilidad1,2,0)-ROUNDDOWN(VLOOKUP(Q134,Vr_Probabilidad1,2,0)*Datos!B131,0),Vr_Probabilidad,2,1))))","v":0},{"$f":"Datos!C131","v":0},"","",""]
["R",null,null,null,null,null,"",null,null,null,null,null,null,null,null,{"$f":"IF(COUNTA(I135:O135)<7,\"\",VLOOKUP(ROUNDUP((LEFT(I135,1)*'Criterios de Riesgo'!$C$3+LEFT(J135,1)*'Criterios de Riesgo'!$C$4+LEFT(K135,1)*'Criterios de Riesgo'!$C$5+LEFT(L135,1)*'Criterios de Riesgo'!$C$6+LEFT(M135,1)*'Criterios de Riesgo'!$C$7+LEFT(N135,1)*'Criterios de Riesgo'!$C$8+LEFT(O135,1)*'Criterios de Riesgo'!$C$9),0),Calif_Impacto,2))","v":""},null,"","",{"$f":"IF(OR(Datos!A132=0,Datos!A132=\"\"),P135,IF(ISERROR(VLOOKUP(VLOOKUP(P135,VrImpacto,2,0)-ROUNDDOWN(VLOOKUP(P135,VrImpacto,2,0)*Datos!A132,0),Vr_Impacto,2,1)),\"\",VLOOKUP(VLOOKUP(P135,VrImpacto,2,0)-ROUNDDOWN(VLOOKUP(P135,VrImpacto,2,0)*Datos!A132,0),Vr_Impacto,2,1)))","v":""},{"$f":"IF(Datos!B132=0,Q135,IF(Datos!B132=\"\",Q135,IF(ISERROR(VLOOKUP(VLOOKUP(Q135,Vr_Probabilidad1,2,0)+1-ROUNDDOWN(VLOOKUP(Q135,Vr_Probabilidad1,2,0)*Datos!B132,0),Vr_Probabilidad,2,1)),\"\",VLOOKUP(VLOOKUP(Q135,Vr_Probabilidad1,2,0)-ROUNDDOWN(VLOOKUP(Q135,Vr_Probabilidad1,2,0)*Datos!B132,0),Vr_Probabilidad,2,1))))","v":0},{"$f":"Datos!C132","v":0},"","",""]
["R",null,null,null,null,null,"",null,null,null,null,null,null,null,null,{"$f":"IF(COUNTA(I136:O136)<7,\"\",VLOOKUP(ROUNDUP((LEFT(I136,1)*'Criterios de Riesgo'!$C$3+LEFT(J136,1)*'Criterios de Riesgo'!$C$4+LEFT(K136,1)*'Criterios de Riesgo'!$C$5+LEFT(L136,1)*'Criterios de Riesgo'!$C$6+LEFT(M136,1)*'Criterios de Riesgo'!$C$7+LEFT(N136,1)*'Criterios de Riesgo'!$C$8+LEFT(O136,1)*'Criterios de Riesgo'!$C$9),0),Calif_Impacto,2))","v":""},null,"","",{"$f":"IF(OR(Datos!A133=0,Datos!A133=\"\"),P136,IF(ISERROR(VLOOKUP(VLOOKUP(P136,VrImpacto,2,0)-ROUNDDOWN(VLOOKUP(P136,VrImpacto,2,0)*Datos!A133,0),Vr_Impacto,2,1)),\"\",VLOOKUP(VLOOKUP(P136,VrImpacto,2,0)-ROUNDDOWN(VLOOKUP(P136,VrImpacto,2,0)*Datos!A133,0),Vr_Impacto,2,1)))","v":""},{"$f":"IF(Datos!B133=0,Q136,IF(Datos!B133=\"\",Q136,IF(ISERROR(VLOOKUP(VLOOKUP(Q136,Vr_Probabilidad1,2,0)+1-ROUNDDOWN(VLOOKUP(Q136,Vr_Probabilidad1,2,0)*Datos!B133,0),Vr_Probabilidad,2,1)),\"\",VLOOKUP(VLOOKUP(Q136,Vr_Probabilidad1,2,0)-ROUNDDOWN(VLOOKUP(Q136,Vr_Probabilidad1,2,0)*Datos!B133,0),Vr_Probabilidad,2,1))))","v":0},{"$f":"Datos!C133","v":0},"","",""]
["R",null,null,null,null,null,"",null,null,null,null,null,null,null,null,{"$f":"IF(COUNTA(I137:O137)<7,\"\",VLOOKUP(ROUNDUP((LEFT(I137,1)*'Criterios de Riesgo'!$C$3+LEFT(J137,1)*'Criterios de Riesgo'!$C$4+LEFT(K137,1)*'Criterios de Riesgo'!$C$5+LEFT(L137,1)*'Criterios de Riesgo'!$C$6+LEFT(M137,1)*'Criterios de Riesgo'!$C$7+LEFT(N137,1)*'Criterios de Riesgo'!$C$8+LEFT(O137,1)*'Criterios de Riesgo'!$C$9),0),Calif_Impacto,2))","v":""},null,"","",{"$f":"IF(OR(Datos!A134=0,Datos!A134=\"\"),P137,IF(ISERROR(VLOOKUP(VLOOKUP(P137,VrImpacto,2,0)-ROUNDDOWN(VLOOKUP(P137,VrImpacto,2,0)*Datos!A134,0),Vr_Impacto,2,1)),\"\",VLOOKUP(VLOOKUP(P137,VrImpacto,2,0)-ROUNDDOWN(VLOOKUP(P137,VrImpacto,2,0)*Datos!A134,0),Vr_Impacto,2,1)))","v":""},{"$f":"IF(Datos!B134=0,Q137,IF(Datos!B134=\"\",Q137,IF(ISERROR(VLOOKUP(VLOOKUP(Q137,Vr_Probabilidad1,2,0)+1-ROUNDDOWN(VLOOKUP(Q137,Vr_Probabilidad1,2,0)*Datos!B134,0),Vr_Probabilidad,2,1)),\"\",VLOOKUP(VLOOKUP(Q137,Vr_Probabilidad1,2,0)-ROUNDDOWN(VLOOKUP(Q137,Vr_Probabilidad1,2,0)*Datos!B134,0),Vr_Probabilidad,2,1))))","v":0},{"$f":"Datos!C134","v":0},"","",""]
["R",null,null,null,null,null,"",null,null,null,null,null,null,null,null,{"$f":"IF(COUNTA(I138:O138)<7,\"\",VLOOKUP(ROUNDUP((LEFT(I138,1)*'Criterios de Riesgo'!$C$3+LEFT(J138,1)*'Criterios de Riesgo'!$C$4+LEFT(K138,1)*'Criterios de Riesgo'!$C$5+LEFT(L138,1)*'Criterios de Riesgo'!$C$6+LEFT(M138,1)*'Criterios de Riesgo'!$C$7+LEFT(N138,1)*'Criterios de Riesgo'!$C$8+LEFT(O138,1)*'Criterios de Riesgo'!$C$9),0),Calif_Impacto,2))","v":""},null,"","",{"$f":"IF(OR(Datos!A135=0,Datos!A135=\"\"),P138,IF(ISERROR(VLOOKUP(VLOOKUP(P138,VrImpacto,2,0)-ROUNDDOWN(VLOOKUP(P138,VrImpacto,2,0)*Datos!A135,0),Vr_Impacto,2,1)),\"\",VLOOKUP(VLOOKUP(P138,VrImpacto,2,0)-ROUNDDOWN(VLOOKUP(P138,VrImpacto,2,0)*Datos!A135,0),Vr_Impacto,2,1)))","v":""},{"$f":"IF(Datos!B135=0,Q138,IF(Datos!B135=\"\",Q138,IF(ISERROR(VLOOKUP(VLOOKUP(Q138,Vr_Probabilidad1,2,0)+1-ROUNDDOWN(VLOOKUP(Q138,Vr_Probabilidad1,2,0)*Datos!B135,0),Vr_Probabilidad,2,1)),\"\",VLOOKUP(VLOOKUP(Q138,Vr_Probabilidad1,2,0)-ROUNDDOWN(VLOOKUP(Q138,Vr_Probabilidad1,2,0)*Datos!B135,0),Vr_Probabilidad,2,1))))","v":0},{"$f":"Datos!C135","v":0},"","",""]
["R",null,null,null,null,null,"",null,null,null,null,null,null,null,null,{"$f":"IF(COUNTA(I139:O139)<7,\"\",VLOOKUP(ROUNDUP((LEFT(I139,1)*'Criterios de Riesgo'!$C$3+LEFT(J139,1)*'Criterios de Riesgo'!$C$4+LEFT(K139,1)*'Criterios de Riesgo'!$C$5+LEFT(L139,1)*'Criterios de Riesgo'!$C$6+LEFT(M139,1)*'Criterios de Riesgo'!$C$7+LEFT(N139,1)*'Criterios de Riesgo'!$C$8+LEFT(O139,1)*'Criterios de Riesgo'!$C$9),0),Calif_Impacto,2))","v":""},null,"","",{"$f":"IF(OR(Datos!A136=0,Datos!A136=\"\"),P139,IF(ISERROR(VLOOKUP(VLOOKUP(P139,VrImpacto,2,0)-ROUNDDOWN(VLOOKUP(P139,VrImpacto,2,0)*Datos!A136,0),Vr_Impacto,2,1)),\"\",VLOOKUP(VLOOKUP(P139,VrImpacto,2,0)-ROUNDDOWN(VLOOKUP(P139,VrImpacto,2,0)*Datos!A136,0),Vr_Impacto,2,1)))","v":""},{"$f":"IF(Datos!B136=0,Q139,IF(Datos!B136=\"\",Q139,IF(ISERROR(VLOOKUP(VLOOKUP(Q139,Vr_Probabilidad1,2,0)+1-ROUNDDOWN(VLOOKUP(Q139,Vr_Probabilidad1,2,0)*Datos!B136,0),Vr_Probabilidad,2,1)),\"\",VLOOKUP(VLOOKUP(Q139,Vr_Probabilidad1,2,0)-ROUNDDOWN(VLOOKUP(Q139,Vr_Probabilidad1,2,0)*Datos!B136,0),Vr_Probabilidad,2,1))))","v":0},{"$f":"Datos!C136","v":0},"","",""]
["R",null,null,null,null,null,"",null,null,null,null,null,null,null,null,{"$f":"IF(COUNTA(I140:O140)<7,\"\",VLOOKUP(ROUNDUP((LEFT(I140,1)*'Criterios de Riesgo'!$C$3+LEFT(J140,1)*'Criterios de Riesgo'!$C$4+LEFT(K140,1)*'Criterios de Riesgo'!$C$5+LEFT(L140,1)*'Criterios de Riesgo'!$C$6+LEFT(M140,1)*'Criterios de Riesgo'!$C$7+LEFT(N140,1)*'Criterios de Riesgo'!$C$8+LEFT(O140,1)*'Criterios de Riesgo'!$C$9),0),Calif_Impacto,2))","v":""},null,"","",{"$f":"IF(OR(Datos!A137=0,Datos!A137=\"\"),P140,IF(ISERROR(VLOOKUP(VLOOKUP(P140,VrImpacto,2,0)-ROUNDDOWN(VLOOKUP(P140,VrImpacto,2,0)*Datos!A137,0),Vr_Impacto,2,1)),\"\",VLOOKUP(VLOOKUP(P140,VrImpacto,2,0)-ROUNDDOWN(VLOOKUP(P140,VrImpacto,2,0)*Datos!A137,0),Vr_Impacto,2,1)))","v":""},{"$f":"IF(Datos!B137=0,Q140,IF(Datos!B137=\"\",Q140,IF(ISERROR(VLOOKUP(VLOOKUP(Q140,Vr_Probabilidad1,2,0)+1-ROUNDDOWN(VLOOKUP(Q140,Vr_Probabilidad1,2,0)*Datos!B137,0),Vr_Probabilidad,2,1)),\"\",VLOOKUP(VLOOKUP(Q140,Vr_Probabilidad1,2,0)-ROUNDDOWN(VLOOKUP(Q140,Vr_Probabilidad1,2,0)*Datos!B137,0),Vr_Probabilidad,2,1))))","v":0},{"$f":"Datos!C137","v":0},"","",""]
["R",null,null,null,null,null,"",null,null,null,null,null,null,null,null,{"$f":"IF(COUNTA(I141:O141)<7,\"\",VLOOKUP(ROUNDUP((LEFT(I141,1)*'Criterios de Riesgo'!$C$3+LEFT(J141,1)*'Criterios de Riesgo'!$C$4+LEFT(K141,1)*'Criterios de Riesgo'!$C$5+LEFT(L141,1)*'Criterios de Riesgo'!$C$6+LEFT(M141,1)*'Criterios de Riesgo'!$C$7+LEFT(N141,1)*'Criterios de Riesgo'!$C$8+LEFT(O141,1)*'Criterios de Riesgo'!$C$9),0),Calif_Impacto,2))","v":""},null,"","",{"$f":"IF(OR(Datos!A138=0,Datos!A138=\"\"),P141,IF(ISERROR(VLOOKUP(VLOOKUP(P141,VrImpacto,2,0)-ROUNDDOWN(VLOOKUP(P141,VrImpacto,2,0)*Datos!A138,0),Vr_Impacto,2,1)),\"\",VLOOKUP(VLOOKUP(P141,VrImpacto,2,0)-ROUNDDOWN(VLOOKUP(P141,VrImpacto,2,0)*Datos!A138,0),Vr_Impacto,2,1)))","v":""},{"$f":"IF(Datos!B138=0,Q141,IF(Datos!B138=\"\",Q141,IF(ISERROR(VLOOKUP(VLOOKUP(Q141,Vr_Probabilidad1,2,0)+1-ROUNDDOWN(VLOOKUP(Q141,Vr_Probabilidad1,2,0)*Datos!B138,0),Vr_Probabilidad,2,1)),\"\",VLOOKUP(VLOOKUP(Q141,Vr_Probabilidad1,2,0)-ROUNDDOWN(VLOOKUP(Q141,Vr_Probabilidad1,2,0)*Datos!B138,0),Vr_Probabilidad,2,1))))","v":0},{"$f":"Datos!C138","v":0},"","",""]
["R",null,null,null,null,null,"",null,null,null,null,null,null,null,null,{"$f":"IF(COUNTA(I142:O142)<7,\"\",VLOOKUP(ROUNDUP((LEFT(I142,1)*'Criterios de Riesgo'!$C$3+LEFT(J142,1)*'Criterios de Riesgo'!$C$4+LEFT(K142,1)*'Criterios de Riesgo'!$C$5+LEFT(L142,1)*'Criterios de Riesgo'!$C$6+LEFT(M142,1)*'Criterios de Riesgo'!$C$7+LEFT(N142,1)*'Criterios de Riesgo'!$C$8+LEFT(O142,1)*'Criterios de Riesgo'!$C$9),0),Calif_Impacto,2))","v":""},null,"","",{"$f":"IF(OR(Datos!A139=0,Datos!A139=\"\"),P142,IF(ISERROR(VLOOKUP(VLOOKUP(P142,VrImpacto,2,0)-ROUNDDOWN(VLOOKUP(P142,VrImpacto,2,0)*Datos!A139,0),Vr_Impacto,2,1)),\"\",VLOOKUP(VLOOKUP(P142,VrImpacto,2,0)-ROUNDDOWN(VLOOKUP(P142,VrImpacto,2,0)*Datos!A139,0),Vr_Impacto,2,1)))","v":""},{"$f":"IF(Datos!B139=0,Q142,IF(Datos!B139=\"\",Q142,IF(ISERROR(VLOOKUP(VLOOKUP(Q142,Vr_Probabilidad1,2,0)+1-ROUNDDOWN(VLOOKUP(Q142,Vr_Probabilidad1,2,0)*Datos!B139,0),Vr_Probabilidad,2,1)),\"\",VLOOKUP(VLOOKUP(Q142,Vr_Probabilidad1,2,0)-ROUNDDOWN(VLOOKUP(Q142,Vr_Probabilidad1,2,0)*Datos!B139,0),Vr_Probabilidad,2,1))))","v":0},{"$f":"Datos!C139","v":0},"","",""]
["R",null,null,null,null,null,"",null,null,null,null,null,null,null,null,{"$f":"IF(COUNTA(I143:O143)<7,\"\",VLOOKUP(ROUNDUP((LEFT(I143,1)*'Criterios de Riesgo'!$C$3+LEFT(J143,1)*'Criterios de Riesgo'!$C$4+LEFT(K143,1)*'Criterios de Riesgo'!$C$5+LEFT(L143,1)*'Criterios de Riesgo'!$C$6+LEFT(M143,1)*'Criterios de Riesgo'!$C$7+LEFT(N143,1)*'Criterios de Riesgo'!$C$8+LEFT(O143,1)*'Criterios de Riesgo'!$C$9),0),Calif_Impacto,2))","v":""},null,"","",{"$f":"IF(OR(Datos!A140=0,Datos!A140=\"\"),P143,IF(ISERROR(VLOOKUP(VLOOKUP(P143,VrImpacto,2,0)-ROUNDDOWN(VLOOKUP(P143,VrImpacto,2,0)*Datos!A140,0),Vr_Impacto,2,1)),\"\",VLOOKUP(VLOOKUP(P143,VrImpacto,2,0)-ROUNDDOWN(VLOOKUP(P143,VrImpacto,2,0)*Datos!A140,0),Vr_Impacto,2,1)))","v":""},{"$f":"IF(Datos!B140=0,Q143,IF(Datos!B140=\"\",Q143,IF(ISERROR(VLOOKUP(VLOOKUP(Q143,Vr_Probabilidad1,2,0)+1-ROUNDDOWN(VLOOKUP(Q143,Vr_Probabilidad1,2,0)*Datos!B140,0),Vr_Probabilidad,2,1)),\"\",VLOOKUP(VLOOKUP(Q143,Vr_Probabilidad1,2,0)-ROUNDDOWN(VLOOKUP(Q143,Vr_Probabilidad1,2,0)*Datos!B140,0),Vr_Probabilidad,2,1))))","v":0},{"$f":"Datos!C140","v":0},"","",""]
["R",null,null,null,null,null,"",null,null,null,null,null,null,null,null,{"$f":"IF(COUNTA(I144:O144)<7,\"\",VLOOKUP(ROUNDUP((LEFT(I144,1)*'Criterios de Riesgo'!$C$3+LEFT(J144,1)*'Criterios de Riesgo'!$C$4+LEFT(K144,1)*'Criterios de Riesgo'!$C$5+LEFT(L144,1)*'Criterios de Riesgo'!$C$6+LEFT(M144,1)*'Criterios de Riesgo'!$C$7+LEFT(N144,1)*'Criterios de Riesgo'!$C$8+LEFT(O144,1)*'Criterios de Riesgo'!$C$9),0),Calif_Impacto,2))","v":""},null,"","",{"$f":"IF(OR(Datos!A141=0,Datos!A141=\"\"),P144,IF(ISERROR(VLOOKUP(VLOOKUP(P144,VrImpacto,2,0)-ROUNDDOWN(VLOOKUP(P144,VrImpacto,2,0)*Datos!A141,0),Vr_Impacto,2,1)),\"\",VLOOKUP(VLOOKUP(P144,VrImpacto,2,0)-ROUNDDOWN(VLOOKUP(P144,VrImpacto,2,0)*Datos!A141,0),Vr_Impacto,2,1)))","v":""},{"$f":"IF(Datos!B141=0,Q144,IF(Datos!B141=\"\",Q144,IF(ISERROR(VLOOKUP(VLOOKUP(Q144,Vr_Probabilidad1,2,0)+1-ROUNDDOWN(VLOOKUP(Q144,Vr_Probabilidad1,2,0)*Datos!B141,0),Vr_Probabilidad,2,1)),\"\",VLOOKUP(VLOOKUP(Q144,Vr_Probabilidad1,2,0)-ROUNDDOWN(VLOOKUP(Q144,Vr_Probabilidad1,2,0)*Datos!B141,0),Vr_Probabilidad,2,1))))","v":0},{"$f":"Datos!C141","v":0},"","",""]
["R",null,null,null,null,null,"",null,null,null,null,null,null,null,null,{"$f":"IF(COUNTA(I145:O145)<7,\"\",VLOOKUP(ROUNDUP((LEFT(I145,1)*'Criterios de Riesgo'!$C$3+LEFT(J145,1)*'Criterios de Riesgo'!$C$4+LEFT(K145,1)*'Criterios de Riesgo'!$C$5+LEFT(L145,1)*'Criterios de Riesgo'!$C$6+LEFT(M145,1)*'Criterios de Riesgo'!$C$7+LEFT(N145,1)*'Criterios de Riesgo'!$C$8+LEFT(O145,1)*'Criterios de Riesgo'!$C$9),0),Calif_Impacto,2))","v":""},null,"","",{"$f":"IF(OR(Datos!A142=0,Datos!A142=\"\"),P145,IF(ISERROR(VLOOKUP(VLOOKUP(P145,VrImpacto,2,0)-ROUNDDOWN(VLOOKUP(P145,VrImpacto,2,0)*Datos!A142,0),Vr_Impacto,2,1)),\"\",VLOOKUP(VLOOKUP(P145,VrImpacto,2,0)-ROUNDDOWN(VLOOKUP(P145,VrImpacto,2,0)*Datos!A142,0),Vr_Impacto,2,1)))","v":""},{"$f":"IF(Datos!B142=0,Q145,IF(Datos!B142=\"\",Q145,IF(ISERROR(VLOOKUP(VLOOKUP(Q145,Vr_Probabilidad1,2,0)+1-ROUNDDOWN(VLOOKUP(Q145,Vr_Probabilidad1,2,0)*Datos!B142,0),Vr_Probabilidad,2,1)),\"\",VLOOKUP(VLOOKUP(Q145,Vr_Probabilidad1,2,0)-ROUNDDOWN(VLOOKUP(Q145,Vr_Probabilidad1,2,0)*Datos!B142,0),Vr_Probabilidad,2,1))))","v":0},{"$f":"Datos!C142","v":0},"","",""]
["R",null,null,null,null,null,"",null,null,null,null,null,null,null,null,{"$f":"IF(COUNTA(I146:O146)<7,\"\",VLOOKUP(ROUNDUP((LEFT(I146,1)*'Criterios de Riesgo'!$C$3+LEFT(J146,1)*'Criterios de Riesgo'!$C$4+LEFT(K146,1)*'Criterios de Riesgo'!$C$5+LEFT(L146,1)*'Criterios de Riesgo'!$C$6+LEFT(M146,1)*'Criterios de Riesgo'!$C$7+LEFT(N146,1)*'Criterios de Riesgo'!$C$8+LEFT(O146,1)*'Criterios de Riesgo'!$C$9),0),Calif_Impacto,2))","v":""},null,"","",{"$f":"IF(OR(Datos!A143=0,Datos!A143=\"\"),P146,IF(ISERROR(VLOOKUP(VLOOKUP(P146,VrImpacto,2,0)-ROUNDDOWN(VLOOKUP(P146,VrImpacto,2,0)*Datos!A143,0),Vr_Impacto,2,1)),\"\",VLOOKUP(VLOOKUP(P146,VrImpacto,2,0)-ROUNDDOWN(VLOOKUP(P146,VrImpacto,2,0)*Datos!A143,0),Vr_Impacto,2,1)))","v":""},{"$f":"IF(Datos!B143=0,Q146,IF(Datos!B143=\"\",Q146,IF(ISERROR(VLOOKUP(VLOOKUP(Q146,Vr_Probabilidad1,2,0)+1-ROUNDDOWN(VLOOKUP(Q146,Vr_Probabilidad1,2,0)*Datos!B143,0),Vr_Probabilidad,2,1)),\"\",VLOOKUP(VLOOKUP(Q146,Vr_Probabilidad1,2,0)-ROUNDDOWN(VLOOKUP(Q146,Vr_Probabilidad1,2,0)*Datos!B143,0),Vr_Probabilidad,2,1))))","v":0},{"$f":"Datos!C143","v":0},"","",""]
["R",null,null,null,null,null,"",null,null,null,null,null,null,null,null,{"$f":"IF(COUNTA(I147:O147)<7,\"\",VLOOKUP(ROUNDUP((LEFT(I147,1)*'Criterios de Riesgo'!$C$3+LEFT(J147,1)*'Criterios de Riesgo'!$C$4+LEFT(K147,1)*'Criterios de Riesgo'!$C$5+LEFT(L147,1)*'Criterios de Riesgo'!$C$6+LEFT(M147,1)*'Criterios de Riesgo'!$C$7+LEFT(N147,1)*'Criterios de Riesgo'!$C$8+LEFT(O147,1)*'Criterios de Riesgo'!$C$9),0),Calif_Impacto,2))","v":""},null,"","",{"$f":"IF(OR(Datos!A144=0,Datos!A144=\"\"),P147,IF(ISERROR(VLOOKUP(VLOOKUP(P147,VrImpacto,2,0)-ROUNDDOWN(VLOOKUP(P147,VrImpacto,2,0)*Datos!A144,0),Vr_Impacto,2,1)),\"\",VLOOKUP(VLOOKUP(P147,VrImpacto,2,0)-ROUNDDOWN(VLOOKUP(P147,VrImpacto,2,0)*Datos!A144,0),Vr_Impacto,2,1)))","v":""},{"$f":"IF(Datos!B144=0,Q147,IF(Datos!B144=\"\",Q147,IF(ISERROR(VLOOKUP(VLOOKUP(Q147,Vr_Probabilidad1,2,0)+1-ROUNDDOWN(VLOOKUP(Q147,Vr_Probabilidad1,2,0)*Datos!B144,0),Vr_Probabilidad,2,1)),\"\",VLOOKUP(VLOOKUP(Q147,Vr_Probabilidad1,2,0)-ROUNDDOWN(VLOOKUP(Q147,Vr_Probabilidad1,2,0)*Datos!B144,0),Vr_Probabilidad,2,1))))","v":0},{"$f":"Datos!C144","v":0},"","",""]
["R",null,null,null,null,null,"",null,null,null,null,null,null,null,null,{"$f":"IF(COUNTA(I148:O148)<7,\"\",VLOOKUP(ROUNDUP((LEFT(I148,1)*'Criterios de Riesgo'!$C$3+LEFT(J148,1)*'Criterios de Riesgo'!$C$4+LEFT(K148,1)*'Criterios de Riesgo'!$C$5+LEFT(L148,1)*'Criterios de Riesgo'!$C$6+LEFT(M148,1)*'Criterios de Riesgo'!$C$7+LEFT(N148,1)*'Criterios de Riesgo'!$C$8+LEFT(O148,1)*'Criterios de Riesgo'!$C$9),0),Calif_Impacto,2))","v":""},null,"","",{"$f":"IF(OR(Datos!A145=0,Datos!A145=\"\"),P148,IF(ISERROR(VLOOKUP(VLOOKUP(P148,VrImpacto,2,0)-ROUNDDOWN(VLOOKUP(P148,VrImpacto,2,0)*Datos!A145,0),Vr_Impacto,2,1)),\"\",VLOOKUP(VLOOKUP(P148,VrImpacto,2,0)-ROUNDDOWN(VLOOKUP(P148,VrImpacto,2,0)*Datos!A145,0),Vr_Impacto,2,1)))","v":""},{"$f":"IF(Datos!B145=0,Q148,IF(Datos!B145=\"\",Q148,IF(ISERROR(VLOOKUP(VLOOKUP(Q148,Vr_Probabilidad1,2,0)+1-ROUNDDOWN(VLOOKUP(Q148,Vr_Probabilidad1,2,0)*Datos!B145,0),Vr_Probabilidad,2,1)),\"\",VLOOKUP(VLOOKUP(Q148,Vr_Probabilidad1,2,0)-ROUNDDOWN(VLOOKUP(Q148,Vr_Probabilidad1,2,0)*Datos!B145,0),Vr_Probabilidad,2,1))))","v":0},{"$f":"Datos!C145","v":0},"","",""]
["R",null,null,null,null,null,"",null,null,null,null,null,null,null,null,{"$f":"IF(COUNTA(I149:O149)<7,\"\",VLOOKUP(ROUNDUP((LEFT(I149,1)*'Criterios de Riesgo'!$C$3+LEFT(J149,1)*'Criterios de Riesgo'!$C$4+LEFT(K149,1)*'Criterios de Riesgo'!$C$5+LEFT(L149,1)*'Criterios de Riesgo'!$C$6+LEFT(M149,1)*'Criterios de Riesgo'!$C$7+LEFT(N149,1)*'Criterios de Riesgo'!$C$8+LEFT(O149,1)*'Criterios de Riesgo'!$C$9),0),Calif_Impacto,2))","v":""},null,"","",{"$f":"IF(OR(Datos!A146=0,Datos!A146=\"\"),P149,IF(ISERROR(VLOOKUP(VLOOKUP(P149,VrImpacto,2,0)-ROUNDDOWN(VLOOKUP(P149,VrImpacto,2,0)*Datos!A146,0),Vr_Impacto,2,1)),\"\",VLOOKUP(VLOOKUP(P149,VrImpacto,2,0)-ROUNDDOWN(VLOOKUP(P149,VrImpacto,2,0)*Datos!A146,0),Vr_Impacto,2,1)))","v":""},{"$f":"IF(Datos!B146=0,Q149,IF(Datos!B146=\"\",Q149,IF(ISERROR(VLOOKUP(VLOOKUP(Q149,Vr_Probabilidad1,2,0)+1-ROUNDDOWN(VLOOKUP(Q149,Vr_Probabilidad1,2,0)*Datos!B146,0),Vr_Probabilidad,2,1)),\"\",VLOOKUP(VLOOKUP(Q149,Vr_Probabilidad1,2,0)-ROUNDDOWN(VLOOKUP(Q149,Vr_Probabilidad1,2,0)*Datos!B146,0),Vr_Probabilidad,2,1))))","v":0},{"$f":"Datos!C146","v":0},"","",""]
["R",null,null,null,null,null,"",null,null,null,null,null,null,null,null,{"$f":"IF(COUNTA(I150:O150)<7,\"\",VLOOKUP(ROUNDUP((LEFT(I150,1)*'Criterios de Riesgo'!$C$3+LEFT(J150,1)*'Criterios de Riesgo'!$C$4+LEFT(K150,1)*'Criterios de Riesgo'!$C$5+LEFT(L150,1)*'Criterios de Riesgo'!$C$6+LEFT(M150,1)*'Criterios de Riesgo'!$C$7+LEFT(N150,1)*'Criterios de Riesgo'!$C$8+LEFT(O150,1)*'Criterios de Riesgo'!$C$9),0),Calif_Impacto,2))","v":""},null,"","",{"$f":"IF(OR(Datos!A147=0,Datos!A147=\"\"),P150,IF(ISERROR(VLOOKUP(VLOOKUP(P150,VrImpacto,2,0)-ROUNDDOWN(VLOOKUP(P150,VrImpacto,2,0)*Datos!A147,0),Vr_Impacto,2,1)),\"\",VLOOKUP(VLOOKUP(P150,VrImpacto,2,0)-ROUNDDOWN(VLOOKUP(P150,VrImpacto,2,0)*Datos!A147,0),Vr_Impacto,2,1)))","v":""},{"$f":"IF(Datos!B147=0,Q150,IF(Datos!B147=\"\",Q150,IF(ISERROR(VLOOKUP(VLOOKUP(Q150,Vr_Probabilidad1,2,0)+1-ROUNDDOWN(VLOOKUP(Q150,Vr_Probabilidad1,2,0)*Datos!B147,0),Vr_Probabilidad,2,1)),\"\",VLOOKUP(VLOOKUP(Q150,Vr_Probabilidad1,2,0)-ROUNDDOWN(VLOOKUP(Q150,Vr_Probabilidad1,2,0)*Datos!B147,0),Vr_Probabilidad,2,1))))","v":0},{"$f":"Datos!C147","v":0},"","",""]
["R",null,null,null,null,null,"",null,null,null,null,null,null,null,null,{"$f":"IF(COUNTA(I151:O151)<7,\"\",VLOOKUP(ROUNDUP((LEFT(I151,1)*'Criterios de Riesgo'!$C$3+LEFT(J151,1)*'Criterios de Riesgo'!$C$4+LEFT(K151,1)*'Criterios de Riesgo'!$C$5+LEFT(L151,1)*'Criterios de Riesgo'!$C$6+LEFT(M151,1)*'Criterios de Riesgo'!$C$7+LEFT(N151,1)*'Criterios de Riesgo'!$C$8+LEFT(O151,1)*'Criterios de Riesgo'!$C$9),0),Calif_Impacto,2))","v":""},null,"","",{"$f":"IF(OR(Datos!A148=0,Datos!A148=\"\"),P151,IF(ISERROR(VLOOKUP(VLOOKUP(P151,VrImpacto,2,0)-ROUNDDOWN(VLOOKUP(P151,VrImpacto,2,0)*Datos!A148,0),Vr_Impacto,2,1)),\"\",VLOOKUP(VLOOKUP(P151,VrImpacto,2,0)-ROUNDDOWN(VLOOKUP(P151,VrImpacto,2,0)*Datos!A148,0),Vr_Impacto,2,1)))","v":""},{"$f":"IF(Datos!B148=0,Q151,IF(Datos!B148=\"\",Q151,IF(ISERROR(VLOOKUP(VLOOKUP(Q151,Vr_Probabilidad1,2,0)+1-ROUNDDOWN(VLOOKUP(Q151,Vr_Probabilidad1,2,0)*Datos!B148,0),Vr_Probabilidad,2,1)),\"\",VLOOKUP(VLOOKUP(Q151,Vr_Probabilidad1,2,0)-ROUNDDOWN(VLOOKUP(Q151,Vr_Probabilidad1,2,0)*Datos!B148,0),Vr_Probabilidad,2,1))))","v":0},{"$f":"Datos!C148","v":0},"","",""]
["R",null,null,null,null,null,"",null,null,null,null,null,null,null,null,{"$f":"IF(COUNTA(I152:O152)<7,\"\",VLOOKUP(ROUNDUP((LEFT(I152,1)*'Criterios de Riesgo'!$C$3+LEFT(J152,1)*'Criterios de Riesgo'!$C$4+LEFT(K152,1)*'Criterios de Riesgo'!$C$5+LEFT(L152,1)*'Criterios de Riesgo'!$C$6+LEFT(M152,1)*'Criterios de Riesgo'!$C$7+LEFT(N152,1)*'Criterios de Riesgo'!$C$8+LEFT(O152,1)*'Criterios de Riesgo'!$C$9),0),Calif_Impacto,2))","v":""},null,"","",{"$f":"IF(OR(Datos!A149=0,Datos!A149=\"\"),P152,IF(ISERROR(VLOOKUP(VLOOKUP(P152,VrImpacto,2,0)-ROUNDDOWN(VLOOKUP(P152,VrImpacto,2,0)*Datos!A149,0),Vr_Impacto,2,1)),\"\",VLOOKUP(VLOOKUP(P152,VrImpacto,2,0)-ROUNDDOWN(VLOOKUP(P152,VrImpacto,2,0)*Datos!A149,0),Vr_Impacto,2,1)))","v":""},{"$f":"IF(Datos!B149=0,Q152,IF(Datos!B149=\"\",Q152,IF(ISERROR(VLOOKUP(VLOOKUP(Q152,Vr_Probabilidad1,2,0)+1-ROUNDDOWN(VLOOKUP(Q152,Vr_Probabilidad1,2,0)*Datos!B149,0),Vr_Probabilidad,2,1)),\"\",VLOOKUP(VLOOKUP(Q152,Vr_Probabilidad1,2,0)-ROUNDDOWN(VLOOKUP(Q152,Vr_Probabilidad1,2,0)*Datos!B149,0),Vr_Probabilidad,2,1))))","v":0},{"$f":"Datos!C149","v":0},"","",""]
["R",null,null,null,null,null,"",null,null,null,null,null,null,null,null,{"$f":"IF(COUNTA(I153:O153)<7,\"\",VLOOKUP(ROUNDUP((LEFT(I153,1)*'Criterios de Riesgo'!$C$3+LEFT(J153,1)*'Criterios de Riesgo'!$C$4+LEFT(K153,1)*'Criterios de Riesgo'!$C$5+LEFT(L153,1)*'Criterios de Riesgo'!$C$6+LEFT(M153,1)*'Criterios de Riesgo'!$C$7+LEFT(N153,1)*'Criterios de Riesgo'!$C$8+LEFT(O153,1)*'Criterios de Riesgo'!$C$9),0),Calif_Impacto,2))","v":""},null,"","",{"$f":"IF(OR(Datos!A150=0,Datos!A150=\"\"),P153,IF(ISERROR(VLOOKUP(VLOOKUP(P153,VrImpacto,2,0)-ROUNDDOWN(VLOOKUP(P153,VrImpacto,2,0)*Datos!A150,0),Vr_Impacto,2,1)),\"\",VLOOKUP(VLOOKUP(P153,VrImpacto,2,0)-ROUNDDOWN(VLOOKUP(P153,VrImpacto,2,0)*Datos!A150,0),Vr_Impacto,2,1)))","v":""},{"$f":"IF(Datos!B150=0,Q153,IF(Datos!B150=\"\",Q153,IF(ISERROR(VLOOKUP(VLOOKUP(Q153,Vr_Probabilidad1,2,0)+1-ROUNDDOWN(VLOOKUP(Q153,Vr_Probabilidad1,2,0)*Datos!B150,0),Vr_Probabilidad,2,1)),\"\",VLOOKUP(VLOOKUP(Q153,Vr_Probabilidad1,2,0)-ROUNDDOWN(VLOOKUP(Q153,Vr_Probabilidad1,2,0)*Datos!B150,0),Vr_Probabilidad,2,1))))","v":0},{"$f":"Datos!C150","v":0},"","",""]
["R",null,null,null,null,null,"",null,null,null,null,null,null,null,null,{"$f":"IF(COUNTA(I154:O154)<7,\"\",VLOOKUP(ROUNDUP((LEFT(I154,1)*'Criterios de Riesgo'!$C$3+LEFT(J154,1)*'Criterios de Riesgo'!$C$4+LEFT(K154,1)*'Criterios de Riesgo'!$C$5+LEFT(L154,1)*'Criterios de Riesgo'!$C$6+LEFT(M154,1)*'Criterios de Riesgo'!$C$7+LEFT(N154,1)*'Criterios de Riesgo'!$C$8+LEFT(O154,1)*'Criterios de Riesgo'!$C$9),0),Calif_Impacto,2))","v":""},null,"","",{"$f":"IF(OR(Datos!A151=0,Datos!A151=\"\"),P154,IF(ISERROR(VLOOKUP(VLOOKUP(P154,VrImpacto,2,0)-ROUNDDOWN(VLOOKUP(P154,VrImpacto,2,0)*Datos!A151,0),Vr_Impacto,2,1)),\"\",VLOOKUP(VLOOKUP(P154,VrImpacto,2,0)-ROUNDDOWN(VLOOKUP(P154,VrImpacto,2,0)*Datos!A151,0),Vr_Impacto,2,1)))","v":""},{"$f":"IF(Datos!B151=0,Q154,IF(Datos!B151=\"\",Q154,IF(ISERROR(VLOOKUP(VLOOKUP(Q154,Vr_Probabilidad1,2,0)+1-ROUNDDOWN(VLOOKUP(Q154,Vr_Probabilidad1,2,0)*Datos!B151,0),Vr_Probabilidad,2,1)),\"\",VLOOKUP(VLOOKUP(Q154,Vr_Probabilidad1,2,0)-ROUNDDOWN(VLOOKUP(Q154,Vr_Probabilidad1,2,0)*Datos!B151,0),Vr_Probabilidad,2,1))))","v":0},{"$f":"Datos!C151","v":0},"","",""]
["R",null,null,null,null,null,"",null,null,null,null,null,null,null,null,{"$f":"IF(COUNTA(I155:O155)<7,\"\",VLOOKUP(ROUNDUP((LEFT(I155,1)*'Criterios de Riesgo'!$C$3+LEFT(J155,1)*'Criterios de Riesgo'!$C$4+LEFT(K155,1)*'Criterios de Riesgo'!$C$5+LEFT(L155,1)*'Criterios de Riesgo'!$C$6+LEFT(M155,1)*'Criterios de Riesgo'!$C$7+LEFT(N155,1)*'Criterios de Riesgo'!$C$8+LEFT(O155,1)*'Criterios de Riesgo'!$C$9),0),Calif_Impacto,2))","v":""},null,"","",{"$f":"IF(OR(Datos!A152=0,Datos!A152=\"\"),P155,IF(ISERROR(VLOOKUP(VLOOKUP(P155,VrImpacto,2,0)-ROUNDDOWN(VLOOKUP(P155,VrImpacto,2,0)*Datos!A152,0),Vr_Impacto,2,1)),\"\",VLOOKUP(VLOOKUP(P155,VrImpacto,2,0)-ROUNDDOWN(VLOOKUP(P155,VrImpacto,2,0)*Datos!A152,0),Vr_Impacto,2,1)))","v":""},{"$f":"IF(Datos!B152=0,Q155,IF(Datos!B152=\"\",Q155,IF(ISERROR(VLOOKUP(VLOOKUP(Q155,Vr_Probabilidad1,2,0)+1-ROUNDDOWN(VLOOKUP(Q155,Vr_Probabilidad1,2,0)*Datos!B152,0),Vr_Probabilidad,2,1)),\"\",VLOOKUP(VLOOKUP(Q155,Vr_Probabilidad1,2,0)-ROUNDDOWN(VLOOKUP(Q155,Vr_Probabilidad1,2,0)*Datos!B152,0),Vr_Probabilidad,2,1))))","v":0},{"$f":"Datos!C152","v":0},"","",""]
["R",null,null,null,null,null,"",null,null,null,null,null,null,null,null,{"$f":"IF(COUNTA(I156:O156)<7,\"\",VLOOKUP(ROUNDUP((LEFT(I156,1)*'Criterios de Riesgo'!$C$3+LEFT(J156,1)*'Criterios de Riesgo'!$C$4+LEFT(K156,1)*'Criterios de Riesgo'!$C$5+LEFT(L156,1)*'Criterios de Riesgo'!$C$6+LEFT(M156,1)*'Criterios de Riesgo'!$C$7+LEFT(N156,1)*'Criterios de Riesgo'!$C$8+LEFT(O156,1)*'Criterios de Riesgo'!$C$9),0),Calif_Impacto,2))","v":""},null,"","",{"$f":"IF(OR(Datos!A153=0,Datos!A153=\"\"),P156,IF(ISERROR(VLOOKUP(VLOOKUP(P156,VrImpacto,2,0)-ROUNDDOWN(VLOOKUP(P156,VrImpacto,2,0)*Datos!A153,0),Vr_Impacto,2,1)),\"\",VLOOKUP(VLOOKUP(P156,VrImpacto,2,0)-ROUNDDOWN(VLOOKUP(P156,VrImpacto,2,0)*Datos!A153,0),Vr_Impacto,2,1)))","v":""},{"$f":"IF(Datos!B153=0,Q156,IF(Datos!B153=\"\",Q156,IF(ISERROR(VLOOKUP(VLOOKUP(Q156,Vr_Probabilidad1,2,0)+1-ROUNDDOWN(VLOOKUP(Q156,Vr_Probabilidad1,2,0)*Datos!B153,0),Vr_Probabilidad,2,1)),\"\",VLOOKUP(VLOOKUP(Q156,Vr_Probabilidad1,2,0)-ROUNDDOWN(VLOOKUP(Q156,Vr_Probabilidad1,2,0)*Datos!B153,0),Vr_Probabilidad,2,1))))","v":0},{"$f":"Datos!C153","v":0},"","",""]
["R",null,null,null,null,null,"",null,null,null,null,null,null,null,null,{"$f":"IF(COUNTA(I157:O157)<7,\"\",VLOOKUP(ROUNDUP((LEFT(I157,1)*'Criterios de Riesgo'!$C$3+LEFT(J157,1)*'Criterios de Riesgo'!$C$4+LEFT(K157,1)*'Criterios de Riesgo'!$C$5+LEFT(L157,1)*'Criterios de Riesgo'!$C$6+LEFT(M157,1)*'Criterios de Riesgo'!$C$7+LEFT(N157,1)*'Criterios de Riesgo'!$C$8+LEFT(O157,1)*'Criterios de Riesgo'!$C$9),0),Calif_Impacto,2))","v":""},null,"","",{"$f":"IF(OR(Datos!A154=0,Datos!A154=\"\"),P157,IF(ISERROR(VLOOKUP(VLOOKUP(P157,VrImpacto,2,0)-ROUNDDOWN(VLOOKUP(P157,VrImpacto,2,0)*Datos!A154,0),Vr_Impacto,2,1)),\"\",VLOOKUP(VLOOKUP(P157,VrImpacto,2,0)-ROUNDDOWN(VLOOKUP(P157,VrImpacto,2,0)*Datos!A154,0),Vr_Impacto,2,1)))","v":""},{"$f":"IF(Datos!B154=0,Q157,IF(Datos!B154=\"\",Q157,IF(ISERROR(VLOOKUP(VLOOKUP(Q157,Vr_Probabilidad1,2,0)+1-ROUNDDOWN(VLOOKUP(Q157,Vr_Probabilidad1,2,0)*Datos!B154,0),Vr_Probabilidad,2,1)),\"\",VLOOKUP(VLOOKUP(Q157,Vr_Probabilidad1,2,0)-ROUNDDOWN(VLOOKUP(Q157,Vr_Probabilidad1,2,0)*Datos!B154,0),Vr_Probabilidad,2,1))))","v":0},{"$f":"Datos!C154","v":0},"","",""]
["R",null,null,null,null,null,"",null,null,null,null,null,null,null,null,{"$f":"IF(COUNTA(I158:O158)<7,\"\",VLOOKUP(ROUNDUP((LEFT(I158,1)*'Criterios de Riesgo'!$C$3+LEFT(J158,1)*'Criterios de Riesgo'!$C$4+LEFT(K158,1)*'Criterios de Riesgo'!$C$5+LEFT(L158,1)*'Criterios de Riesgo'!$C$6+LEFT(M158,1)*'Criterios de Riesgo'!$C$7+LEFT(N158,1)*'Criterios de Riesgo'!$C$8+LEFT(O158,1)*'Criterios de Riesgo'!$C$9),0),Calif_Impacto,2))","v":""},null,"","",{"$f":"IF(OR(Datos!A155=0,Datos!A155=\"\"),P158,IF(ISERROR(VLOOKUP(VLOOKUP(P158,VrImpacto,2,0)-ROUNDDOWN(VLOOKUP(P158,VrImpacto,2,0)*Datos!A155,0),Vr_Impacto,2,1)),\"\",VLOOKUP(VLOOKUP(P158,VrImpacto,2,0)-ROUNDDOWN(VLOOKUP(P158,VrImpacto,2,0)*Datos!A155,0),Vr_Impacto,2,1)))","v":""},{"$f":"IF(Datos!B155=0,Q158,IF(Datos!B155=\"\",Q158,IF(ISERROR(VLOOKUP(VLOOKUP(Q158,Vr_Probabilidad1,2,0)+1-ROUNDDOWN(VLOOKUP(Q158,Vr_Probabilidad1,2,0)*Datos!B155,0),Vr_Probabilidad,2,1)),\"\",VLOOKUP(VLOOKUP(Q158,Vr_Probabilidad1,2,0)-ROUNDDOWN(VLOOKUP(Q158,Vr_Probabilidad1,2,0)*Datos!B155,0),Vr_Probabilidad,2,1))))","v":0},{"$f":"Datos!C155","v":0},"","",""]
["R",null,null,null,null,null,"",null,null,null,null,null,null,null,null,{"$f":"IF(COUNTA(I159:O159)<7,\"\",VLOOKUP(ROUNDUP((LEFT(I159,1)*'Criterios de Riesgo'!$C$3+LEFT(J159,1)*'Criterios de Riesgo'!$C$4+LEFT(K159,1)*'Criterios de Riesgo'!$C$5+LEFT(L159,1)*'Criterios de Riesgo'!$C$6+LEFT(M159,1)*'Criterios de Riesgo'!$C$7+LEFT(N159,1)*'Criterios de Riesgo'!$C$8+LEFT(O159,1)*'Criterios de Riesgo'!$C$9),0),Calif_Impacto,2))","v":""},null,"","",{"$f":"IF(OR(Datos!A156=0,Datos!A156=\"\"),P159,IF(ISERROR(VLOOKUP(VLOOKUP(P159,VrImpacto,2,0)-ROUNDDOWN(VLOOKUP(P159,VrImpacto,2,0)*Datos!A156,0),Vr_Impacto,2,1)),\"\",VLOOKUP(VLOOKUP(P159,VrImpacto,2,0)-ROUNDDOWN(VLOOKUP(P159,VrImpacto,2,0)*Datos!A156,0),Vr_Impacto,2,1)))","v":""},{"$f":"IF(Datos!B156=0,Q159,IF(Datos!B156=\"\",Q159,IF(ISERROR(VLOOKUP(VLOOKUP(Q159,Vr_Probabilidad1,2,0)+1-ROUNDDOWN(VLOOKUP(Q159,Vr_Probabilidad1,2,0)*Datos!B156,0),Vr_Probabilidad,2,1)),\"\",VLOOKUP(VLOOKUP(Q159,Vr_Probabilidad1,2,0)-ROUNDDOWN(VLOOKUP(Q159,Vr_Probabilidad1,2,0)*Datos!B156,0),Vr_Probabilidad,2,1))))","v":0},{"$f":"Datos!C156","v":0},"","",""]
["R",null,null,null,null,null,"",null,null,null,null,null,null,null,null,{"$f":"IF(COUNTA(I160:O160)<7,\"\",VLOOKUP(ROUNDUP((LEFT(I160,1)*'Criterios de Riesgo'!$C$3+LEFT(J160,1)*'Criterios de Riesgo'!$C$4+LEFT(K160,1)*'Criterios de Riesgo'!$C$5+LEFT(L160,1)*'Criterios de Riesgo'!$C$6+LEFT(M160,1)*'Criterios de Riesgo'!$C$7+LEFT(N160,1)*'Criterios de Riesgo'!$C$8+LEFT(O160,1)*'Criterios de Riesgo'!$C$9),0),Calif_Impacto,2))","v":""},null,"","",{"$f":"IF(OR(Datos!A157=0,Datos!A157=\"\"),P160,IF(ISERROR(VLOOKUP(VLOOKUP(P160,VrImpacto,2,0)-ROUNDDOWN(VLOOKUP(P160,VrImpacto,2,0)*Datos!A157,0),Vr_Impacto,2,1)),\"\",VLOOKUP(VLOOKUP(P160,VrImpacto,2,0)-ROUNDDOWN(VLOOKUP(P160,VrImpacto,2,0)*Datos!A157,0),Vr_Impacto,2,1)))","v":""},{"$f":"IF(Datos!B157=0,Q160,IF(Datos!B157=\"\",Q160,IF(ISERROR(VLOOKUP(VLOOKUP(Q160,Vr_Probabilidad1,2,0)+1-ROUNDDOWN(VLOOKUP(Q160,Vr_Probabilidad1,2,0)*Datos!B157,0),Vr_Probabilidad,2,1)),\"\",VLOOKUP(VLOOKUP(Q160,Vr_Probabilidad1,2,0)-ROUNDDOWN(VLOOKUP(Q160,Vr_Probabilidad1,2,0)*Datos!B157,0),Vr_Probabilidad,2,1))))","v":0},{"$f":"Datos!C157","v":0},"","",""]
["R",null,null,null,null,null,"",null,null,null,null,null,null,null,null,{"$f":"IF(COUNTA(I161:O161)<7,\"\",VLOOKUP(ROUNDUP((LEFT(I161,1)*'Criterios de Riesgo'!$C$3+LEFT(J161,1)*'Criterios de Riesgo'!$C$4+LEFT(K161,1)*'Criterios de Riesgo'!$C$5+LEFT(L161,1)*'Criterios de Riesgo'!$C$6+LEFT(M161,1)*'Criterios de Riesgo'!$C$7+LEFT(N161,1)*'Criterios de Riesgo'!$C$8+LEFT(O161,1)*'Criterios de Riesgo'!$C$9),0),Calif_Impacto,2))","v":""},null,"","",{"$f":"IF(OR(Datos!A158=0,Datos!A158=\"\"),P161,IF(ISERROR(VLOOKUP(VLOOKUP(P161,VrImpacto,2,0)-ROUNDDOWN(VLOOKUP(P161,VrImpacto,2,0)*Datos!A158,0),Vr_Impacto,2,1)),\"\",VLOOKUP(VLOOKUP(P161,VrImpacto,2,0)-ROUNDDOWN(VLOOKUP(P161,VrImpacto,2,0)*Datos!A158,0),Vr_Impacto,2,1)))","v":""},{"$f":"IF(Datos!B158=0,Q161,IF(Datos!B158=\"\",Q161,IF(ISERROR(VLOOKUP(VLOOKUP(Q161,Vr_Probabilidad1,2,0)+1-ROUNDDOWN(VLOOKUP(Q161,Vr_Probabilidad1,2,0)*Datos!B158,0),Vr_Probabilidad,2,1)),\"\",VLOOKUP(VLOOKUP(Q161,Vr_Probabilidad1,2,0)-ROUNDDOWN(VLOOKUP(Q161,Vr_Probabilidad1,2,0)*Datos!B158,0),Vr_Probabilidad,2,1))))","v":0},{"$f":"Datos!C158","v":0},"","",""]
["R",null,null,null,null,null,"",null,null,null,null,null,null,null,null,{"$f":"IF(COUNTA(I162:O162)<7,\"\",VLOOKUP(ROUNDUP((LEFT(I162,1)*'Criterios de Riesgo'!$C$3+LEFT(J162,1)*'Criterios de Riesgo'!$C$4+LEFT(K162,1)*'Criterios de Riesgo'!$C$5+LEFT(L162,1)*'Criterios de Riesgo'!$C$6+LEFT(M162,1)*'Criterios de Riesgo'!$C$7+LEFT(N162,1)*'Criterios de Riesgo'!$C$8+LEFT(O162,1)*'Criterios de Riesgo'!$C$9),0),Calif_Impacto,2))","v":""},null,"","",{"$f":"IF(OR(Datos!A159=0,Datos!A159=\"\"),P162,IF(ISERROR(VLOOKUP(VLOOKUP(P162,VrImpacto,2,0)-ROUNDDOWN(VLOOKUP(P162,VrImpacto,2,0)*Datos!A159,0),Vr_Impacto,2,1)),\"\",VLOOKUP(VLOOKUP(P162,VrImpacto,2,0)-ROUNDDOWN(VLOOKUP(P162,VrImpacto,2,0)*Datos!A159,0),Vr_Impacto,2,1)))","v":""},{"$f":"IF(Datos!B159=0,Q162,IF(Datos!B159=\"\",Q162,IF(ISERROR(VLOOKUP(VLOOKUP(Q162,Vr_Probabilidad1,2,0)+1-ROUNDDOWN(VLOOKUP(Q162,Vr_Probabilidad1,2,0)*Datos!B159,0),Vr_Probabilidad,2,1)),\"\",VLOOKUP(VLOOKUP(Q162,Vr_Probabilidad1,2,0)-ROUNDDOWN(VLOOKUP(Q162,Vr_Probabilidad1,2,0)*Datos!B159,0),Vr_Probabilidad,2,1))))","v":0},{"$f":"Datos!C159","v":0},"","",""]
["R",null,null,null,null,null,"",null,null,null,null,null,null,null,null,{"$f":"IF(COUNTA(I163:O163)<7,\"\",VLOOKUP(ROUNDUP((LEFT(I163,1)*'Criterios de Riesgo'!$C$3+LEFT(J163,1)*'Criterios de Riesgo'!$C$4+LEFT(K163,1)*'Criterios de Riesgo'!$C$5+LEFT(L163,1)*'Criterios de Riesgo'!$C$6+LEFT(M163,1)*'Criterios de Riesgo'!$C$7+LEFT(N163,1)*'Criterios de Riesgo'!$C$8+LEFT(O163,1)*'Criterios de Riesgo'!$C$9),0),Calif_Impacto,2))","v":""},null,"","",{"$f":"IF(OR(Datos!A160=0,Datos!A160=\"\"),P163,IF(ISERROR(VLOOKUP(VLOOKUP(P163,VrImpacto,2,0)-ROUNDDOWN(VLOOKUP(P163,VrImpacto,2,0)*Datos!A160,0),Vr_Impacto,2,1)),\"\",VLOOKUP(VLOOKUP(P163,VrImpacto,2,0)-ROUNDDOWN(VLOOKUP(P163,VrImpacto,2,0)*Datos!A160,0),Vr_Impacto,2,1)))","v":""},{"$f":"IF(Datos!B160=0,Q163,IF(Datos!B160=\"\",Q163,IF(ISERROR(VLOOKUP(VLOOKUP(Q163,Vr_Probabilidad1,2,0)+1-ROUNDDOWN(VLOOKUP(Q163,Vr_Probabilidad1,2,0)*Datos!B160,0),Vr_Probabilidad,2,1)),\"\",VLOOKUP(VLOOKUP(Q163,Vr_Probabilidad1,2,0)-ROUNDDOWN(VLOOKUP(Q163,Vr_Probabilidad1,2,0)*Datos!B160,0),Vr_Probabilidad,2,1))))","v":0},{"$f":"Datos!C160","v":0},"","",""]
["R",null,null,null,null,null,"",null,null,null,null,null,null,null,null,{"$f":"IF(COUNTA(I164:O164)<7,\"\",VLOOKUP(ROUNDUP((LEFT(I164,1)*'Criterios de Riesgo'!$C$3+LEFT(J164,1)*'Criterios de Riesgo'!$C$4+LEFT(K164,1)*'Criterios de Riesgo'!$C$5+LEFT(L164,1)*'Criterios de Riesgo'!$C$6+LEFT(M164,1)*'Criterios de Riesgo'!$C$7+LEFT(N164,1)*'Criterios de Riesgo'!$C$8+LEFT(O164,1)*'Criterios de Riesgo'!$C$9),0),Calif_Impacto,2))","v":""},null,"","",{"$f":"IF(OR(Datos!A161=0,Datos!A161=\"\"),P164,IF(ISERROR(VLOOKUP(VLOOKUP(P164,VrImpacto,2,0)-ROUNDDOWN(VLOOKUP(P164,VrImpacto,2,0)*Datos!A161,0),Vr_Impacto,2,1)),\"\",VLOOKUP(VLOOKUP(P164,VrImpacto,2,0)-ROUNDDOWN(VLOOKUP(P164,VrImpacto,2,0)*Datos!A161,0),Vr_Impacto,2,1)))","v":""},{"$f":"IF(Datos!B161=0,Q164,IF(Datos!B161=\"\",Q164,IF(ISERROR(VLOOKUP(VLOOKUP(Q164,Vr_Probabilidad1,2,0)+1-ROUNDDOWN(VLOOKUP(Q164,Vr_Probabilidad1,2,0)*Datos!B161,0),Vr_Probabilidad,2,1)),\"\",VLOOKUP(VLOOKUP(Q164,Vr_Probabilidad1,2,0)-ROUNDDOWN(VLOOKUP(Q164,Vr_Probabilidad1,2,0)*Datos!B161,0),Vr_Probabilidad,2,1))))","v":0},{"$f":"Datos!C161","v":0},"","",""]
["R",null,null,null,null,null,"",null,null,null,null,null,null,null,null,{"$f":"IF(COUNTA(I165:O165)<7,\"\",VLOOKUP(ROUNDUP((LEFT(I165,1)*'Criterios de Riesgo'!$C$3+LEFT(J165,1)*'Criterios de Riesgo'!$C$4+LEFT(K165,1)*'Criterios de Riesgo'!$C$5+LEFT(L165,1)*'Criterios de Riesgo'!$C$6+LEFT(M165,1)*'Criterios de Riesgo'!$C$7+LEFT(N165,1)*'Criterios de Riesgo'!$C$8+LEFT(O165,1)*'Criterios de Riesgo'!$C$9),0),Calif_Impacto,2))","v":""},null,"","",{"$f":"IF(OR(Datos!A162=0,Datos!A162=\"\"),P165,IF(ISERROR(VLOOKUP(VLOOKUP(P165,VrImpacto,2,0)-ROUNDDOWN(VLOOKUP(P165,VrImpacto,2,0)*Datos!A162,0),Vr_Impacto,2,1)),\"\",VLOOKUP(VLOOKUP(P165,VrImpacto,2,0)-ROUNDDOWN(VLOOKUP(P165,VrImpacto,2,0)*Datos!A162,0),Vr_Impacto,2,1)))","v":""},{"$f":"IF(Datos!B162=0,Q165,IF(Datos!B162=\"\",Q165,IF(ISERROR(VLOOKUP(VLOOKUP(Q165,Vr_Probabilidad1,2,0)+1-ROUNDDOWN(VLOOKUP(Q165,Vr_Probabilidad1,2,0)*Datos!B162,0),Vr_Probabilidad,2,1)),\"\",VLOOKUP(VLOOKUP(Q165,Vr_Probabilidad1,2,0)-ROUNDDOWN(VLOOKUP(Q165,Vr_Probabilidad1,2,0)*Datos!B162,0),Vr_Probabilidad,2,1))))","v":0},{"$f":"Datos!C162","v":0},"","",""]
["R",null,null,null,null,null,"",null,null,null,null,null,null,null,null,{"$f":"IF(COUNTA(I166:O166)<7,\"\",VLOOKUP(ROUNDUP((LEFT(I166,1)*'Criterios de Riesgo'!$C$3+LEFT(J166,1)*'Criterios de Riesgo'!$C$4+LEFT(K166,1)*'Criterios de Riesgo'!$C$5+LEFT(L166,1)*'Criterios de Riesgo'!$C$6+LEFT(M166,1)*'Criterios de Riesgo'!$C$7+LEFT(N166,1)*'Criterios de Riesgo'!$C$8+LEFT(O166,1)*'Criterios de Riesgo'!$C$9),0),Calif_Impacto,2))","v":""},null,"","",{"$f":"IF(OR(Datos!A163=0,Datos!A163=\"\"),P166,IF(ISERROR(VLOOKUP(VLOOKUP(P166,VrImpacto,2,0)-ROUNDDOWN(VLOOKUP(P166,VrImpacto,2,0)*Datos!A163,0),Vr_Impacto,2,1)),\"\",VLOOKUP(VLOOKUP(P166,VrImpacto,2,0)-ROUNDDOWN(VLOOKUP(P166,VrImpacto,2,0)*Datos!A163,0),Vr_Impacto,2,1)))","v":""},{"$f":"IF(Datos!B163=0,Q166,IF(Datos!B163=\"\",Q166,IF(ISERROR(VLOOKUP(VLOOKUP(Q166,Vr_Probabilidad1,2,0)+1-ROUNDDOWN(VLOOKUP(Q166,Vr_Probabilidad1,2,0)*Datos!B163,0),Vr_Probabilidad,2,1)),\"\",VLOOKUP(VLOOKUP(Q166,Vr_Probabilidad1,2,0)-ROUNDDOWN(VLOOKUP(Q166,Vr_Probabilidad1,2,0)*Datos!B163,0),Vr_Probabilidad,2,1))))","v":0},{"$f":"Datos!C163","v":0},"","",""]
["R",null,null,null,null,null,"",null,null,null,null,null,null,null,null,{"$f":"IF(COUNTA(I167:O167)<7,\"\",VLOOKUP(ROUNDUP((LEFT(I167,1)*'Criterios de Riesgo'!$C$3+LEFT(J167,1)*'Criterios de Riesgo'!$C$4+LEFT(K167,1)*'Criterios de Riesgo'!$C$5+LEFT(L167,1)*'Criterios de Riesgo'!$C$6+LEFT(M167,1)*'Criterios de Riesgo'!$C$7+LEFT(N167,1)*'Criterios de Riesgo'!$C$8+LEFT(O167,1)*'Criterios de Riesgo'!$C$9),0),Calif_Impacto,2))","v":""},null,"","",{"$f":"IF(OR(Datos!A164=0,Datos!A164=\"\"),P167,IF(ISERROR(VLOOKUP(VLOOKUP(P167,VrImpacto,2,0)-ROUNDDOWN(VLOOKUP(P167,VrImpacto,2,0)*Datos!A164,0),Vr_Impacto,2,1)),\"\",VLOOKUP(VLOOKUP(P167,VrImpacto,2,0)-ROUNDDOWN(VLOOKUP(P167,VrImpacto,2,0)*Datos!A164,0),Vr_Impacto,2,1)))","v":""},{"$f":"IF(Datos!B164=0,Q167,IF(Datos!B164=\"\",Q167,IF(ISERROR(VLOOKUP(VLOOKUP(Q167,Vr_Probabilidad1,2,0)+1-ROUNDDOWN(VLOOKUP(Q167,Vr_Probabilidad1,2,0)*Datos!B164,0),Vr_Probabilidad,2,1)),\"\",VLOOKUP(VLOOKUP(Q167,Vr_Probabilidad1,2,0)-ROUNDDOWN(VLOOKUP(Q167,Vr_Probabilidad1,2,0)*Datos!B164,0),Vr_Probabilidad,2,1))))","v":0},{"$f":"Datos!C164","v":0},"","",""]
["R",null,null,null,null,null,"",null,null,null,null,null,null,null,null,{"$f":"IF(COUNTA(I168:O168)<7,\"\",VLOOKUP(ROUNDUP((LEFT(I168,1)*'Criterios de Riesgo'!$C$3+LEFT(J168,1)*'Criterios de Riesgo'!$C$4+LEFT(K168,1)*'Criterios de Riesgo'!$C$5+LEFT(L168,1)*'Criterios de Riesgo'!$C$6+LEFT(M168,1)*'Criterios de Riesgo'!$C$7+LEFT(N168,1)*'Criterios de Riesgo'!$C$8+LEFT(O168,1)*'Criterios de Riesgo'!$C$9),0),Calif_Impacto,2))","v":""},null,"","",{"$f":"IF(OR(Datos!A165=0,Datos!A165=\"\"),P168,IF(ISERROR(VLOOKUP(VLOOKUP(P168,VrImpacto,2,0)-ROUNDDOWN(VLOOKUP(P168,VrImpacto,2,0)*Datos!A165,0),Vr_Impacto,2,1)),\"\",VLOOKUP(VLOOKUP(P168,VrImpacto,2,0)-ROUNDDOWN(VLOOKUP(P168,VrImpacto,2,0)*Datos!A165,0),Vr_Impacto,2,1)))","v":""},{"$f":"IF(Datos!B165=0,Q168,IF(Datos!B165=\"\",Q168,IF(ISERROR(VLOOKUP(VLOOKUP(Q168,Vr_Probabilidad1,2,0)+1-ROUNDDOWN(VLOOKUP(Q168,Vr_Probabilidad1,2,0)*Datos!B165,0),Vr_Probabilidad,2,1)),\"\",VLOOKUP(VLOOKUP(Q168,Vr_Probabilidad1,2,0)-ROUNDDOWN(VLOOKUP(Q168,Vr_Probabilidad1,2,0)*Datos!B165,0),Vr_Probabilidad,2,1))))","v":0},{"$f":"Datos!C165","v":0},"","",""]
["R",null,null,null,null,null,"",null,null,null,null,null,null,null,null,{"$f":"IF(COUNTA(I169:O169)<7,\"\",VLOOKUP(ROUNDUP((LEFT(I169,1)*'Criterios de Riesgo'!$C$3+LEFT(J169,1)*'Criterios de Riesgo'!$C$4+LEFT(K169,1)*'Criterios de Riesgo'!$C$5+LEFT(L169,1)*'Criterios de Riesgo'!$C$6+LEFT(M169,1)*'Criterios de Riesgo'!$C$7+LEFT(N169,1)*'Criterios de Riesgo'!$C$8+LEFT(O169,1)*'Criterios de Riesgo'!$C$9),0),Calif_Impacto,2))","v":""},null,"","",{"$f":"IF(OR(Datos!A166=0,Datos!A166=\"\"),P169,IF(ISERROR(VLOOKUP(VLOOKUP(P169,VrImpacto,2,0)-ROUNDDOWN(VLOOKUP(P169,VrImpacto,2,0)*Datos!A166,0),Vr_Impacto,2,1)),\"\",VLOOKUP(VLOOKUP(P169,VrImpacto,2,0)-ROUNDDOWN(VLOOKUP(P169,VrImpacto,2,0)*Datos!A166,0),Vr_Impacto,2,1)))","v":""},{"$f":"IF(Datos!B166=0,Q169,IF(Datos!B166=\"\",Q169,IF(ISERROR(VLOOKUP(VLOOKUP(Q169,Vr_Probabilidad1,2,0)+1-ROUNDDOWN(VLOOKUP(Q169,Vr_Probabilidad1,2,0)*Datos!B166,0),Vr_Probabilidad,2,1)),\"\",VLOOKUP(VLOOKUP(Q169,Vr_Probabilidad1,2,0)-ROUNDDOWN(VLOOKUP(Q169,Vr_Probabilidad1,2,0)*Datos!B166,0),Vr_Probabilidad,2,1))))","v":0},{"$f":"Datos!C166","v":0},"","",""]
["R",null,null,null,null,null,"",null,null,null,null,null,null,null,null,{"$f":"IF(COUNTA(I170:O170)<7,\"\",VLOOKUP(ROUNDUP((LEFT(I170,1)*'Criterios de Riesgo'!$C$3+LEFT(J170,1)*'Criterios de Riesgo'!$C$4+LEFT(K170,1)*'Criterios de Riesgo'!$C$5+LEFT(L170,1)*'Criterios de Riesgo'!$C$6+LEFT(M170,1)*'Criterios de Riesgo'!$C$7+LEFT(N170,1)*'Criterios de Riesgo'!$C$8+LEFT(O170,1)*'Criterios de Riesgo'!$C$9),0),Calif_Impacto,2))","v":""},null,"","",{"$f":"IF(OR(Datos!A167=0,Datos!A167=\"\"),P170,IF(ISERROR(VLOOKUP(VLOOKUP(P170,VrImpacto,2,0)-ROUNDDOWN(VLOOKUP(P170,VrImpacto,2,0)*Datos!A167,0),Vr_Impacto,2,1)),\"\",VLOOKUP(VLOOKUP(P170,VrImpacto,2,0)-ROUNDDOWN(VLOOKUP(P170,VrImpacto,2,0)*Datos!A167,0),Vr_Impacto,2,1)))","v":""},{"$f":"IF(Datos!B167=0,Q170,IF(Datos!B167=\"\",Q170,IF(ISERROR(VLOOKUP(VLOOKUP(Q170,Vr_Probabilidad1,2,0)+1-ROUNDDOWN(VLOOKUP(Q170,Vr_Probabilidad1,2,0)*Datos!B167,0),Vr_Probabilidad,2,1)),\"\",VLOOKUP(VLOOKUP(Q170,Vr_Probabilidad1,2,0)-ROUNDDOWN(VLOOKUP(Q170,Vr_Probabilidad1,2,0)*Datos!B167,0),Vr_Probabilidad,2,1))))","v":0},{"$f":"Datos!C167","v":0},"","",""]
["R",null,null,null,null,null,"",null,null,null,null,null,null,null,null,{"$f":"IF(COUNTA(I171:O171)<7,\"\",VLOOKUP(ROUNDUP((LEFT(I171,1)*'Criterios de Riesgo'!$C$3+LEFT(J171,1)*'Criterios de Riesgo'!$C$4+LEFT(K171,1)*'Criterios de Riesgo'!$C$5+LEFT(L171,1)*'Criterios de Riesgo'!$C$6+LEFT(M171,1)*'Criterios de Riesgo'!$C$7+LEFT(N171,1)*'Criterios de Riesgo'!$C$8+LEFT(O171,1)*'Criterios de Riesgo'!$C$9),0),Calif_Impacto,2))","v":""},null,"","",{"$f":"IF(OR(Datos!A168=0,Datos!A168=\"\"),P171,IF(ISERROR(VLOOKUP(VLOOKUP(P171,VrImpacto,2,0)-ROUNDDOWN(VLOOKUP(P171,VrImpacto,2,0)*Datos!A168,0),Vr_Impacto,2,1)),\"\",VLOOKUP(VLOOKUP(P171,VrImpacto,2,0)-ROUNDDOWN(VLOOKUP(P171,VrImpacto,2,0)*Datos!A168,0),Vr_Impacto,2,1)))","v":""},{"$f":"IF(Datos!B168=0,Q171,IF(Datos!B168=\"\",Q171,IF(ISERROR(VLOOKUP(VLOOKUP(Q171,Vr_Probabilidad1,2,0)+1-ROUNDDOWN(VLOOKUP(Q171,Vr_Probabilidad1,2,0)*Datos!B168,0),Vr_Probabilidad,2,1)),\"\",VLOOKUP(VLOOKUP(Q171,Vr_Probabilidad1,2,0)-ROUNDDOWN(VLOOKUP(Q171,Vr_Probabilidad1,2,0)*Datos!B168,0),Vr_Probabilidad,2,1))))","v":0},{"$f":"Datos!C168","v":0},"","",""]
["R",null,null,null,null,null,"",null,null,null,null,null,null,null,null,{"$f":"IF(COUNTA(I172:O172)<7,\"\",VLOOKUP(ROUNDUP((LEFT(I172,1)*'Criterios de Riesgo'!$C$3+LEFT(J172,1)*'Criterios de Riesgo'!$C$4+LEFT(K172,1)*'Criterios de Riesgo'!$C$5+LEFT(L172,1)*'Criterios de Riesgo'!$C$6+LEFT(M172,1)*'Criterios de Riesgo'!$C$7+LEFT(N172,1)*'Criterios de Riesgo'!$C$8+LEFT(O172,1)*'Criterios de Riesgo'!$C$9),0),Calif_Impacto,2))","v":""},null,"","",{"$f":"IF(OR(Datos!A169=0,Datos!A169=\"\"),P172,IF(ISERROR(VLOOKUP(VLOOKUP(P172,VrImpacto,2,0)-ROUNDDOWN(VLOOKUP(P172,VrImpacto,2,0)*Datos!A169,0),Vr_Impacto,2,1)),\"\",VLOOKUP(VLOOKUP(P172,VrImpacto,2,0)-ROUNDDOWN(VLOOKUP(P172,VrImpacto,2,0)*Datos!A169,0),Vr_Impacto,2,1)))","v":""},{"$f":"IF(Datos!B169=0,Q172,IF(Datos!B169=\"\",Q172,IF(ISERROR(VLOOKUP(VLOOKUP(Q172,Vr_Probabilidad1,2,0)+1-ROUNDDOWN(VLOOKUP(Q172,Vr_Probabilidad1,2,0)*Datos!B169,0),Vr_Probabilidad,2,1)),\"\",VLOOKUP(VLOOKUP(Q172,Vr_Probabilidad1,2,0)-ROUNDDOWN(VLOOKUP(Q172,Vr_Probabilidad1,2,0)*Datos!B169,0),Vr_Probabilidad,2,1))))","v":0},{"$f":"Datos!C169","v":0},"","",""]
["R",null,null,null,null,null,"",null,null,null,null,null,null,null,null,{"$f":"IF(COUNTA(I173:O173)<7,\"\",VLOOKUP(ROUNDUP((LEFT(I173,1)*'Criterios de Riesgo'!$C$3+LEFT(J173,1)*'Criterios de Riesgo'!$C$4+LEFT(K173,1)*'Criterios de Riesgo'!$C$5+LEFT(L173,1)*'Criterios de Riesgo'!$C$6+LEFT(M173,1)*'Criterios de Riesgo'!$C$7+LEFT(N173,1)*'Criterios de Riesgo'!$C$8+LEFT(O173,1)*'Criterios de Riesgo'!$C$9),0),Calif_Impacto,2))","v":""},null,"","",{"$f":"IF(OR(Datos!A170=0,Datos!A170=\"\"),P173,IF(ISERROR(VLOOKUP(VLOOKUP(P173,VrImpacto,2,0)-ROUNDDOWN(VLOOKUP(P173,VrImpacto,2,0)*Datos!A170,0),Vr_Impacto,2,1)),\"\",VLOOKUP(VLOOKUP(P173,VrImpacto,2,0)-ROUNDDOWN(VLOOKUP(P173,VrImpacto,2,0)*Datos!A170,0),Vr_Impacto,2,1)))","v":""},{"$f":"IF(Datos!B170=0,Q173,IF(Datos!B170=\"\",Q173,IF(ISERROR(VLOOKUP(VLOOKUP(Q173,Vr_Probabilidad1,2,0)+1-ROUNDDOWN(VLOOKUP(Q173,Vr_Probabilidad1,2,0)*Datos!B170,0),Vr_Probabilidad,2,1)),\"\",VLOOKUP(VLOOKUP(Q173,Vr_Probabilidad1,2,0)-ROUNDDOWN(VLOOKUP(Q173,Vr_Probabilidad1,2,0)*Datos!B170,0),Vr_Probabilidad,2,1))))","v":0},{"$f":"Datos!C170","v":0},"","",""]
["R",null,null,null,null,null,"",null,null,null,null,null,null,null,null,{"$f":"IF(COUNTA(I174:O174)<7,\"\",VLOOKUP(ROUNDUP((LEFT(I174,1)*'Criterios de Riesgo'!$C$3+LEFT(J174,1)*'Criterios de Riesgo'!$C$4+LEFT(K174,1)*'Criterios de Riesgo'!$C$5+LEFT(L174,1)*'Criterios de Riesgo'!$C$6+LEFT(M174,1)*'Criterios de Riesgo'!$C$7+LEFT(N174,1)*'Criterios de Riesgo'!$C$8+LEFT(O174,1)*'Criterios de Riesgo'!$C$9),0),Calif_Impacto,2))","v":""},null,"","",{"$f":"IF(OR(Datos!A171=0,Datos!A171=\"\"),P174,IF(ISERROR(VLOOKUP(VLOOKUP(P174,VrImpacto,2,0)-ROUNDDOWN(VLOOKUP(P174,VrImpacto,2,0)*Datos!A171,0),Vr_Impacto,2,1)),\"\",VLOOKUP(VLOOKUP(P174,VrImpacto,2,0)-ROUNDDOWN(VLOOKUP(P174,VrImpacto,2,0)*Datos!A171,0),Vr_Impacto,2,1)))","v":""},{"$f":"IF(Datos!B171=0,Q174,IF(Datos!B171=\"\",Q174,IF(ISERROR(VLOOKUP(VLOOKUP(Q174,Vr_Probabilidad1,2,0)+1-ROUNDDOWN(VLOOKUP(Q174,Vr_Probabilidad1,2,0)*Datos!B171,0),Vr_Probabilidad,2,1)),\"\",VLOOKUP(VLOOKUP(Q174,Vr_Probabilidad1,2,0)-ROUNDDOWN(VLOOKUP(Q174,Vr_Probabilidad1,2,0)*Datos!B171,0),Vr_Probabilidad,2,1))))","v":0},{"$f":"Datos!C171","v":0},"","",""]
["R",null,null,null,null,null,"",null,null,null,null,null,null,null,null,{"$f":"IF(COUNTA(I175:O175)<7,\"\",VLOOKUP(ROUNDUP((LEFT(I175,1)*'Criterios de Riesgo'!$C$3+LEFT(J175,1)*'Criterios de Riesgo'!$C$4+LEFT(K175,1)*'Criterios de Riesgo'!$C$5+LEFT(L175,1)*'Criterios de Riesgo'!$C$6+LEFT(M175,1)*'Criterios de Riesgo'!$C$7+LEFT(N175,1)*'Criterios de Riesgo'!$C$8+LEFT(O175,1)*'Criterios de Riesgo'!$C$9),0),Calif_Impacto,2))","v":""},null,"","",{"$f":"IF(OR(Datos!A172=0,Datos!A172=\"\"),P175,IF(ISERROR(VLOOKUP(VLOOKUP(P175,VrImpacto,2,0)-ROUNDDOWN(VLOOKUP(P175,VrImpacto,2,0)*Datos!A172,0),Vr_Impacto,2,1)),\"\",VLOOKUP(VLOOKUP(P175,VrImpacto,2,0)-ROUNDDOWN(VLOOKUP(P175,VrImpacto,2,0)*Datos!A172,0),Vr_Impacto,2,1)))","v":""},{"$f":"IF(Datos!B172=0,Q175,IF(Datos!B172=\"\",Q175,IF(ISERROR(VLOOKUP(VLOOKUP(Q175,Vr_Probabilidad1,2,0)+1-ROUNDDOWN(VLOOKUP(Q175,Vr_Probabilidad1,2,0)*Datos!B172,0),Vr_Probabilidad,2,1)),\"\",VLOOKUP(VLOOKUP(Q175,Vr_Probabilidad1,2,0)-ROUNDDOWN(VLOOKUP(Q175,Vr_Probabilidad1,2,0)*Datos!B172,0),Vr_Probabilidad,2,1))))","v":0},{"$f":"Datos!C172","v":0},"","",""]
["R",null,null,null,null,null,"",null,null,null,null,null,null,null,null,{"$f":"IF(COUNTA(I176:O176)<7,\"\",VLOOKUP(ROUNDUP((LEFT(I176,1)*'Criterios de Riesgo'!$C$3+LEFT(J176,1)*'Criterios de Riesgo'!$C$4+LEFT(K176,1)*'Criterios de Riesgo'!$C$5+LEFT(L176,1)*'Criterios de Riesgo'!$C$6+LEFT(M176,1)*'Criterios de Riesgo'!$C$7+LEFT(N176,1)*'Criterios de Riesgo'!$C$8+LEFT(O176,1)*'Criterios de Riesgo'!$C$9),0),Calif_Impacto,2))","v":""},null,"","",{"$f":"IF(OR(Datos!A173=0,Datos!A173=\"\"),P176,IF(ISERROR(VLOOKUP(VLOOKUP(P176,VrImpacto,2,0)-ROUNDDOWN(VLOOKUP(P176,VrImpacto,2,0)*Datos!A173,0),Vr_Impacto,2,1)),\"\",VLOOKUP(VLOOKUP(P176,VrImpacto,2,0)-ROUNDDOWN(VLOOKUP(P176,VrImpacto,2,0)*Datos!A173,0),Vr_Impacto,2,1)))","v":""},{"$f":"IF(Datos!B173=0,Q176,IF(Datos!B173=\"\",Q176,IF(ISERROR(VLOOKUP(VLOOKUP(Q176,Vr_Probabilidad1,2,0)+1-ROUNDDOWN(VLOOKUP(Q176,Vr_Probabilidad1,2,0)*Datos!B173,0),Vr_Probabilidad,2,1)),\"\",VLOOKUP(VLOOKUP(Q176,Vr_Probabilidad1,2,0)-ROUNDDOWN(VLOOKUP(Q176,Vr_Probabilidad1,2,0)*Datos!B173,0),Vr_Probabilidad,2,1))))","v":0},{"$f":"Datos!C173","v":0},"","",""]
["R",null,null,null,null,null,"",null,null,null,null,null,null,null,null,{"$f":"IF(COUNTA(I177:O177)<7,\"\",VLOOKUP(ROUNDUP((LEFT(I177,1)*'Criterios de Riesgo'!$C$3+LEFT(J177,1)*'Criterios de Riesgo'!$C$4+LEFT(K177,1)*'Criterios de Riesgo'!$C$5+LEFT(L177,1)*'Criterios de Riesgo'!$C$6+LEFT(M177,1)*'Criterios de Riesgo'!$C$7+LEFT(N177,1)*'Criterios de Riesgo'!$C$8+LEFT(O177,1)*'Criterios de Riesgo'!$C$9),0),Calif_Impacto,2))","v":""},null,"","",{"$f":"IF(OR(Datos!A174=0,Datos!A174=\"\"),P177,IF(ISERROR(VLOOKUP(VLOOKUP(P177,VrImpacto,2,0)-ROUNDDOWN(VLOOKUP(P177,VrImpacto,2,0)*Datos!A174,0),Vr_Impacto,2,1)),\"\",VLOOKUP(VLOOKUP(P177,VrImpacto,2,0)-ROUNDDOWN(VLOOKUP(P177,VrImpacto,2,0)*Datos!A174,0),Vr_Impacto,2,1)))","v":""},{"$f":"IF(Datos!B174=0,Q177,IF(Datos!B174=\"\",Q177,IF(ISERROR(VLOOKUP(VLOOKUP(Q177,Vr_Probabilidad1,2,0)+1-ROUNDDOWN(VLOOKUP(Q177,Vr_Probabilidad1,2,0)*Datos!B174,0),Vr_Probabilidad,2,1)),\"\",VLOOKUP(VLOOKUP(Q177,Vr_Probabilidad1,2,0)-ROUNDDOWN(VLOOKUP(Q177,Vr_Probabilidad1,2,0)*Datos!B174,0),Vr_Probabilidad,2,1))))","v":0},{"$f":"Datos!C174","v":0},"","",""]
["R",null,null,null,null,null,"",null,null,null,null,null,null,null,null,{"$f":"IF(COUNTA(I178:O178)<7,\"\",VLOOKUP(ROUNDUP((LEFT(I178,1)*'Criterios de Riesgo'!$C$3+LEFT(J178,1)*'Criterios de Riesgo'!$C$4+LEFT(K178,1)*'Criterios de Riesgo'!$C$5+LEFT(L178,1)*'Criterios de Riesgo'!$C$6+LEFT(M178,1)*'Criterios de Riesgo'!$C$7+LEFT(N178,1)*'Criterios de Riesgo'!$C$8+LEFT(O178,1)*'Criterios de Riesgo'!$C$9),0),Calif_Impacto,2))","v":""},null,"","",{"$f":"IF(OR(Datos!A175=0,Datos!A175=\"\"),P178,IF(ISERROR(VLOOKUP(VLOOKUP(P178,VrImpacto,2,0)-ROUNDDOWN(VLOOKUP(P178,VrImpacto,2,0)*Datos!A175,0),Vr_Impacto,2,1)),\"\",VLOOKUP(VLOOKUP(P178,VrImpacto,2,0)-ROUNDDOWN(VLOOKUP(P178,VrImpacto,2,0)*Datos!A175,0),Vr_Impacto,2,1)))","v":""},{"$f":"IF(Datos!B175=0,Q178,IF(Datos!B175=\"\",Q178,IF(ISERROR(VLOOKUP(VLOOKUP(Q178,Vr_Probabilidad1,2,0)+1-ROUNDDOWN(VLOOKUP(Q178,Vr_Probabilidad1,2,0)*Datos!B175,0),Vr_Probabilidad,2,1)),\"\",VLOOKUP(VLOOKUP(Q178,Vr_Probabilidad1,2,0)-ROUNDDOWN(VLOOKUP(Q178,Vr_Probabilidad1,2,0)*Datos!B175,0),Vr_Probabilidad,2,1))))","v":0},{"$f":"Datos!C175","v":0},"","",""]
["R",null,null,null,null,null,"",null,null,null,null,null,null,null,null,{"$f":"IF(COUNTA(I179:O179)<7,\"\",VLOOKUP(ROUNDUP((LEFT(I179,1)*'Criterios de Riesgo'!$C$3+LEFT(J179,1)*'Criterios de Riesgo'!$C$4+LEFT(K179,1)*'Criterios de Riesgo'!$C$5+LEFT(L179,1)*'Criterios de Riesgo'!$C$6+LEFT(M179,1)*'Criterios de Riesgo'!$C$7+LEFT(N179,1)*'Criterios de Riesgo'!$C$8+LEFT(O179,1)*'Criterios de Riesgo'!$C$9),0),Calif_Impacto,2))","v":""},null,"","",{"$f":"IF(OR(Datos!A176=0,Datos!A176=\"\"),P179,IF(ISERROR(VLOOKUP(VLOOKUP(P179,VrImpacto,2,0)-ROUNDDOWN(VLOOKUP(P179,VrImpacto,2,0)*Datos!A176,0),Vr_Impacto,2,1)),\"\",VLOOKUP(VLOOKUP(P179,VrImpacto,2,0)-ROUNDDOWN(VLOOKUP(P179,VrImpacto,2,0)*Datos!A176,0),Vr_Impacto,2,1)))","v":""},{"$f":"IF(Datos!B176=0,Q179,IF(Datos!B176=\"\",Q179,IF(ISERROR(VLOOKUP(VLOOKUP(Q179,Vr_Probabilidad1,2,0)+1-ROUNDDOWN(VLOOKUP(Q179,Vr_Probabilidad1,2,0)*Datos!B176,0),Vr_Probabilidad,2,1)),\"\",VLOOKUP(VLOOKUP(Q179,Vr_Probabilidad1,2,0)-ROUNDDOWN(VLOOKUP(Q179,Vr_Probabilidad1,2,0)*Datos!B176,0),Vr_Probabilidad,2,1))))","v":0},{"$f":"Datos!C176","v":0},"","",""]
["R",null,null,null,null,null,"",null,null,null,null,null,null,null,null,{"$f":"IF(COUNTA(I180:O180)<7,\"\",VLOOKUP(ROUNDUP((LEFT(I180,1)*'Criterios de Riesgo'!$C$3+LEFT(J180,1)*'Criterios de Riesgo'!$C$4+LEFT(K180,1)*'Criterios de Riesgo'!$C$5+LEFT(L180,1)*'Criterios de Riesgo'!$C$6+LEFT(M180,1)*'Criterios de Riesgo'!$C$7+LEFT(N180,1)*'Criterios de Riesgo'!$C$8+LEFT(O180,1)*'Criterios de Riesgo'!$C$9),0),Calif_Impacto,2))","v":""},null,"","",{"$f":"IF(OR(Datos!A177=0,Datos!A177=\"\"),P180,IF(ISERROR(VLOOKUP(VLOOKUP(P180,VrImpacto,2,0)-ROUNDDOWN(VLOOKUP(P180,VrImpacto,2,0)*Datos!A177,0),Vr_Impacto,2,1)),\"\",VLOOKUP(VLOOKUP(P180,VrImpacto,2,0)-ROUNDDOWN(VLOOKUP(P180,VrImpacto,2,0)*Datos!A177,0),Vr_Impacto,2,1)))","v":""},{"$f":"IF(Datos!B177=0,Q180,IF(Datos!B177=\"\",Q180,IF(ISERROR(VLOOKUP(VLOOKUP(Q180,Vr_Probabilidad1,2,0)+1-ROUNDDOWN(VLOOKUP(Q180,Vr_Probabilidad1,2,0)*Datos!B177,0),Vr_Probabilidad,2,1)),\"\",VLOOKUP(VLOOKUP(Q180,Vr_Probabilidad1,2,0)-ROUNDDOWN(VLOOKUP(Q180,Vr_Probabilidad1,2,0)*Datos!B177,0),Vr_Probabilidad,2,1))))","v":0},{"$f":"Datos!C177","v":0},"","",""]
["R",null,null,null,null,null,"",null,null,null,null,null,null,null,null,{"$f":"IF(COUNTA(I181:O181)<7,\"\",VLOOKUP(ROUNDUP((LEFT(I181,1)*'Criterios de Riesgo'!$C$3+LEFT(J181,1)*'Criterios de Riesgo'!$C$4+LEFT(K181,1)*'Criterios de Riesgo'!$C$5+LEFT(L181,1)*'Criterios de Riesgo'!$C$6+LEFT(M181,1)*'Criterios de Riesgo'!$C$7+LEFT(N181,1)*'Criterios de Riesgo'!$C$8+LEFT(O181,1)*'Criterios de Riesgo'!$C$9),0),Calif_Impacto,2))","v":""},null,"","",{"$f":"IF(OR(Datos!A178=0,Datos!A178=\"\"),P181,IF(ISERROR(VLOOKUP(VLOOKUP(P181,VrImpacto,2,0)-ROUNDDOWN(VLOOKUP(P181,VrImpacto,2,0)*Datos!A178,0),Vr_Impacto,2,1)),\"\",VLOOKUP(VLOOKUP(P181,VrImpacto,2,0)-ROUNDDOWN(VLOOKUP(P181,VrImpacto,2,0)*Datos!A178,0),Vr_Impacto,2,1)))","v":""},{"$f":"IF(Datos!B178=0,Q181,IF(Datos!B178=\"\",Q181,IF(ISERROR(VLOOKUP(VLOOKUP(Q181,Vr_Probabilidad1,2,0)+1-ROUNDDOWN(VLOOKUP(Q181,Vr_Probabilidad1,2,0)*Datos!B178,0),Vr_Probabilidad,2,1)),\"\",VLOOKUP(VLOOKUP(Q181,Vr_Probabilidad1,2,0)-ROUNDDOWN(VLOOKUP(Q181,Vr_Probabilidad1,2,0)*Datos!B178,0),Vr_Probabilidad,2,1))))","v":0},{"$f":"Datos!C178","v":0},"","",""]
["R",null,null,null,null,null,"",null,null,null,null,null,null,null,null,{"$f":"IF(COUNTA(I182:O182)<7,\"\",VLOOKUP(ROUNDUP((LEFT(I182,1)*'Criterios de Riesgo'!$C$3+LEFT(J182,1)*'Criterios de Riesgo'!$C$4+LEFT(K182,1)*'Criterios de Riesgo'!$C$5+LEFT(L182,1)*'Criterios de Riesgo'!$C$6+LEFT(M182,1)*'Criterios de Riesgo'!$C$7+LEFT(N182,1)*'Criterios de Riesgo'!$C$8+LEFT(O182,1)*'Criterios de Riesgo'!$C$9),0),Calif_Impacto,2))","v":""},null,"","",{"$f":"IF(OR(Datos!A179=0,Datos!A179=\"\"),P182,IF(ISERROR(VLOOKUP(VLOOKUP(P182,VrImpacto,2,0)-ROUNDDOWN(VLOOKUP(P182,VrImpacto,2,0)*Datos!A179,0),Vr_Impacto,2,1)),\"\",VLOOKUP(VLOOKUP(P182,VrImpacto,2,0)-ROUNDDOWN(VLOOKUP(P182,VrImpacto,2,0)*Datos!A179,0),Vr_Impacto,2,1)))","v":""},{"$f":"IF(Datos!B179=0,Q182,IF(Datos!B179=\"\",Q182,IF(ISERROR(VLOOKUP(VLOOKUP(Q182,Vr_Probabilidad1,2,0)+1-ROUNDDOWN(VLOOKUP(Q182,Vr_Probabilidad1,2,0)*Datos!B179,0),Vr_Probabilidad,2,1)),\"\",VLOOKUP(VLOOKUP(Q182,Vr_Probabilidad1,2,0)-ROUNDDOWN(VLOOKUP(Q182,Vr_Probabilidad1,2,0)*Datos!B179,0),Vr_Probabilidad,2,1))))","v":0},{"$f":"Datos!C179","v":0},"","",""]
["R",null,null,null,null,null,"",null,null,null,null,null,null,null,null,{"$f":"IF(COUNTA(I183:O183)<7,\"\",VLOOKUP(ROUNDUP((LEFT(I183,1)*'Criterios de Riesgo'!$C$3+LEFT(J183,1)*'Criterios de Riesgo'!$C$4+LEFT(K183,1)*'Criterios de Riesgo'!$C$5+LEFT(L183,1)*'Criterios de Riesgo'!$C$6+LEFT(M183,1)*'Criterios de Riesgo'!$C$7+LEFT(N183,1)*'Criterios de Riesgo'!$C$8+LEFT(O183,1)*'Criterios de Riesgo'!$C$9),0),Calif_Impacto,2))","v":""},null,"","",{"$f":"IF(OR(Datos!A180=0,Datos!A180=\"\"),P183,IF(ISERROR(VLOOKUP(VLOOKUP(P183,VrImpacto,2,0)-ROUNDDOWN(VLOOKUP(P183,VrImpacto,2,0)*Datos!A180,0),Vr_Impacto,2,1)),\"\",VLOOKUP(VLOOKUP(P183,VrImpacto,2,0)-ROUNDDOWN(VLOOKUP(P183,VrImpacto,2,0)*Datos!A180,0),Vr_Impacto,2,1)))","v":""},{"$f":"IF(Datos!B180=0,Q183,IF(Datos!B180=\"\",Q183,IF(ISERROR(VLOOKUP(VLOOKUP(Q183,Vr_Probabilidad1,2,0)+1-ROUNDDOWN(VLOOKUP(Q183,Vr_Probabilidad1,2,0)*Datos!B180,0),Vr_Probabilidad,2,1)),\"\",VLOOKUP(VLOOKUP(Q183,Vr_Probabilidad1,2,0)-ROUNDDOWN(VLOOKUP(Q183,Vr_Probabilidad1,2,0)*Datos!B180,0),Vr_Probabilidad,2,1))))","v":0},{"$f":"Datos!C180","v":0},"","",""]
["R",null,null,null,null,null,{"$f":"IF(ISERROR(VLOOKUP(F184,EventosPerdida,2,0)),\"\",VLOOKUP(F184,EventosPerdida,2,0))","v":""},null,null,null,null,null,null,null,null,{"$f":"IF(COUNTA(I184:O184)<7,\"\",VLOOKUP(ROUNDUP((LEFT(I184,1)*'Criterios de Riesgo'!$C$3+LEFT(J184,1)*'Criterios de Riesgo'!$C$4+LEFT(K184,1)*'Criterios de Riesgo'!$C$5+LEFT(L184,1)*'Criterios de Riesgo'!$C$6+LEFT(M184,1)*'Criterios de Riesgo'!$C$7+LEFT(N184,1)*'Criterios de Riesgo'!$C$8+LEFT(O184,1)*'Criterios de Riesgo'!$C$9),0),Calif_Impacto,2))","v":""},null,{"$f":"IF(OR(P184=\"\",Q184=\"\"),\"\",VLOOKUP(P184,VrImpacto,2,0)*VLOOKUP(Q184,Vr_Probabilidad1,2,0))","v":""},{"$f":"IF(ISERROR(VLOOKUP(Q184&\"-\"&P184,NivelRiesgo,3,0)),\"\",VLOOKUP(Q184&\"-\"&P184,NivelRiesgo,3,0))","v":""},{"$f":"IF(OR(Datos!A181=0,Datos!A181=\"\"),P184,IF(ISERROR(VLOOKUP(VLOOKUP(P184,VrImpacto,2,0)-ROUNDDOWN(VLOOKUP(P184,VrImpacto,2,0)*Datos!A181,0),Vr_Impacto,2,1)),\"\",VLOOKUP(VLOOKUP(P184,VrImpacto,2,0)-ROUNDDOWN(VLOOKUP(P184,VrImpacto,2,0)*Datos!A181,0),Vr_Impacto,2,1)))","v":""},{"$f":"IF(Datos!B181=0,Q184,IF(Datos!B181=\"\",Q184,IF(ISERROR(VLOOKUP(VLOOKUP(Q184,Vr_Probabilidad1,2,0)+1-ROUNDDOWN(VLOOKUP(Q184,Vr_Probabilidad1,2,0)*Datos!B181,0),Vr_Probabilidad,2,1)),\"\",VLOOKUP(VLOOKUP(Q184,Vr_Probabilidad1,2,0)-ROUNDDOWN(VLOOKUP(Q184,Vr_Probabilidad1,2,0)*Datos!B181,0),Vr_Probabilidad,2,1))))","v":0},{"$f":"Datos!C181","v":0},"","",{"$f":"IF(ISERROR(VLOOKUP(X184,Criterio_Riesgo_Residual,2,1)),\"\",VLOOKUP(X184,Criterio_Riesgo_Residual,2,1))","v":""}]
["R",null,null,null,null,null,"",null,null,null,null,null,null,null,null,{"$f":"IF(COUNTA(I185:O185)<7,\"\",VLOOKUP(ROUNDUP((LEFT(I185,1)*'Criterios de Riesgo'!$C$3+LEFT(J185,1)*'Criterios de Riesgo'!$C$4+LEFT(K185,1)*'Criterios de Riesgo'!$C$5+LEFT(L185,1)*'Criterios de Riesgo'!$C$6+LEFT(M185,1)*'Criterios de Riesgo'!$C$7+LEFT(N185,1)*'Criterios de Riesgo'!$C$8+LEFT(O185,1)*'Criterios de Riesgo'!$C$9),0),Calif_Impacto,2))","v":""},null,"","",{"$f":"IF(OR(Datos!A182=0,Datos!A182=\"\"),P185,IF(ISERROR(VLOOKUP(VLOOKUP(P185,VrImpacto,2,0)-ROUNDDOWN(VLOOKUP(P185,VrImpacto,2,0)*Datos!A182,0),Vr_Impacto,2,1)),\"\",VLOOKUP(VLOOKUP(P185,VrImpacto,2,0)-ROUNDDOWN(VLOOKUP(P185,VrImpacto,2,0)*Datos!A182,0),Vr_Impacto,2,1)))","v":""},{"$f":"IF(Datos!B182=0,Q185,IF(Datos!B182=\"\",Q185,IF(ISERROR(VLOOKUP(VLOOKUP(Q185,Vr_Probabilidad1,2,0)+1-ROUNDDOWN(VLOOKUP(Q185,Vr_Probabilidad1,2,0)*Datos!B182,0),Vr_Probabilidad,2,1)),\"\",VLOOKUP(VLOOKUP(Q185,Vr_Probabilidad1,2,0)-ROUNDDOWN(VLOOKUP(Q185,Vr_Probabilidad1,2,0)*Datos!B182,0),Vr_Probabilidad,2,1))))","v":0},{"$f":"Datos!C182","v":0},"","",""]
["R",null,null,null,null,null,"",null,null,null,null,null,null,null,null,{"$f":"IF(COUNTA(I186:O186)<7,\"\",VLOOKUP(ROUNDUP((LEFT(I186,1)*'Criterios de Riesgo'!$C$3+LEFT(J186,1)*'Criterios de Riesgo'!$C$4+LEFT(K186,1)*'Criterios de Riesgo'!$C$5+LEFT(L186,1)*'Criterios de Riesgo'!$C$6+LEFT(M186,1)*'Criterios de Riesgo'!$C$7+LEFT(N186,1)*'Criterios de Riesgo'!$C$8+LEFT(O186,1)*'Criterios de Riesgo'!$C$9),0),Calif_Impacto,2))","v":""},null,"","",{"$f":"IF(OR(Datos!A183=0,Datos!A183=\"\"),P186,IF(ISERROR(VLOOKUP(VLOOKUP(P186,VrImpacto,2,0)-ROUNDDOWN(VLOOKUP(P186,VrImpacto,2,0)*Datos!A183,0),Vr_Impacto,2,1)),\"\",VLOOKUP(VLOOKUP(P186,VrImpacto,2,0)-ROUNDDOWN(VLOOKUP(P186,VrImpacto,2,0)*Datos!A183,0),Vr_Impacto,2,1)))","v":""},{"$f":"IF(Datos!B183=0,Q186,IF(Datos!B183=\"\",Q186,IF(ISERROR(VLOOKUP(VLOOKUP(Q186,Vr_Probabilidad1,2,0)+1-ROUNDDOWN(VLOOKUP(Q186,Vr_Probabilidad1,2,0)*Datos!B183,0),Vr_Probabilidad,2,1)),\"\",VLOOKUP(VLOOKUP(Q186,Vr_Probabilidad1,2,0)-ROUNDDOWN(VLOOKUP(Q186,Vr_Probabilidad1,2,0)*Datos!B183,0),Vr_Probabilidad,2,1))))","v":0},{"$f":"Datos!C183","v":0},{"$f":"IF(X186=\"\",\"\",R186-X186)","v":""},{"$f":"IF(R186=\"\",\"\",VLOOKUP(T186,VrImpacto,2,0)*VLOOKUP(U186,Vr_Probabilidad1,2,0))","v":""},""]
["R",null,null,null,null,null,"",null,null,null,null,null,null,null,null,{"$f":"IF(COUNTA(I187:O187)<7,\"\",VLOOKUP(ROUNDUP((LEFT(I187,1)*'Criterios de Riesgo'!$C$3+LEFT(J187,1)*'Criterios de Riesgo'!$C$4+LEFT(K187,1)*'Criterios de Riesgo'!$C$5+LEFT(L187,1)*'Criterios de Riesgo'!$C$6+LEFT(M187,1)*'Criterios de Riesgo'!$C$7+LEFT(N187,1)*'Criterios de Riesgo'!$C$8+LEFT(O187,1)*'Criterios de Riesgo'!$C$9),0),Calif_Impacto,2))","v":""},null,"","",{"$f":"IF(OR(Datos!A184=0,Datos!A184=\"\"),P187,IF(ISERROR(VLOOKUP(VLOOKUP(P187,VrImpacto,2,0)-ROUNDDOWN(VLOOKUP(P187,VrImpacto,2,0)*Datos!A184,0),Vr_Impacto,2,1)),\"\",VLOOKUP(VLOOKUP(P187,VrImpacto,2,0)-ROUNDDOWN(VLOOKUP(P187,VrImpacto,2,0)*Datos!A184,0),Vr_Impacto,2,1)))","v":""},{"$f":"IF(Datos!B184=0,Q187,IF(Datos!B184=\"\",Q187,IF(ISERROR(VLOOKUP(VLOOKUP(Q187,Vr_Probabilidad1,2,0)+1-ROUNDDOWN(VLOOKUP(Q187,Vr_Probabilidad1,2,0)*Datos!B184,0),Vr_Probabilidad,2,1)),\"\",VLOOKUP(VLOOKUP(Q187,Vr_Probabilidad1,2,0)-ROUNDDOWN(VLOOKUP(Q187,Vr_Probabilidad1,2,0)*Datos!B184,0),Vr_Probabilidad,2,1))))","v":0},{"$f":"Datos!C184","v":0},"","",""]
["R",null,null,null,null,null,"",null,null,null,null,null,null,null,null,{"$f":"IF(COUNTA(I188:O188)<7,\"\",VLOOKUP(ROUNDUP((LEFT(I188,1)*'Criterios de Riesgo'!$C$3+LEFT(J188,1)*'Criterios de Riesgo'!$C$4+LEFT(K188,1)*'Criterios de Riesgo'!$C$5+LEFT(L188,1)*'Criterios de Riesgo'!$C$6+LEFT(M188,1)*'Criterios de Riesgo'!$C$7+LEFT(N188,1)*'Criterios de Riesgo'!$C$8+LEFT(O188,1)*'Criterios de Riesgo'!$C$9),0),Calif_Impacto,2))","v":""},null,"","",{"$f":"IF(OR(Datos!A185=0,Datos!A185=\"\"),P188,IF(ISERROR(VLOOKUP(VLOOKUP(P188,VrImpacto,2,0)-ROUNDDOWN(VLOOKUP(P188,VrImpacto,2,0)*Datos!A185,0),Vr_Impacto,2,1)),\"\",VLOOKUP(VLOOKUP(P188,VrImpacto,2,0)-ROUNDDOWN(VLOOKUP(P188,VrImpacto,2,0)*Datos!A185,0),Vr_Impacto,2,1)))","v":""},{"$f":"IF(Datos!B185=0,Q188,IF(Datos!B185=\"\",Q188,IF(ISERROR(VLOOKUP(VLOOKUP(Q188,Vr_Probabilidad1,2,0)+1-ROUNDDOWN(VLOOKUP(Q188,Vr_Probabilidad1,2,0)*Datos!B185,0),Vr_Probabilidad,2,1)),\"\",VLOOKUP(VLOOKUP(Q188,Vr_Probabilidad1,2,0)-ROUNDDOWN(VLOOKUP(Q188,Vr_Probabilidad1,2,0)*Datos!B185,0),Vr_Probabilidad,2,1))))","v":0},{"$f":"Datos!C185","v":0},"","",""]
["R",null,null,null,null,null,"",null,null,null,null,null,null,null,null,{"$f":"IF(COUNTA(I189:O189)<7,\"\",VLOOKUP(ROUNDUP((LEFT(I189,1)*'Criterios de Riesgo'!$C$3+LEFT(J189,1)*'Criterios de Riesgo'!$C$4+LEFT(K189,1)*'Criterios de Riesgo'!$C$5+LEFT(L189,1)*'Criterios de Riesgo'!$C$6+LEFT(M189,1)*'Criterios de Riesgo'!$C$7+LEFT(N189,1)*'Criterios de Riesgo'!$C$8+LEFT(O189,1)*'Criterios de Riesgo'!$C$9),0),Calif_Impacto,2))","v":""},null,"","",{"$f":"IF(OR(Datos!A186=0,Datos!A186=\"\"),P189,IF(ISERROR(VLOOKUP(VLOOKUP(P189,VrImpacto,2,0)-ROUNDDOWN(VLOOKUP(P189,VrImpacto,2,0)*Datos!A186,0),Vr_Impacto,2,1)),\"\",VLOOKUP(VLOOKUP(P189,VrImpacto,2,0)-ROUNDDOWN(VLOOKUP(P189,VrImpacto,2,0)*Datos!A186,0),Vr_Impacto,2,1)))","v":""},{"$f":"IF(Datos!B186=0,Q189,IF(Datos!B186=\"\",Q189,IF(ISERROR(VLOOKUP(VLOOKUP(Q189,Vr_Probabilidad1,2,0)+1-ROUNDDOWN(VLOOKUP(Q189,Vr_Probabilidad1,2,0)*Datos!B186,0),Vr_Probabilidad,2,1)),\"\",VLOOKUP(VLOOKUP(Q189,Vr_Probabilidad1,2,0)-ROUNDDOWN(VLOOKUP(Q189,Vr_Probabilidad1,2,0)*Datos!B186,0),Vr_Probabilidad,2,1))))","v":0},{"$f":"Datos!C186","v":0},"","",""]
["R",null,null,null,null,null,"",null,null,null,null,null,null,null,null,{"$f":"IF(COUNTA(I190:O190)<7,\"\",VLOOKUP(ROUNDUP((LEFT(I190,1)*'Criterios de Riesgo'!$C$3+LEFT(J190,1)*'Criterios de Riesgo'!$C$4+LEFT(K190,1)*'Criterios de Riesgo'!$C$5+LEFT(L190,1)*'Criterios de Riesgo'!$C$6+LEFT(M190,1)*'Criterios de Riesgo'!$C$7+LEFT(N190,1)*'Criterios de Riesgo'!$C$8+LEFT(O190,1)*'Criterios de Riesgo'!$C$9),0),Calif_Impacto,2))","v":""},null,"","",{"$f":"IF(OR(Datos!A187=0,Datos!A187=\"\"),P190,IF(ISERROR(VLOOKUP(VLOOKUP(P190,VrImpacto,2,0)-ROUNDDOWN(VLOOKUP(P190,VrImpacto,2,0)*Datos!A187,0),Vr_Impacto,2,1)),\"\",VLOOKUP(VLOOKUP(P190,VrImpacto,2,0)-ROUNDDOWN(VLOOKUP(P190,VrImpacto,2,0)*Datos!A187,0),Vr_Impacto,2,1)))","v":""},{"$f":"IF(Datos!B187=0,Q190,IF(Datos!B187=\"\",Q190,IF(ISERROR(VLOOKUP(VLOOKUP(Q190,Vr_Probabilidad1,2,0)+1-ROUNDDOWN(VLOOKUP(Q190,Vr_Probabilidad1,2,0)*Datos!B187,0),Vr_Probabilidad,2,1)),\"\",VLOOKUP(VLOOKUP(Q190,Vr_Probabilidad1,2,0)-ROUNDDOWN(VLOOKUP(Q190,Vr_Probabilidad1,2,0)*Datos!B187,0),Vr_Probabilidad,2,1))))","v":0},{"$f":"Datos!C187","v":0},"","",""]
["R",null,null,null,null,null,"",null,null,null,null,null,null,null,null,{"$f":"IF(COUNTA(I191:O191)<7,\"\",VLOOKUP(ROUNDUP((LEFT(I191,1)*'Criterios de Riesgo'!$C$3+LEFT(J191,1)*'Criterios de Riesgo'!$C$4+LEFT(K191,1)*'Criterios de Riesgo'!$C$5+LEFT(L191,1)*'Criterios de Riesgo'!$C$6+LEFT(M191,1)*'Criterios de Riesgo'!$C$7+LEFT(N191,1)*'Criterios de Riesgo'!$C$8+LEFT(O191,1)*'Criterios de Riesgo'!$C$9),0),Calif_Impacto,2))","v":""},null,"","",{"$f":"IF(OR(Datos!A188=0,Datos!A188=\"\"),P191,IF(ISERROR(VLOOKUP(VLOOKUP(P191,VrImpacto,2,0)-ROUNDDOWN(VLOOKUP(P191,VrImpacto,2,0)*Datos!A188,0),Vr_Impacto,2,1)),\"\",VLOOKUP(VLOOKUP(P191,VrImpacto,2,0)-ROUNDDOWN(VLOOKUP(P191,VrImpacto,2,0)*Datos!A188,0),Vr_Impacto,2,1)))","v":""},{"$f":"IF(Datos!B188=0,Q191,IF(Datos!B188=\"\",Q191,IF(ISERROR(VLOOKUP(VLOOKUP(Q191,Vr_Probabilidad1,2,0)+1-ROUNDDOWN(VLOOKUP(Q191,Vr_Probabilidad1,2,0)*Datos!B188,0),Vr_Probabilidad,2,1)),\"\",VLOOKUP(VLOOKUP(Q191,Vr_Probabilidad1,2,0)-ROUNDDOWN(VLOOKUP(Q191,Vr_Probabilidad1,2,0)*Datos!B188,0),Vr_Probabilidad,2,1))))","v":0},{"$f":"Datos!C188","v":0},"","",""]
["R",null,null,null,null,null,"",null,null,null,null,null,null,null,null,{"$f":"IF(COUNTA(I192:O192)<7,\"\",VLOOKUP(ROUNDUP((LEFT(I192,1)*'Criterios de Riesgo'!$C$3+LEFT(J192,1)*'Criterios de Riesgo'!$C$4+LEFT(K192,1)*'Criterios de Riesgo'!$C$5+LEFT(L192,1)*'Criterios de Riesgo'!$C$6+LEFT(M192,1)*'Criterios de Riesgo'!$C$7+LEFT(N192,1)*'Criterios de Riesgo'!$C$8+LEFT(O192,1)*'Criterios de Riesgo'!$C$9),0),Calif_Impacto,2))","v":""},null,"","",{"$f":"IF(OR(Datos!A189=0,Datos!A189=\"\"),P192,IF(ISERROR(VLOOKUP(VLOOKUP(P192,VrImpacto,2,0)-ROUNDDOWN(VLOOKUP(P192,VrImpacto,2,0)*Datos!A189,0),Vr_Impacto,2,1)),\"\",VLOOKUP(VLOOKUP(P192,VrImpacto,2,0)-ROUNDDOWN(VLOOKUP(P192,VrImpacto,2,0)*Datos!A189,0),Vr_Impacto,2,1)))","v":""},{"$f":"IF(Datos!B189=0,Q192,IF(Datos!B189=\"\",Q192,IF(ISERROR(VLOOKUP(VLOOKUP(Q192,Vr_Probabilidad1,2,0)+1-ROUNDDOWN(VLOOKUP(Q192,Vr_Probabilidad1,2,0)*Datos!B189,0),Vr_Probabilidad,2,1)),\"\",VLOOKUP(VLOOKUP(Q192,Vr_Probabilidad1,2,0)-ROUNDDOWN(VLOOKUP(Q192,Vr_Probabilidad1,2,0)*Datos!B189,0),Vr_Probabilidad,2,1))))","v":0},{"$f":"Datos!C189","v":0},"","",""]
["R",null,null,null,null,null,"",null,null,null,null,null,null,null,null,{"$f":"IF(COUNTA(I193:O193)<7,\"\",VLOOKUP(ROUNDUP((LEFT(I193,1)*'Criterios de Riesgo'!$C$3+LEFT(J193,1)*'Criterios de Riesgo'!$C$4+LEFT(K193,1)*'Criterios de Riesgo'!$C$5+LEFT(L193,1)*'Criterios de Riesgo'!$C$6+LEFT(M193,1)*'Criterios de Riesgo'!$C$7+LEFT(N193,1)*'Criterios de Riesgo'!$C$8+LEFT(O193,1)*'Criterios de Riesgo'!$C$9),0),Calif_Impacto,2))","v":""},null,"","",{"$f":"IF(OR(Datos!A190=0,Datos!A190=\"\"),P193,IF(ISERROR(VLOOKUP(VLOOKUP(P193,VrImpacto,2,0)-ROUNDDOWN(VLOOKUP(P193,VrImpacto,2,0)*Datos!A190,0),Vr_Impacto,2,1)),\"\",VLOOKUP(VLOOKUP(P193,VrImpacto,2,0)-ROUNDDOWN(VLOOKUP(P193,VrImpacto,2,0)*Datos!A190,0),Vr_Impacto,2,1)))","v":""},{"$f":"IF(Datos!B190=0,Q193,IF(Datos!B190=\"\",Q193,IF(ISERROR(VLOOKUP(VLOOKUP(Q193,Vr_Probabilidad1,2,0)+1-ROUNDDOWN(VLOOKUP(Q193,Vr_Probabilidad1,2,0)*Datos!B190,0),Vr_Probabilidad,2,1)),\"\",VLOOKUP(VLOOKUP(Q193,Vr_Probabilidad1,2,0)-ROUNDDOWN(VLOOKUP(Q193,Vr_Probabilidad1,2,0)*Datos!B190,0),Vr_Probabilidad,2,1))))","v":0},{"$f":"Datos!C190","v":0},"","",""]
["R",null,null,null,null,null,"",null,null,null,null,null,null,null,null,{"$f":"IF(COUNTA(I194:O194)<7,\"\",VLOOKUP(ROUNDUP((LEFT(I194,1)*'Criterios de Riesgo'!$C$3+LEFT(J194,1)*'Criterios de Riesgo'!$C$4+LEFT(K194,1)*'Criterios de Riesgo'!$C$5+LEFT(L194,1)*'Criterios de Riesgo'!$C$6+LEFT(M194,1)*'Criterios de Riesgo'!$C$7+LEFT(N194,1)*'Criterios de Riesgo'!$C$8+LEFT(O194,1)*'Criterios de Riesgo'!$C$9),0),Calif_Impacto,2))","v":""},null,"","",{"$f":"IF(OR(Datos!A191=0,Datos!A191=\"\"),P194,IF(ISERROR(VLOOKUP(VLOOKUP(P194,VrImpacto,2,0)-ROUNDDOWN(VLOOKUP(P194,VrImpacto,2,0)*Datos!A191,0),Vr_Impacto,2,1)),\"\",VLOOKUP(VLOOKUP(P194,VrImpacto,2,0)-ROUNDDOWN(VLOOKUP(P194,VrImpacto,2,0)*Datos!A191,0),Vr_Impacto,2,1)))","v":""},{"$f":"IF(Datos!B191=0,Q194,IF(Datos!B191=\"\",Q194,IF(ISERROR(VLOOKUP(VLOOKUP(Q194,Vr_Probabilidad1,2,0)+1-ROUNDDOWN(VLOOKUP(Q194,Vr_Probabilidad1,2,0)*Datos!B191,0),Vr_Probabilidad,2,1)),\"\",VLOOKUP(VLOOKUP(Q194,Vr_Probabilidad1,2,0)-ROUNDDOWN(VLOOKUP(Q194,Vr_Probabilidad1,2,0)*Datos!B191,0),Vr_Probabilidad,2,1))))","v":0},{"$f":"Datos!C191","v":0},"","",""]
["R",null,null,null,null,null,"",null,null,null,null,null,null,null,null,{"$f":"IF(COUNTA(I195:O195)<7,\"\",VLOOKUP(ROUNDUP((LEFT(I195,1)*'Criterios de Riesgo'!$C$3+LEFT(J195,1)*'Criterios de Riesgo'!$C$4+LEFT(K195,1)*'Criterios de Riesgo'!$C$5+LEFT(L195,1)*'Criterios de Riesgo'!$C$6+LEFT(M195,1)*'Criterios de Riesgo'!$C$7+LEFT(N195,1)*'Criterios de Riesgo'!$C$8+LEFT(O195,1)*'Criterios de Riesgo'!$C$9),0),Calif_Impacto,2))","v":""},null,"","",{"$f":"IF(OR(Datos!A192=0,Datos!A192=\"\"),P195,IF(ISERROR(VLOOKUP(VLOOKUP(P195,VrImpacto,2,0)-ROUNDDOWN(VLOOKUP(P195,VrImpacto,2,0)*Datos!A192,0),Vr_Impacto,2,1)),\"\",VLOOKUP(VLOOKUP(P195,VrImpacto,2,0)-ROUNDDOWN(VLOOKUP(P195,VrImpacto,2,0)*Datos!A192,0),Vr_Impacto,2,1)))","v":""},{"$f":"IF(Datos!B192=0,Q195,IF(Datos!B192=\"\",Q195,IF(ISERROR(VLOOKUP(VLOOKUP(Q195,Vr_Probabilidad1,2,0)+1-ROUNDDOWN(VLOOKUP(Q195,Vr_Probabilidad1,2,0)*Datos!B192,0),Vr_Probabilidad,2,1)),\"\",VLOOKUP(VLOOKUP(Q195,Vr_Probabilidad1,2,0)-ROUNDDOWN(VLOOKUP(Q195,Vr_Probabilidad1,2,0)*Datos!B192,0),Vr_Probabilidad,2,1))))","v":0},{"$f":"Datos!C192","v":0},"","",""]
["R",null,null,null,null,null,"",null,null,null,null,null,null,null,null,{"$f":"IF(COUNTA(I196:O196)<7,\"\",VLOOKUP(ROUNDUP((LEFT(I196,1)*'Criterios de Riesgo'!$C$3+LEFT(J196,1)*'Criterios de Riesgo'!$C$4+LEFT(K196,1)*'Criterios de Riesgo'!$C$5+LEFT(L196,1)*'Criterios de Riesgo'!$C$6+LEFT(M196,1)*'Criterios de Riesgo'!$C$7+LEFT(N196,1)*'Criterios de Riesgo'!$C$8+LEFT(O196,1)*'Criterios de Riesgo'!$C$9),0),Calif_Impacto,2))","v":""},null,"","",{"$f":"IF(OR(Datos!A193=0,Datos!A193=\"\"),P196,IF(ISERROR(VLOOKUP(VLOOKUP(P196,VrImpacto,2,0)-ROUNDDOWN(VLOOKUP(P196,VrImpacto,2,0)*Datos!A193,0),Vr_Impacto,2,1)),\"\",VLOOKUP(VLOOKUP(P196,VrImpacto,2,0)-ROUNDDOWN(VLOOKUP(P196,VrImpacto,2,0)*Datos!A193,0),Vr_Impacto,2,1)))","v":""},{"$f":"IF(Datos!B193=0,Q196,IF(Datos!B193=\"\",Q196,IF(ISERROR(VLOOKUP(VLOOKUP(Q196,Vr_Probabilidad1,2,0)+1-ROUNDDOWN(VLOOKUP(Q196,Vr_Probabilidad1,2,0)*Datos!B193,0),Vr_Probabilidad,2,1)),\"\",VLOOKUP(VLOOKUP(Q196,Vr_Probabilidad1,2,0)-ROUNDDOWN(VLOOKUP(Q196,Vr_Probabilidad1,2,0)*Datos!B193,0),Vr_Probabilidad,2,1))))","v":0},{"$f":"Datos!C193","v":0},"","",""]
["R",null,null,null,null,null,"",null,null,null,null,null,null,null,null,{"$f":"IF(COUNTA(I197:O197)<7,\"\",VLOOKUP(ROUNDUP((LEFT(I197,1)*'Criterios de Riesgo'!$C$3+LEFT(J197,1)*'Criterios de Riesgo'!$C$4+LEFT(K197,1)*'Criterios de Riesgo'!$C$5+LEFT(L197,1)*'Criterios de Riesgo'!$C$6+LEFT(M197,1)*'Criterios de Riesgo'!$C$7+LEFT(N197,1)*'Criterios de Riesgo'!$C$8+LEFT(O197,1)*'Criterios de Riesgo'!$C$9),0),Calif_Impacto,2))","v":""},null,"","",{"$f":"IF(OR(Datos!A194=0,Datos!A194=\"\"),P197,IF(ISERROR(VLOOKUP(VLOOKUP(P197,VrImpacto,2,0)-ROUNDDOWN(VLOOKUP(P197,VrImpacto,2,0)*Datos!A194,0),Vr_Impacto,2,1)),\"\",VLOOKUP(VLOOKUP(P197,VrImpacto,2,0)-ROUNDDOWN(VLOOKUP(P197,VrImpacto,2,0)*Datos!A194,0),Vr_Impacto,2,1)))","v":""},{"$f":"IF(Datos!B194=0,Q197,IF(Datos!B194=\"\",Q197,IF(ISERROR(VLOOKUP(VLOOKUP(Q197,Vr_Probabilidad1,2,0)+1-ROUNDDOWN(VLOOKUP(Q197,Vr_Probabilidad1,2,0)*Datos!B194,0),Vr_Probabilidad,2,1)),\"\",VLOOKUP(VLOOKUP(Q197,Vr_Probabilidad1,2,0)-ROUNDDOWN(VLOOKUP(Q197,Vr_Probabilidad1,2,0)*Datos!B194,0),Vr_Probabilidad,2,1))))","v":0},{"$f":"Datos!C194","v":0},"","",""]
["R",null,null,null,null,null,"",null,null,null,null,null,null,null,null,{"$f":"IF(COUNTA(I198:O198)<7,\"\",VLOOKUP(ROUNDUP((LEFT(I198,1)*'Criterios de Riesgo'!$C$3+LEFT(J198,1)*'Criterios de Riesgo'!$C$4+LEFT(K198,1)*'Criterios de Riesgo'!$C$5+LEFT(L198,1)*'Criterios de Riesgo'!$C$6+LEFT(M198,1)*'Criterios de Riesgo'!$C$7+LEFT(N198,1)*'Criterios de Riesgo'!$C$8+LEFT(O198,1)*'Criterios de Riesgo'!$C$9),0),Calif_Impacto,2))","v":""},null,"","",{"$f":"IF(OR(Datos!A195=0,Datos!A195=\"\"),P198,IF(ISERROR(VLOOKUP(VLOOKUP(P198,VrImpacto,2,0)-ROUNDDOWN(VLOOKUP(P198,VrImpacto,2,0)*Datos!A195,0),Vr_Impacto,2,1)),\"\",VLOOKUP(VLOOKUP(P198,VrImpacto,2,0)-ROUNDDOWN(VLOOKUP(P198,VrImpacto,2,0)*Datos!A195,0),Vr_Impacto,2,1)))","v":""},{"$f":"IF(Datos!B195=0,Q198,IF(Datos!B195=\"\",Q198,IF(ISERROR(VLOOKUP(VLOOKUP(Q198,Vr_Probabilidad1,2,0)+1-ROUNDDOWN(VLOOKUP(Q198,Vr_Probabilidad1,2,0)*Datos!B195,0),Vr_Probabilidad,2,1)),\"\",VLOOKUP(VLOOKUP(Q198,Vr_Probabilidad1,2,0)-ROUNDDOWN(VLOOKUP(Q198,Vr_Probabilidad1,2,0)*Datos!B195,0),Vr_Probabilidad,2,1))))","v":0},{"$f":"Datos!C195","v":0},"","",""]
["R",null,null,null,null,null,"",null,null,null,null,null,null,null,null,{"$f":"IF(COUNTA(I199:O199)<7,\"\",VLOOKUP(ROUNDUP((LEFT(I199,1)*'Criterios de Riesgo'!$C$3+LEFT(J199,1)*'Criterios de Riesgo'!$C$4+LEFT(K199,1)*'Criterios de Riesgo'!$C$5+LEFT(L199,1)*'Criterios de Riesgo'!$C$6+LEFT(M199,1)*'Criterios de Riesgo'!$C$7+LEFT(N199,1)*'Criterios de Riesgo'!$C$8+LEFT(O199,1)*'Criterios de Riesgo'!$C$9),0),Calif_Impacto,2))","v":""},null,"","",{"$f":"IF(OR(Datos!A196=0,Datos!A196=\"\"),P199,IF(ISERROR(VLOOKUP(VLOOKUP(P199,VrImpacto,2,0)-ROUNDDOWN(VLOOKUP(P199,VrImpacto,2,0)*Datos!A196,0),Vr_Impacto,2,1)),\"\",VLOOKUP(VLOOKUP(P199,VrImpacto,2,0)-ROUNDDOWN(VLOOKUP(P199,VrImpacto,2,0)*Datos!A196,0),Vr_Impacto,2,1)))","v":""},{"$f":"IF(Datos!B196=0,Q199,IF(Datos!B196=\"\",Q199,IF(ISERROR(VLOOKUP(VLOOKUP(Q199,Vr_Probabilidad1,2,0)+1-ROUNDDOWN(VLOOKUP(Q199,Vr_Probabilidad1,2,0)*Datos!B196,0),Vr_Probabilidad,2,1)),\"\",VLOOKUP(VLOOKUP(Q199,Vr_Probabilidad1,2,0)-ROUNDDOWN(VLOOKUP(Q199,Vr_Probabilidad1,2,0)*Datos!B196,0),Vr_Probabilidad,2,1))))","v":0},{"$f":"Datos!C196","v":0},"","",""]
["R",null,null,null,null,null,"",null,null,null,null,null,null,null,null,{"$f":"IF(COUNTA(I200:O200)<7,\"\",VLOOKUP(ROUNDUP((LEFT(I200,1)*'Criterios de Riesgo'!$C$3+LEFT(J200,1)*'Criterios de Riesgo'!$C$4+LEFT(K200,1)*'Criterios de Riesgo'!$C$5+LEFT(L200,1)*'Criterios de Riesgo'!$C$6+LEFT(M200,1)*'Criterios de Riesgo'!$C$7+LEFT(N200,1)*'Criterios de Riesgo'!$C$8+LEFT(O200,1)*'Criterios de Riesgo'!$C$9),0),Calif_Impacto,2))","v":""},null,"","",{"$f":"IF(OR(Datos!A197=0,Datos!A197=\"\"),P200,IF(ISERROR(VLOOKUP(VLOOKUP(P200,VrImpacto,2,0)-ROUNDDOWN(VLOOKUP(P200,VrImpacto,2,0)*Datos!A197,0),Vr_Impacto,2,1)),\"\",VLOOKUP(VLOOKUP(P200,VrImpacto,2,0)-ROUNDDOWN(VLOOKUP(P200,VrImpacto,2,0)*Datos!A197,0),Vr_Impacto,2,1)))","v":""},{"$f":"IF(Datos!B197=0,Q200,IF(Datos!B197=\"\",Q200,IF(ISERROR(VLOOKUP(VLOOKUP(Q200,Vr_Probabilidad1,2,0)+1-ROUNDDOWN(VLOOKUP(Q200,Vr_Probabilidad1,2,0)*Datos!B197,0),Vr_Probabilidad,2,1)),\"\",VLOOKUP(VLOOKUP(Q200,Vr_Probabilidad1,2,0)-ROUNDDOWN(VLOOKUP(Q200,Vr_Probabilidad1,2,0)*Datos!B197,0),Vr_Probabilidad,2,1))))","v":0},{"$f":"Datos!C197","v":0},"","",""]
["R",null,null,null,null,null,"",null,null,null,null,null,null,null,null,{"$f":"IF(COUNTA(I201:O201)<7,\"\",VLOOKUP(ROUNDUP((LEFT(I201,1)*'Criterios de Riesgo'!$C$3+LEFT(J201,1)*'Criterios de Riesgo'!$C$4+LEFT(K201,1)*'Criterios de Riesgo'!$C$5+LEFT(L201,1)*'Criterios de Riesgo'!$C$6+LEFT(M201,1)*'Criterios de Riesgo'!$C$7+LEFT(N201,1)*'Criterios de Riesgo'!$C$8+LEFT(O201,1)*'Criterios de Riesgo'!$C$9),0),Calif_Impacto,2))","v":""},null,"","",{"$f":"IF(OR(Datos!A198=0,Datos!A198=\"\"),P201,IF(ISERROR(VLOOKUP(VLOOKUP(P201,VrImpacto,2,0)-ROUNDDOWN(VLOOKUP(P201,VrImpacto,2,0)*Datos!A198,0),Vr_Impacto,2,1)),\"\",VLOOKUP(VLOOKUP(P201,VrImpacto,2,0)-ROUNDDOWN(VLOOKUP(P201,VrImpacto,2,0)*Datos!A198,0),Vr_Impacto,2,1)))","v":""},{"$f":"IF(Datos!B198=0,Q201,IF(Datos!B198=\"\",Q201,IF(ISERROR(VLOOKUP(VLOOKUP(Q201,Vr_Probabilidad1,2,0)+1-ROUNDDOWN(VLOOKUP(Q201,Vr_Probabilidad1,2,0)*Datos!B198,0),Vr_Probabilidad,2,1)),\"\",VLOOKUP(VLOOKUP(Q201,Vr_Probabilidad1,2,0)-ROUNDDOWN(VLOOKUP(Q201,Vr_Probabilidad1,2,0)*Datos!B198,0),Vr_Probabilidad,2,1))))","v":0},{"$f":"Datos!C198","v":0},"","",""]
["R",null,null,null,null,null,"",null,null,null,null,null,null,null,null,{"$f":"IF(COUNTA(I202:O202)<7,\"\",VLOOKUP(ROUNDUP((LEFT(I202,1)*'Criterios de Riesgo'!$C$3+LEFT(J202,1)*'Criterios de Riesgo'!$C$4+LEFT(K202,1)*'Criterios de Riesgo'!$C$5+LEFT(L202,1)*'Criterios de Riesgo'!$C$6+LEFT(M202,1)*'Criterios de Riesgo'!$C$7+LEFT(N202,1)*'Criterios de Riesgo'!$C$8+LEFT(O202,1)*'Criterios de Riesgo'!$C$9),0),Calif_Impacto,2))","v":""},null,"","",{"$f":"IF(OR(Datos!A199=0,Datos!A199=\"\"),P202,IF(ISERROR(VLOOKUP(VLOOKUP(P202,VrImpacto,2,0)-ROUNDDOWN(VLOOKUP(P202,VrImpacto,2,0)*Datos!A199,0),Vr_Impacto,2,1)),\"\",VLOOKUP(VLOOKUP(P202,VrImpacto,2,0)-ROUNDDOWN(VLOOKUP(P202,VrImpacto,2,0)*Datos!A199,0),Vr_Impacto,2,1)))","v":""},{"$f":"IF(Datos!B199=0,Q202,IF(Datos!B199=\"\",Q202,IF(ISERROR(VLOOKUP(VLOOKUP(Q202,Vr_Probabilidad1,2,0)+1-ROUNDDOWN(VLOOKUP(Q202,Vr_Probabilidad1,2,0)*Datos!B199,0),Vr_Probabilidad,2,1)),\"\",VLOOKUP(VLOOKUP(Q202,Vr_Probabilidad1,2,0)-ROUNDDOWN(VLOOKUP(Q202,Vr_Probabilidad1,2,0)*Datos!B199,0),Vr_Probabilidad,2,1))))","v":0},{"$f":"Datos!C199","v":0},"","",""]
["R",null,null,null,null,null,"",null,null,null,null,null,null,null,null,{"$f":"IF(COUNTA(I203:O203)<7,\"\",VLOOKUP(ROUNDUP((LEFT(I203,1)*'Criterios de Riesgo'!$C$3+LEFT(J203,1)*'Criterios de Riesgo'!$C$4+LEFT(K203,1)*'Criterios de Riesgo'!$C$5+LEFT(L203,1)*'Criterios de Riesgo'!$C$6+LEFT(M203,1)*'Criterios de Riesgo'!$C$7+LEFT(N203,1)*'Criterios de Riesgo'!$C$8+LEFT(O203,1)*'Criterios de Riesgo'!$C$9),0),Calif_Impacto,2))","v":""},null,"","",{"$f":"IF(OR(Datos!A200=0,Datos!A200=\"\"),P203,IF(ISERROR(VLOOKUP(VLOOKUP(P203,VrImpacto,2,0)-ROUNDDOWN(VLOOKUP(P203,VrImpacto,2,0)*Datos!A200,0),Vr_Impacto,2,1)),\"\",VLOOKUP(VLOOKUP(P203,VrImpacto,2,0)-ROUNDDOWN(VLOOKUP(P203,VrImpacto,2,0)*Datos!A200,0),Vr_Impacto,2,1)))","v":""},{"$f":"IF(Datos!B200=0,Q203,IF(Datos!B200=\"\",Q203,IF(ISERROR(VLOOKUP(VLOOKUP(Q203,Vr_Probabilidad1,2,0)+1-ROUNDDOWN(VLOOKUP(Q203,Vr_Probabilidad1,2,0)*Datos!B200,0),Vr_Probabilidad,2,1)),\"\",VLOOKUP(VLOOKUP(Q203,Vr_Probabilidad1,2,0)-ROUNDDOWN(VLOOKUP(Q203,Vr_Probabilidad1,2,0)*Datos!B200,0),Vr_Probabilidad,2,1))))","v":0},{"$f":"Datos!C200","v":0},"","",""]
["R",null,null,null,null,null,"",null,null,null,null,null,null,null,null,{"$f":"IF(COUNTA(I204:O204)<7,\"\",VLOOKUP(ROUNDUP((LEFT(I204,1)*'Criterios de Riesgo'!$C$3+LEFT(J204,1)*'Criterios de Riesgo'!$C$4+LEFT(K204,1)*'Criterios de Riesgo'!$C$5+LEFT(L204,1)*'Criterios de Riesgo'!$C$6+LEFT(M204,1)*'Criterios de Riesgo'!$C$7+LEFT(N204,1)*'Criterios de Riesgo'!$C$8+LEFT(O204,1)*'Criterios de Riesgo'!$C$9),0),Calif_Impacto,2))","v":""},null,"","",{"$f":"IF(OR(Datos!A201=0,Datos!A201=\"\"),P204,IF(ISERROR(VLOOKUP(VLOOKUP(P204,VrImpacto,2,0)-ROUNDDOWN(VLOOKUP(P204,VrImpacto,2,0)*Datos!A201,0),Vr_Impacto,2,1)),\"\",VLOOKUP(VLOOKUP(P204,VrImpacto,2,0)-ROUNDDOWN(VLOOKUP(P204,VrImpacto,2,0)*Datos!A201,0),Vr_Impacto,2,1)))","v":""},{"$f":"IF(Datos!B201=0,Q204,IF(Datos!B201=\"\",Q204,IF(ISERROR(VLOOKUP(VLOOKUP(Q204,Vr_Probabilidad1,2,0)+1-ROUNDDOWN(VLOOKUP(Q204,Vr_Probabilidad1,2,0)*Datos!B201,0),Vr_Probabilidad,2,1)),\"\",VLOOKUP(VLOOKUP(Q204,Vr_Probabilidad1,2,0)-ROUNDDOWN(VLOOKUP(Q204,Vr_Probabilidad1,2,0)*Datos!B201,0),Vr_Probabilidad,2,1))))","v":0},{"$f":"Datos!C201","v":0},"","",""]
["R",null,null,null,null,null,"",null,null,null,null,null,null,null,null,{"$f":"IF(COUNTA(I205:O205)<7,\"\",VLOOKUP(ROUNDUP((LEFT(I205,1)*'Criterios de Riesgo'!$C$3+LEFT(J205,1)*'Criterios de Riesgo'!$C$4+LEFT(K205,1)*'Criterios de Riesgo'!$C$5+LEFT(L205,1)*'Criterios de Riesgo'!$C$6+LEFT(M205,1)*'Criterios de Riesgo'!$C$7+LEFT(N205,1)*'Criterios de Riesgo'!$C$8+LEFT(O205,1)*'Criterios de Riesgo'!$C$9),0),Calif_Impacto,2))","v":""},null,"","",{"$f":"IF(OR(Datos!A202=0,Datos!A202=\"\"),P205,IF(ISERROR(VLOOKUP(VLOOKUP(P205,VrImpacto,2,0)-ROUNDDOWN(VLOOKUP(P205,VrImpacto,2,0)*Datos!A202,0),Vr_Impacto,2,1)),\"\",VLOOKUP(VLOOKUP(P205,VrImpacto,2,0)-ROUNDDOWN(VLOOKUP(P205,VrImpacto,2,0)*Datos!A202,0),Vr_Impacto,2,1)))","v":""},{"$f":"IF(Datos!B202=0,Q205,IF(Datos!B202=\"\",Q205,IF(ISERROR(VLOOKUP(VLOOKUP(Q205,Vr_Probabilidad1,2,0)+1-ROUNDDOWN(VLOOKUP(Q205,Vr_Probabilidad1,2,0)*Datos!B202,0),Vr_Probabilidad,2,1)),\"\",VLOOKUP(VLOOKUP(Q205,Vr_Probabilidad1,2,0)-ROUNDDOWN(VLOOKUP(Q205,Vr_Probabilidad1,2,0)*Datos!B202,0),Vr_Probabilidad,2,1))))","v":0},{"$f":"Datos!C202","v":0},"","",""]
["R",null,null,null,null,null,"",null,null,null,null,null,null,null,null,{"$f":"IF(COUNTA(I206:O206)<7,\"\",VLOOKUP(ROUNDUP((LEFT(I206,1)*'Criterios de Riesgo'!$C$3+LEFT(J206,1)*'Criterios de Riesgo'!$C$4+LEFT(K206,1)*'Criterios de Riesgo'!$C$5+LEFT(L206,1)*'Criterios de Riesgo'!$C$6+LEFT(M206,1)*'Criterios de Riesgo'!$C$7+LEFT(N206,1)*'Criterios de Riesgo'!$C$8+LEFT(O206,1)*'Criterios de Riesgo'!$C$9),0),Calif_Impacto,2))","v":""},null,"","",{"$f":"IF(OR(Datos!A203=0,Datos!A203=\"\"),P206,IF(ISERROR(VLOOKUP(VLOOKUP(P206,VrImpacto,2,0)-ROUNDDOWN(VLOOKUP(P206,VrImpacto,2,0)*Datos!A203,0),Vr_Impacto,2,1)),\"\",VLOOKUP(VLOOKUP(P206,VrImpacto,2,0)-ROUNDDOWN(VLOOKUP(P206,VrImpacto,2,0)*Datos!A203,0),Vr_Impacto,2,1)))","v":""},{"$f":"IF(Datos!B203=0,Q206,IF(Datos!B203=\"\",Q206,IF(ISERROR(VLOOKUP(VLOOKUP(Q206,Vr_Probabilidad1,2,0)+1-ROUNDDOWN(VLOOKUP(Q206,Vr_Probabilidad1,2,0)*Datos!B203,0),Vr_Probabilidad,2,1)),\"\",VLOOKUP(VLOOKUP(Q206,Vr_Probabilidad1,2,0)-ROUNDDOWN(VLOOKUP(Q206,Vr_Probabilidad1,2,0)*Datos!B203,0),Vr_Probabilidad,2,1))))","v":0},{"$f":"Datos!C203","v":0},"","",""]
["R",null,null,null,null,null,"",null,null,null,null,null,null,null,null,{"$f":"IF(COUNTA(I207:O207)<7,\"\",VLOOKUP(ROUNDUP((LEFT(I207,1)*'Criterios de Riesgo'!$C$3+LEFT(J207,1)*'Criterios de Riesgo'!$C$4+LEFT(K207,1)*'Criterios de Riesgo'!$C$5+LEFT(L207,1)*'Criterios de Riesgo'!$C$6+LEFT(M207,1)*'Criterios de Riesgo'!$C$7+LEFT(N207,1)*'Criterios de Riesgo'!$C$8+LEFT(O207,1)*'Criterios de Riesgo'!$C$9),0),Calif_Impacto,2))","v":""},null,"","",{"$f":"IF(OR(Datos!A204=0,Datos!A204=\"\"),P207,IF(ISERROR(VLOOKUP(VLOOKUP(P207,VrImpacto,2,0)-ROUNDDOWN(VLOOKUP(P207,VrImpacto,2,0)*Datos!A204,0),Vr_Impacto,2,1)),\"\",VLOOKUP(VLOOKUP(P207,VrImpacto,2,0)-ROUNDDOWN(VLOOKUP(P207,VrImpacto,2,0)*Datos!A204,0),Vr_Impacto,2,1)))","v":""},{"$f":"IF(Datos!B204=0,Q207,IF(Datos!B204=\"\",Q207,IF(ISERROR(VLOOKUP(VLOOKUP(Q207,Vr_Probabilidad1,2,0)+1-ROUNDDOWN(VLOOKUP(Q207,Vr_Probabilidad1,2,0)*Datos!B204,0),Vr_Probabilidad,2,1)),\"\",VLOOKUP(VLOOKUP(Q207,Vr_Probabilidad1,2,0)-ROUNDDOWN(VLOOKUP(Q207,Vr_Probabilidad1,2,0)*Datos!B204,0),Vr_Probabilidad,2,1))))","v":0},{"$f":"Datos!C204","v":0},"","",""]
["R",null,null,null,null,null,"",null,null,null,null,null,null,null,null,{"$f":"IF(COUNTA(I208:O208)<7,\"\",VLOOKUP(ROUNDUP((LEFT(I208,1)*'Criterios de Riesgo'!$C$3+LEFT(J208,1)*'Criterios de Riesgo'!$C$4+LEFT(K208,1)*'Criterios de Riesgo'!$C$5+LEFT(L208,1)*'Criterios de Riesgo'!$C$6+LEFT(M208,1)*'Criterios de Riesgo'!$C$7+LEFT(N208,1)*'Criterios de Riesgo'!$C$8+LEFT(O208,1)*'Criterios de Riesgo'!$C$9),0),Calif_Impacto,2))","v":""},null,"","",{"$f":"IF(OR(Datos!A205=0,Datos!A205=\"\"),P208,IF(ISERROR(VLOOKUP(VLOOKUP(P208,VrImpacto,2,0)-ROUNDDOWN(VLOOKUP(P208,VrImpacto,2,0)*Datos!A205,0),Vr_Impacto,2,1)),\"\",VLOOKUP(VLOOKUP(P208,VrImpacto,2,0)-ROUNDDOWN(VLOOKUP(P208,VrImpacto,2,0)*Datos!A205,0),Vr_Impacto,2,1)))","v":""},{"$f":"IF(Datos!B205=0,Q208,IF(Datos!B205=\"\",Q208,IF(ISERROR(VLOOKUP(VLOOKUP(Q208,Vr_Probabilidad1,2,0)+1-ROUNDDOWN(VLOOKUP(Q208,Vr_Probabilidad1,2,0)*Datos!B205,0),Vr_Probabilidad,2,1)),\"\",VLOOKUP(VLOOKUP(Q208,Vr_Probabilidad1,2,0)-ROUNDDOWN(VLOOKUP(Q208,Vr_Probabilidad1,2,0)*Datos!B205,0),Vr_Probabilidad,2,1))))","v":0},{"$f":"Datos!C205","v":0},"","",""]
["R",null,null,null,null,null,"",null,null,null,null,null,null,null,null,{"$f":"IF(COUNTA(I209:O209)<7,\"\",VLOOKUP(ROUNDUP((LEFT(I209,1)*'Criterios de Riesgo'!$C$3+LEFT(J209,1)*'Criterios de Riesgo'!$C$4+LEFT(K209,1)*'Criterios de Riesgo'!$C$5+LEFT(L209,1)*'Criterios de Riesgo'!$C$6+LEFT(M209,1)*'Criterios de Riesgo'!$C$7+LEFT(N209,1)*'Criterios de Riesgo'!$C$8+LEFT(O209,1)*'Criterios de Riesgo'!$C$9),0),Calif_Impacto,2))","v":""},null,"","",{"$f":"IF(OR(Datos!A206=0,Datos!A206=\"\"),P209,IF(ISERROR(VLOOKUP(VLOOKUP(P209,VrImpacto,2,0)-ROUNDDOWN(VLOOKUP(P209,VrImpacto,2,0)*Datos!A206,0),Vr_Impacto,2,1)),\"\",VLOOKUP(VLOOKUP(P209,VrImpacto,2,0)-ROUNDDOWN(VLOOKUP(P209,VrImpacto,2,0)*Datos!A206,0),Vr_Impacto,2,1)))","v":""},{"$f":"IF(Datos!B206=0,Q209,IF(Datos!B206=\"\",Q209,IF(ISERROR(VLOOKUP(VLOOKUP(Q209,Vr_Probabilidad1,2,0)+1-ROUNDDOWN(VLOOKUP(Q209,Vr_Probabilidad1,2,0)*Datos!B206,0),Vr_Probabilidad,2,1)),\"\",VLOOKUP(VLOOKUP(Q209,Vr_Probabilidad1,2,0)-ROUNDDOWN(VLOOKUP(Q209,Vr_Probabilidad1,2,0)*Datos!B206,0),Vr_Probabilidad,2,1))))","v":0},{"$f":"Datos!C206","v":0},"","",""]
["R",null,null,null,null,null,"",null,null,null,null,null,null,null,null,{"$f":"IF(COUNTA(I210:O210)<7,\"\",VLOOKUP(ROUNDUP((LEFT(I210,1)*'Criterios de Riesgo'!$C$3+LEFT(J210,1)*'Criterios de Riesgo'!$C$4+LEFT(K210,1)*'Criterios de Riesgo'!$C$5+LEFT(L210,1)*'Criterios de Riesgo'!$C$6+LEFT(M210,1)*'Criterios de Riesgo'!$C$7+LEFT(N210,1)*'Criterios de Riesgo'!$C$8+LEFT(O210,1)*'Criterios de Riesgo'!$C$9),0),Calif_Impacto,2))","v":""},null,"","",{"$f":"IF(OR(Datos!A207=0,Datos!A207=\"\"),P210,IF(ISERROR(VLOOKUP(VLOOKUP(P210,VrImpacto,2,0)-ROUNDDOWN(VLOOKUP(P210,VrImpacto,2,0)*Datos!A207,0),Vr_Impacto,2,1)),\"\",VLOOKUP(VLOOKUP(P210,VrImpacto,2,0)-ROUNDDOWN(VLOOKUP(P210,VrImpacto,2,0)*Datos!A207,0),Vr_Impacto,2,1)))","v":""},{"$f":"IF(Datos!B207=0,Q210,IF(Datos!B207=\"\",Q210,IF(ISERROR(VLOOKUP(VLOOKUP(Q210,Vr_Probabilidad1,2,0)+1-ROUNDDOWN(VLOOKUP(Q210,Vr_Probabilidad1,2,0)*Datos!B207,0),Vr_Probabilidad,2,1)),\"\",VLOOKUP(VLOOKUP(Q210,Vr_Probabilidad1,2,0)-ROUNDDOWN(VLOOKUP(Q210,Vr_Probabilidad1,2,0)*Datos!B207,0),Vr_Probabilidad,2,1))))","v":0},{"$f":"Datos!C207","v":0},"","",""]
["R",null,null,null,null,null,"",null,null,null,null,null,null,null,null,{"$f":"IF(COUNTA(I211:O211)<7,\"\",VLOOKUP(ROUNDUP((LEFT(I211,1)*'Criterios de Riesgo'!$C$3+LEFT(J211,1)*'Criterios de Riesgo'!$C$4+LEFT(K211,1)*'Criterios de Riesgo'!$C$5+LEFT(L211,1)*'Criterios de Riesgo'!$C$6+LEFT(M211,1)*'Criterios de Riesgo'!$C$7+LEFT(N211,1)*'Criterios de Riesgo'!$C$8+LEFT(O211,1)*'Criterios de Riesgo'!$C$9),0),Calif_Impacto,2))","v":""},null,"","",{"$f":"IF(OR(Datos!A208=0,Datos!A208=\"\"),P211,IF(ISERROR(VLOOKUP(VLOOKUP(P211,VrImpacto,2,0)-ROUNDDOWN(VLOOKUP(P211,VrImpacto,2,0)*Datos!A208,0),Vr_Impacto,2,1)),\"\",VLOOKUP(VLOOKUP(P211,VrImpacto,2,0)-ROUNDDOWN(VLOOKUP(P211,VrImpacto,2,0)*Datos!A208,0),Vr_Impacto,2,1)))","v":""},{"$f":"IF(Datos!B208=0,Q211,IF(Datos!B208=\"\",Q211,IF(ISERROR(VLOOKUP(VLOOKUP(Q211,Vr_Probabilidad1,2,0)+1-ROUNDDOWN(VLOOKUP(Q211,Vr_Probabilidad1,2,0)*Datos!B208,0),Vr_Probabilidad,2,1)),\"\",VLOOKUP(VLOOKUP(Q211,Vr_Probabilidad1,2,0)-ROUNDDOWN(VLOOKUP(Q211,Vr_Probabilidad1,2,0)*Datos!B208,0),Vr_Probabilidad,2,1))))","v":0},{"$f":"Datos!C208","v":0},"","",""]
["R",null,null,null,null,null,"",null,null,null,null,null,null,null,null,{"$f":"IF(COUNTA(I212:O212)<7,\"\",VLOOKUP(ROUNDUP((LEFT(I212,1)*'Criterios de Riesgo'!$C$3+LEFT(J212,1)*'Criterios de Riesgo'!$C$4+LEFT(K212,1)*'Criterios de Riesgo'!$C$5+LEFT(L212,1)*'Criterios de Riesgo'!$C$6+LEFT(M212,1)*'Criterios de Riesgo'!$C$7+LEFT(N212,1)*'Criterios de Riesgo'!$C$8+LEFT(O212,1)*'Criterios de Riesgo'!$C$9),0),Calif_Impacto,2))","v":""},null,"","",{"$f":"IF(OR(Datos!A209=0,Datos!A209=\"\"),P212,IF(ISERROR(VLOOKUP(VLOOKUP(P212,VrImpacto,2,0)-ROUNDDOWN(VLOOKUP(P212,VrImpacto,2,0)*Datos!A209,0),Vr_Impacto,2,1)),\"\",VLOOKUP(VLOOKUP(P212,VrImpacto,2,0)-ROUNDDOWN(VLOOKUP(P212,VrImpacto,2,0)*Datos!A209,0),Vr_Impacto,2,1)))","v":""},{"$f":"IF(Datos!B209=0,Q212,IF(Datos!B209=\"\",Q212,IF(ISERROR(VLOOKUP(VLOOKUP(Q212,Vr_Probabilidad1,2,0)+1-ROUNDDOWN(VLOOKUP(Q212,Vr_Probabilidad1,2,0)*Datos!B209,0),Vr_Probabilidad,2,1)),\"\",VLOOKUP(VLOOKUP(Q212,Vr_Probabilidad1,2,0)-ROUNDDOWN(VLOOKUP(Q212,Vr_Probabilidad1,2,0)*Datos!B209,0),Vr_Probabilidad,2,1))))","v":0},{"$f":"Datos!C209","v":0},"","",""]
["R",null,null,null,null,null,"",null,null,null,null,null,null,null,null,{"$f":"IF(COUNTA(I213:O213)<7,\"\",VLOOKUP(ROUNDUP((LEFT(I213,1)*'Criterios de Riesgo'!$C$3+LEFT(J213,1)*'Criterios de Riesgo'!$C$4+LEFT(K213,1)*'Criterios de Riesgo'!$C$5+LEFT(L213,1)*'Criterios de Riesgo'!$C$6+LEFT(M213,1)*'Criterios de Riesgo'!$C$7+LEFT(N213,1)*'Criterios de Riesgo'!$C$8+LEFT(O213,1)*'Criterios de Riesgo'!$C$9),0),Calif_Impacto,2))","v":""},null,"","",{"$f":"IF(OR(Datos!A210=0,Datos!A210=\"\"),P213,IF(ISERROR(VLOOKUP(VLOOKUP(P213,VrImpacto,2,0)-ROUNDDOWN(VLOOKUP(P213,VrImpacto,2,0)*Datos!A210,0),Vr_Impacto,2,1)),\"\",VLOOKUP(VLOOKUP(P213,VrImpacto,2,0)-ROUNDDOWN(VLOOKUP(P213,VrImpacto,2,0)*Datos!A210,0),Vr_Impacto,2,1)))","v":""},{"$f":"IF(Datos!B210=0,Q213,IF(Datos!B210=\"\",Q213,IF(ISERROR(VLOOKUP(VLOOKUP(Q213,Vr_Probabilidad1,2,0)+1-ROUNDDOWN(VLOOKUP(Q213,Vr_Probabilidad1,2,0)*Datos!B210,0),Vr_Probabilidad,2,1)),\"\",VLOOKUP(VLOOKUP(Q213,Vr_Probabilidad1,2,0)-ROUNDDOWN(VLOOKUP(Q213,Vr_Probabilidad1,2,0)*Datos!B210,0),Vr_Probabilidad,2,1))))","v":0},{"$f":"Datos!C210","v":0},"","",""]
["R",null,null,null,null,null,"",null,null,null,null,null,null,null,null,{"$f":"IF(COUNTA(I214:O214)<7,\"\",VLOOKUP(ROUNDUP((LEFT(I214,1)*'Criterios de Riesgo'!$C$3+LEFT(J214,1)*'Criterios de Riesgo'!$C$4+LEFT(K214,1)*'Criterios de Riesgo'!$C$5+LEFT(L214,1)*'Criterios de Riesgo'!$C$6+LEFT(M214,1)*'Criterios de Riesgo'!$C$7+LEFT(N214,1)*'Criterios de Riesgo'!$C$8+LEFT(O214,1)*'Criterios de Riesgo'!$C$9),0),Calif_Impacto,2))","v":""},null,"","",{"$f":"IF(OR(Datos!A211=0,Datos!A211=\"\"),P214,IF(ISERROR(VLOOKUP(VLOOKUP(P214,VrImpacto,2,0)-ROUNDDOWN(VLOOKUP(P214,VrImpacto,2,0)*Datos!A211,0),Vr_Impacto,2,1)),\"\",VLOOKUP(VLOOKUP(P214,VrImpacto,2,0)-ROUNDDOWN(VLOOKUP(P214,VrImpacto,2,0)*Datos!A211,0),Vr_Impacto,2,1)))","v":""},{"$f":"IF(Datos!B211=0,Q214,IF(Datos!B211=\"\",Q214,IF(ISERROR(VLOOKUP(VLOOKUP(Q214,Vr_Probabilidad1,2,0)+1-ROUNDDOWN(VLOOKUP(Q214,Vr_Probabilidad1,2,0)*Datos!B211,0),Vr_Probabilidad,2,1)),\"\",VLOOKUP(VLOOKUP(Q214,Vr_Probabilidad1,2,0)-ROUNDDOWN(VLOOKUP(Q214,Vr_Probabilidad1,2,0)*Datos!B211,0),Vr_Probabilidad,2,1))))","v":0},{"$f":"Datos!C211","v":0},"","",""]
["R",null,null,null,null,null,"",null,null,null,null,null,null,null,null,{"$f":"IF(COUNTA(I215:O215)<7,\"\",VLOOKUP(ROUNDUP((LEFT(I215,1)*'Criterios de Riesgo'!$C$3+LEFT(J215,1)*'Criterios de Riesgo'!$C$4+LEFT(K215,1)*'Criterios de Riesgo'!$C$5+LEFT(L215,1)*'Criterios de Riesgo'!$C$6+LEFT(M215,1)*'Criterios de Riesgo'!$C$7+LEFT(N215,1)*'Criterios de Riesgo'!$C$8+LEFT(O215,1)*'Criterios de Riesgo'!$C$9),0),Calif_Impacto,2))","v":""},null,"","",{"$f":"IF(OR(Datos!A212=0,Datos!A212=\"\"),P215,IF(ISERROR(VLOOKUP(VLOOKUP(P215,VrImpacto,2,0)-ROUNDDOWN(VLOOKUP(P215,VrImpacto,2,0)*Datos!A212,0),Vr_Impacto,2,1)),\"\",VLOOKUP(VLOOKUP(P215,VrImpacto,2,0)-ROUNDDOWN(VLOOKUP(P215,VrImpacto,2,0)*Datos!A212,0),Vr_Impacto,2,1)))","v":""},{"$f":"IF(Datos!B212=0,Q215,IF(Datos!B212=\"\",Q215,IF(ISERROR(VLOOKUP(VLOOKUP(Q215,Vr_Probabilidad1,2,0)+1-ROUNDDOWN(VLOOKUP(Q215,Vr_Probabilidad1,2,0)*Datos!B212,0),Vr_Probabilidad,2,1)),\"\",VLOOKUP(VLOOKUP(Q215,Vr_Probabilidad1,2,0)-ROUNDDOWN(VLOOKUP(Q215,Vr_Probabilidad1,2,0)*Datos!B212,0),Vr_Probabilidad,2,1))))","v":0},{"$f":"Datos!C212","v":0},"","",""]
["R",null,null,null,null,null,"",null,null,null,null,null,null,null,null,{"$f":"IF(COUNTA(I216:O216)<7,\"\",VLOOKUP(ROUNDUP((LEFT(I216,1)*'Criterios de Riesgo'!$C$3+LEFT(J216,1)*'Criterios de Riesgo'!$C$4+LEFT(K216,1)*'Criterios de Riesgo'!$C$5+LEFT(L216,1)*'Criterios de Riesgo'!$C$6+LEFT(M216,1)*'Criterios de Riesgo'!$C$7+LEFT(N216,1)*'Criterios de Riesgo'!$C$8+LEFT(O216,1)*'Criterios de Riesgo'!$C$9),0),Calif_Impacto,2))","v":""},null,"","",{"$f":"IF(OR(Datos!A213=0,Datos!A213=\"\"),P216,IF(ISERROR(VLOOKUP(VLOOKUP(P216,VrImpacto,2,0)-ROUNDDOWN(VLOOKUP(P216,VrImpacto,2,0)*Datos!A213,0),Vr_Impacto,2,1)),\"\",VLOOKUP(VLOOKUP(P216,VrImpacto,2,0)-ROUNDDOWN(VLOOKUP(P216,VrImpacto,2,0)*Datos!A213,0),Vr_Impacto,2,1)))","v":""},{"$f":"IF(Datos!B213=0,Q216,IF(Datos!B213=\"\",Q216,IF(ISERROR(VLOOKUP(VLOOKUP(Q216,Vr_Probabilidad1,2,0)+1-ROUNDDOWN(VLOOKUP(Q216,Vr_Probabilidad1,2,0)*Datos!B213,0),Vr_Probabilidad,2,1)),\"\",VLOOKUP(VLOOKUP(Q216,Vr_Probabilidad1,2,0)-ROUNDDOWN(VLOOKUP(Q216,Vr_Probabilidad1,2,0)*Datos!B213,0),Vr_Probabilidad,2,1))))","v":0},{"$f":"Datos!C213","v":0},"","",""]
["R",null,null,null,null,null,"",null,null,null,null,null,null,null,null,{"$f":"IF(COUNTA(I217:O217)<7,\"\",VLOOKUP(ROUNDUP((LEFT(I217,1)*'Criterios de Riesgo'!$C$3+LEFT(J217,1)*'Criterios de Riesgo'!$C$4+LEFT(K217,1)*'Criterios de Riesgo'!$C$5+LEFT(L217,1)*'Criterios de Riesgo'!$C$6+LEFT(M217,1)*'Criterios de Riesgo'!$C$7+LEFT(N217,1)*'Criterios de Riesgo'!$C$8+LEFT(O217,1)*'Criterios de Riesgo'!$C$9),0),Calif_Impacto,2))","v":""},null,"","",{"$f":"IF(OR(Datos!A214=0,Datos!A214=\"\"),P217,IF(ISERROR(VLOOKUP(VLOOKUP(P217,VrImpacto,2,0)-ROUNDDOWN(VLOOKUP(P217,VrImpacto,2,0)*Datos!A214,0),Vr_Impacto,2,1)),\"\",VLOOKUP(VLOOKUP(P217,VrImpacto,2,0)-ROUNDDOWN(VLOOKUP(P217,VrImpacto,2,0)*Datos!A214,0),Vr_Impacto,2,1)))","v":""},{"$f":"IF(Datos!B214=0,Q217,IF(Datos!B214=\"\",Q217,IF(ISERROR(VLOOKUP(VLOOKUP(Q217,Vr_Probabilidad1,2,0)+1-ROUNDDOWN(VLOOKUP(Q217,Vr_Probabilidad1,2,0)*Datos!B214,0),Vr_Probabilidad,2,1)),\"\",VLOOKUP(VLOOKUP(Q217,Vr_Probabilidad1,2,0)-ROUNDDOWN(VLOOKUP(Q217,Vr_Probabilidad1,2,0)*Datos!B214,0),Vr_Probabilidad,2,1))))","v":0},{"$f":"Datos!C214","v":0},"","",""]
["R",null,null,null,null,null,"",null,null,null,null,null,null,null,null,{"$f":"IF(COUNTA(I218:O218)<7,\"\",VLOOKUP(ROUNDUP((LEFT(I218,1)*'Criterios de Riesgo'!$C$3+LEFT(J218,1)*'Criterios de Riesgo'!$C$4+LEFT(K218,1)*'Criterios de Riesgo'!$C$5+LEFT(L218,1)*'Criterios de Riesgo'!$C$6+LEFT(M218,1)*'Criterios de Riesgo'!$C$7+LEFT(N218,1)*'Criterios de Riesgo'!$C$8+LEFT(O218,1)*'Criterios de Riesgo'!$C$9),0),Calif_Impacto,2))","v":""},null,"","",{"$f":"IF(OR(Datos!A215=0,Datos!A215=\"\"),P218,IF(ISERROR(VLOOKUP(VLOOKUP(P218,VrImpacto,2,0)-ROUNDDOWN(VLOOKUP(P218,VrImpacto,2,0)*Datos!A215,0),Vr_Impacto,2,1)),\"\",VLOOKUP(VLOOKUP(P218,VrImpacto,2,0)-ROUNDDOWN(VLOOKUP(P218,VrImpacto,2,0)*Datos!A215,0),Vr_Impacto,2,1)))","v":""},{"$f":"IF(Datos!B215=0,Q218,IF(Datos!B215=\"\",Q218,IF(ISERROR(VLOOKUP(VLOOKUP(Q218,Vr_Probabilidad1,2,0)+1-ROUNDDOWN(VLOOKUP(Q218,Vr_Probabilidad1,2,0)*Datos!B215,0),Vr_Probabilidad,2,1)),\"\",VLOOKUP(VLOOKUP(Q218,Vr_Probabilidad1,2,0)-ROUNDDOWN(VLOOKUP(Q218,Vr_Probabilidad1,2,0)*Datos!B215,0),Vr_Probabilidad,2,1))))","v":0},{"$f":"Datos!C215","v":0},"","",""]
["R",null,null,null,null,null,"",null,null,null,null,null,null,null,null,{"$f":"IF(COUNTA(I219:O219)<7,\"\",VLOOKUP(ROUNDUP((LEFT(I219,1)*'Criterios de Riesgo'!$C$3+LEFT(J219,1)*'Criterios de Riesgo'!$C$4+LEFT(K219,1)*'Criterios de Riesgo'!$C$5+LEFT(L219,1)*'Criterios de Riesgo'!$C$6+LEFT(M219,1)*'Criterios de Riesgo'!$C$7+LEFT(N219,1)*'Criterios de Riesgo'!$C$8+LEFT(O219,1)*'Criterios de Riesgo'!$C$9),0),Calif_Impacto,2))","v":""},null,"","",{"$f":"IF(OR(Datos!A216=0,Datos!A216=\"\"),P219,IF(ISERROR(VLOOKUP(VLOOKUP(P219,VrImpacto,2,0)-ROUNDDOWN(VLOOKUP(P219,VrImpacto,2,0)*Datos!A216,0),Vr_Impacto,2,1)),\"\",VLOOKUP(VLOOKUP(P219,VrImpacto,2,0)-ROUNDDOWN(VLOOKUP(P219,VrImpacto,2,0)*Datos!A216,0),Vr_Impacto,2,1)))","v":""},{"$f":"IF(Datos!B216=0,Q219,IF(Datos!B216=\"\",Q219,IF(ISERROR(VLOOKUP(VLOOKUP(Q219,Vr_Probabilidad1,2,0)+1-ROUNDDOWN(VLOOKUP(Q219,Vr_Probabilidad1,2,0)*Datos!B216,0),Vr_Probabilidad,2,1)),\"\",VLOOKUP(VLOOKUP(Q219,Vr_Probabilidad1,2,0)-ROUNDDOWN(VLOOKUP(Q219,Vr_Probabilidad1,2,0)*Datos!B216,0),Vr_Probabilidad,2,1))))","v":0},{"$f":"Datos!C216","v":0},"","",""]
["R",null,null,null,null,null,"",null,null,null,null,null,null,null,null,{"$f":"IF(COUNTA(I220:O220)<7,\"\",VLOOKUP(ROUNDUP((LEFT(I220,1)*'Criterios de Riesgo'!$C$3+LEFT(J220,1)*'Criterios de Riesgo'!$C$4+LEFT(K220,1)*'Criterios de Riesgo'!$C$5+LEFT(L220,1)*'Criterios de Riesgo'!$C$6+LEFT(M220,1)*'Criterios de Riesgo'!$C$7+LEFT(N220,1)*'Criterios de Riesgo'!$C$8+LEFT(O220,1)*'Criterios de Riesgo'!$C$9),0),Calif_Impacto,2))","v":""},null,"","",{"$f":"IF(OR(Datos!A217=0,Datos!A217=\"\"),P220,IF(ISERROR(VLOOKUP(VLOOKUP(P220,VrImpacto,2,0)-ROUNDDOWN(VLOOKUP(P220,VrImpacto,2,0)*Datos!A217,0),Vr_Impacto,2,1)),\"\",VLOOKUP(VLOOKUP(P220,VrImpacto,2,0)-ROUNDDOWN(VLOOKUP(P220,VrImpacto,2,0)*Datos!A217,0),Vr_Impacto,2,1)))","v":""},{"$f":"IF(Datos!B217=0,Q220,IF(Datos!B217=\"\",Q220,IF(ISERROR(VLOOKUP(VLOOKUP(Q220,Vr_Probabilidad1,2,0)+1-ROUNDDOWN(VLOOKUP(Q220,Vr_Probabilidad1,2,0)*Datos!B217,0),Vr_Probabilidad,2,1)),\"\",VLOOKUP(VLOOKUP(Q220,Vr_Probabilidad1,2,0)-ROUNDDOWN(VLOOKUP(Q220,Vr_Probabilidad1,2,0)*Datos!B217,0),Vr_Probabilidad,2,1))))","v":0},{"$f":"Datos!C217","v":0},"","",""]
["R",null,null,null,null,null,"",null,null,null,null,null,null,null,null,{"$f":"IF(COUNTA(I221:O221)<7,\"\",VLOOKUP(ROUNDUP((LEFT(I221,1)*'Criterios de Riesgo'!$C$3+LEFT(J221,1)*'Criterios de Riesgo'!$C$4+LEFT(K221,1)*'Criterios de Riesgo'!$C$5+LEFT(L221,1)*'Criterios de Riesgo'!$C$6+LEFT(M221,1)*'Criterios de Riesgo'!$C$7+LEFT(N221,1)*'Criterios de Riesgo'!$C$8+LEFT(O221,1)*'Criterios de Riesgo'!$C$9),0),Calif_Impacto,2))","v":""},null,"","",{"$f":"IF(OR(Datos!A218=0,Datos!A218=\"\"),P221,IF(ISERROR(VLOOKUP(VLOOKUP(P221,VrImpacto,2,0)-ROUNDDOWN(VLOOKUP(P221,VrImpacto,2,0)*Datos!A218,0),Vr_Impacto,2,1)),\"\",VLOOKUP(VLOOKUP(P221,VrImpacto,2,0)-ROUNDDOWN(VLOOKUP(P221,VrImpacto,2,0)*Datos!A218,0),Vr_Impacto,2,1)))","v":""},{"$f":"IF(Datos!B218=0,Q221,IF(Datos!B218=\"\",Q221,IF(ISERROR(VLOOKUP(VLOOKUP(Q221,Vr_Probabilidad1,2,0)+1-ROUNDDOWN(VLOOKUP(Q221,Vr_Probabilidad1,2,0)*Datos!B218,0),Vr_Probabilidad,2,1)),\"\",VLOOKUP(VLOOKUP(Q221,Vr_Probabilidad1,2,0)-ROUNDDOWN(VLOOKUP(Q221,Vr_Probabilidad1,2,0)*Datos!B218,0),Vr_Probabilidad,2,1))))","v":0},{"$f":"Datos!C218","v":0},"","",""]
["R",null,null,null,null,null,"",null,null,null,null,null,null,null,null,{"$f":"IF(COUNTA(I222:O222)<7,\"\",VLOOKUP(ROUNDUP((LEFT(I222,1)*'Criterios de Riesgo'!$C$3+LEFT(J222,1)*'Criterios de Riesgo'!$C$4+LEFT(K222,1)*'Criterios de Riesgo'!$C$5+LEFT(L222,1)*'Criterios de Riesgo'!$C$6+LEFT(M222,1)*'Criterios de Riesgo'!$C$7+LEFT(N222,1)*'Criterios de Riesgo'!$C$8+LEFT(O222,1)*'Criterios de Riesgo'!$C$9),0),Calif_Impacto,2))","v":""},null,"","",{"$f":"IF(OR(Datos!A219=0,Datos!A219=\"\"),P222,IF(ISERROR(VLOOKUP(VLOOKUP(P222,VrImpacto,2,0)-ROUNDDOWN(VLOOKUP(P222,VrImpacto,2,0)*Datos!A219,0),Vr_Impacto,2,1)),\"\",VLOOKUP(VLOOKUP(P222,VrImpacto,2,0)-ROUNDDOWN(VLOOKUP(P222,VrImpacto,2,0)*Datos!A219,0),Vr_Impacto,2,1)))","v":""},{"$f":"IF(Datos!B219=0,Q222,IF(Datos!B219=\"\",Q222,IF(ISERROR(VLOOKUP(VLOOKUP(Q222,Vr_Probabilidad1,2,0)+1-ROUNDDOWN(VLOOKUP(Q222,Vr_Probabilidad1,2,0)*Datos!B219,0),Vr_Probabilidad,2,1)),\"\",VLOOKUP(VLOOKUP(Q222,Vr_Probabilidad1,2,0)-ROUNDDOWN(VLOOKUP(Q222,Vr_Probabilidad1,2,0)*Datos!B219,0),Vr_Probabilidad,2,1))))","v":0},{"$f":"Datos!C219","v":0},"","",""]
["R",null,null,null,null,null,"",null,null,null,null,null,null,null,null,{"$f":"IF(COUNTA(I223:O223)<7,\"\",VLOOKUP(ROUNDUP((LEFT(I223,1)*'Criterios de Riesgo'!$C$3+LEFT(J223,1)*'Criterios de Riesgo'!$C$4+LEFT(K223,1)*'Criterios de Riesgo'!$C$5+LEFT(L223,1)*'Criterios de Riesgo'!$C$6+LEFT(M223,1)*'Criterios de Riesgo'!$C$7+LEFT(N223,1)*'Criterios de Riesgo'!$C$8+LEFT(O223,1)*'Criterios de Riesgo'!$C$9),0),Calif_Impacto,2))","v":""},null,"","",{"$f":"IF(OR(Datos!A220=0,Datos!A220=\"\"),P223,IF(ISERROR(VLOOKUP(VLOOKUP(P223,VrImpacto,2,0)-ROUNDDOWN(VLOOKUP(P223,VrImpacto,2,0)*Datos!A220,0),Vr_Impacto,2,1)),\"\",VLOOKUP(VLOOKUP(P223,VrImpacto,2,0)-ROUNDDOWN(VLOOKUP(P223,VrImpacto,2,0)*Datos!A220,0),Vr_Impacto,2,1)))","v":""},{"$f":"IF(Datos!B220=0,Q223,IF(Datos!B220=\"\",Q223,IF(ISERROR(VLOOKUP(VLOOKUP(Q223,Vr_Probabilidad1,2,0)+1-ROUNDDOWN(VLOOKUP(Q223,Vr_Probabilidad1,2,0)*Datos!B220,0),Vr_Probabilidad,2,1)),\"\",VLOOKUP(VLOOKUP(Q223,Vr_Probabilidad1,2,0)-ROUNDDOWN(VLOOKUP(Q223,Vr_Probabilidad1,2,0)*Datos!B220,0),Vr_Probabilidad,2,1))))","v":0},{"$f":"Datos!C220","v":0},"","",""]
["R",null,null,null,null,null,"",null,null,null,null,null,null,null,null,{"$f":"IF(COUNTA(I224:O224)<7,\"\",VLOOKUP(ROUNDUP((LEFT(I224,1)*'Criterios de Riesgo'!$C$3+LEFT(J224,1)*'Criterios de Riesgo'!$C$4+LEFT(K224,1)*'Criterios de Riesgo'!$C$5+LEFT(L224,1)*'Criterios de Riesgo'!$C$6+LEFT(M224,1)*'Criterios de Riesgo'!$C$7+LEFT(N224,1)*'Criterios de Riesgo'!$C$8+LEFT(O224,1)*'Criterios de Riesgo'!$C$9),0),Calif_Impacto,2))","v":""},null,"","",{"$f":"IF(OR(Datos!A221=0,Datos!A221=\"\"),P224,IF(ISERROR(VLOOKUP(VLOOKUP(P224,VrImpacto,2,0)-ROUNDDOWN(VLOOKUP(P224,VrImpacto,2,0)*Datos!A221,0),Vr_Impacto,2,1)),\"\",VLOOKUP(VLOOKUP(P224,VrImpacto,2,0)-ROUNDDOWN(VLOOKUP(P224,VrImpacto,2,0)*Datos!A221,0),Vr_Impacto,2,1)))","v":""},{"$f":"IF(Datos!B221=0,Q224,IF(Datos!B221=\"\",Q224,IF(ISERROR(VLOOKUP(VLOOKUP(Q224,Vr_Probabilidad1,2,0)+1-ROUNDDOWN(VLOOKUP(Q224,Vr_Probabilidad1,2,0)*Datos!B221,0),Vr_Probabilidad,2,1)),\"\",VLOOKUP(VLOOKUP(Q224,Vr_Probabilidad1,2,0)-ROUNDDOWN(VLOOKUP(Q224,Vr_Probabilidad1,2,0)*Datos!B221,0),Vr_Probabilidad,2,1))))","v":0},{"$f":"Datos!C221","v":0},"","",""]
["R",null,null,null,null,null,"",null,null,null,null,null,null,null,null,{"$f":"IF(COUNTA(I225:O225)<7,\"\",VLOOKUP(ROUNDUP((LEFT(I225,1)*'Criterios de Riesgo'!$C$3+LEFT(J225,1)*'Criterios de Riesgo'!$C$4+LEFT(K225,1)*'Criterios de Riesgo'!$C$5+LEFT(L225,1)*'Criterios de Riesgo'!$C$6+LEFT(M225,1)*'Criterios de Riesgo'!$C$7+LEFT(N225,1)*'Criterios de Riesgo'!$C$8+LEFT(O225,1)*'Criterios de Riesgo'!$C$9),0),Calif_Impacto,2))","v":""},null,"","",{"$f":"IF(OR(Datos!A222=0,Datos!A222=\"\"),P225,IF(ISERROR(VLOOKUP(VLOOKUP(P225,VrImpacto,2,0)-ROUNDDOWN(VLOOKUP(P225,VrImpacto,2,0)*Datos!A222,0),Vr_Impacto,2,1)),\"\",VLOOKUP(VLOOKUP(P225,VrImpacto,2,0)-ROUNDDOWN(VLOOKUP(P225,VrImpacto,2,0)*Datos!A222,0),Vr_Impacto,2,1)))","v":""},{"$f":"IF(Datos!B222=0,Q225,IF(Datos!B222=\"\",Q225,IF(ISERROR(VLOOKUP(VLOOKUP(Q225,Vr_Probabilidad1,2,0)+1-ROUNDDOWN(VLOOKUP(Q225,Vr_Probabilidad1,2,0)*Datos!B222,0),Vr_Probabilidad,2,1)),\"\",VLOOKUP(VLOOKUP(Q225,Vr_Probabilidad1,2,0)-ROUNDDOWN(VLOOKUP(Q225,Vr_Probabilidad1,2,0)*Datos!B222,0),Vr_Probabilidad,2,1))))","v":0},{"$f":"Datos!C222","v":0},"","",""]
["R",null,null,null,null,null,"",null,null,null,null,null,null,null,null,{"$f":"IF(COUNTA(I226:O226)<7,\"\",VLOOKUP(ROUNDUP((LEFT(I226,1)*'Criterios de Riesgo'!$C$3+LEFT(J226,1)*'Criterios de Riesgo'!$C$4+LEFT(K226,1)*'Criterios de Riesgo'!$C$5+LEFT(L226,1)*'Criterios de Riesgo'!$C$6+LEFT(M226,1)*'Criterios de Riesgo'!$C$7+LEFT(N226,1)*'Criterios de Riesgo'!$C$8+LEFT(O226,1)*'Criterios de Riesgo'!$C$9),0),Calif_Impacto,2))","v":""},null,"","",{"$f":"IF(OR(Datos!A223=0,Datos!A223=\"\"),P226,IF(ISERROR(VLOOKUP(VLOOKUP(P226,VrImpacto,2,0)-ROUNDDOWN(VLOOKUP(P226,VrImpacto,2,0)*Datos!A223,0),Vr_Impacto,2,1)),\"\",VLOOKUP(VLOOKUP(P226,VrImpacto,2,0)-ROUNDDOWN(VLOOKUP(P226,VrImpacto,2,0)*Datos!A223,0),Vr_Impacto,2,1)))","v":""},{"$f":"IF(Datos!B223=0,Q226,IF(Datos!B223=\"\",Q226,IF(ISERROR(VLOOKUP(VLOOKUP(Q226,Vr_Probabilidad1,2,0)+1-ROUNDDOWN(VLOOKUP(Q226,Vr_Probabilidad1,2,0)*Datos!B223,0),Vr_Probabilidad,2,1)),\"\",VLOOKUP(VLOOKUP(Q226,Vr_Probabilidad1,2,0)-ROUNDDOWN(VLOOKUP(Q226,Vr_Probabilidad1,2,0)*Datos!B223,0),Vr_Probabilidad,2,1))))","v":0},{"$f":"Datos!C223","v":0},"","",""]
["R",null,null,null,null,null,"",null,null,null,null,null,null,null,null,{"$f":"IF(COUNTA(I227:O227)<7,\"\",VLOOKUP(ROUNDUP((LEFT(I227,1)*'Criterios de Riesgo'!$C$3+LEFT(J227,1)*'Criterios de Riesgo'!$C$4+LEFT(K227,1)*'Criterios de Riesgo'!$C$5+LEFT(L227,1)*'Criterios de Riesgo'!$C$6+LEFT(M227,1)*'Criterios de Riesgo'!$C$7+LEFT(N227,1)*'Criterios de Riesgo'!$C$8+LEFT(O227,1)*'Criterios de Riesgo'!$C$9),0),Calif_Impacto,2))","v":""},null,"","",{"$f":"IF(OR(Datos!A224=0,Datos!A224=\"\"),P227,IF(ISERROR(VLOOKUP(VLOOKUP(P227,VrImpacto,2,0)-ROUNDDOWN(VLOOKUP(P227,VrImpacto,2,0)*Datos!A224,0),Vr_Impacto,2,1)),\"\",VLOOKUP(VLOOKUP(P227,VrImpacto,2,0)-ROUNDDOWN(VLOOKUP(P227,VrImpacto,2,0)*Datos!A224,0),Vr_Impacto,2,1)))","v":""},{"$f":"IF(Datos!B224=0,Q227,IF(Datos!B224=\"\",Q227,IF(ISERROR(VLOOKUP(VLOOKUP(Q227,Vr_Probabilidad1,2,0)+1-ROUNDDOWN(VLOOKUP(Q227,Vr_Probabilidad1,2,0)*Datos!B224,0),Vr_Probabilidad,2,1)),\"\",VLOOKUP(VLOOKUP(Q227,Vr_Probabilidad1,2,0)-ROUNDDOWN(VLOOKUP(Q227,Vr_Probabilidad1,2,0)*Datos!B224,0),Vr_Probabilidad,2,1))))","v":0},{"$f":"Datos!C224","v":0},"","",""]
["R",null,null,null,null,null,"",null,null,null,null,null,null,null,null,{"$f":"IF(COUNTA(I228:O228)<7,\"\",VLOOKUP(ROUNDUP((LEFT(I228,1)*'Criterios de Riesgo'!$C$3+LEFT(J228,1)*'Criterios de Riesgo'!$C$4+LEFT(K228,1)*'Criterios de Riesgo'!$C$5+LEFT(L228,1)*'Criterios de Riesgo'!$C$6+LEFT(M228,1)*'Criterios de Riesgo'!$C$7+LEFT(N228,1)*'Criterios de Riesgo'!$C$8+LEFT(O228,1)*'Criterios de Riesgo'!$C$9),0),Calif_Impacto,2))","v":""},null,"","",{"$f":"IF(OR(Datos!A225=0,Datos!A225=\"\"),P228,IF(ISERROR(VLOOKUP(VLOOKUP(P228,VrImpacto,2,0)-ROUNDDOWN(VLOOKUP(P228,VrImpacto,2,0)*Datos!A225,0),Vr_Impacto,2,1)),\"\",VLOOKUP(VLOOKUP(P228,VrImpacto,2,0)-ROUNDDOWN(VLOOKUP(P228,VrImpacto,2,0)*Datos!A225,0),Vr_Impacto,2,1)))","v":""},{"$f":"IF(Datos!B225=0,Q228,IF(Datos!B225=\"\",Q228,IF(ISERROR(VLOOKUP(VLOOKUP(Q228,Vr_Probabilidad1,2,0)+1-ROUNDDOWN(VLOOKUP(Q228,Vr_Probabilidad1,2,0)*Datos!B225,0),Vr_Probabilidad,2,1)),\"\",VLOOKUP(VLOOKUP(Q228,Vr_Probabilidad1,2,0)-ROUNDDOWN(VLOOKUP(Q228,Vr_Probabilidad1,2,0)*Datos!B225,0),Vr_Probabilidad,2,1))))","v":0},{"$f":"Datos!C225","v":0},"","",""]
["R",null,null,null,null,null,"",null,null,null,null,null,null,null,null,{"$f":"IF(COUNTA(I229:O229)<7,\"\",VLOOKUP(ROUNDUP((LEFT(I229,1)*'Criterios de Riesgo'!$C$3+LEFT(J229,1)*'Criterios de Riesgo'!$C$4+LEFT(K229,1)*'Criterios de Riesgo'!$C$5+LEFT(L229,1)*'Criterios de Riesgo'!$C$6+LEFT(M229,1)*'Criterios de Riesgo'!$C$7+LEFT(N229,1)*'Criterios de Riesgo'!$C$8+LEFT(O229,1)*'Criterios de Riesgo'!$C$9),0),Calif_Impacto,2))","v":""},null,"","",{"$f":"IF(OR(Datos!A226=0,Datos!A226=\"\"),P229,IF(ISERROR(VLOOKUP(VLOOKUP(P229,VrImpacto,2,0)-ROUNDDOWN(VLOOKUP(P229,VrImpacto,2,0)*Datos!A226,0),Vr_Impacto,2,1)),\"\",VLOOKUP(VLOOKUP(P229,VrImpacto,2,0)-ROUNDDOWN(VLOOKUP(P229,VrImpacto,2,0)*Datos!A226,0),Vr_Impacto,2,1)))","v":""},{"$f":"IF(Datos!B226=0,Q229,IF(Datos!B226=\"\",Q229,IF(ISERROR(VLOOKUP(VLOOKUP(Q229,Vr_Probabilidad1,2,0)+1-ROUNDDOWN(VLOOKUP(Q229,Vr_Probabilidad1,2,0)*Datos!B226,0),Vr_Probabilidad,2,1)),\"\",VLOOKUP(VLOOKUP(Q229,Vr_Probabilidad1,2,0)-ROUNDDOWN(VLOOKUP(Q229,Vr_Probabilidad1,2,0)*Datos!B226,0),Vr_Probabilidad,2,1))))","v":0},{"$f":"Datos!C226","v":0},"","",""]
["R",null,null,null,null,null,"",null,null,null,null,null,null,null,null,{"$f":"IF(COUNTA(I230:O230)<7,\"\",VLOOKUP(ROUNDUP((LEFT(I230,1)*'Criterios de Riesgo'!$C$3+LEFT(J230,1)*'Criterios de Riesgo'!$C$4+LEFT(K230,1)*'Criterios de Riesgo'!$C$5+LEFT(L230,1)*'Criterios de Riesgo'!$C$6+LEFT(M230,1)*'Criterios de Riesgo'!$C$7+LEFT(N230,1)*'Criterios de Riesgo'!$C$8+LEFT(O230,1)*'Criterios de Riesgo'!$C$9),0),Calif_Impacto,2))","v":""},null,"","",{"$f":"IF(OR(Datos!A227=0,Datos!A227=\"\"),P230,IF(ISERROR(VLOOKUP(VLOOKUP(P230,VrImpacto,2,0)-ROUNDDOWN(VLOOKUP(P230,VrImpacto,2,0)*Datos!A227,0),Vr_Impacto,2,1)),\"\",VLOOKUP(VLOOKUP(P230,VrImpacto,2,0)-ROUNDDOWN(VLOOKUP(P230,VrImpacto,2,0)*Datos!A227,0),Vr_Impacto,2,1)))","v":""},{"$f":"IF(Datos!B227=0,Q230,IF(Datos!B227=\"\",Q230,IF(ISERROR(VLOOKUP(VLOOKUP(Q230,Vr_Probabilidad1,2,0)+1-ROUNDDOWN(VLOOKUP(Q230,Vr_Probabilidad1,2,0)*Datos!B227,0),Vr_Probabilidad,2,1)),\"\",VLOOKUP(VLOOKUP(Q230,Vr_Probabilidad1,2,0)-ROUNDDOWN(VLOOKUP(Q230,Vr_Probabilidad1,2,0)*Datos!B227,0),Vr_Probabilidad,2,1))))","v":0},{"$f":"Datos!C227","v":0},"","",""]
["R",null,null,null,null,null,"",null,null,null,null,null,null,null,null,{"$f":"IF(COUNTA(I231:O231)<7,\"\",VLOOKUP(ROUNDUP((LEFT(I231,1)*'Criterios de Riesgo'!$C$3+LEFT(J231,1)*'Criterios de Riesgo'!$C$4+LEFT(K231,1)*'Criterios de Riesgo'!$C$5+LEFT(L231,1)*'Criterios de Riesgo'!$C$6+LEFT(M231,1)*'Criterios de Riesgo'!$C$7+LEFT(N231,1)*'Criterios de Riesgo'!$C$8+LEFT(O231,1)*'Criterios de Riesgo'!$C$9),0),Calif_Impacto,2))","v":""},null,"","",{"$f":"IF(OR(Datos!A228=0,Datos!A228=\"\"),P231,IF(ISERROR(VLOOKUP(VLOOKUP(P231,VrImpacto,2,0)-ROUNDDOWN(VLOOKUP(P231,VrImpacto,2,0)*Datos!A228,0),Vr_Impacto,2,1)),\"\",VLOOKUP(VLOOKUP(P231,VrImpacto,2,0)-ROUNDDOWN(VLOOKUP(P231,VrImpacto,2,0)*Datos!A228,0),Vr_Impacto,2,1)))","v":""},{"$f":"IF(Datos!B228=0,Q231,IF(Datos!B228=\"\",Q231,IF(ISERROR(VLOOKUP(VLOOKUP(Q231,Vr_Probabilidad1,2,0)+1-ROUNDDOWN(VLOOKUP(Q231,Vr_Probabilidad1,2,0)*Datos!B228,0),Vr_Probabilidad,2,1)),\"\",VLOOKUP(VLOOKUP(Q231,Vr_Probabilidad1,2,0)-ROUNDDOWN(VLOOKUP(Q231,Vr_Probabilidad1,2,0)*Datos!B228,0),Vr_Probabilidad,2,1))))","v":0},{"$f":"Datos!C228","v":0},"","",""]
["R",null,null,null,null,null,"",null,null,null,null,null,null,null,null,{"$f":"IF(COUNTA(I232:O232)<7,\"\",VLOOKUP(ROUNDUP((LEFT(I232,1)*'Criterios de Riesgo'!$C$3+LEFT(J232,1)*'Criterios de Riesgo'!$C$4+LEFT(K232,1)*'Criterios de Riesgo'!$C$5+LEFT(L232,1)*'Criterios de Riesgo'!$C$6+LEFT(M232,1)*'Criterios de Riesgo'!$C$7+LEFT(N232,1)*'Criterios de Riesgo'!$C$8+LEFT(O232,1)*'Criterios de Riesgo'!$C$9),0),Calif_Impacto,2))","v":""},null,"","",{"$f":"IF(OR(Datos!A229=0,Datos!A229=\"\"),P232,IF(ISERROR(VLOOKUP(VLOOKUP(P232,VrImpacto,2,0)-ROUNDDOWN(VLOOKUP(P232,VrImpacto,2,0)*Datos!A229,0),Vr_Impacto,2,1)),\"\",VLOOKUP(VLOOKUP(P232,VrImpacto,2,0)-ROUNDDOWN(VLOOKUP(P232,VrImpacto,2,0)*Datos!A229,0),Vr_Impacto,2,1)))","v":""},{"$f":"IF(Datos!B229=0,Q232,IF(Datos!B229=\"\",Q232,IF(ISERROR(VLOOKUP(VLOOKUP(Q232,Vr_Probabilidad1,2,0)+1-ROUNDDOWN(VLOOKUP(Q232,Vr_Probabilidad1,2,0)*Datos!B229,0),Vr_Probabilidad,2,1)),\"\",VLOOKUP(VLOOKUP(Q232,Vr_Probabilidad1,2,0)-ROUNDDOWN(VLOOKUP(Q232,Vr_Probabilidad1,2,0)*Datos!B229,0),Vr_Probabilidad,2,1))))","v":0},{"$f":"Datos!C229","v":0},"","",""]
["R",null,null,null,null,null,"",null,null,null,null,null,null,null,null,{"$f":"IF(COUNTA(I233:O233)<7,\"\",VLOOKUP(ROUNDUP((LEFT(I233,1)*'Criterios de Riesgo'!$C$3+LEFT(J233,1)*'Criterios de Riesgo'!$C$4+LEFT(K233,1)*'Criterios de Riesgo'!$C$5+LEFT(L233,1)*'Criterios de Riesgo'!$C$6+LEFT(M233,1)*'Criterios de Riesgo'!$C$7+LEFT(N233,1)*'Criterios de Riesgo'!$C$8+LEFT(O233,1)*'Criterios de Riesgo'!$C$9),0),Calif_Impacto,2))","v":""},null,"","",{"$f":"IF(OR(Datos!A230=0,Datos!A230=\"\"),P233,IF(ISERROR(VLOOKUP(VLOOKUP(P233,VrImpacto,2,0)-ROUNDDOWN(VLOOKUP(P233,VrImpacto,2,0)*Datos!A230,0),Vr_Impacto,2,1)),\"\",VLOOKUP(VLOOKUP(P233,VrImpacto,2,0)-ROUNDDOWN(VLOOKUP(P233,VrImpacto,2,0)*Datos!A230,0),Vr_Impacto,2,1)))","v":""},{"$f":"IF(Datos!B230=0,Q233,IF(Datos!B230=\"\",Q233,IF(ISERROR(VLOOKUP(VLOOKUP(Q233,Vr_Probabilidad1,2,0)+1-ROUNDDOWN(VLOOKUP(Q233,Vr_Probabilidad1,2,0)*Datos!B230,0),Vr_Probabilidad,2,1)),\"\",VLOOKUP(VLOOKUP(Q233,Vr_Probabilidad1,2,0)-ROUNDDOWN(VLOOKUP(Q233,Vr_Probabilidad1,2,0)*Datos!B230,0),Vr_Probabilidad,2,1))))","v":0},{"$f":"Datos!C230","v":0},"","",""]
["R",null,null,null,null,null,"",null,null,null,null,null,null,null,null,{"$f":"IF(COUNTA(I234:O234)<7,\"\",VLOOKUP(ROUNDUP((LEFT(I234,1)*'Criterios de Riesgo'!$C$3+LEFT(J234,1)*'Criterios de Riesgo'!$C$4+LEFT(K234,1)*'Criterios de Riesgo'!$C$5+LEFT(L234,1)*'Criterios de Riesgo'!$C$6+LEFT(M234,1)*'Criterios de Riesgo'!$C$7+LEFT(N234,1)*'Criterios de Riesgo'!$C$8+LEFT(O234,1)*'Criterios de Riesgo'!$C$9),0),Calif_Impacto,2))","v":""},null,"","",{"$f":"IF(OR(Datos!A231=0,Datos!A231=\"\"),P234,IF(ISERROR(VLOOKUP(VLOOKUP(P234,VrImpacto,2,0)-ROUNDDOWN(VLOOKUP(P234,VrImpacto,2,0)*Datos!A231,0),Vr_Impacto,2,1)),\"\",VLOOKUP(VLOOKUP(P234,VrImpacto,2,0)-ROUNDDOWN(VLOOKUP(P234,VrImpacto,2,0)*Datos!A231,0),Vr_Impacto,2,1)))","v":""},{"$f":"IF(Datos!B231=0,Q234,IF(Datos!B231=\"\",Q234,IF(ISERROR(VLOOKUP(VLOOKUP(Q234,Vr_Probabilidad1,2,0)+1-ROUNDDOWN(VLOOKUP(Q234,Vr_Probabilidad1,2,0)*Datos!B231,0),Vr_Probabilidad,2,1)),\"\",VLOOKUP(VLOOKUP(Q234,Vr_Probabilidad1,2,0)-ROUNDDOWN(VLOOKUP(Q234,Vr_Probabilidad1,2,0)*Datos!B231,0),Vr_Probabilidad,2,1))))","v":0},{"$f":"Datos!C231","v":0},"","",""]
["R",null,null,null,null,null,"",null,null,null,null,null,null,null,null,{"$f":"IF(COUNTA(I235:O235)<7,\"\",VLOOKUP(ROUNDUP((LEFT(I235,1)*'Criterios de Riesgo'!$C$3+LEFT(J235,1)*'Criterios de Riesgo'!$C$4+LEFT(K235,1)*'Criterios de Riesgo'!$C$5+LEFT(L235,1)*'Criterios de Riesgo'!$C$6+LEFT(M235,1)*'Criterios de Riesgo'!$C$7+LEFT(N235,1)*'Criterios de Riesgo'!$C$8+LEFT(O235,1)*'Criterios de Riesgo'!$C$9),0),Calif_Impacto,2))","v":""},null,"","",{"$f":"IF(OR(Datos!A232=0,Datos!A232=\"\"),P235,IF(ISERROR(VLOOKUP(VLOOKUP(P235,VrImpacto,2,0)-ROUNDDOWN(VLOOKUP(P235,VrImpacto,2,0)*Datos!A232,0),Vr_Impacto,2,1)),\"\",VLOOKUP(VLOOKUP(P235,VrImpacto,2,0)-ROUNDDOWN(VLOOKUP(P235,VrImpacto,2,0)*Datos!A232,0),Vr_Impacto,2,1)))","v":""},{"$f":"IF(Datos!B232=0,Q235,IF(Datos!B232=\"\",Q235,IF(ISERROR(VLOOKUP(VLOOKUP(Q235,Vr_Probabilidad1,2,0)+1-ROUNDDOWN(VLOOKUP(Q235,Vr_Probabilidad1,2,0)*Datos!B232,0),Vr_Probabilidad,2,1)),\"\",VLOOKUP(VLOOKUP(Q235,Vr_Probabilidad1,2,0)-ROUNDDOWN(VLOOKUP(Q235,Vr_Probabilidad1,2,0)*Datos!B232,0),Vr_Probabilidad,2,1))))","v":0},{"$f":"Datos!C232","v":0},"","",""]
["R",null,null,null,null,null,"",null,null,null,null,null,null,null,null,{"$f":"IF(COUNTA(I236:O236)<7,\"\",VLOOKUP(ROUNDUP((LEFT(I236,1)*'Criterios de Riesgo'!$C$3+LEFT(J236,1)*'Criterios de Riesgo'!$C$4+LEFT(K236,1)*'Criterios de Riesgo'!$C$5+LEFT(L236,1)*'Criterios de Riesgo'!$C$6+LEFT(M236,1)*'Criterios de Riesgo'!$C$7+LEFT(N236,1)*'Criterios de Riesgo'!$C$8+LEFT(O236,1)*'Criterios de Riesgo'!$C$9),0),Calif_Impacto,2))","v":""},null,"","",{"$f":"IF(OR(Datos!A233=0,Datos!A233=\"\"),P236,IF(ISERROR(VLOOKUP(VLOOKUP(P236,VrImpacto,2,0)-ROUNDDOWN(VLOOKUP(P236,VrImpacto,2,0)*Datos!A233,0),Vr_Impacto,2,1)),\"\",VLOOKUP(VLOOKUP(P236,VrImpacto,2,0)-ROUNDDOWN(VLOOKUP(P236,VrImpacto,2,0)*Datos!A233,0),Vr_Impacto,2,1)))","v":""},{"$f":"IF(Datos!B233=0,Q236,IF(Datos!B233=\"\",Q236,IF(ISERROR(VLOOKUP(VLOOKUP(Q236,Vr_Probabilidad1,2,0)+1-ROUNDDOWN(VLOOKUP(Q236,Vr_Probabilidad1,2,0)*Datos!B233,0),Vr_Probabilidad,2,1)),\"\",VLOOKUP(VLOOKUP(Q236,Vr_Probabilidad1,2,0)-ROUNDDOWN(VLOOKUP(Q236,Vr_Probabilidad1,2,0)*Datos!B233,0),Vr_Probabilidad,2,1))))","v":0},{"$f":"Datos!C233","v":0},"","",""]
["R",null,null,null,null,null,"",null,null,null,null,null,null,null,null,{"$f":"IF(COUNTA(I237:O237)<7,\"\",VLOOKUP(ROUNDUP((LEFT(I237,1)*'Criterios de Riesgo'!$C$3+LEFT(J237,1)*'Criterios de Riesgo'!$C$4+LEFT(K237,1)*'Criterios de Riesgo'!$C$5+LEFT(L237,1)*'Criterios de Riesgo'!$C$6+LEFT(M237,1)*'Criterios de Riesgo'!$C$7+LEFT(N237,1)*'Criterios de Riesgo'!$C$8+LEFT(O237,1)*'Criterios de Riesgo'!$C$9),0),Calif_Impacto,2))","v":""},null,"","",{"$f":"IF(OR(Datos!A234=0,Datos!A234=\"\"),P237,IF(ISERROR(VLOOKUP(VLOOKUP(P237,VrImpacto,2,0)-ROUNDDOWN(VLOOKUP(P237,VrImpacto,2,0)*Datos!A234,0),Vr_Impacto,2,1)),\"\",VLOOKUP(VLOOKUP(P237,VrImpacto,2,0)-ROUNDDOWN(VLOOKUP(P237,VrImpacto,2,0)*Datos!A234,0),Vr_Impacto,2,1)))","v":""},{"$f":"IF(Datos!B234=0,Q237,IF(Datos!B234=\"\",Q237,IF(ISERROR(VLOOKUP(VLOOKUP(Q237,Vr_Probabilidad1,2,0)+1-ROUNDDOWN(VLOOKUP(Q237,Vr_Probabilidad1,2,0)*Datos!B234,0),Vr_Probabilidad,2,1)),\"\",VLOOKUP(VLOOKUP(Q237,Vr_Probabilidad1,2,0)-ROUNDDOWN(VLOOKUP(Q237,Vr_Probabilidad1,2,0)*Datos!B234,0),Vr_Probabilidad,2,1))))","v":0},{"$f":"Datos!C234","v":0},"","",""]
["R",null,null,null,null,null,"",null,null,null,null,null,null,null,null,{"$f":"IF(COUNTA(I238:O238)<7,\"\",VLOOKUP(ROUNDUP((LEFT(I238,1)*'Criterios de Riesgo'!$C$3+LEFT(J238,1)*'Criterios de Riesgo'!$C$4+LEFT(K238,1)*'Criterios de Riesgo'!$C$5+LEFT(L238,1)*'Criterios de Riesgo'!$C$6+LEFT(M238,1)*'Criterios de Riesgo'!$C$7+LEFT(N238,1)*'Criterios de Riesgo'!$C$8+LEFT(O238,1)*'Criterios de Riesgo'!$C$9),0),Calif_Impacto,2))","v":""},null,"","",{"$f":"IF(OR(Datos!A235=0,Datos!A235=\"\"),P238,IF(ISERROR(VLOOKUP(VLOOKUP(P238,VrImpacto,2,0)-ROUNDDOWN(VLOOKUP(P238,VrImpacto,2,0)*Datos!A235,0),Vr_Impacto,2,1)),\"\",VLOOKUP(VLOOKUP(P238,VrImpacto,2,0)-ROUNDDOWN(VLOOKUP(P238,VrImpacto,2,0)*Datos!A235,0),Vr_Impacto,2,1)))","v":""},{"$f":"IF(Datos!B235=0,Q238,IF(Datos!B235=\"\",Q238,IF(ISERROR(VLOOKUP(VLOOKUP(Q238,Vr_Probabilidad1,2,0)+1-ROUNDDOWN(VLOOKUP(Q238,Vr_Probabilidad1,2,0)*Datos!B235,0),Vr_Probabilidad,2,1)),\"\",VLOOKUP(VLOOKUP(Q238,Vr_Probabilidad1,2,0)-ROUNDDOWN(VLOOKUP(Q238,Vr_Probabilidad1,2,0)*Datos!B235,0),Vr_Probabilidad,2,1))))","v":0},{"$f":"Datos!C235","v":0},"","",""]
["R",null,null,null,null,null,"",null,null,null,null,null,null,null,null,{"$f":"IF(COUNTA(I239:O239)<7,\"\",VLOOKUP(ROUNDUP((LEFT(I239,1)*'Criterios de Riesgo'!$C$3+LEFT(J239,1)*'Criterios de Riesgo'!$C$4+LEFT(K239,1)*'Criterios de Riesgo'!$C$5+LEFT(L239,1)*'Criterios de Riesgo'!$C$6+LEFT(M239,1)*'Criterios de Riesgo'!$C$7+LEFT(N239,1)*'Criterios de Riesgo'!$C$8+LEFT(O239,1)*'Criterios de Riesgo'!$C$9),0),Calif_Impacto,2))","v":""},null,"","",{"$f":"IF(OR(Datos!A236=0,Datos!A236=\"\"),P239,IF(ISERROR(VLOOKUP(VLOOKUP(P239,VrImpacto,2,0)-ROUNDDOWN(VLOOKUP(P239,VrImpacto,2,0)*Datos!A236,0),Vr_Impacto,2,1)),\"\",VLOOKUP(VLOOKUP(P239,VrImpacto,2,0)-ROUNDDOWN(VLOOKUP(P239,VrImpacto,2,0)*Datos!A236,0),Vr_Impacto,2,1)))","v":""},{"$f":"IF(Datos!B236=0,Q239,IF(Datos!B236=\"\",Q239,IF(ISERROR(VLOOKUP(VLOOKUP(Q239,Vr_Probabilidad1,2,0)+1-ROUNDDOWN(VLOOKUP(Q239,Vr_Probabilidad1,2,0)*Datos!B236,0),Vr_Probabilidad,2,1)),\"\",VLOOKUP(VLOOKUP(Q239,Vr_Probabilidad1,2,0)-ROUNDDOWN(VLOOKUP(Q239,Vr_Probabilidad1,2,0)*Datos!B236,0),Vr_Probabilidad,2,1))))","v":0},{"$f":"Datos!C236","v":0},"","",""]
["R",null,null,null,null,null,"",null,null,null,null,null,null,null,null,{"$f":"IF(COUNTA(I240:O240)<7,\"\",VLOOKUP(ROUNDUP((LEFT(I240,1)*'Criterios de Riesgo'!$C$3+LEFT(J240,1)*'Criterios de Riesgo'!$C$4+LEFT(K240,1)*'Criterios de Riesgo'!$C$5+LEFT(L240,1)*'Criterios de Riesgo'!$C$6+LEFT(M240,1)*'Criterios de Riesgo'!$C$7+LEFT(N240,1)*'Criterios de Riesgo'!$C$8+LEFT(O240,1)*'Criterios de Riesgo'!$C$9),0),Calif_Impacto,2))","v":""},null,"","",{"$f":"IF(OR(Datos!A237=0,Datos!A237=\"\"),P240,IF(ISERROR(VLOOKUP(VLOOKUP(P240,VrImpacto,2,0)-ROUNDDOWN(VLOOKUP(P240,VrImpacto,2,0)*Datos!A237,0),Vr_Impacto,2,1)),\"\",VLOOKUP(VLOOKUP(P240,VrImpacto,2,0)-ROUNDDOWN(VLOOKUP(P240,VrImpacto,2,0)*Datos!A237,0),Vr_Impacto,2,1)))","v":""},{"$f":"IF(Datos!B237=0,Q240,IF(Datos!B237=\"\",Q240,IF(ISERROR(VLOOKUP(VLOOKUP(Q240,Vr_Probabilidad1,2,0)+1-ROUNDDOWN(VLOOKUP(Q240,Vr_Probabilidad1,2,0)*Datos!B237,0),Vr_Probabilidad,2,1)),\"\",VLOOKUP(VLOOKUP(Q240,Vr_Probabilidad1,2,0)-ROUNDDOWN(VLOOKUP(Q240,Vr_Probabilidad1,2,0)*Datos!B237,0),Vr_Probabilidad,2,1))))","v":0},{"$f":"Datos!C237","v":0},"","",""]
["R",null,null,null,null,null,"",null,null,null,null,null,null,null,null,{"$f":"IF(COUNTA(I241:O241)<7,\"\",VLOOKUP(ROUNDUP((LEFT(I241,1)*'Criterios de Riesgo'!$C$3+LEFT(J241,1)*'Criterios de Riesgo'!$C$4+LEFT(K241,1)*'Criterios de Riesgo'!$C$5+LEFT(L241,1)*'Criterios de Riesgo'!$C$6+LEFT(M241,1)*'Criterios de Riesgo'!$C$7+LEFT(N241,1)*'Criterios de Riesgo'!$C$8+LEFT(O241,1)*'Criterios de Riesgo'!$C$9),0),Calif_Impacto,2))","v":""},null,"","",{"$f":"IF(OR(Datos!A238=0,Datos!A238=\"\"),P241,IF(ISERROR(VLOOKUP(VLOOKUP(P241,VrImpacto,2,0)-ROUNDDOWN(VLOOKUP(P241,VrImpacto,2,0)*Datos!A238,0),Vr_Impacto,2,1)),\"\",VLOOKUP(VLOOKUP(P241,VrImpacto,2,0)-ROUNDDOWN(VLOOKUP(P241,VrImpacto,2,0)*Datos!A238,0),Vr_Impacto,2,1)))","v":""},{"$f":"IF(Datos!B238=0,Q241,IF(Datos!B238=\"\",Q241,IF(ISERROR(VLOOKUP(VLOOKUP(Q241,Vr_Probabilidad1,2,0)+1-ROUNDDOWN(VLOOKUP(Q241,Vr_Probabilidad1,2,0)*Datos!B238,0),Vr_Probabilidad,2,1)),\"\",VLOOKUP(VLOOKUP(Q241,Vr_Probabilidad1,2,0)-ROUNDDOWN(VLOOKUP(Q241,Vr_Probabilidad1,2,0)*Datos!B238,0),Vr_Probabilidad,2,1))))","v":0},{"$f":"Datos!C238","v":0},"","",""]
["R",null,null,null,null,null,"",null,null,null,null,null,null,null,null,{"$f":"IF(COUNTA(I242:O242)<7,\"\",VLOOKUP(ROUNDUP((LEFT(I242,1)*'Criterios de Riesgo'!$C$3+LEFT(J242,1)*'Criterios de Riesgo'!$C$4+LEFT(K242,1)*'Criterios de Riesgo'!$C$5+LEFT(L242,1)*'Criterios de Riesgo'!$C$6+LEFT(M242,1)*'Criterios de Riesgo'!$C$7+LEFT(N242,1)*'Criterios de Riesgo'!$C$8+LEFT(O242,1)*'Criterios de Riesgo'!$C$9),0),Calif_Impacto,2))","v":""},null,"","",{"$f":"IF(OR(Datos!A239=0,Datos!A239=\"\"),P242,IF(ISERROR(VLOOKUP(VLOOKUP(P242,VrImpacto,2,0)-ROUNDDOWN(VLOOKUP(P242,VrImpacto,2,0)*Datos!A239,0),Vr_Impacto,2,1)),\"\",VLOOKUP(VLOOKUP(P242,VrImpacto,2,0)-ROUNDDOWN(VLOOKUP(P242,VrImpacto,2,0)*Datos!A239,0),Vr_Impacto,2,1)))","v":""},{"$f":"IF(Datos!B239=0,Q242,IF(Datos!B239=\"\",Q242,IF(ISERROR(VLOOKUP(VLOOKUP(Q242,Vr_Probabilidad1,2,0)+1-ROUNDDOWN(VLOOKUP(Q242,Vr_Probabilidad1,2,0)*Datos!B239,0),Vr_Probabilidad,2,1)),\"\",VLOOKUP(VLOOKUP(Q242,Vr_Probabilidad1,2,0)-ROUNDDOWN(VLOOKUP(Q242,Vr_Probabilidad1,2,0)*Datos!B239,0),Vr_Probabilidad,2,1))))","v":0},{"$f":"Datos!C239","v":0},"","",""]
["R",null,null,null,null,null,"",null,null,null,null,null,null,null,null,{"$f":"IF(COUNTA(I243:O243)<7,\"\",VLOOKUP(ROUNDUP((LEFT(I243,1)*'Criterios de Riesgo'!$C$3+LEFT(J243,1)*'Criterios de Riesgo'!$C$4+LEFT(K243,1)*'Criterios de Riesgo'!$C$5+LEFT(L243,1)*'Criterios de Riesgo'!$C$6+LEFT(M243,1)*'Criterios de Riesgo'!$C$7+LEFT(N243,1)*'Criterios de Riesgo'!$C$8+LEFT(O243,1)*'Criterios de Riesgo'!$C$9),0),Calif_Impacto,2))","v":""},null,"","",{"$f":"IF(OR(Datos!A240=0,Datos!A240=\"\"),P243,IF(ISERROR(VLOOKUP(VLOOKUP(P243,VrImpacto,2,0)-ROUNDDOWN(VLOOKUP(P243,VrImpacto,2,0)*Datos!A240,0),Vr_Impacto,2,1)),\"\",VLOOKUP(VLOOKUP(P243,VrImpacto,2,0)-ROUNDDOWN(VLOOKUP(P243,VrImpacto,2,0)*Datos!A240,0),Vr_Impacto,2,1)))","v":""},{"$f":"IF(Datos!B240=0,Q243,IF(Datos!B240=\"\",Q243,IF(ISERROR(VLOOKUP(VLOOKUP(Q243,Vr_Probabilidad1,2,0)+1-ROUNDDOWN(VLOOKUP(Q243,Vr_Probabilidad1,2,0)*Datos!B240,0),Vr_Probabilidad,2,1)),\"\",VLOOKUP(VLOOKUP(Q243,Vr_Probabilidad1,2,0)-ROUNDDOWN(VLOOKUP(Q243,Vr_Probabilidad1,2,0)*Datos!B240,0),Vr_Probabilidad,2,1))))","v":0},{"$f":"Datos!C240","v":0},"","",""]
["R",null,null,null,null,null,"",null,null,null,null,null,null,null,null,{"$f":"IF(COUNTA(I244:O244)<7,\"\",VLOOKUP(ROUNDUP((LEFT(I244,1)*'Criterios de Riesgo'!$C$3+LEFT(J244,1)*'Criterios de Riesgo'!$C$4+LEFT(K244,1)*'Criterios de Riesgo'!$C$5+LEFT(L244,1)*'Criterios de Riesgo'!$C$6+LEFT(M244,1)*'Criterios de Riesgo'!$C$7+LEFT(N244,1)*'Criterios de Riesgo'!$C$8+LEFT(O244,1)*'Criterios de Riesgo'!$C$9),0),Calif_Impacto,2))","v":""},null,"","",{"$f":"IF(OR(Datos!A241=0,Datos!A241=\"\"),P244,IF(ISERROR(VLOOKUP(VLOOKUP(P244,VrImpacto,2,0)-ROUNDDOWN(VLOOKUP(P244,VrImpacto,2,0)*Datos!A241,0),Vr_Impacto,2,1)),\"\",VLOOKUP(VLOOKUP(P244,VrImpacto,2,0)-ROUNDDOWN(VLOOKUP(P244,VrImpacto,2,0)*Datos!A241,0),Vr_Impacto,2,1)))","v":""},{"$f":"IF(Datos!B241=0,Q244,IF(Datos!B241=\"\",Q244,IF(ISERROR(VLOOKUP(VLOOKUP(Q244,Vr_Probabilidad1,2,0)+1-ROUNDDOWN(VLOOKUP(Q244,Vr_Probabilidad1,2,0)*Datos!B241,0),Vr_Probabilidad,2,1)),\"\",VLOOKUP(VLOOKUP(Q244,Vr_Probabilidad1,2,0)-ROUNDDOWN(VLOOKUP(Q244,Vr_Probabilidad1,2,0)*Datos!B241,0),Vr_Probabilidad,2,1))))","v":0},{"$f":"Datos!C241","v":0},"","",""]
["R",null,null,null,null,null,"",null,null,null,null,null,null,null,null,{"$f":"IF(COUNTA(I245:O245)<7,\"\",VLOOKUP(ROUNDUP((LEFT(I245,1)*'Criterios de Riesgo'!$C$3+LEFT(J245,1)*'Criterios de Riesgo'!$C$4+LEFT(K245,1)*'Criterios de Riesgo'!$C$5+LEFT(L245,1)*'Criterios de Riesgo'!$C$6+LEFT(M245,1)*'Criterios de Riesgo'!$C$7+LEFT(N245,1)*'Criterios de Riesgo'!$C$8+LEFT(O245,1)*'Criterios de Riesgo'!$C$9),0),Calif_Impacto,2))","v":""},null,"","",{"$f":"IF(OR(Datos!A242=0,Datos!A242=\"\"),P245,IF(ISERROR(VLOOKUP(VLOOKUP(P245,VrImpacto,2,0)-ROUNDDOWN(VLOOKUP(P245,VrImpacto,2,0)*Datos!A242,0),Vr_Impacto,2,1)),\"\",VLOOKUP(VLOOKUP(P245,VrImpacto,2,0)-ROUNDDOWN(VLOOKUP(P245,VrImpacto,2,0)*Datos!A242,0),Vr_Impacto,2,1)))","v":""},{"$f":"IF(Datos!B242=0,Q245,IF(Datos!B242=\"\",Q245,IF(ISERROR(VLOOKUP(VLOOKUP(Q245,Vr_Probabilidad1,2,0)+1-ROUNDDOWN(VLOOKUP(Q245,Vr_Probabilidad1,2,0)*Datos!B242,0),Vr_Probabilidad,2,1)),\"\",VLOOKUP(VLOOKUP(Q245,Vr_Probabilidad1,2,0)-ROUNDDOWN(VLOOKUP(Q245,Vr_Probabilidad1,2,0)*Datos!B242,0),Vr_Probabilidad,2,1))))","v":0},{"$f":"Datos!C242","v":0},"","",""]
["R",null,null,null,null,null,"",null,null,null,null,null,null,null,null,{"$f":"IF(COUNTA(I246:O246)<7,\"\",VLOOKUP(ROUNDUP((LEFT(I246,1)*'Criterios de Riesgo'!$C$3+LEFT(J246,1)*'Criterios de Riesgo'!$C$4+LEFT(K246,1)*'Criterios de Riesgo'!$C$5+LEFT(L246,1)*'Criterios de Riesgo'!$C$6+LEFT(M246,1)*'Criterios de Riesgo'!$C$7+LEFT(N246,1)*'Criterios de Riesgo'!$C$8+LEFT(O246,1)*'Criterios de Riesgo'!$C$9),0),Calif_Impacto,2))","v":""},null,"","",{"$f":"IF(OR(Datos!A243=0,Datos!A243=\"\"),P246,IF(ISERROR(VLOOKUP(VLOOKUP(P246,VrImpacto,2,0)-ROUNDDOWN(VLOOKUP(P246,VrImpacto,2,0)*Datos!A243,0),Vr_Impacto,2,1)),\"\",VLOOKUP(VLOOKUP(P246,VrImpacto,2,0)-ROUNDDOWN(VLOOKUP(P246,VrImpacto,2,0)*Datos!A243,0),Vr_Impacto,2,1)))","v":""},{"$f":"IF(Datos!B243=0,Q246,IF(Datos!B243=\"\",Q246,IF(ISERROR(VLOOKUP(VLOOKUP(Q246,Vr_Probabilidad1,2,0)+1-ROUNDDOWN(VLOOKUP(Q246,Vr_Probabilidad1,2,0)*Datos!B243,0),Vr_Probabilidad,2,1)),\"\",VLOOKUP(VLOOKUP(Q246,Vr_Probabilidad1,2,0)-ROUNDDOWN(VLOOKUP(Q246,Vr_Probabilidad1,2,0)*Datos!B243,0),Vr_Probabilidad,2,1))))","v":0},{"$f":"Datos!C243","v":0},"","",""]
["R",null,null,null,null,null,"",null,null,null,null,null,null,null,null,{"$f":"IF(COUNTA(I247:O247)<7,\"\",VLOOKUP(ROUNDUP((LEFT(I247,1)*'Criterios de Riesgo'!$C$3+LEFT(J247,1)*'Criterios de Riesgo'!$C$4+LEFT(K247,1)*'Criterios de Riesgo'!$C$5+LEFT(L247,1)*'Criterios de Riesgo'!$C$6+LEFT(M247,1)*'Criterios de Riesgo'!$C$7+LEFT(N247,1)*'Criterios de Riesgo'!$C$8+LEFT(O247,1)*'Criterios de Riesgo'!$C$9),0),Calif_Impacto,2))","v":""},null,"","",{"$f":"IF(OR(Datos!A244=0,Datos!A244=\"\"),P247,IF(ISERROR(VLOOKUP(VLOOKUP(P247,VrImpacto,2,0)-ROUNDDOWN(VLOOKUP(P247,VrImpacto,2,0)*Datos!A244,0),Vr_Impacto,2,1)),\"\",VLOOKUP(VLOOKUP(P247,VrImpacto,2,0)-ROUNDDOWN(VLOOKUP(P247,VrImpacto,2,0)*Datos!A244,0),Vr_Impacto,2,1)))","v":""},{"$f":"IF(Datos!B244=0,Q247,IF(Datos!B244=\"\",Q247,IF(ISERROR(VLOOKUP(VLOOKUP(Q247,Vr_Probabilidad1,2,0)+1-ROUNDDOWN(VLOOKUP(Q247,Vr_Probabilidad1,2,0)*Datos!B244,0),Vr_Probabilidad,2,1)),\"\",VLOOKUP(VLOOKUP(Q247,Vr_Probabilidad1,2,0)-ROUNDDOWN(VLOOKUP(Q247,Vr_Probabilidad1,2,0)*Datos!B244,0),Vr_Probabilidad,2,1))))","v":0},{"$f":"Datos!C244","v":0},"","",""]
["R",null,null,null,null,null,{"$f":"IF(ISERROR(VLOOKUP(F248,EventosPerdida,2,0)),\"\",VLOOKUP(F248,EventosPerdida,2,0))","v":""},null,null,null,null,null,null,null,null,{"$f":"IF(COUNTA(I248:O248)<7,\"\",VLOOKUP(ROUNDUP((LEFT(I248,1)*'Criterios de Riesgo'!$C$3+LEFT(J248,1)*'Criterios de Riesgo'!$C$4+LEFT(K248,1)*'Criterios de Riesgo'!$C$5+LEFT(L248,1)*'Criterios de Riesgo'!$C$6+LEFT(M248,1)*'Criterios de Riesgo'!$C$7+LEFT(N248,1)*'Criterios de Riesgo'!$C$8+LEFT(O248,1)*'Criterios de Riesgo'!$C$9),0),Calif_Impacto,2))","v":""},null,{"$f":"IF(OR(P248=\"\",Q248=\"\"),\"\",VLOOKUP(P248,VrImpacto,2,0)*VLOOKUP(Q248,Vr_Probabilidad1,2,0))","v":""},{"$f":"IF(ISERROR(VLOOKUP(Q248&\"-\"&P248,NivelRiesgo,3,0)),\"\",VLOOKUP(Q248&\"-\"&P248,NivelRiesgo,3,0))","v":""},{"$f":"IF(OR(Datos!A245=0,Datos!A245=\"\"),P248,IF(ISERROR(VLOOKUP(VLOOKUP(P248,VrImpacto,2,0)-ROUNDDOWN(VLOOKUP(P248,VrImpacto,2,0)*Datos!A245,0),Vr_Impacto,2,1)),\"\",VLOOKUP(VLOOKUP(P248,VrImpacto,2,0)-ROUNDDOWN(VLOOKUP(P248,VrImpacto,2,0)*Datos!A245,0),Vr_Impacto,2,1)))","v":""},{"$f":"IF(Datos!B245=0,Q248,IF(Datos!B245=\"\",Q248,IF(ISERROR(VLOOKUP(VLOOKUP(Q248,Vr_Probabilidad1,2,0)+1-ROUNDDOWN(VLOOKUP(Q248,Vr_Probabilidad1,2,0)*Datos!B245,0),Vr_Probabilidad,2,1)),\"\",VLOOKUP(VLOOKUP(Q248,Vr_Probabilidad1,2,0)-ROUNDDOWN(VLOOKUP(Q248,Vr_Probabilidad1,2,0)*Datos!B245,0),Vr_Probabilidad,2,1))))","v":0},{"$f":"Datos!C245","v":0},"","",{"$f":"IF(ISERROR(VLOOKUP(X248,Criterio_Riesgo_Residual,2,1)),\"\",VLOOKUP(X248,Criterio_Riesgo_Residual,2,1))","v":""}]
["R",null,null,null,null,null,"",null,null,null,null,null,null,null,null,{"$f":"IF(COUNTA(I249:O249)<7,\"\",VLOOKUP(ROUNDUP((LEFT(I249,1)*'Criterios de Riesgo'!$C$3+LEFT(J249,1)*'Criterios de Riesgo'!$C$4+LEFT(K249,1)*'Criterios de Riesgo'!$C$5+LEFT(L249,1)*'Criterios de Riesgo'!$C$6+LEFT(M249,1)*'Criterios de Riesgo'!$C$7+LEFT(N249,1)*'Criterios de Riesgo'!$C$8+LEFT(O249,1)*'Criterios de Riesgo'!$C$9),0),Calif_Impacto,2))","v":""},null,"","",{"$f":"IF(OR(Datos!A246=0,Datos!A246=\"\"),P249,IF(ISERROR(VLOOKUP(VLOOKUP(P249,VrImpacto,2,0)-ROUNDDOWN(VLOOKUP(P249,VrImpacto,2,0)*Datos!A246,0),Vr_Impacto,2,1)),\"\",VLOOKUP(VLOOKUP(P249,VrImpacto,2,0)-ROUNDDOWN(VLOOKUP(P249,VrImpacto,2,0)*Datos!A246,0),Vr_Impacto,2,1)))","v":""},{"$f":"IF(Datos!B246=0,Q249,IF(Datos!B246=\"\",Q249,IF(ISERROR(VLOOKUP(VLOOKUP(Q249,Vr_Probabilidad1,2,0)+1-ROUNDDOWN(VLOOKUP(Q249,Vr_Probabilidad1,2,0)*Datos!B246,0),Vr_Probabilidad,2,1)),\"\",VLOOKUP(VLOOKUP(Q249,Vr_Probabilidad1,2,0)-ROUNDDOWN(VLOOKUP(Q249,Vr_Probabilidad1,2,0)*Datos!B246,0),Vr_Probabilidad,2,1))))","v":0},{"$f":"Datos!C246","v":0},"","",""]
["R",null,null,null,null,null,"",null,null,null,null,null,null,null,null,{"$f":"IF(COUNTA(I250:O250)<7,\"\",VLOOKUP(ROUNDUP((LEFT(I250,1)*'Criterios de Riesgo'!$C$3+LEFT(J250,1)*'Criterios de Riesgo'!$C$4+LEFT(K250,1)*'Criterios de Riesgo'!$C$5+LEFT(L250,1)*'Criterios de Riesgo'!$C$6+LEFT(M250,1)*'Criterios de Riesgo'!$C$7+LEFT(N250,1)*'Criterios de Riesgo'!$C$8+LEFT(O250,1)*'Criterios de Riesgo'!$C$9),0),Calif_Impacto,2))","v":""},null,"","",{"$f":"IF(OR(Datos!A247=0,Datos!A247=\"\"),P250,IF(ISERROR(VLOOKUP(VLOOKUP(P250,VrImpacto,2,0)-ROUNDDOWN(VLOOKUP(P250,VrImpacto,2,0)*Datos!A247,0),Vr_Impacto,2,1)),\"\",VLOOKUP(VLOOKUP(P250,VrImpacto,2,0)-ROUNDDOWN(VLOOKUP(P250,VrImpacto,2,0)*Datos!A247,0),Vr_Impacto,2,1)))","v":""},{"$f":"IF(Datos!B247=0,Q250,IF(Datos!B247=\"\",Q250,IF(ISERROR(VLOOKUP(VLOOKUP(Q250,Vr_Probabilidad1,2,0)+1-ROUNDDOWN(VLOOKUP(Q250,Vr_Probabilidad1,2,0)*Datos!B247,0),Vr_Probabilidad,2,1)),\"\",VLOOKUP(VLOOKUP(Q250,Vr_Probabilidad1,2,0)-ROUNDDOWN(VLOOKUP(Q250,Vr_Probabilidad1,2,0)*Datos!B247,0),Vr_Probabilidad,2,1))))","v":0},{"$f":"Datos!C247","v":0},{"$f":"IF(X250=\"\",\"\",R250-X250)","v":""},{"$f":"IF(R250=\"\",\"\",VLOOKUP(T250,VrImpacto,2,0)*VLOOKUP(U250,Vr_Probabilidad1,2,0))","v":""},""]
["R",null,null,null,null,null,"",null,null,null,null,null,null,null,null,{"$f":"IF(COUNTA(I251:O251)<7,\"\",VLOOKUP(ROUNDUP((LEFT(I251,1)*'Criterios de Riesgo'!$C$3+LEFT(J251,1)*'Criterios de Riesgo'!$C$4+LEFT(K251,1)*'Criterios de Riesgo'!$C$5+LEFT(L251,1)*'Criterios de Riesgo'!$C$6+LEFT(M251,1)*'Criterios de Riesgo'!$C$7+LEFT(N251,1)*'Criterios de Riesgo'!$C$8+LEFT(O251,1)*'Criterios de Riesgo'!$C$9),0),Calif_Impacto,2))","v":""},null,"","",{"$f":"IF(OR(Datos!A248=0,Datos!A248=\"\"),P251,IF(ISERROR(VLOOKUP(VLOOKUP(P251,VrImpacto,2,0)-ROUNDDOWN(VLOOKUP(P251,VrImpacto,2,0)*Datos!A248,0),Vr_Impacto,2,1)),\"\",VLOOKUP(VLOOKUP(P251,VrImpacto,2,0)-ROUNDDOWN(VLOOKUP(P251,VrImpacto,2,0)*Datos!A248,0),Vr_Impacto,2,1)))","v":""},{"$f":"IF(Datos!B248=0,Q251,IF(Datos!B248=\"\",Q251,IF(ISERROR(VLOOKUP(VLOOKUP(Q251,Vr_Probabilidad1,2,0)+1-ROUNDDOWN(VLOOKUP(Q251,Vr_Probabilidad1,2,0)*Datos!B248,0),Vr_Probabilidad,2,1)),\"\",VLOOKUP(VLOOKUP(Q251,Vr_Probabilidad1,2,0)-ROUNDDOWN(VLOOKUP(Q251,Vr_Probabilidad1,2,0)*Datos!B248,0),Vr_Probabilidad,2,1))))","v":0},{"$f":"Datos!C248","v":0},"","",""]
["R",null,null,null,null,null,"",null,null,null,null,null,null,null,null,{"$f":"IF(COUNTA(I252:O252)<7,\"\",VLOOKUP(ROUNDUP((LEFT(I252,1)*'Criterios de Riesgo'!$C$3+LEFT(J252,1)*'Criterios de Riesgo'!$C$4+LEFT(K252,1)*'Criterios de Riesgo'!$C$5+LEFT(L252,1)*'Criterios de Riesgo'!$C$6+LEFT(M252,1)*'Criterios de Riesgo'!$C$7+LEFT(N252,1)*'Criterios de Riesgo'!$C$8+LEFT(O252,1)*'Criterios de Riesgo'!$C$9),0),Calif_Impacto,2))","v":""},null,"","",{"$f":"IF(OR(Datos!A249=0,Datos!A249=\"\"),P252,IF(ISERROR(VLOOKUP(VLOOKUP(P252,VrImpacto,2,0)-ROUNDDOWN(VLOOKUP(P252,VrImpacto,2,0)*Datos!A249,0),Vr_Impacto,2,1)),\"\",VLOOKUP(VLOOKUP(P252,VrImpacto,2,0)-ROUNDDOWN(VLOOKUP(P252,VrImpacto,2,0)*Datos!A249,0),Vr_Impacto,2,1)))","v":""},{"$f":"IF(Datos!B249=0,Q252,IF(Datos!B249=\"\",Q252,IF(ISERROR(VLOOKUP(VLOOKUP(Q252,Vr_Probabilidad1,2,0)+1-ROUNDDOWN(VLOOKUP(Q252,Vr_Probabilidad1,2,0)*Datos!B249,0),Vr_Probabilidad,2,1)),\"\",VLOOKUP(VLOOKUP(Q252,Vr_Probabilidad1,2,0)-ROUNDDOWN(VLOOKUP(Q252,Vr_Probabilidad1,2,0)*Datos!B249,0),Vr_Probabilidad,2,1))))","v":0},{"$f":"Datos!C249","v":0},"","",""]
["R",null,null,null,null,null,"",null,null,null,null,null,null,null,null,{"$f":"IF(COUNTA(I253:O253)<7,\"\",VLOOKUP(ROUNDUP((LEFT(I253,1)*'Criterios de Riesgo'!$C$3+LEFT(J253,1)*'Criterios de Riesgo'!$C$4+LEFT(K253,1)*'Criterios de Riesgo'!$C$5+LEFT(L253,1)*'Criterios de Riesgo'!$C$6+LEFT(M253,1)*'Criterios de Riesgo'!$C$7+LEFT(N253,1)*'Criterios de Riesgo'!$C$8+LEFT(O253,1)*'Criterios de Riesgo'!$C$9),0),Calif_Impacto,2))","v":""},null,"","",{"$f":"IF(OR(Datos!A250=0,Datos!A250=\"\"),P253,IF(ISERROR(VLOOKUP(VLOOKUP(P253,VrImpacto,2,0)-ROUNDDOWN(VLOOKUP(P253,VrImpacto,2,0)*Datos!A250,0),Vr_Impacto,2,1)),\"\",VLOOKUP(VLOOKUP(P253,VrImpacto,2,0)-ROUNDDOWN(VLOOKUP(P253,VrImpacto,2,0)*Datos!A250,0),Vr_Impacto,2,1)))","v":""},{"$f":"IF(Datos!B250=0,Q253,IF(Datos!B250=\"\",Q253,IF(ISERROR(VLOOKUP(VLOOKUP(Q253,Vr_Probabilidad1,2,0)+1-ROUNDDOWN(VLOOKUP(Q253,Vr_Probabilidad1,2,0)*Datos!B250,0),Vr_Probabilidad,2,1)),\"\",VLOOKUP(VLOOKUP(Q253,Vr_Probabilidad1,2,0)-ROUNDDOWN(VLOOKUP(Q253,Vr_Probabilidad1,2,0)*Datos!B250,0),Vr_Probabilidad,2,1))))","v":0},{"$f":"Datos!C250","v":0},"","",""]
["R",null,null,null,null,null,"",null,null,null,null,null,null,null,null,{"$f":"IF(COUNTA(I254:O254)<7,\"\",VLOOKUP(ROUNDUP((LEFT(I254,1)*'Criterios de Riesgo'!$C$3+LEFT(J254,1)*'Criterios de Riesgo'!$C$4+LEFT(K254,1)*'Criterios de Riesgo'!$C$5+LEFT(L254,1)*'Criterios de Riesgo'!$C$6+LEFT(M254,1)*'Criterios de Riesgo'!$C$7+LEFT(N254,1)*'Criterios de Riesgo'!$C$8+LEFT(O254,1)*'Criterios de Riesgo'!$C$9),0),Calif_Impacto,2))","v":""},null,"","",{"$f":"IF(OR(Datos!A251=0,Datos!A251=\"\"),P254,IF(ISERROR(VLOOKUP(VLOOKUP(P254,VrImpacto,2,0)-ROUNDDOWN(VLOOKUP(P254,VrImpacto,2,0)*Datos!A251,0),Vr_Impacto,2,1)),\"\",VLOOKUP(VLOOKUP(P254,VrImpacto,2,0)-ROUNDDOWN(VLOOKUP(P254,VrImpacto,2,0)*Datos!A251,0),Vr_Impacto,2,1)))","v":""},{"$f":"IF(Datos!B251=0,Q254,IF(Datos!B251=\"\",Q254,IF(ISERROR(VLOOKUP(VLOOKUP(Q254,Vr_Probabilidad1,2,0)+1-ROUNDDOWN(VLOOKUP(Q254,Vr_Probabilidad1,2,0)*Datos!B251,0),Vr_Probabilidad,2,1)),\"\",VLOOKUP(VLOOKUP(Q254,Vr_Probabilidad1,2,0)-ROUNDDOWN(VLOOKUP(Q254,Vr_Probabilidad1,2,0)*Datos!B251,0),Vr_Probabilidad,2,1))))","v":0},{"$f":"Datos!C251","v":0},"","",""]
["R",null,null,null,null,null,"",null,null,null,null,null,null,null,null,{"$f":"IF(COUNTA(I255:O255)<7,\"\",VLOOKUP(ROUNDUP((LEFT(I255,1)*'Criterios de Riesgo'!$C$3+LEFT(J255,1)*'Criterios de Riesgo'!$C$4+LEFT(K255,1)*'Criterios de Riesgo'!$C$5+LEFT(L255,1)*'Criterios de Riesgo'!$C$6+LEFT(M255,1)*'Criterios de Riesgo'!$C$7+LEFT(N255,1)*'Criterios de Riesgo'!$C$8+LEFT(O255,1)*'Criterios de Riesgo'!$C$9),0),Calif_Impacto,2))","v":""},null,"","",{"$f":"IF(OR(Datos!A252=0,Datos!A252=\"\"),P255,IF(ISERROR(VLOOKUP(VLOOKUP(P255,VrImpacto,2,0)-ROUNDDOWN(VLOOKUP(P255,VrImpacto,2,0)*Datos!A252,0),Vr_Impacto,2,1)),\"\",VLOOKUP(VLOOKUP(P255,VrImpacto,2,0)-ROUNDDOWN(VLOOKUP(P255,VrImpacto,2,0)*Datos!A252,0),Vr_Impacto,2,1)))","v":""},{"$f":"IF(Datos!B252=0,Q255,IF(Datos!B252=\"\",Q255,IF(ISERROR(VLOOKUP(VLOOKUP(Q255,Vr_Probabilidad1,2,0)+1-ROUNDDOWN(VLOOKUP(Q255,Vr_Probabilidad1,2,0)*Datos!B252,0),Vr_Probabilidad,2,1)),\"\",VLOOKUP(VLOOKUP(Q255,Vr_Probabilidad1,2,0)-ROUNDDOWN(VLOOKUP(Q255,Vr_Probabilidad1,2,0)*Datos!B252,0),Vr_Probabilidad,2,1))))","v":0},{"$f":"Datos!C252","v":0},"","",""]
["R",null,null,null,null,null,"",null,null,null,null,null,null,null,null,{"$f":"IF(COUNTA(I256:O256)<7,\"\",VLOOKUP(ROUNDUP((LEFT(I256,1)*'Criterios de Riesgo'!$C$3+LEFT(J256,1)*'Criterios de Riesgo'!$C$4+LEFT(K256,1)*'Criterios de Riesgo'!$C$5+LEFT(L256,1)*'Criterios de Riesgo'!$C$6+LEFT(M256,1)*'Criterios de Riesgo'!$C$7+LEFT(N256,1)*'Criterios de Riesgo'!$C$8+LEFT(O256,1)*'Criterios de Riesgo'!$C$9),0),Calif_Impacto,2))","v":""},null,"","",{"$f":"IF(OR(Datos!A253=0,Datos!A253=\"\"),P256,IF(ISERROR(VLOOKUP(VLOOKUP(P256,VrImpacto,2,0)-ROUNDDOWN(VLOOKUP(P256,VrImpacto,2,0)*Datos!A253,0),Vr_Impacto,2,1)),\"\",VLOOKUP(VLOOKUP(P256,VrImpacto,2,0)-ROUNDDOWN(VLOOKUP(P256,VrImpacto,2,0)*Datos!A253,0),Vr_Impacto,2,1)))","v":""},{"$f":"IF(Datos!B253=0,Q256,IF(Datos!B253=\"\",Q256,IF(ISERROR(VLOOKUP(VLOOKUP(Q256,Vr_Probabilidad1,2,0)+1-ROUNDDOWN(VLOOKUP(Q256,Vr_Probabilidad1,2,0)*Datos!B253,0),Vr_Probabilidad,2,1)),\"\",VLOOKUP(VLOOKUP(Q256,Vr_Probabilidad1,2,0)-ROUNDDOWN(VLOOKUP(Q256,Vr_Probabilidad1,2,0)*Datos!B253,0),Vr_Probabilidad,2,1))))","v":0},{"$f":"Datos!C253","v":0},"","",""]
["R",null,null,null,null,null,"",null,null,null,null,null,null,null,null,{"$f":"IF(COUNTA(I257:O257)<7,\"\",VLOOKUP(ROUNDUP((LEFT(I257,1)*'Criterios de Riesgo'!$C$3+LEFT(J257,1)*'Criterios de Riesgo'!$C$4+LEFT(K257,1)*'Criterios de Riesgo'!$C$5+LEFT(L257,1)*'Criterios de Riesgo'!$C$6+LEFT(M257,1)*'Criterios de Riesgo'!$C$7+LEFT(N257,1)*'Criterios de Riesgo'!$C$8+LEFT(O257,1)*'Criterios de Riesgo'!$C$9),0),Calif_Impacto,2))","v":""},null,"","",{"$f":"IF(OR(Datos!A254=0,Datos!A254=\"\"),P257,IF(ISERROR(VLOOKUP(VLOOKUP(P257,VrImpacto,2,0)-ROUNDDOWN(VLOOKUP(P257,VrImpacto,2,0)*Datos!A254,0),Vr_Impacto,2,1)),\"\",VLOOKUP(VLOOKUP(P257,VrImpacto,2,0)-ROUNDDOWN(VLOOKUP(P257,VrImpacto,2,0)*Datos!A254,0),Vr_Impacto,2,1)))","v":""},{"$f":"IF(Datos!B254=0,Q257,IF(Datos!B254=\"\",Q257,IF(ISERROR(VLOOKUP(VLOOKUP(Q257,Vr_Probabilidad1,2,0)+1-ROUNDDOWN(VLOOKUP(Q257,Vr_Probabilidad1,2,0)*Datos!B254,0),Vr_Probabilidad,2,1)),\"\",VLOOKUP(VLOOKUP(Q257,Vr_Probabilidad1,2,0)-ROUNDDOWN(VLOOKUP(Q257,Vr_Probabilidad1,2,0)*Datos!B254,0),Vr_Probabilidad,2,1))))","v":0},{"$f":"Datos!C254","v":0},"","",""]
["R",null,null,null,null,null,"",null,null,null,null,null,null,null,null,{"$f":"IF(COUNTA(I258:O258)<7,\"\",VLOOKUP(ROUNDUP((LEFT(I258,1)*'Criterios de Riesgo'!$C$3+LEFT(J258,1)*'Criterios de Riesgo'!$C$4+LEFT(K258,1)*'Criterios de Riesgo'!$C$5+LEFT(L258,1)*'Criterios de Riesgo'!$C$6+LEFT(M258,1)*'Criterios de Riesgo'!$C$7+LEFT(N258,1)*'Criterios de Riesgo'!$C$8+LEFT(O258,1)*'Criterios de Riesgo'!$C$9),0),Calif_Impacto,2))","v":""},null,"","",{"$f":"IF(OR(Datos!A255=0,Datos!A255=\"\"),P258,IF(ISERROR(VLOOKUP(VLOOKUP(P258,VrImpacto,2,0)-ROUNDDOWN(VLOOKUP(P258,VrImpacto,2,0)*Datos!A255,0),Vr_Impacto,2,1)),\"\",VLOOKUP(VLOOKUP(P258,VrImpacto,2,0)-ROUNDDOWN(VLOOKUP(P258,VrImpacto,2,0)*Datos!A255,0),Vr_Impacto,2,1)))","v":""},{"$f":"IF(Datos!B255=0,Q258,IF(Datos!B255=\"\",Q258,IF(ISERROR(VLOOKUP(VLOOKUP(Q258,Vr_Probabilidad1,2,0)+1-ROUNDDOWN(VLOOKUP(Q258,Vr_Probabilidad1,2,0)*Datos!B255,0),Vr_Probabilidad,2,1)),\"\",VLOOKUP(VLOOKUP(Q258,Vr_Probabilidad1,2,0)-ROUNDDOWN(VLOOKUP(Q258,Vr_Probabilidad1,2,0)*Datos!B255,0),Vr_Probabilidad,2,1))))","v":0},{"$f":"Datos!C255","v":0},"","",""]
["R",null,null,null,null,null,"",null,null,null,null,null,null,null,null,{"$f":"IF(COUNTA(I259:O259)<7,\"\",VLOOKUP(ROUNDUP((LEFT(I259,1)*'Criterios de Riesgo'!$C$3+LEFT(J259,1)*'Criterios de Riesgo'!$C$4+LEFT(K259,1)*'Criterios de Riesgo'!$C$5+LEFT(L259,1)*'Criterios de Riesgo'!$C$6+LEFT(M259,1)*'Criterios de Riesgo'!$C$7+LEFT(N259,1)*'Criterios de Riesgo'!$C$8+LEFT(O259,1)*'Criterios de Riesgo'!$C$9),0),Calif_Impacto,2))","v":""},null,"","",{"$f":"IF(OR(Datos!A256=0,Datos!A256=\"\"),P259,IF(ISERROR(VLOOKUP(VLOOKUP(P259,VrImpacto,2,0)-ROUNDDOWN(VLOOKUP(P259,VrImpacto,2,0)*Datos!A256,0),Vr_Impacto,2,1)),\"\",VLOOKUP(VLOOKUP(P259,VrImpacto,2,0)-ROUNDDOWN(VLOOKUP(P259,VrImpacto,2,0)*Datos!A256,0),Vr_Impacto,2,1)))","v":""},{"$f":"IF(Datos!B256=0,Q259,IF(Datos!B256=\"\",Q259,IF(ISERROR(VLOOKUP(VLOOKUP(Q259,Vr_Probabilidad1,2,0)+1-ROUNDDOWN(VLOOKUP(Q259,Vr_Probabilidad1,2,0)*Datos!B256,0),Vr_Probabilidad,2,1)),\"\",VLOOKUP(VLOOKUP(Q259,Vr_Probabilidad1,2,0)-ROUNDDOWN(VLOOKUP(Q259,Vr_Probabilidad1,2,0)*Datos!B256,0),Vr_Probabilidad,2,1))))","v":0},{"$f":"Datos!C256","v":0},"","",""]
["R",null,null,null,null,null,"",null,null,null,null,null,null,null,null,{"$f":"IF(COUNTA(I260:O260)<7,\"\",VLOOKUP(ROUNDUP((LEFT(I260,1)*'Criterios de Riesgo'!$C$3+LEFT(J260,1)*'Criterios de Riesgo'!$C$4+LEFT(K260,1)*'Criterios de Riesgo'!$C$5+LEFT(L260,1)*'Criterios de Riesgo'!$C$6+LEFT(M260,1)*'Criterios de Riesgo'!$C$7+LEFT(N260,1)*'Criterios de Riesgo'!$C$8+LEFT(O260,1)*'Criterios de Riesgo'!$C$9),0),Calif_Impacto,2))","v":""},null,"","",{"$f":"IF(OR(Datos!A257=0,Datos!A257=\"\"),P260,IF(ISERROR(VLOOKUP(VLOOKUP(P260,VrImpacto,2,0)-ROUNDDOWN(VLOOKUP(P260,VrImpacto,2,0)*Datos!A257,0),Vr_Impacto,2,1)),\"\",VLOOKUP(VLOOKUP(P260,VrImpacto,2,0)-ROUNDDOWN(VLOOKUP(P260,VrImpacto,2,0)*Datos!A257,0),Vr_Impacto,2,1)))","v":""},{"$f":"IF(Datos!B257=0,Q260,IF(Datos!B257=\"\",Q260,IF(ISERROR(VLOOKUP(VLOOKUP(Q260,Vr_Probabilidad1,2,0)+1-ROUNDDOWN(VLOOKUP(Q260,Vr_Probabilidad1,2,0)*Datos!B257,0),Vr_Probabilidad,2,1)),\"\",VLOOKUP(VLOOKUP(Q260,Vr_Probabilidad1,2,0)-ROUNDDOWN(VLOOKUP(Q260,Vr_Probabilidad1,2,0)*Datos!B257,0),Vr_Probabilidad,2,1))))","v":0},{"$f":"Datos!C257","v":0},"","",""]
["R",null,null,null,null,null,"",null,null,null,null,null,null,null,null,{"$f":"IF(COUNTA(I261:O261)<7,\"\",VLOOKUP(ROUNDUP((LEFT(I261,1)*'Criterios de Riesgo'!$C$3+LEFT(J261,1)*'Criterios de Riesgo'!$C$4+LEFT(K261,1)*'Criterios de Riesgo'!$C$5+LEFT(L261,1)*'Criterios de Riesgo'!$C$6+LEFT(M261,1)*'Criterios de Riesgo'!$C$7+LEFT(N261,1)*'Criterios de Riesgo'!$C$8+LEFT(O261,1)*'Criterios de Riesgo'!$C$9),0),Calif_Impacto,2))","v":""},null,"","",{"$f":"IF(OR(Datos!A258=0,Datos!A258=\"\"),P261,IF(ISERROR(VLOOKUP(VLOOKUP(P261,VrImpacto,2,0)-ROUNDDOWN(VLOOKUP(P261,VrImpacto,2,0)*Datos!A258,0),Vr_Impacto,2,1)),\"\",VLOOKUP(VLOOKUP(P261,VrImpacto,2,0)-ROUNDDOWN(VLOOKUP(P261,VrImpacto,2,0)*Datos!A258,0),Vr_Impacto,2,1)))","v":""},{"$f":"IF(Datos!B258=0,Q261,IF(Datos!B258=\"\",Q261,IF(ISERROR(VLOOKUP(VLOOKUP(Q261,Vr_Probabilidad1,2,0)+1-ROUNDDOWN(VLOOKUP(Q261,Vr_Probabilidad1,2,0)*Datos!B258,0),Vr_Probabilidad,2,1)),\"\",VLOOKUP(VLOOKUP(Q261,Vr_Probabilidad1,2,0)-ROUNDDOWN(VLOOKUP(Q261,Vr_Probabilidad1,2,0)*Datos!B258,0),Vr_Probabilidad,2,1))))","v":0},{"$f":"Datos!C258","v":0},"","",""]
["R",null,null,null,null,null,"",null,null,null,null,null,null,null,null,{"$f":"IF(COUNTA(I262:O262)<7,\"\",VLOOKUP(ROUNDUP((LEFT(I262,1)*'Criterios de Riesgo'!$C$3+LEFT(J262,1)*'Criterios de Riesgo'!$C$4+LEFT(K262,1)*'Criterios de Riesgo'!$C$5+LEFT(L262,1)*'Criterios de Riesgo'!$C$6+LEFT(M262,1)*'Criterios de Riesgo'!$C$7+LEFT(N262,1)*'Criterios de Riesgo'!$C$8+LEFT(O262,1)*'Criterios de Riesgo'!$C$9),0),Calif_Impacto,2))","v":""},null,"","",{"$f":"IF(OR(Datos!A259=0,Datos!A259=\"\"),P262,IF(ISERROR(VLOOKUP(VLOOKUP(P262,VrImpacto,2,0)-ROUNDDOWN(VLOOKUP(P262,VrImpacto,2,0)*Datos!A259,0),Vr_Impacto,2,1)),\"\",VLOOKUP(VLOOKUP(P262,VrImpacto,2,0)-ROUNDDOWN(VLOOKUP(P262,VrImpacto,2,0)*Datos!A259,0),Vr_Impacto,2,1)))","v":""},{"$f":"IF(Datos!B259=0,Q262,IF(Datos!B259=\"\",Q262,IF(ISERROR(VLOOKUP(VLOOKUP(Q262,Vr_Probabilidad1,2,0)+1-ROUNDDOWN(VLOOKUP(Q262,Vr_Probabilidad1,2,0)*Datos!B259,0),Vr_Probabilidad,2,1)),\"\",VLOOKUP(VLOOKUP(Q262,Vr_Probabilidad1,2,0)-ROUNDDOWN(VLOOKUP(Q262,Vr_Probabilidad1,2,0)*Datos!B259,0),Vr_Probabilidad,2,1))))","v":0},{"$f":"Datos!C259","v":0},"","",""]
["R",null,null,null,null,null,"",null,null,null,null,null,null,null,null,{"$f":"IF(COUNTA(I263:O263)<7,\"\",VLOOKUP(ROUNDUP((LEFT(I263,1)*'Criterios de Riesgo'!$C$3+LEFT(J263,1)*'Criterios de Riesgo'!$C$4+LEFT(K263,1)*'Criterios de Riesgo'!$C$5+LEFT(L263,1)*'Criterios de Riesgo'!$C$6+LEFT(M263,1)*'Criterios de Riesgo'!$C$7+LEFT(N263,1)*'Criterios de Riesgo'!$C$8+LEFT(O263,1)*'Criterios de Riesgo'!$C$9),0),Calif_Impacto,2))","v":""},null,"","",{"$f":"IF(OR(Datos!A260=0,Datos!A260=\"\"),P263,IF(ISERROR(VLOOKUP(VLOOKUP(P263,VrImpacto,2,0)-ROUNDDOWN(VLOOKUP(P263,VrImpacto,2,0)*Datos!A260,0),Vr_Impacto,2,1)),\"\",VLOOKUP(VLOOKUP(P263,VrImpacto,2,0)-ROUNDDOWN(VLOOKUP(P263,VrImpacto,2,0)*Datos!A260,0),Vr_Impacto,2,1)))","v":""},{"$f":"IF(Datos!B260=0,Q263,IF(Datos!B260=\"\",Q263,IF(ISERROR(VLOOKUP(VLOOKUP(Q263,Vr_Probabilidad1,2,0)+1-ROUNDDOWN(VLOOKUP(Q263,Vr_Probabilidad1,2,0)*Datos!B260,0),Vr_Probabilidad,2,1)),\"\",VLOOKUP(VLOOKUP(Q263,Vr_Probabilidad1,2,0)-ROUNDDOWN(VLOOKUP(Q263,Vr_Probabilidad1,2,0)*Datos!B260,0),Vr_Probabilidad,2,1))))","v":0},{"$f":"Datos!C260","v":0},"","",""]
["R",null,null,null,null,null,"",null,null,null,null,null,null,null,null,{"$f":"IF(COUNTA(I264:O264)<7,\"\",VLOOKUP(ROUNDUP((LEFT(I264,1)*'Criterios de Riesgo'!$C$3+LEFT(J264,1)*'Criterios de Riesgo'!$C$4+LEFT(K264,1)*'Criterios de Riesgo'!$C$5+LEFT(L264,1)*'Criterios de Riesgo'!$C$6+LEFT(M264,1)*'Criterios de Riesgo'!$C$7+LEFT(N264,1)*'Criterios de Riesgo'!$C$8+LEFT(O264,1)*'Criterios de Riesgo'!$C$9),0),Calif_Impacto,2))","v":""},null,"","",{"$f":"IF(OR(Datos!A261=0,Datos!A261=\"\"),P264,IF(ISERROR(VLOOKUP(VLOOKUP(P264,VrImpacto,2,0)-ROUNDDOWN(VLOOKUP(P264,VrImpacto,2,0)*Datos!A261,0),Vr_Impacto,2,1)),\"\",VLOOKUP(VLOOKUP(P264,VrImpacto,2,0)-ROUNDDOWN(VLOOKUP(P264,VrImpacto,2,0)*Datos!A261,0),Vr_Impacto,2,1)))","v":""},{"$f":"IF(Datos!B261=0,Q264,IF(Datos!B261=\"\",Q264,IF(ISERROR(VLOOKUP(VLOOKUP(Q264,Vr_Probabilidad1,2,0)+1-ROUNDDOWN(VLOOKUP(Q264,Vr_Probabilidad1,2,0)*Datos!B261,0),Vr_Probabilidad,2,1)),\"\",VLOOKUP(VLOOKUP(Q264,Vr_Probabilidad1,2,0)-ROUNDDOWN(VLOOKUP(Q264,Vr_Probabilidad1,2,0)*Datos!B261,0),Vr_Probabilidad,2,1))))","v":0},{"$f":"Datos!C261","v":0},"","",""]
["R",null,null,null,null,null,"",null,null,null,null,null,null,null,null,{"$f":"IF(COUNTA(I265:O265)<7,\"\",VLOOKUP(ROUNDUP((LEFT(I265,1)*'Criterios de Riesgo'!$C$3+LEFT(J265,1)*'Criterios de Riesgo'!$C$4+LEFT(K265,1)*'Criterios de Riesgo'!$C$5+LEFT(L265,1)*'Criterios de Riesgo'!$C$6+LEFT(M265,1)*'Criterios de Riesgo'!$C$7+LEFT(N265,1)*'Criterios de Riesgo'!$C$8+LEFT(O265,1)*'Criterios de Riesgo'!$C$9),0),Calif_Impacto,2))","v":""},null,"","",{"$f":"IF(OR(Datos!A262=0,Datos!A262=\"\"),P265,IF(ISERROR(VLOOKUP(VLOOKUP(P265,VrImpacto,2,0)-ROUNDDOWN(VLOOKUP(P265,VrImpacto,2,0)*Datos!A262,0),Vr_Impacto,2,1)),\"\",VLOOKUP(VLOOKUP(P265,VrImpacto,2,0)-ROUNDDOWN(VLOOKUP(P265,VrImpacto,2,0)*Datos!A262,0),Vr_Impacto,2,1)))","v":""},{"$f":"IF(Datos!B262=0,Q265,IF(Datos!B262=\"\",Q265,IF(ISERROR(VLOOKUP(VLOOKUP(Q265,Vr_Probabilidad1,2,0)+1-ROUNDDOWN(VLOOKUP(Q265,Vr_Probabilidad1,2,0)*Datos!B262,0),Vr_Probabilidad,2,1)),\"\",VLOOKUP(VLOOKUP(Q265,Vr_Probabilidad1,2,0)-ROUNDDOWN(VLOOKUP(Q265,Vr_Probabilidad1,2,0)*Datos!B262,0),Vr_Probabilidad,2,1))))","v":0},{"$f":"Datos!C262","v":0},"","",""]
["R",null,null,null,null,null,"",null,null,null,null,null,null,null,null,{"$f":"IF(COUNTA(I266:O266)<7,\"\",VLOOKUP(ROUNDUP((LEFT(I266,1)*'Criterios de Riesgo'!$C$3+LEFT(J266,1)*'Criterios de Riesgo'!$C$4+LEFT(K266,1)*'Criterios de Riesgo'!$C$5+LEFT(L266,1)*'Criterios de Riesgo'!$C$6+LEFT(M266,1)*'Criterios de Riesgo'!$C$7+LEFT(N266,1)*'Criterios de Riesgo'!$C$8+LEFT(O266,1)*'Criterios de Riesgo'!$C$9),0),Calif_Impacto,2))","v":""},null,"","",{"$f":"IF(OR(Datos!A263=0,Datos!A263=\"\"),P266,IF(ISERROR(VLOOKUP(VLOOKUP(P266,VrImpacto,2,0)-ROUNDDOWN(VLOOKUP(P266,VrImpacto,2,0)*Datos!A263,0),Vr_Impacto,2,1)),\"\",VLOOKUP(VLOOKUP(P266,VrImpacto,2,0)-ROUNDDOWN(VLOOKUP(P266,VrImpacto,2,0)*Datos!A263,0),Vr_Impacto,2,1)))","v":""},{"$f":"IF(Datos!B263=0,Q266,IF(Datos!B263=\"\",Q266,IF(ISERROR(VLOOKUP(VLOOKUP(Q266,Vr_Probabilidad1,2,0)+1-ROUNDDOWN(VLOOKUP(Q266,Vr_Probabilidad1,2,0)*Datos!B263,0),Vr_Probabilidad,2,1)),\"\",VLOOKUP(VLOOKUP(Q266,Vr_Probabilidad1,2,0)-ROUNDDOWN(VLOOKUP(Q266,Vr_Probabilidad1,2,0)*Datos!B263,0),Vr_Probabilidad,2,1))))","v":0},{"$f":"Datos!C263","v":0},"","",""]
["R",null,null,null,null,null,"",null,null,null,null,null,null,null,null,{"$f":"IF(COUNTA(I267:O267)<7,\"\",VLOOKUP(ROUNDUP((LEFT(I267,1)*'Criterios de Riesgo'!$C$3+LEFT(J267,1)*'Criterios de Riesgo'!$C$4+LEFT(K267,1)*'Criterios de Riesgo'!$C$5+LEFT(L267,1)*'Criterios de Riesgo'!$C$6+LEFT(M267,1)*'Criterios de Riesgo'!$C$7+LEFT(N267,1)*'Criterios de Riesgo'!$C$8+LEFT(O267,1)*'Criterios de Riesgo'!$C$9),0),Calif_Impacto,2))","v":""},null,"","",{"$f":"IF(OR(Datos!A264=0,Datos!A264=\"\"),P267,IF(ISERROR(VLOOKUP(VLOOKUP(P267,VrImpacto,2,0)-ROUNDDOWN(VLOOKUP(P267,VrImpacto,2,0)*Datos!A264,0),Vr_Impacto,2,1)),\"\",VLOOKUP(VLOOKUP(P267,VrImpacto,2,0)-ROUNDDOWN(VLOOKUP(P267,VrImpacto,2,0)*Datos!A264,0),Vr_Impacto,2,1)))","v":""},{"$f":"IF(Datos!B264=0,Q267,IF(Datos!B264=\"\",Q267,IF(ISERROR(VLOOKUP(VLOOKUP(Q267,Vr_Probabilidad1,2,0)+1-ROUNDDOWN(VLOOKUP(Q267,Vr_Probabilidad1,2,0)*Datos!B264,0),Vr_Probabilidad,2,1)),\"\",VLOOKUP(VLOOKUP(Q267,Vr_Probabilidad1,2,0)-ROUNDDOWN(VLOOKUP(Q267,Vr_Probabilidad1,2,0)*Datos!B264,0),Vr_Probabilidad,2,1))))","v":0},{"$f":"Datos!C264","v":0},"","",""]
["R",null,null,null,null,null,"",null,null,null,null,null,null,null,null,{"$f":"IF(COUNTA(I268:O268)<7,\"\",VLOOKUP(ROUNDUP((LEFT(I268,1)*'Criterios de Riesgo'!$C$3+LEFT(J268,1)*'Criterios de Riesgo'!$C$4+LEFT(K268,1)*'Criterios de Riesgo'!$C$5+LEFT(L268,1)*'Criterios de Riesgo'!$C$6+LEFT(M268,1)*'Criterios de Riesgo'!$C$7+LEFT(N268,1)*'Criterios de Riesgo'!$C$8+LEFT(O268,1)*'Criterios de Riesgo'!$C$9),0),Calif_Impacto,2))","v":""},null,"","",{"$f":"IF(OR(Datos!A265=0,Datos!A265=\"\"),P268,IF(ISERROR(VLOOKUP(VLOOKUP(P268,VrImpacto,2,0)-ROUNDDOWN(VLOOKUP(P268,VrImpacto,2,0)*Datos!A265,0),Vr_Impacto,2,1)),\"\",VLOOKUP(VLOOKUP(P268,VrImpacto,2,0)-ROUNDDOWN(VLOOKUP(P268,VrImpacto,2,0)*Datos!A265,0),Vr_Impacto,2,1)))","v":""},{"$f":"IF(Datos!B265=0,Q268,IF(Datos!B265=\"\",Q268,IF(ISERROR(VLOOKUP(VLOOKUP(Q268,Vr_Probabilidad1,2,0)+1-ROUNDDOWN(VLOOKUP(Q268,Vr_Probabilidad1,2,0)*Datos!B265,0),Vr_Probabilidad,2,1)),\"\",VLOOKUP(VLOOKUP(Q268,Vr_Probabilidad1,2,0)-ROUNDDOWN(VLOOKUP(Q268,Vr_Probabilidad1,2,0)*Datos!B265,0),Vr_Probabilidad,2,1))))","v":0},{"$f":"Datos!C265","v":0},"","",""]
["R",null,null,null,null,null,"",null,null,null,null,null,null,null,null,{"$f":"IF(COUNTA(I269:O269)<7,\"\",VLOOKUP(ROUNDUP((LEFT(I269,1)*'Criterios de Riesgo'!$C$3+LEFT(J269,1)*'Criterios de Riesgo'!$C$4+LEFT(K269,1)*'Criterios de Riesgo'!$C$5+LEFT(L269,1)*'Criterios de Riesgo'!$C$6+LEFT(M269,1)*'Criterios de Riesgo'!$C$7+LEFT(N269,1)*'Criterios de Riesgo'!$C$8+LEFT(O269,1)*'Criterios de Riesgo'!$C$9),0),Calif_Impacto,2))","v":""},null,"","",{"$f":"IF(OR(Datos!A266=0,Datos!A266=\"\"),P269,IF(ISERROR(VLOOKUP(VLOOKUP(P269,VrImpacto,2,0)-ROUNDDOWN(VLOOKUP(P269,VrImpacto,2,0)*Datos!A266,0),Vr_Impacto,2,1)),\"\",VLOOKUP(VLOOKUP(P269,VrImpacto,2,0)-ROUNDDOWN(VLOOKUP(P269,VrImpacto,2,0)*Datos!A266,0),Vr_Impacto,2,1)))","v":""},{"$f":"IF(Datos!B266=0,Q269,IF(Datos!B266=\"\",Q269,IF(ISERROR(VLOOKUP(VLOOKUP(Q269,Vr_Probabilidad1,2,0)+1-ROUNDDOWN(VLOOKUP(Q269,Vr_Probabilidad1,2,0)*Datos!B266,0),Vr_Probabilidad,2,1)),\"\",VLOOKUP(VLOOKUP(Q269,Vr_Probabilidad1,2,0)-ROUNDDOWN(VLOOKUP(Q269,Vr_Probabilidad1,2,0)*Datos!B266,0),Vr_Probabilidad,2,1))))","v":0},{"$f":"Datos!C266","v":0},"","",""]
["R",null,null,null,null,null,"",null,null,null,null,null,null,null,null,{"$f":"IF(COUNTA(I270:O270)<7,\"\",VLOOKUP(ROUNDUP((LEFT(I270,1)*'Criterios de Riesgo'!$C$3+LEFT(J270,1)*'Criterios de Riesgo'!$C$4+LEFT(K270,1)*'Criterios de Riesgo'!$C$5+LEFT(L270,1)*'Criterios de Riesgo'!$C$6+LEFT(M270,1)*'Criterios de Riesgo'!$C$7+LEFT(N270,1)*'Criterios de Riesgo'!$C$8+LEFT(O270,1)*'Criterios de Riesgo'!$C$9),0),Calif_Impacto,2))","v":""},null,"","",{"$f":"IF(OR(Datos!A267=0,Datos!A267=\"\"),P270,IF(ISERROR(VLOOKUP(VLOOKUP(P270,VrImpacto,2,0)-ROUNDDOWN(VLOOKUP(P270,VrImpacto,2,0)*Datos!A267,0),Vr_Impacto,2,1)),\"\",VLOOKUP(VLOOKUP(P270,VrImpacto,2,0)-ROUNDDOWN(VLOOKUP(P270,VrImpacto,2,0)*Datos!A267,0),Vr_Impacto,2,1)))","v":""},{"$f":"IF(Datos!B267=0,Q270,IF(Datos!B267=\"\",Q270,IF(ISERROR(VLOOKUP(VLOOKUP(Q270,Vr_Probabilidad1,2,0)+1-ROUNDDOWN(VLOOKUP(Q270,Vr_Probabilidad1,2,0)*Datos!B267,0),Vr_Probabilidad,2,1)),\"\",VLOOKUP(VLOOKUP(Q270,Vr_Probabilidad1,2,0)-ROUNDDOWN(VLOOKUP(Q270,Vr_Probabilidad1,2,0)*Datos!B267,0),Vr_Probabilidad,2,1))))","v":0},{"$f":"Datos!C267","v":0},"","",""]
["R",null,null,null,null,null,"",null,null,null,null,null,null,null,null,{"$f":"IF(COUNTA(I271:O271)<7,\"\",VLOOKUP(ROUNDUP((LEFT(I271,1)*'Criterios de Riesgo'!$C$3+LEFT(J271,1)*'Criterios de Riesgo'!$C$4+LEFT(K271,1)*'Criterios de Riesgo'!$C$5+LEFT(L271,1)*'Criterios de Riesgo'!$C$6+LEFT(M271,1)*'Criterios de Riesgo'!$C$7+LEFT(N271,1)*'Criterios de Riesgo'!$C$8+LEFT(O271,1)*'Criterios de Riesgo'!$C$9),0),Calif_Impacto,2))","v":""},null,"","",{"$f":"IF(OR(Datos!A268=0,Datos!A268=\"\"),P271,IF(ISERROR(VLOOKUP(VLOOKUP(P271,VrImpacto,2,0)-ROUNDDOWN(VLOOKUP(P271,VrImpacto,2,0)*Datos!A268,0),Vr_Impacto,2,1)),\"\",VLOOKUP(VLOOKUP(P271,VrImpacto,2,0)-ROUNDDOWN(VLOOKUP(P271,VrImpacto,2,0)*Datos!A268,0),Vr_Impacto,2,1)))","v":""},{"$f":"IF(Datos!B268=0,Q271,IF(Datos!B268=\"\",Q271,IF(ISERROR(VLOOKUP(VLOOKUP(Q271,Vr_Probabilidad1,2,0)+1-ROUNDDOWN(VLOOKUP(Q271,Vr_Probabilidad1,2,0)*Datos!B268,0),Vr_Probabilidad,2,1)),\"\",VLOOKUP(VLOOKUP(Q271,Vr_Probabilidad1,2,0)-ROUNDDOWN(VLOOKUP(Q271,Vr_Probabilidad1,2,0)*Datos!B268,0),Vr_Probabilidad,2,1))))","v":0},{"$f":"Datos!C268","v":0},"","",""]
["R",null,null,null,null,null,"",null,null,null,null,null,null,null,null,{"$f":"IF(COUNTA(I272:O272)<7,\"\",VLOOKUP(ROUNDUP((LEFT(I272,1)*'Criterios de Riesgo'!$C$3+LEFT(J272,1)*'Criterios de Riesgo'!$C$4+LEFT(K272,1)*'Criterios de Riesgo'!$C$5+LEFT(L272,1)*'Criterios de Riesgo'!$C$6+LEFT(M272,1)*'Criterios de Riesgo'!$C$7+LEFT(N272,1)*'Criterios de Riesgo'!$C$8+LEFT(O272,1)*'Criterios de Riesgo'!$C$9),0),Calif_Impacto,2))","v":""},null,"","",{"$f":"IF(OR(Datos!A269=0,Datos!A269=\"\"),P272,IF(ISERROR(VLOOKUP(VLOOKUP(P272,VrImpacto,2,0)-ROUNDDOWN(VLOOKUP(P272,VrImpacto,2,0)*Datos!A269,0),Vr_Impacto,2,1)),\"\",VLOOKUP(VLOOKUP(P272,VrImpacto,2,0)-ROUNDDOWN(VLOOKUP(P272,VrImpacto,2,0)*Datos!A269,0),Vr_Impacto,2,1)))","v":""},{"$f":"IF(Datos!B269=0,Q272,IF(Datos!B269=\"\",Q272,IF(ISERROR(VLOOKUP(VLOOKUP(Q272,Vr_Probabilidad1,2,0)+1-ROUNDDOWN(VLOOKUP(Q272,Vr_Probabilidad1,2,0)*Datos!B269,0),Vr_Probabilidad,2,1)),\"\",VLOOKUP(VLOOKUP(Q272,Vr_Probabilidad1,2,0)-ROUNDDOWN(VLOOKUP(Q272,Vr_Probabilidad1,2,0)*Datos!B269,0),Vr_Probabilidad,2,1))))","v":0},{"$f":"Datos!C269","v":0},"","",""]
["R",null,null,null,null,null,"",null,null,null,null,null,null,null,null,{"$f":"IF(COUNTA(I273:O273)<7,\"\",VLOOKUP(ROUNDUP((LEFT(I273,1)*'Criterios de Riesgo'!$C$3+LEFT(J273,1)*'Criterios de Riesgo'!$C$4+LEFT(K273,1)*'Criterios de Riesgo'!$C$5+LEFT(L273,1)*'Criterios de Riesgo'!$C$6+LEFT(M273,1)*'Criterios de Riesgo'!$C$7+LEFT(N273,1)*'Criterios de Riesgo'!$C$8+LEFT(O273,1)*'Criterios de Riesgo'!$C$9),0),Calif_Impacto,2))","v":""},null,"","",{"$f":"IF(OR(Datos!A270=0,Datos!A270=\"\"),P273,IF(ISERROR(VLOOKUP(VLOOKUP(P273,VrImpacto,2,0)-ROUNDDOWN(VLOOKUP(P273,VrImpacto,2,0)*Datos!A270,0),Vr_Impacto,2,1)),\"\",VLOOKUP(VLOOKUP(P273,VrImpacto,2,0)-ROUNDDOWN(VLOOKUP(P273,VrImpacto,2,0)*Datos!A270,0),Vr_Impacto,2,1)))","v":""},{"$f":"IF(Datos!B270=0,Q273,IF(Datos!B270=\"\",Q273,IF(ISERROR(VLOOKUP(VLOOKUP(Q273,Vr_Probabilidad1,2,0)+1-ROUNDDOWN(VLOOKUP(Q273,Vr_Probabilidad1,2,0)*Datos!B270,0),Vr_Probabilidad,2,1)),\"\",VLOOKUP(VLOOKUP(Q273,Vr_Probabilidad1,2,0)-ROUNDDOWN(VLOOKUP(Q273,Vr_Probabilidad1,2,0)*Datos!B270,0),Vr_Probabilidad,2,1))))","v":0},{"$f":"Datos!C270","v":0},"","",""]
["R",null,null,null,null,null,"",null,null,null,null,null,null,null,null,{"$f":"IF(COUNTA(I274:O274)<7,\"\",VLOOKUP(ROUNDUP((LEFT(I274,1)*'Criterios de Riesgo'!$C$3+LEFT(J274,1)*'Criterios de Riesgo'!$C$4+LEFT(K274,1)*'Criterios de Riesgo'!$C$5+LEFT(L274,1)*'Criterios de Riesgo'!$C$6+LEFT(M274,1)*'Criterios de Riesgo'!$C$7+LEFT(N274,1)*'Criterios de Riesgo'!$C$8+LEFT(O274,1)*'Criterios de Riesgo'!$C$9),0),Calif_Impacto,2))","v":""},null,"","",{"$f":"IF(OR(Datos!A271=0,Datos!A271=\"\"),P274,IF(ISERROR(VLOOKUP(VLOOKUP(P274,VrImpacto,2,0)-ROUNDDOWN(VLOOKUP(P274,VrImpacto,2,0)*Datos!A271,0),Vr_Impacto,2,1)),\"\",VLOOKUP(VLOOKUP(P274,VrImpacto,2,0)-ROUNDDOWN(VLOOKUP(P274,VrImpacto,2,0)*Datos!A271,0),Vr_Impacto,2,1)))","v":""},{"$f":"IF(Datos!B271=0,Q274,IF(Datos!B271=\"\",Q274,IF(ISERROR(VLOOKUP(VLOOKUP(Q274,Vr_Probabilidad1,2,0)+1-ROUNDDOWN(VLOOKUP(Q274,Vr_Probabilidad1,2,0)*Datos!B271,0),Vr_Probabilidad,2,1)),\"\",VLOOKUP(VLOOKUP(Q274,Vr_Probabilidad1,2,0)-ROUNDDOWN(VLOOKUP(Q274,Vr_Probabilidad1,2,0)*Datos!B271,0),Vr_Probabilidad,2,1))))","v":0},{"$f":"Datos!C271","v":0},"","",""]
["R",null,null,null,null,null,"",null,null,null,null,null,null,null,null,{"$f":"IF(COUNTA(I275:O275)<7,\"\",VLOOKUP(ROUNDUP((LEFT(I275,1)*'Criterios de Riesgo'!$C$3+LEFT(J275,1)*'Criterios de Riesgo'!$C$4+LEFT(K275,1)*'Criterios de Riesgo'!$C$5+LEFT(L275,1)*'Criterios de Riesgo'!$C$6+LEFT(M275,1)*'Criterios de Riesgo'!$C$7+LEFT(N275,1)*'Criterios de Riesgo'!$C$8+LEFT(O275,1)*'Criterios de Riesgo'!$C$9),0),Calif_Impacto,2))","v":""},null,"","",{"$f":"IF(OR(Datos!A272=0,Datos!A272=\"\"),P275,IF(ISERROR(VLOOKUP(VLOOKUP(P275,VrImpacto,2,0)-ROUNDDOWN(VLOOKUP(P275,VrImpacto,2,0)*Datos!A272,0),Vr_Impacto,2,1)),\"\",VLOOKUP(VLOOKUP(P275,VrImpacto,2,0)-ROUNDDOWN(VLOOKUP(P275,VrImpacto,2,0)*Datos!A272,0),Vr_Impacto,2,1)))","v":""},{"$f":"IF(Datos!B272=0,Q275,IF(Datos!B272=\"\",Q275,IF(ISERROR(VLOOKUP(VLOOKUP(Q275,Vr_Probabilidad1,2,0)+1-ROUNDDOWN(VLOOKUP(Q275,Vr_Probabilidad1,2,0)*Datos!B272,0),Vr_Probabilidad,2,1)),\"\",VLOOKUP(VLOOKUP(Q275,Vr_Probabilidad1,2,0)-ROUNDDOWN(VLOOKUP(Q275,Vr_Probabilidad1,2,0)*Datos!B272,0),Vr_Probabilidad,2,1))))","v":0},{"$f":"Datos!C272","v":0},"","",""]
["R",null,null,null,null,null,"",null,null,null,null,null,null,null,null,{"$f":"IF(COUNTA(I276:O276)<7,\"\",VLOOKUP(ROUNDUP((LEFT(I276,1)*'Criterios de Riesgo'!$C$3+LEFT(J276,1)*'Criterios de Riesgo'!$C$4+LEFT(K276,1)*'Criterios de Riesgo'!$C$5+LEFT(L276,1)*'Criterios de Riesgo'!$C$6+LEFT(M276,1)*'Criterios de Riesgo'!$C$7+LEFT(N276,1)*'Criterios de Riesgo'!$C$8+LEFT(O276,1)*'Criterios de Riesgo'!$C$9),0),Calif_Impacto,2))","v":""},null,"","",{"$f":"IF(OR(Datos!A273=0,Datos!A273=\"\"),P276,IF(ISERROR(VLOOKUP(VLOOKUP(P276,VrImpacto,2,0)-ROUNDDOWN(VLOOKUP(P276,VrImpacto,2,0)*Datos!A273,0),Vr_Impacto,2,1)),\"\",VLOOKUP(VLOOKUP(P276,VrImpacto,2,0)-ROUNDDOWN(VLOOKUP(P276,VrImpacto,2,0)*Datos!A273,0),Vr_Impacto,2,1)))","v":""},{"$f":"IF(Datos!B273=0,Q276,IF(Datos!B273=\"\",Q276,IF(ISERROR(VLOOKUP(VLOOKUP(Q276,Vr_Probabilidad1,2,0)+1-ROUNDDOWN(VLOOKUP(Q276,Vr_Probabilidad1,2,0)*Datos!B273,0),Vr_Probabilidad,2,1)),\"\",VLOOKUP(VLOOKUP(Q276,Vr_Probabilidad1,2,0)-ROUNDDOWN(VLOOKUP(Q276,Vr_Probabilidad1,2,0)*Datos!B273,0),Vr_Probabilidad,2,1))))","v":0},{"$f":"Datos!C273","v":0},"","",""]
["R",null,null,null,null,null,"",null,null,null,null,null,null,null,null,{"$f":"IF(COUNTA(I277:O277)<7,\"\",VLOOKUP(ROUNDUP((LEFT(I277,1)*'Criterios de Riesgo'!$C$3+LEFT(J277,1)*'Criterios de Riesgo'!$C$4+LEFT(K277,1)*'Criterios de Riesgo'!$C$5+LEFT(L277,1)*'Criterios de Riesgo'!$C$6+LEFT(M277,1)*'Criterios de Riesgo'!$C$7+LEFT(N277,1)*'Criterios de Riesgo'!$C$8+LEFT(O277,1)*'Criterios de Riesgo'!$C$9),0),Calif_Impacto,2))","v":""},null,"","",{"$f":"IF(OR(Datos!A274=0,Datos!A274=\"\"),P277,IF(ISERROR(VLOOKUP(VLOOKUP(P277,VrImpacto,2,0)-ROUNDDOWN(VLOOKUP(P277,VrImpacto,2,0)*Datos!A274,0),Vr_Impacto,2,1)),\"\",VLOOKUP(VLOOKUP(P277,VrImpacto,2,0)-ROUNDDOWN(VLOOKUP(P277,VrImpacto,2,0)*Datos!A274,0),Vr_Impacto,2,1)))","v":""},{"$f":"IF(Datos!B274=0,Q277,IF(Datos!B274=\"\",Q277,IF(ISERROR(VLOOKUP(VLOOKUP(Q277,Vr_Probabilidad1,2,0)+1-ROUNDDOWN(VLOOKUP(Q277,Vr_Probabilidad1,2,0)*Datos!B274,0),Vr_Probabilidad,2,1)),\"\",VLOOKUP(VLOOKUP(Q277,Vr_Probabilidad1,2,0)-ROUNDDOWN(VLOOKUP(Q277,Vr_Probabilidad1,2,0)*Datos!B274,0),Vr_Probabilidad,2,1))))","v":0},{"$f":"Datos!C274","v":0},"","",""]
["R",null,null,null,null,null,"",null,null,null,null,null,null,null,null,{"$f":"IF(COUNTA(I278:O278)<7,\"\",VLOOKUP(ROUNDUP((LEFT(I278,1)*'Criterios de Riesgo'!$C$3+LEFT(J278,1)*'Criterios de Riesgo'!$C$4+LEFT(K278,1)*'Criterios de Riesgo'!$C$5+LEFT(L278,1)*'Criterios de Riesgo'!$C$6+LEFT(M278,1)*'Criterios de Riesgo'!$C$7+LEFT(N278,1)*'Criterios de Riesgo'!$C$8+LEFT(O278,1)*'Criterios de Riesgo'!$C$9),0),Calif_Impacto,2))","v":""},null,"","",{"$f":"IF(OR(Datos!A275=0,Datos!A275=\"\"),P278,IF(ISERROR(VLOOKUP(VLOOKUP(P278,VrImpacto,2,0)-ROUNDDOWN(VLOOKUP(P278,VrImpacto,2,0)*Datos!A275,0),Vr_Impacto,2,1)),\"\",VLOOKUP(VLOOKUP(P278,VrImpacto,2,0)-ROUNDDOWN(VLOOKUP(P278,VrImpacto,2,0)*Datos!A275,0),Vr_Impacto,2,1)))","v":""},{"$f":"IF(Datos!B275=0,Q278,IF(Datos!B275=\"\",Q278,IF(ISERROR(VLOOKUP(VLOOKUP(Q278,Vr_Probabilidad1,2,0)+1-ROUNDDOWN(VLOOKUP(Q278,Vr_Probabilidad1,2,0)*Datos!B275,0),Vr_Probabilidad,2,1)),\"\",VLOOKUP(VLOOKUP(Q278,Vr_Probabilidad1,2,0)-ROUNDDOWN(VLOOKUP(Q278,Vr_Probabilidad1,2,0)*Datos!B275,0),Vr_Probabilidad,2,1))))","v":0},{"$f":"Datos!C275","v":0},"","",""]
["R",null,null,null,null,null,"",null,null,null,null,null,null,null,null,{"$f":"IF(COUNTA(I279:O279)<7,\"\",VLOOKUP(ROUNDUP((LEFT(I279,1)*'Criterios de Riesgo'!$C$3+LEFT(J279,1)*'Criterios de Riesgo'!$C$4+LEFT(K279,1)*'Criterios de Riesgo'!$C$5+LEFT(L279,1)*'Criterios de Riesgo'!$C$6+LEFT(M279,1)*'Criterios de Riesgo'!$C$7+LEFT(N279,1)*'Criterios de Riesgo'!$C$8+LEFT(O279,1)*'Criterios de Riesgo'!$C$9),0),Calif_Impacto,2))","v":""},null,"","",{"$f":"IF(OR(Datos!A276=0,Datos!A276=\"\"),P279,IF(ISERROR(VLOOKUP(VLOOKUP(P279,VrImpacto,2,0)-ROUNDDOWN(VLOOKUP(P279,VrImpacto,2,0)*Datos!A276,0),Vr_Impacto,2,1)),\"\",VLOOKUP(VLOOKUP(P279,VrImpacto,2,0)-ROUNDDOWN(VLOOKUP(P279,VrImpacto,2,0)*Datos!A276,0),Vr_Impacto,2,1)))","v":""},{"$f":"IF(Datos!B276=0,Q279,IF(Datos!B276=\"\",Q279,IF(ISERROR(VLOOKUP(VLOOKUP(Q279,Vr_Probabilidad1,2,0)+1-ROUNDDOWN(VLOOKUP(Q279,Vr_Probabilidad1,2,0)*Datos!B276,0),Vr_Probabilidad,2,1)),\"\",VLOOKUP(VLOOKUP(Q279,Vr_Probabilidad1,2,0)-ROUNDDOWN(VLOOKUP(Q279,Vr_Probabilidad1,2,0)*Datos!B276,0),Vr_Probabilidad,2,1))))","v":0},{"$f":"Datos!C276","v":0},"","",""]
["R",null,null,null,null,null,"",null,null,null,null,null,null,null,null,{"$f":"IF(COUNTA(I280:O280)<7,\"\",VLOOKUP(ROUNDUP((LEFT(I280,1)*'Criterios de Riesgo'!$C$3+LEFT(J280,1)*'Criterios de Riesgo'!$C$4+LEFT(K280,1)*'Criterios de Riesgo'!$C$5+LEFT(L280,1)*'Criterios de Riesgo'!$C$6+LEFT(M280,1)*'Criterios de Riesgo'!$C$7+LEFT(N280,1)*'Criterios de Riesgo'!$C$8+LEFT(O280,1)*'Criterios de Riesgo'!$C$9),0),Calif_Impacto,2))","v":""},null,"","",{"$f":"IF(OR(Datos!A277=0,Datos!A277=\"\"),P280,IF(ISERROR(VLOOKUP(VLOOKUP(P280,VrImpacto,2,0)-ROUNDDOWN(VLOOKUP(P280,VrImpacto,2,0)*Datos!A277,0),Vr_Impacto,2,1)),\"\",VLOOKUP(VLOOKUP(P280,VrImpacto,2,0)-ROUNDDOWN(VLOOKUP(P280,VrImpacto,2,0)*Datos!A277,0),Vr_Impacto,2,1)))","v":""},{"$f":"IF(Datos!B277=0,Q280,IF(Datos!B277=\"\",Q280,IF(ISERROR(VLOOKUP(VLOOKUP(Q280,Vr_Probabilidad1,2,0)+1-ROUNDDOWN(VLOOKUP(Q280,Vr_Probabilidad1,2,0)*Datos!B277,0),Vr_Probabilidad,2,1)),\"\",VLOOKUP(VLOOKUP(Q280,Vr_Probabilidad1,2,0)-ROUNDDOWN(VLOOKUP(Q280,Vr_Probabilidad1,2,0)*Datos!B277,0),Vr_Probabilidad,2,1))))","v":0},{"$f":"Datos!C277","v":0},"","",""]
["R",null,null,null,null,null,"",null,null,null,null,null,null,null,null,{"$f":"IF(COUNTA(I281:O281)<7,\"\",VLOOKUP(ROUNDUP((LEFT(I281,1)*'Criterios de Riesgo'!$C$3+LEFT(J281,1)*'Criterios de Riesgo'!$C$4+LEFT(K281,1)*'Criterios de Riesgo'!$C$5+LEFT(L281,1)*'Criterios de Riesgo'!$C$6+LEFT(M281,1)*'Criterios de Riesgo'!$C$7+LEFT(N281,1)*'Criterios de Riesgo'!$C$8+LEFT(O281,1)*'Criterios de Riesgo'!$C$9),0),Calif_Impacto,2))","v":""},null,"","",{"$f":"IF(OR(Datos!A278=0,Datos!A278=\"\"),P281,IF(ISERROR(VLOOKUP(VLOOKUP(P281,VrImpacto,2,0)-ROUNDDOWN(VLOOKUP(P281,VrImpacto,2,0)*Datos!A278,0),Vr_Impacto,2,1)),\"\",VLOOKUP(VLOOKUP(P281,VrImpacto,2,0)-ROUNDDOWN(VLOOKUP(P281,VrImpacto,2,0)*Datos!A278,0),Vr_Impacto,2,1)))","v":""},{"$f":"IF(Datos!B278=0,Q281,IF(Datos!B278=\"\",Q281,IF(ISERROR(VLOOKUP(VLOOKUP(Q281,Vr_Probabilidad1,2,0)+1-ROUNDDOWN(VLOOKUP(Q281,Vr_Probabilidad1,2,0)*Datos!B278,0),Vr_Probabilidad,2,1)),\"\",VLOOKUP(VLOOKUP(Q281,Vr_Probabilidad1,2,0)-ROUNDDOWN(VLOOKUP(Q281,Vr_Probabilidad1,2,0)*Datos!B278,0),Vr_Probabilidad,2,1))))","v":0},{"$f":"Datos!C278","v":0},"","",""]
["R",null,null,null,null,null,"",null,null,null,null,null,null,null,null,{"$f":"IF(COUNTA(I282:O282)<7,\"\",VLOOKUP(ROUNDUP((LEFT(I282,1)*'Criterios de Riesgo'!$C$3+LEFT(J282,1)*'Criterios de Riesgo'!$C$4+LEFT(K282,1)*'Criterios de Riesgo'!$C$5+LEFT(L282,1)*'Criterios de Riesgo'!$C$6+LEFT(M282,1)*'Criterios de Riesgo'!$C$7+LEFT(N282,1)*'Criterios de Riesgo'!$C$8+LEFT(O282,1)*'Criterios de Riesgo'!$C$9),0),Calif_Impacto,2))","v":""},null,"","",{"$f":"IF(OR(Datos!A279=0,Datos!A279=\"\"),P282,IF(ISERROR(VLOOKUP(VLOOKUP(P282,VrImpacto,2,0)-ROUNDDOWN(VLOOKUP(P282,VrImpacto,2,0)*Datos!A279,0),Vr_Impacto,2,1)),\"\",VLOOKUP(VLOOKUP(P282,VrImpacto,2,0)-ROUNDDOWN(VLOOKUP(P282,VrImpacto,2,0)*Datos!A279,0),Vr_Impacto,2,1)))","v":""},{"$f":"IF(Datos!B279=0,Q282,IF(Datos!B279=\"\",Q282,IF(ISERROR(VLOOKUP(VLOOKUP(Q282,Vr_Probabilidad1,2,0)+1-ROUNDDOWN(VLOOKUP(Q282,Vr_Probabilidad1,2,0)*Datos!B279,0),Vr_Probabilidad,2,1)),\"\",VLOOKUP(VLOOKUP(Q282,Vr_Probabilidad1,2,0)-ROUNDDOWN(VLOOKUP(Q282,Vr_Probabilidad1,2,0)*Datos!B279,0),Vr_Probabilidad,2,1))))","v":0},{"$f":"Datos!C279","v":0},"","",""]
["R",null,null,null,null,null,"",null,null,null,null,null,null,null,null,{"$f":"IF(COUNTA(I283:O283)<7,\"\",VLOOKUP(ROUNDUP((LEFT(I283,1)*'Criterios de Riesgo'!$C$3+LEFT(J283,1)*'Criterios de Riesgo'!$C$4+LEFT(K283,1)*'Criterios de Riesgo'!$C$5+LEFT(L283,1)*'Criterios de Riesgo'!$C$6+LEFT(M283,1)*'Criterios de Riesgo'!$C$7+LEFT(N283,1)*'Criterios de Riesgo'!$C$8+LEFT(O283,1)*'Criterios de Riesgo'!$C$9),0),Calif_Impacto,2))","v":""},null,"","",{"$f":"IF(OR(Datos!A280=0,Datos!A280=\"\"),P283,IF(ISERROR(VLOOKUP(VLOOKUP(P283,VrImpacto,2,0)-ROUNDDOWN(VLOOKUP(P283,VrImpacto,2,0)*Datos!A280,0),Vr_Impacto,2,1)),\"\",VLOOKUP(VLOOKUP(P283,VrImpacto,2,0)-ROUNDDOWN(VLOOKUP(P283,VrImpacto,2,0)*Datos!A280,0),Vr_Impacto,2,1)))","v":""},{"$f":"IF(Datos!B280=0,Q283,IF(Datos!B280=\"\",Q283,IF(ISERROR(VLOOKUP(VLOOKUP(Q283,Vr_Probabilidad1,2,0)+1-ROUNDDOWN(VLOOKUP(Q283,Vr_Probabilidad1,2,0)*Datos!B280,0),Vr_Probabilidad,2,1)),\"\",VLOOKUP(VLOOKUP(Q283,Vr_Probabilidad1,2,0)-ROUNDDOWN(VLOOKUP(Q283,Vr_Probabilidad1,2,0)*Datos!B280,0),Vr_Probabilidad,2,1))))","v":0},{"$f":"Datos!C280","v":0},"","",""]
["R",null,null,null,null,null,"",null,null,null,null,null,null,null,null,{"$f":"IF(COUNTA(I284:O284)<7,\"\",VLOOKUP(ROUNDUP((LEFT(I284,1)*'Criterios de Riesgo'!$C$3+LEFT(J284,1)*'Criterios de Riesgo'!$C$4+LEFT(K284,1)*'Criterios de Riesgo'!$C$5+LEFT(L284,1)*'Criterios de Riesgo'!$C$6+LEFT(M284,1)*'Criterios de Riesgo'!$C$7+LEFT(N284,1)*'Criterios de Riesgo'!$C$8+LEFT(O284,1)*'Criterios de Riesgo'!$C$9),0),Calif_Impacto,2))","v":""},null,"","",{"$f":"IF(OR(Datos!A281=0,Datos!A281=\"\"),P284,IF(ISERROR(VLOOKUP(VLOOKUP(P284,VrImpacto,2,0)-ROUNDDOWN(VLOOKUP(P284,VrImpacto,2,0)*Datos!A281,0),Vr_Impacto,2,1)),\"\",VLOOKUP(VLOOKUP(P284,VrImpacto,2,0)-ROUNDDOWN(VLOOKUP(P284,VrImpacto,2,0)*Datos!A281,0),Vr_Impacto,2,1)))","v":""},{"$f":"IF(Datos!B281=0,Q284,IF(Datos!B281=\"\",Q284,IF(ISERROR(VLOOKUP(VLOOKUP(Q284,Vr_Probabilidad1,2,0)+1-ROUNDDOWN(VLOOKUP(Q284,Vr_Probabilidad1,2,0)*Datos!B281,0),Vr_Probabilidad,2,1)),\"\",VLOOKUP(VLOOKUP(Q284,Vr_Probabilidad1,2,0)-ROUNDDOWN(VLOOKUP(Q284,Vr_Probabilidad1,2,0)*Datos!B281,0),Vr_Probabilidad,2,1))))","v":0},{"$f":"Datos!C281","v":0},"","",""]
["R",null,null,null,null,null,"",null,null,null,null,null,null,null,null,{"$f":"IF(COUNTA(I285:O285)<7,\"\",VLOOKUP(ROUNDUP((LEFT(I285,1)*'Criterios de Riesgo'!$C$3+LEFT(J285,1)*'Criterios de Riesgo'!$C$4+LEFT(K285,1)*'Criterios de Riesgo'!$C$5+LEFT(L285,1)*'Criterios de Riesgo'!$C$6+LEFT(M285,1)*'Criterios de Riesgo'!$C$7+LEFT(N285,1)*'Criterios de Riesgo'!$C$8+LEFT(O285,1)*'Criterios de Riesgo'!$C$9),0),Calif_Impacto,2))","v":""},null,"","",{"$f":"IF(OR(Datos!A282=0,Datos!A282=\"\"),P285,IF(ISERROR(VLOOKUP(VLOOKUP(P285,VrImpacto,2,0)-ROUNDDOWN(VLOOKUP(P285,VrImpacto,2,0)*Datos!A282,0),Vr_Impacto,2,1)),\"\",VLOOKUP(VLOOKUP(P285,VrImpacto,2,0)-ROUNDDOWN(VLOOKUP(P285,VrImpacto,2,0)*Datos!A282,0),Vr_Impacto,2,1)))","v":""},{"$f":"IF(Datos!B282=0,Q285,IF(Datos!B282=\"\",Q285,IF(ISERROR(VLOOKUP(VLOOKUP(Q285,Vr_Probabilidad1,2,0)+1-ROUNDDOWN(VLOOKUP(Q285,Vr_Probabilidad1,2,0)*Datos!B282,0),Vr_Probabilidad,2,1)),\"\",VLOOKUP(VLOOKUP(Q285,Vr_Probabilidad1,2,0)-ROUNDDOWN(VLOOKUP(Q285,Vr_Probabilidad1,2,0)*Datos!B282,0),Vr_Probabilidad,2,1))))","v":0},{"$f":"Datos!C282","v":0},"","",""]
["R",null,null,null,null,null,"",null,null,null,null,null,null,null,null,{"$f":"IF(COUNTA(I286:O286)<7,\"\",VLOOKUP(ROUNDUP((LEFT(I286,1)*'Criterios de Riesgo'!$C$3+LEFT(J286,1)*'Criterios de Riesgo'!$C$4+LEFT(K286,1)*'Criterios de Riesgo'!$C$5+LEFT(L286,1)*'Criterios de Riesgo'!$C$6+LEFT(M286,1)*'Criterios de Riesgo'!$C$7+LEFT(N286,1)*'Criterios de Riesgo'!$C$8+LEFT(O286,1)*'Criterios de Riesgo'!$C$9),0),Calif_Impacto,2))","v":""},null,"","",{"$f":"IF(OR(Datos!A283=0,Datos!A283=\"\"),P286,IF(ISERROR(VLOOKUP(VLOOKUP(P286,VrImpacto,2,0)-ROUNDDOWN(VLOOKUP(P286,VrImpacto,2,0)*Datos!A283,0),Vr_Impacto,2,1)),\"\",VLOOKUP(VLOOKUP(P286,VrImpacto,2,0)-ROUNDDOWN(VLOOKUP(P286,VrImpacto,2,0)*Datos!A283,0),Vr_Impacto,2,1)))","v":""},{"$f":"IF(Datos!B283=0,Q286,IF(Datos!B283=\"\",Q286,IF(ISERROR(VLOOKUP(VLOOKUP(Q286,Vr_Probabilidad1,2,0)+1-ROUNDDOWN(VLOOKUP(Q286,Vr_Probabilidad1,2,0)*Datos!B283,0),Vr_Probabilidad,2,1)),\"\",VLOOKUP(VLOOKUP(Q286,Vr_Probabilidad1,2,0)-ROUNDDOWN(VLOOKUP(Q286,Vr_Probabilidad1,2,0)*Datos!B283,0),Vr_Probabilidad,2,1))))","v":0},{"$f":"Datos!C283","v":0},"","",""]
["R",null,null,null,null,null,"",null,null,null,null,null,null,null,null,{"$f":"IF(COUNTA(I287:O287)<7,\"\",VLOOKUP(ROUNDUP((LEFT(I287,1)*'Criterios de Riesgo'!$C$3+LEFT(J287,1)*'Criterios de Riesgo'!$C$4+LEFT(K287,1)*'Criterios de Riesgo'!$C$5+LEFT(L287,1)*'Criterios de Riesgo'!$C$6+LEFT(M287,1)*'Criterios de Riesgo'!$C$7+LEFT(N287,1)*'Criterios de Riesgo'!$C$8+LEFT(O287,1)*'Criterios de Riesgo'!$C$9),0),Calif_Impacto,2))","v":""},null,"","",{"$f":"IF(OR(Datos!A284=0,Datos!A284=\"\"),P287,IF(ISERROR(VLOOKUP(VLOOKUP(P287,VrImpacto,2,0)-ROUNDDOWN(VLOOKUP(P287,VrImpacto,2,0)*Datos!A284,0),Vr_Impacto,2,1)),\"\",VLOOKUP(VLOOKUP(P287,VrImpacto,2,0)-ROUNDDOWN(VLOOKUP(P287,VrImpacto,2,0)*Datos!A284,0),Vr_Impacto,2,1)))","v":""},{"$f":"IF(Datos!B284=0,Q287,IF(Datos!B284=\"\",Q287,IF(ISERROR(VLOOKUP(VLOOKUP(Q287,Vr_Probabilidad1,2,0)+1-ROUNDDOWN(VLOOKUP(Q287,Vr_Probabilidad1,2,0)*Datos!B284,0),Vr_Probabilidad,2,1)),\"\",VLOOKUP(VLOOKUP(Q287,Vr_Probabilidad1,2,0)-ROUNDDOWN(VLOOKUP(Q287,Vr_Probabilidad1,2,0)*Datos!B284,0),Vr_Probabilidad,2,1))))","v":0},{"$f":"Datos!C284","v":0},"","",""]
["R",null,null,null,null,null,"",null,null,null,null,null,null,null,null,{"$f":"IF(COUNTA(I288:O288)<7,\"\",VLOOKUP(ROUNDUP((LEFT(I288,1)*'Criterios de Riesgo'!$C$3+LEFT(J288,1)*'Criterios de Riesgo'!$C$4+LEFT(K288,1)*'Criterios de Riesgo'!$C$5+LEFT(L288,1)*'Criterios de Riesgo'!$C$6+LEFT(M288,1)*'Criterios de Riesgo'!$C$7+LEFT(N288,1)*'Criterios de Riesgo'!$C$8+LEFT(O288,1)*'Criterios de Riesgo'!$C$9),0),Calif_Impacto,2))","v":""},null,"","",{"$f":"IF(OR(Datos!A285=0,Datos!A285=\"\"),P288,IF(ISERROR(VLOOKUP(VLOOKUP(P288,VrImpacto,2,0)-ROUNDDOWN(VLOOKUP(P288,VrImpacto,2,0)*Datos!A285,0),Vr_Impacto,2,1)),\"\",VLOOKUP(VLOOKUP(P288,VrImpacto,2,0)-ROUNDDOWN(VLOOKUP(P288,VrImpacto,2,0)*Datos!A285,0),Vr_Impacto,2,1)))","v":""},{"$f":"IF(Datos!B285=0,Q288,IF(Datos!B285=\"\",Q288,IF(ISERROR(VLOOKUP(VLOOKUP(Q288,Vr_Probabilidad1,2,0)+1-ROUNDDOWN(VLOOKUP(Q288,Vr_Probabilidad1,2,0)*Datos!B285,0),Vr_Probabilidad,2,1)),\"\",VLOOKUP(VLOOKUP(Q288,Vr_Probabilidad1,2,0)-ROUNDDOWN(VLOOKUP(Q288,Vr_Probabilidad1,2,0)*Datos!B285,0),Vr_Probabilidad,2,1))))","v":0},{"$f":"Datos!C285","v":0},"","",""]
["R",null,null,null,null,null,"",null,null,null,null,null,null,null,null,{"$f":"IF(COUNTA(I289:O289)<7,\"\",VLOOKUP(ROUNDUP((LEFT(I289,1)*'Criterios de Riesgo'!$C$3+LEFT(J289,1)*'Criterios de Riesgo'!$C$4+LEFT(K289,1)*'Criterios de Riesgo'!$C$5+LEFT(L289,1)*'Criterios de Riesgo'!$C$6+LEFT(M289,1)*'Criterios de Riesgo'!$C$7+LEFT(N289,1)*'Criterios de Riesgo'!$C$8+LEFT(O289,1)*'Criterios de Riesgo'!$C$9),0),Calif_Impacto,2))","v":""},null,"","",{"$f":"IF(OR(Datos!A286=0,Datos!A286=\"\"),P289,IF(ISERROR(VLOOKUP(VLOOKUP(P289,VrImpacto,2,0)-ROUNDDOWN(VLOOKUP(P289,VrImpacto,2,0)*Datos!A286,0),Vr_Impacto,2,1)),\"\",VLOOKUP(VLOOKUP(P289,VrImpacto,2,0)-ROUNDDOWN(VLOOKUP(P289,VrImpacto,2,0)*Datos!A286,0),Vr_Impacto,2,1)))","v":""},{"$f":"IF(Datos!B286=0,Q289,IF(Datos!B286=\"\",Q289,IF(ISERROR(VLOOKUP(VLOOKUP(Q289,Vr_Probabilidad1,2,0)+1-ROUNDDOWN(VLOOKUP(Q289,Vr_Probabilidad1,2,0)*Datos!B286,0),Vr_Probabilidad,2,1)),\"\",VLOOKUP(VLOOKUP(Q289,Vr_Probabilidad1,2,0)-ROUNDDOWN(VLOOKUP(Q289,Vr_Probabilidad1,2,0)*Datos!B286,0),Vr_Probabilidad,2,1))))","v":0},{"$f":"Datos!C286","v":0},"","",""]
["R",null,null,null,null,null,"",null,null,null,null,null,null,null,null,{"$f":"IF(COUNTA(I290:O290)<7,\"\",VLOOKUP(ROUNDUP((LEFT(I290,1)*'Criterios de Riesgo'!$C$3+LEFT(J290,1)*'Criterios de Riesgo'!$C$4+LEFT(K290,1)*'Criterios de Riesgo'!$C$5+LEFT(L290,1)*'Criterios de Riesgo'!$C$6+LEFT(M290,1)*'Criterios de Riesgo'!$C$7+LEFT(N290,1)*'Criterios de Riesgo'!$C$8+LEFT(O290,1)*'Criterios de Riesgo'!$C$9),0),Calif_Impacto,2))","v":""},null,"","",{"$f":"IF(OR(Datos!A287=0,Datos!A287=\"\"),P290,IF(ISERROR(VLOOKUP(VLOOKUP(P290,VrImpacto,2,0)-ROUNDDOWN(VLOOKUP(P290,VrImpacto,2,0)*Datos!A287,0),Vr_Impacto,2,1)),\"\",VLOOKUP(VLOOKUP(P290,VrImpacto,2,0)-ROUNDDOWN(VLOOKUP(P290,VrImpacto,2,0)*Datos!A287,0),Vr_Impacto,2,1)))","v":""},{"$f":"IF(Datos!B287=0,Q290,IF(Datos!B287=\"\",Q290,IF(ISERROR(VLOOKUP(VLOOKUP(Q290,Vr_Probabilidad1,2,0)+1-ROUNDDOWN(VLOOKUP(Q290,Vr_Probabilidad1,2,0)*Datos!B287,0),Vr_Probabilidad,2,1)),\"\",VLOOKUP(VLOOKUP(Q290,Vr_Probabilidad1,2,0)-ROUNDDOWN(VLOOKUP(Q290,Vr_Probabilidad1,2,0)*Datos!B287,0),Vr_Probabilidad,2,1))))","v":0},{"$f":"Datos!C287","v":0},"","",""]
["R",null,null,null,null,null,"",null,null,null,null,null,null,null,null,{"$f":"IF(COUNTA(I291:O291)<7,\"\",VLOOKUP(ROUNDUP((LEFT(I291,1)*'Criterios de Riesgo'!$C$3+LEFT(J291,1)*'Criterios de Riesgo'!$C$4+LEFT(K291,1)*'Criterios de Riesgo'!$C$5+LEFT(L291,1)*'Criterios de Riesgo'!$C$6+LEFT(M291,1)*'Criterios de Riesgo'!$C$7+LEFT(N291,1)*'Criterios de Riesgo'!$C$8+LEFT(O291,1)*'Criterios de Riesgo'!$C$9),0),Calif_Impacto,2))","v":""},null,"","",{"$f":"IF(OR(Datos!A288=0,Datos!A288=\"\"),P291,IF(ISERROR(VLOOKUP(VLOOKUP(P291,VrImpacto,2,0)-ROUNDDOWN(VLOOKUP(P291,VrImpacto,2,0)*Datos!A288,0),Vr_Impacto,2,1)),\"\",VLOOKUP(VLOOKUP(P291,VrImpacto,2,0)-ROUNDDOWN(VLOOKUP(P291,VrImpacto,2,0)*Datos!A288,0),Vr_Impacto,2,1)))","v":""},{"$f":"IF(Datos!B288=0,Q291,IF(Datos!B288=\"\",Q291,IF(ISERROR(VLOOKUP(VLOOKUP(Q291,Vr_Probabilidad1,2,0)+1-ROUNDDOWN(VLOOKUP(Q291,Vr_Probabilidad1,2,0)*Datos!B288,0),Vr_Probabilidad,2,1)),\"\",VLOOKUP(VLOOKUP(Q291,Vr_Probabilidad1,2,0)-ROUNDDOWN(VLOOKUP(Q291,Vr_Probabilidad1,2,0)*Datos!B288,0),Vr_Probabilidad,2,1))))","v":0},{"$f":"Datos!C288","v":0},"","",""]
["R",null,null,null,null,null,"",null,null,null,null,null,null,null,null,{"$f":"IF(COUNTA(I292:O292)<7,\"\",VLOOKUP(ROUNDUP((LEFT(I292,1)*'Criterios de Riesgo'!$C$3+LEFT(J292,1)*'Criterios de Riesgo'!$C$4+LEFT(K292,1)*'Criterios de Riesgo'!$C$5+LEFT(L292,1)*'Criterios de Riesgo'!$C$6+LEFT(M292,1)*'Criterios de Riesgo'!$C$7+LEFT(N292,1)*'Criterios de Riesgo'!$C$8+LEFT(O292,1)*'Criterios de Riesgo'!$C$9),0),Calif_Impacto,2))","v":""},null,"","",{"$f":"IF(OR(Datos!A289=0,Datos!A289=\"\"),P292,IF(ISERROR(VLOOKUP(VLOOKUP(P292,VrImpacto,2,0)-ROUNDDOWN(VLOOKUP(P292,VrImpacto,2,0)*Datos!A289,0),Vr_Impacto,2,1)),\"\",VLOOKUP(VLOOKUP(P292,VrImpacto,2,0)-ROUNDDOWN(VLOOKUP(P292,VrImpacto,2,0)*Datos!A289,0),Vr_Impacto,2,1)))","v":""},{"$f":"IF(Datos!B289=0,Q292,IF(Datos!B289=\"\",Q292,IF(ISERROR(VLOOKUP(VLOOKUP(Q292,Vr_Probabilidad1,2,0)+1-ROUNDDOWN(VLOOKUP(Q292,Vr_Probabilidad1,2,0)*Datos!B289,0),Vr_Probabilidad,2,1)),\"\",VLOOKUP(VLOOKUP(Q292,Vr_Probabilidad1,2,0)-ROUNDDOWN(VLOOKUP(Q292,Vr_Probabilidad1,2,0)*Datos!B289,0),Vr_Probabilidad,2,1))))","v":0},{"$f":"Datos!C289","v":0},"","",""]
["R",null,null,null,null,null,"",null,null,null,null,null,null,null,null,{"$f":"IF(COUNTA(I293:O293)<7,\"\",VLOOKUP(ROUNDUP((LEFT(I293,1)*'Criterios de Riesgo'!$C$3+LEFT(J293,1)*'Criterios de Riesgo'!$C$4+LEFT(K293,1)*'Criterios de Riesgo'!$C$5+LEFT(L293,1)*'Criterios de Riesgo'!$C$6+LEFT(M293,1)*'Criterios de Riesgo'!$C$7+LEFT(N293,1)*'Criterios de Riesgo'!$C$8+LEFT(O293,1)*'Criterios de Riesgo'!$C$9),0),Calif_Impacto,2))","v":""},null,"","",{"$f":"IF(OR(Datos!A290=0,Datos!A290=\"\"),P293,IF(ISERROR(VLOOKUP(VLOOKUP(P293,VrImpacto,2,0)-ROUNDDOWN(VLOOKUP(P293,VrImpacto,2,0)*Datos!A290,0),Vr_Impacto,2,1)),\"\",VLOOKUP(VLOOKUP(P293,VrImpacto,2,0)-ROUNDDOWN(VLOOKUP(P293,VrImpacto,2,0)*Datos!A290,0),Vr_Impacto,2,1)))","v":""},{"$f":"IF(Datos!B290=0,Q293,IF(Datos!B290=\"\",Q293,IF(ISERROR(VLOOKUP(VLOOKUP(Q293,Vr_Probabilidad1,2,0)+1-ROUNDDOWN(VLOOKUP(Q293,Vr_Probabilidad1,2,0)*Datos!B290,0),Vr_Probabilidad,2,1)),\"\",VLOOKUP(VLOOKUP(Q293,Vr_Probabilidad1,2,0)-ROUNDDOWN(VLOOKUP(Q293,Vr_Probabilidad1,2,0)*Datos!B290,0),Vr_Probabilidad,2,1))))","v":0},{"$f":"Datos!C290","v":0},"","",""]
["R",null,null,null,null,null,"",null,null,null,null,null,null,null,null,{"$f":"IF(COUNTA(I294:O294)<7,\"\",VLOOKUP(ROUNDUP((LEFT(I294,1)*'Criterios de Riesgo'!$C$3+LEFT(J294,1)*'Criterios de Riesgo'!$C$4+LEFT(K294,1)*'Criterios de Riesgo'!$C$5+LEFT(L294,1)*'Criterios de Riesgo'!$C$6+LEFT(M294,1)*'Criterios de Riesgo'!$C$7+LEFT(N294,1)*'Criterios de Riesgo'!$C$8+LEFT(O294,1)*'Criterios de Riesgo'!$C$9),0),Calif_Impacto,2))","v":""},null,"","",{"$f":"IF(OR(Datos!A291=0,Datos!A291=\"\"),P294,IF(ISERROR(VLOOKUP(VLOOKUP(P294,VrImpacto,2,0)-ROUNDDOWN(VLOOKUP(P294,VrImpacto,2,0)*Datos!A291,0),Vr_Impacto,2,1)),\"\",VLOOKUP(VLOOKUP(P294,VrImpacto,2,0)-ROUNDDOWN(VLOOKUP(P294,VrImpacto,2,0)*Datos!A291,0),Vr_Impacto,2,1)))","v":""},{"$f":"IF(Datos!B291=0,Q294,IF(Datos!B291=\"\",Q294,IF(ISERROR(VLOOKUP(VLOOKUP(Q294,Vr_Probabilidad1,2,0)+1-ROUNDDOWN(VLOOKUP(Q294,Vr_Probabilidad1,2,0)*Datos!B291,0),Vr_Probabilidad,2,1)),\"\",VLOOKUP(VLOOKUP(Q294,Vr_Probabilidad1,2,0)-ROUNDDOWN(VLOOKUP(Q294,Vr_Probabilidad1,2,0)*Datos!B291,0),Vr_Probabilidad,2,1))))","v":0},{"$f":"Datos!C291","v":0},"","",""]
["R",null,null,null,null,null,"",null,null,null,null,null,null,null,null,{"$f":"IF(COUNTA(I295:O295)<7,\"\",VLOOKUP(ROUNDUP((LEFT(I295,1)*'Criterios de Riesgo'!$C$3+LEFT(J295,1)*'Criterios de Riesgo'!$C$4+LEFT(K295,1)*'Criterios de Riesgo'!$C$5+LEFT(L295,1)*'Criterios de Riesgo'!$C$6+LEFT(M295,1)*'Criterios de Riesgo'!$C$7+LEFT(N295,1)*'Criterios de Riesgo'!$C$8+LEFT(O295,1)*'Criterios de Riesgo'!$C$9),0),Calif_Impacto,2))","v":""},null,"","",{"$f":"IF(OR(Datos!A292=0,Datos!A292=\"\"),P295,IF(ISERROR(VLOOKUP(VLOOKUP(P295,VrImpacto,2,0)-ROUNDDOWN(VLOOKUP(P295,VrImpacto,2,0)*Datos!A292,0),Vr_Impacto,2,1)),\"\",VLOOKUP(VLOOKUP(P295,VrImpacto,2,0)-ROUNDDOWN(VLOOKUP(P295,VrImpacto,2,0)*Datos!A292,0),Vr_Impacto,2,1)))","v":""},{"$f":"IF(Datos!B292=0,Q295,IF(Datos!B292=\"\",Q295,IF(ISERROR(VLOOKUP(VLOOKUP(Q295,Vr_Probabilidad1,2,0)+1-ROUNDDOWN(VLOOKUP(Q295,Vr_Probabilidad1,2,0)*Datos!B292,0),Vr_Probabilidad,2,1)),\"\",VLOOKUP(VLOOKUP(Q295,Vr_Probabilidad1,2,0)-ROUNDDOWN(VLOOKUP(Q295,Vr_Probabilidad1,2,0)*Datos!B292,0),Vr_Probabilidad,2,1))))","v":0},{"$f":"Datos!C292","v":0},"","",""]
["R",null,null,null,null,null,"",null,null,null,null,null,null,null,null,{"$f":"IF(COUNTA(I296:O296)<7,\"\",VLOOKUP(ROUNDUP((LEFT(I296,1)*'Criterios de Riesgo'!$C$3+LEFT(J296,1)*'Criterios de Riesgo'!$C$4+LEFT(K296,1)*'Criterios de Riesgo'!$C$5+LEFT(L296,1)*'Criterios de Riesgo'!$C$6+LEFT(M296,1)*'Criterios de Riesgo'!$C$7+LEFT(N296,1)*'Criterios de Riesgo'!$C$8+LEFT(O296,1)*'Criterios de Riesgo'!$C$9),0),Calif_Impacto,2))","v":""},null,"","",{"$f":"IF(OR(Datos!A293=0,Datos!A293=\"\"),P296,IF(ISERROR(VLOOKUP(VLOOKUP(P296,VrImpacto,2,0)-ROUNDDOWN(VLOOKUP(P296,VrImpacto,2,0)*Datos!A293,0),Vr_Impacto,2,1)),\"\",VLOOKUP(VLOOKUP(P296,VrImpacto,2,0)-ROUNDDOWN(VLOOKUP(P296,VrImpacto,2,0)*Datos!A293,0),Vr_Impacto,2,1)))","v":""},{"$f":"IF(Datos!B293=0,Q296,IF(Datos!B293=\"\",Q296,IF(ISERROR(VLOOKUP(VLOOKUP(Q296,Vr_Probabilidad1,2,0)+1-ROUNDDOWN(VLOOKUP(Q296,Vr_Probabilidad1,2,0)*Datos!B293,0),Vr_Probabilidad,2,1)),\"\",VLOOKUP(VLOOKUP(Q296,Vr_Probabilidad1,2,0)-ROUNDDOWN(VLOOKUP(Q296,Vr_Probabilidad1,2,0)*Datos!B293,0),Vr_Probabilidad,2,1))))","v":0},{"$f":"Datos!C293","v":0},"","",""]
["R",null,null,null,null,null,"",null,null,null,null,null,null,null,null,{"$f":"IF(COUNTA(I297:O297)<7,\"\",VLOOKUP(ROUNDUP((LEFT(I297,1)*'Criterios de Riesgo'!$C$3+LEFT(J297,1)*'Criterios de Riesgo'!$C$4+LEFT(K297,1)*'Criterios de Riesgo'!$C$5+LEFT(L297,1)*'Criterios de Riesgo'!$C$6+LEFT(M297,1)*'Criterios de Riesgo'!$C$7+LEFT(N297,1)*'Criterios de Riesgo'!$C$8+LEFT(O297,1)*'Criterios de Riesgo'!$C$9),0),Calif_Impacto,2))","v":""},null,"","",{"$f":"IF(OR(Datos!A294=0,Datos!A294=\"\"),P297,IF(ISERROR(VLOOKUP(VLOOKUP(P297,VrImpacto,2,0)-ROUNDDOWN(VLOOKUP(P297,VrImpacto,2,0)*Datos!A294,0),Vr_Impacto,2,1)),\"\",VLOOKUP(VLOOKUP(P297,VrImpacto,2,0)-ROUNDDOWN(VLOOKUP(P297,VrImpacto,2,0)*Datos!A294,0),Vr_Impacto,2,1)))","v":""},{"$f":"IF(Datos!B294=0,Q297,IF(Datos!B294=\"\",Q297,IF(ISERROR(VLOOKUP(VLOOKUP(Q297,Vr_Probabilidad1,2,0)+1-ROUNDDOWN(VLOOKUP(Q297,Vr_Probabilidad1,2,0)*Datos!B294,0),Vr_Probabilidad,2,1)),\"\",VLOOKUP(VLOOKUP(Q297,Vr_Probabilidad1,2,0)-ROUNDDOWN(VLOOKUP(Q297,Vr_Probabilidad1,2,0)*Datos!B294,0),Vr_Probabilidad,2,1))))","v":0},{"$f":"Datos!C294","v":0},"","",""]
["R",null,null,null,null,null,"",null,null,null,null,null,null,null,null,{"$f":"IF(COUNTA(I298:O298)<7,\"\",VLOOKUP(ROUNDUP((LEFT(I298,1)*'Criterios de Riesgo'!$C$3+LEFT(J298,1)*'Criterios de Riesgo'!$C$4+LEFT(K298,1)*'Criterios de Riesgo'!$C$5+LEFT(L298,1)*'Criterios de Riesgo'!$C$6+LEFT(M298,1)*'Criterios de Riesgo'!$C$7+LEFT(N298,1)*'Criterios de Riesgo'!$C$8+LEFT(O298,1)*'Criterios de Riesgo'!$C$9),0),Calif_Impacto,2))","v":""},null,"","",{"$f":"IF(OR(Datos!A295=0,Datos!A295=\"\"),P298,IF(ISERROR(VLOOKUP(VLOOKUP(P298,VrImpacto,2,0)-ROUNDDOWN(VLOOKUP(P298,VrImpacto,2,0)*Datos!A295,0),Vr_Impacto,2,1)),\"\",VLOOKUP(VLOOKUP(P298,VrImpacto,2,0)-ROUNDDOWN(VLOOKUP(P298,VrImpacto,2,0)*Datos!A295,0),Vr_Impacto,2,1)))","v":""},{"$f":"IF(Datos!B295=0,Q298,IF(Datos!B295=\"\",Q298,IF(ISERROR(VLOOKUP(VLOOKUP(Q298,Vr_Probabilidad1,2,0)+1-ROUNDDOWN(VLOOKUP(Q298,Vr_Probabilidad1,2,0)*Datos!B295,0),Vr_Probabilidad,2,1)),\"\",VLOOKUP(VLOOKUP(Q298,Vr_Probabilidad1,2,0)-ROUNDDOWN(VLOOKUP(Q298,Vr_Probabilidad1,2,0)*Datos!B295,0),Vr_Probabilidad,2,1))))","v":0},{"$f":"Datos!C295","v":0},"","",""]
["R",null,null,null,null,null,"",null,null,null,null,null,null,null,null,{"$f":"IF(COUNTA(I299:O299)<7,\"\",VLOOKUP(ROUNDUP((LEFT(I299,1)*'Criterios de Riesgo'!$C$3+LEFT(J299,1)*'Criterios de Riesgo'!$C$4+LEFT(K299,1)*'Criterios de Riesgo'!$C$5+LEFT(L299,1)*'Criterios de Riesgo'!$C$6+LEFT(M299,1)*'Criterios de Riesgo'!$C$7+LEFT(N299,1)*'Criterios de Riesgo'!$C$8+LEFT(O299,1)*'Criterios de Riesgo'!$C$9),0),Calif_Impacto,2))","v":""},null,"","",{"$f":"IF(OR(Datos!A296=0,Datos!A296=\"\"),P299,IF(ISERROR(VLOOKUP(VLOOKUP(P299,VrImpacto,2,0)-ROUNDDOWN(VLOOKUP(P299,VrImpacto,2,0)*Datos!A296,0),Vr_Impacto,2,1)),\"\",VLOOKUP(VLOOKUP(P299,VrImpacto,2,0)-ROUNDDOWN(VLOOKUP(P299,VrImpacto,2,0)*Datos!A296,0),Vr_Impacto,2,1)))","v":""},{"$f":"IF(Datos!B296=0,Q299,IF(Datos!B296=\"\",Q299,IF(ISERROR(VLOOKUP(VLOOKUP(Q299,Vr_Probabilidad1,2,0)+1-ROUNDDOWN(VLOOKUP(Q299,Vr_Probabilidad1,2,0)*Datos!B296,0),Vr_Probabilidad,2,1)),\"\",VLOOKUP(VLOOKUP(Q299,Vr_Probabilidad1,2,0)-ROUNDDOWN(VLOOKUP(Q299,Vr_Probabilidad1,2,0)*Datos!B296,0),Vr_Probabilidad,2,1))))","v":0},{"$f":"Datos!C296","v":0},"","",""]
["R",null,null,null,null,null,"",null,null,null,null,null,null,null,null,{"$f":"IF(COUNTA(I300:O300)<7,\"\",VLOOKUP(ROUNDUP((LEFT(I300,1)*'Criterios de Riesgo'!$C$3+LEFT(J300,1)*'Criterios de Riesgo'!$C$4+LEFT(K300,1)*'Criterios de Riesgo'!$C$5+LEFT(L300,1)*'Criterios de Riesgo'!$C$6+LEFT(M300,1)*'Criterios de Riesgo'!$C$7+LEFT(N300,1)*'Criterios de Riesgo'!$C$8+LEFT(O300,1)*'Criterios de Riesgo'!$C$9),0),Calif_Impacto,2))","v":""},null,"","",{"$f":"IF(OR(Datos!A297=0,Datos!A297=\"\"),P300,IF(ISERROR(VLOOKUP(VLOOKUP(P300,VrImpacto,2,0)-ROUNDDOWN(VLOOKUP(P300,VrImpacto,2,0)*Datos!A297,0),Vr_Impacto,2,1)),\"\",VLOOKUP(VLOOKUP(P300,VrImpacto,2,0)-ROUNDDOWN(VLOOKUP(P300,VrImpacto,2,0)*Datos!A297,0),Vr_Impacto,2,1)))","v":""},{"$f":"IF(Datos!B297=0,Q300,IF(Datos!B297=\"\",Q300,IF(ISERROR(VLOOKUP(VLOOKUP(Q300,Vr_Probabilidad1,2,0)+1-ROUNDDOWN(VLOOKUP(Q300,Vr_Probabilidad1,2,0)*Datos!B297,0),Vr_Probabilidad,2,1)),\"\",VLOOKUP(VLOOKUP(Q300,Vr_Probabilidad1,2,0)-ROUNDDOWN(VLOOKUP(Q300,Vr_Probabilidad1,2,0)*Datos!B297,0),Vr_Probabilidad,2,1))))","v":0},{"$f":"Datos!C297","v":0},"","",""]
["R",null,null,null,null,null,"",null,null,null,null,null,null,null,null,{"$f":"IF(COUNTA(I301:O301)<7,\"\",VLOOKUP(ROUNDUP((LEFT(I301,1)*'Criterios de Riesgo'!$C$3+LEFT(J301,1)*'Criterios de Riesgo'!$C$4+LEFT(K301,1)*'Criterios de Riesgo'!$C$5+LEFT(L301,1)*'Criterios de Riesgo'!$C$6+LEFT(M301,1)*'Criterios de Riesgo'!$C$7+LEFT(N301,1)*'Criterios de Riesgo'!$C$8+LEFT(O301,1)*'Criterios de Riesgo'!$C$9),0),Calif_Impacto,2))","v":""},null,"","",{"$f":"IF(OR(Datos!A298=0,Datos!A298=\"\"),P301,IF(ISERROR(VLOOKUP(VLOOKUP(P301,VrImpacto,2,0)-ROUNDDOWN(VLOOKUP(P301,VrImpacto,2,0)*Datos!A298,0),Vr_Impacto,2,1)),\"\",VLOOKUP(VLOOKUP(P301,VrImpacto,2,0)-ROUNDDOWN(VLOOKUP(P301,VrImpacto,2,0)*Datos!A298,0),Vr_Impacto,2,1)))","v":""},{"$f":"IF(Datos!B298=0,Q301,IF(Datos!B298=\"\",Q301,IF(ISERROR(VLOOKUP(VLOOKUP(Q301,Vr_Probabilidad1,2,0)+1-ROUNDDOWN(VLOOKUP(Q301,Vr_Probabilidad1,2,0)*Datos!B298,0),Vr_Probabilidad,2,1)),\"\",VLOOKUP(VLOOKUP(Q301,Vr_Probabilidad1,2,0)-ROUNDDOWN(VLOOKUP(Q301,Vr_Probabilidad1,2,0)*Datos!B298,0),Vr_Probabilidad,2,1))))","v":0},{"$f":"Datos!C298","v":0},"","",""]
["R",null,null,null,null,null,"",null,null,null,null,null,null,null,null,{"$f":"IF(COUNTA(I302:O302)<7,\"\",VLOOKUP(ROUNDUP((LEFT(I302,1)*'Criterios de Riesgo'!$C$3+LEFT(J302,1)*'Criterios de Riesgo'!$C$4+LEFT(K302,1)*'Criterios de Riesgo'!$C$5+LEFT(L302,1)*'Criterios de Riesgo'!$C$6+LEFT(M302,1)*'Criterios de Riesgo'!$C$7+LEFT(N302,1)*'Criterios de Riesgo'!$C$8+LEFT(O302,1)*'Criterios de Riesgo'!$C$9),0),Calif_Impacto,2))","v":""},null,"","",{"$f":"IF(OR(Datos!A299=0,Datos!A299=\"\"),P302,IF(ISERROR(VLOOKUP(VLOOKUP(P302,VrImpacto,2,0)-ROUNDDOWN(VLOOKUP(P302,VrImpacto,2,0)*Datos!A299,0),Vr_Impacto,2,1)),\"\",VLOOKUP(VLOOKUP(P302,VrImpacto,2,0)-ROUNDDOWN(VLOOKUP(P302,VrImpacto,2,0)*Datos!A299,0),Vr_Impacto,2,1)))","v":""},{"$f":"IF(Datos!B299=0,Q302,IF(Datos!B299=\"\",Q302,IF(ISERROR(VLOOKUP(VLOOKUP(Q302,Vr_Probabilidad1,2,0)+1-ROUNDDOWN(VLOOKUP(Q302,Vr_Probabilidad1,2,0)*Datos!B299,0),Vr_Probabilidad,2,1)),\"\",VLOOKUP(VLOOKUP(Q302,Vr_Probabilidad1,2,0)-ROUNDDOWN(VLOOKUP(Q302,Vr_Probabilidad1,2,0)*Datos!B299,0),Vr_Probabilidad,2,1))))","v":0},{"$f":"Datos!C299","v":0},"","",""]
["R",null,null,null,null,null,"",null,null,null,null,null,null,null,null,{"$f":"IF(COUNTA(I303:O303)<7,\"\",VLOOKUP(ROUNDUP((LEFT(I303,1)*'Criterios de Riesgo'!$C$3+LEFT(J303,1)*'Criterios de Riesgo'!$C$4+LEFT(K303,1)*'Criterios de Riesgo'!$C$5+LEFT(L303,1)*'Criterios de Riesgo'!$C$6+LEFT(M303,1)*'Criterios de Riesgo'!$C$7+LEFT(N303,1)*'Criterios de Riesgo'!$C$8+LEFT(O303,1)*'Criterios de Riesgo'!$C$9),0),Calif_Impacto,2))","v":""},null,"","",{"$f":"IF(OR(Datos!A300=0,Datos!A300=\"\"),P303,IF(ISERROR(VLOOKUP(VLOOKUP(P303,VrImpacto,2,0)-ROUNDDOWN(VLOOKUP(P303,VrImpacto,2,0)*Datos!A300,0),Vr_Impacto,2,1)),\"\",VLOOKUP(VLOOKUP(P303,VrImpacto,2,0)-ROUNDDOWN(VLOOKUP(P303,VrImpacto,2,0)*Datos!A300,0),Vr_Impacto,2,1)))","v":""},{"$f":"IF(Datos!B300=0,Q303,IF(Datos!B300=\"\",Q303,IF(ISERROR(VLOOKUP(VLOOKUP(Q303,Vr_Probabilidad1,2,0)+1-ROUNDDOWN(VLOOKUP(Q303,Vr_Probabilidad1,2,0)*Datos!B300,0),Vr_Probabilidad,2,1)),\"\",VLOOKUP(VLOOKUP(Q303,Vr_Probabilidad1,2,0)-ROUNDDOWN(VLOOKUP(Q303,Vr_Probabilidad1,2,0)*Datos!B300,0),Vr_Probabilidad,2,1))))","v":0},{"$f":"Datos!C300","v":0},"","",""]
["R",null,null,null,null,null,"",null,null,null,null,null,null,null,null,{"$f":"IF(COUNTA(I304:O304)<7,\"\",VLOOKUP(ROUNDUP((LEFT(I304,1)*'Criterios de Riesgo'!$C$3+LEFT(J304,1)*'Criterios de Riesgo'!$C$4+LEFT(K304,1)*'Criterios de Riesgo'!$C$5+LEFT(L304,1)*'Criterios de Riesgo'!$C$6+LEFT(M304,1)*'Criterios de Riesgo'!$C$7+LEFT(N304,1)*'Criterios de Riesgo'!$C$8+LEFT(O304,1)*'Criterios de Riesgo'!$C$9),0),Calif_Impacto,2))","v":""},null,"","",{"$f":"IF(OR(Datos!A301=0,Datos!A301=\"\"),P304,IF(ISERROR(VLOOKUP(VLOOKUP(P304,VrImpacto,2,0)-ROUNDDOWN(VLOOKUP(P304,VrImpacto,2,0)*Datos!A301,0),Vr_Impacto,2,1)),\"\",VLOOKUP(VLOOKUP(P304,VrImpacto,2,0)-ROUNDDOWN(VLOOKUP(P304,VrImpacto,2,0)*Datos!A301,0),Vr_Impacto,2,1)))","v":""},{"$f":"IF(Datos!B301=0,Q304,IF(Datos!B301=\"\",Q304,IF(ISERROR(VLOOKUP(VLOOKUP(Q304,Vr_Probabilidad1,2,0)+1-ROUNDDOWN(VLOOKUP(Q304,Vr_Probabilidad1,2,0)*Datos!B301,0),Vr_Probabilidad,2,1)),\"\",VLOOKUP(VLOOKUP(Q304,Vr_Probabilidad1,2,0)-ROUNDDOWN(VLOOKUP(Q304,Vr_Probabilidad1,2,0)*Datos!B301,0),Vr_Probabilidad,2,1))))","v":0},{"$f":"Datos!C301","v":0},"","",""]
["R",null,null,null,null,null,"",null,null,null,null,null,null,null,null,{"$f":"IF(COUNTA(I305:O305)<7,\"\",VLOOKUP(ROUNDUP((LEFT(I305,1)*'Criterios de Riesgo'!$C$3+LEFT(J305,1)*'Criterios de Riesgo'!$C$4+LEFT(K305,1)*'Criterios de Riesgo'!$C$5+LEFT(L305,1)*'Criterios de Riesgo'!$C$6+LEFT(M305,1)*'Criterios de Riesgo'!$C$7+LEFT(N305,1)*'Criterios de Riesgo'!$C$8+LEFT(O305,1)*'Criterios de Riesgo'!$C$9),0),Calif_Impacto,2))","v":""},null,"","",{"$f":"IF(OR(Datos!A302=0,Datos!A302=\"\"),P305,IF(ISERROR(VLOOKUP(VLOOKUP(P305,VrImpacto,2,0)-ROUNDDOWN(VLOOKUP(P305,VrImpacto,2,0)*Datos!A302,0),Vr_Impacto,2,1)),\"\",VLOOKUP(VLOOKUP(P305,VrImpacto,2,0)-ROUNDDOWN(VLOOKUP(P305,VrImpacto,2,0)*Datos!A302,0),Vr_Impacto,2,1)))","v":""},{"$f":"IF(Datos!B302=0,Q305,IF(Datos!B302=\"\",Q305,IF(ISERROR(VLOOKUP(VLOOKUP(Q305,Vr_Probabilidad1,2,0)+1-ROUNDDOWN(VLOOKUP(Q305,Vr_Probabilidad1,2,0)*Datos!B302,0),Vr_Probabilidad,2,1)),\"\",VLOOKUP(VLOOKUP(Q305,Vr_Probabilidad1,2,0)-ROUNDDOWN(VLOOKUP(Q305,Vr_Probabilidad1,2,0)*Datos!B302,0),Vr_Probabilidad,2,1))))","v":0},{"$f":"Datos!C302","v":0},"","",""]
["R",null,null,null,null,null,"",null,null,null,null,null,null,null,null,{"$f":"IF(COUNTA(I306:O306)<7,\"\",VLOOKUP(ROUNDUP((LEFT(I306,1)*'Criterios de Riesgo'!$C$3+LEFT(J306,1)*'Criterios de Riesgo'!$C$4+LEFT(K306,1)*'Criterios de Riesgo'!$C$5+LEFT(L306,1)*'Criterios de Riesgo'!$C$6+LEFT(M306,1)*'Criterios de Riesgo'!$C$7+LEFT(N306,1)*'Criterios de Riesgo'!$C$8+LEFT(O306,1)*'Criterios de Riesgo'!$C$9),0),Calif_Impacto,2))","v":""},null,"","",{"$f":"IF(OR(Datos!A303=0,Datos!A303=\"\"),P306,IF(ISERROR(VLOOKUP(VLOOKUP(P306,VrImpacto,2,0)-ROUNDDOWN(VLOOKUP(P306,VrImpacto,2,0)*Datos!A303,0),Vr_Impacto,2,1)),\"\",VLOOKUP(VLOOKUP(P306,VrImpacto,2,0)-ROUNDDOWN(VLOOKUP(P306,VrImpacto,2,0)*Datos!A303,0),Vr_Impacto,2,1)))","v":""},{"$f":"IF(Datos!B303=0,Q306,IF(Datos!B303=\"\",Q306,IF(ISERROR(VLOOKUP(VLOOKUP(Q306,Vr_Probabilidad1,2,0)+1-ROUNDDOWN(VLOOKUP(Q306,Vr_Probabilidad1,2,0)*Datos!B303,0),Vr_Probabilidad,2,1)),\"\",VLOOKUP(VLOOKUP(Q306,Vr_Probabilidad1,2,0)-ROUNDDOWN(VLOOKUP(Q306,Vr_Probabilidad1,2,0)*Datos!B303,0),Vr_Probabilidad,2,1))))","v":0},{"$f":"Datos!C303","v":0},"","",""]
["R",null,null,null,null,null,"",null,null,null,null,null,null,null,null,{"$f":"IF(COUNTA(I307:O307)<7,\"\",VLOOKUP(ROUNDUP((LEFT(I307,1)*'Criterios de Riesgo'!$C$3+LEFT(J307,1)*'Criterios de Riesgo'!$C$4+LEFT(K307,1)*'Criterios de Riesgo'!$C$5+LEFT(L307,1)*'Criterios de Riesgo'!$C$6+LEFT(M307,1)*'Criterios de Riesgo'!$C$7+LEFT(N307,1)*'Criterios de Riesgo'!$C$8+LEFT(O307,1)*'Criterios de Riesgo'!$C$9),0),Calif_Impacto,2))","v":""},null,"","",{"$f":"IF(OR(Datos!A304=0,Datos!A304=\"\"),P307,IF(ISERROR(VLOOKUP(VLOOKUP(P307,VrImpacto,2,0)-ROUNDDOWN(VLOOKUP(P307,VrImpacto,2,0)*Datos!A304,0),Vr_Impacto,2,1)),\"\",VLOOKUP(VLOOKUP(P307,VrImpacto,2,0)-ROUNDDOWN(VLOOKUP(P307,VrImpacto,2,0)*Datos!A304,0),Vr_Impacto,2,1)))","v":""},{"$f":"IF(Datos!B304=0,Q307,IF(Datos!B304=\"\",Q307,IF(ISERROR(VLOOKUP(VLOOKUP(Q307,Vr_Probabilidad1,2,0)+1-ROUNDDOWN(VLOOKUP(Q307,Vr_Probabilidad1,2,0)*Datos!B304,0),Vr_Probabilidad,2,1)),\"\",VLOOKUP(VLOOKUP(Q307,Vr_Probabilidad1,2,0)-ROUNDDOWN(VLOOKUP(Q307,Vr_Probabilidad1,2,0)*Datos!B304,0),Vr_Probabilidad,2,1))))","v":0},{"$f":"Datos!C304","v":0},"","",""]
["R",null,null,null,null,null,"",null,null,null,null,null,null,null,null,{"$f":"IF(COUNTA(I308:O308)<7,\"\",VLOOKUP(ROUNDUP((LEFT(I308,1)*'Criterios de Riesgo'!$C$3+LEFT(J308,1)*'Criterios de Riesgo'!$C$4+LEFT(K308,1)*'Criterios de Riesgo'!$C$5+LEFT(L308,1)*'Criterios de Riesgo'!$C$6+LEFT(M308,1)*'Criterios de Riesgo'!$C$7+LEFT(N308,1)*'Criterios de Riesgo'!$C$8+LEFT(O308,1)*'Criterios de Riesgo'!$C$9),0),Calif_Impacto,2))","v":""},null,"","",{"$f":"IF(OR(Datos!A305=0,Datos!A305=\"\"),P308,IF(ISERROR(VLOOKUP(VLOOKUP(P308,VrImpacto,2,0)-ROUNDDOWN(VLOOKUP(P308,VrImpacto,2,0)*Datos!A305,0),Vr_Impacto,2,1)),\"\",VLOOKUP(VLOOKUP(P308,VrImpacto,2,0)-ROUNDDOWN(VLOOKUP(P308,VrImpacto,2,0)*Datos!A305,0),Vr_Impacto,2,1)))","v":""},{"$f":"IF(Datos!B305=0,Q308,IF(Datos!B305=\"\",Q308,IF(ISERROR(VLOOKUP(VLOOKUP(Q308,Vr_Probabilidad1,2,0)+1-ROUNDDOWN(VLOOKUP(Q308,Vr_Probabilidad1,2,0)*Datos!B305,0),Vr_Probabilidad,2,1)),\"\",VLOOKUP(VLOOKUP(Q308,Vr_Probabilidad1,2,0)-ROUNDDOWN(VLOOKUP(Q308,Vr_Probabilidad1,2,0)*Datos!B305,0),Vr_Probabilidad,2,1))))","v":0},{"$f":"Datos!C305","v":0},"","",""]
["R",null,null,null,null,null,"",null,null,null,null,null,null,null,null,{"$f":"IF(COUNTA(I309:O309)<7,\"\",VLOOKUP(ROUNDUP((LEFT(I309,1)*'Criterios de Riesgo'!$C$3+LEFT(J309,1)*'Criterios de Riesgo'!$C$4+LEFT(K309,1)*'Criterios de Riesgo'!$C$5+LEFT(L309,1)*'Criterios de Riesgo'!$C$6+LEFT(M309,1)*'Criterios de Riesgo'!$C$7+LEFT(N309,1)*'Criterios de Riesgo'!$C$8+LEFT(O309,1)*'Criterios de Riesgo'!$C$9),0),Calif_Impacto,2))","v":""},null,"","",{"$f":"IF(OR(Datos!A306=0,Datos!A306=\"\"),P309,IF(ISERROR(VLOOKUP(VLOOKUP(P309,VrImpacto,2,0)-ROUNDDOWN(VLOOKUP(P309,VrImpacto,2,0)*Datos!A306,0),Vr_Impacto,2,1)),\"\",VLOOKUP(VLOOKUP(P309,VrImpacto,2,0)-ROUNDDOWN(VLOOKUP(P309,VrImpacto,2,0)*Datos!A306,0),Vr_Impacto,2,1)))","v":""},{"$f":"IF(Datos!B306=0,Q309,IF(Datos!B306=\"\",Q309,IF(ISERROR(VLOOKUP(VLOOKUP(Q309,Vr_Probabilidad1,2,0)+1-ROUNDDOWN(VLOOKUP(Q309,Vr_Probabilidad1,2,0)*Datos!B306,0),Vr_Probabilidad,2,1)),\"\",VLOOKUP(VLOOKUP(Q309,Vr_Probabilidad1,2,0)-ROUNDDOWN(VLOOKUP(Q309,Vr_Probabilidad1,2,0)*Datos!B306,0),Vr_Probabilidad,2,1))))","v":0},{"$f":"Datos!C306","v":0},"","",""]
["R",null,null,null,null,null,"",null,null,null,null,null,null,null,null,{"$f":"IF(COUNTA(I310:O310)<7,\"\",VLOOKUP(ROUNDUP((LEFT(I310,1)*'Criterios de Riesgo'!$C$3+LEFT(J310,1)*'Criterios de Riesgo'!$C$4+LEFT(K310,1)*'Criterios de Riesgo'!$C$5+LEFT(L310,1)*'Criterios de Riesgo'!$C$6+LEFT(M310,1)*'Criterios de Riesgo'!$C$7+LEFT(N310,1)*'Criterios de Riesgo'!$C$8+LEFT(O310,1)*'Criterios de Riesgo'!$C$9),0),Calif_Impacto,2))","v":""},null,"","",{"$f":"IF(OR(Datos!A307=0,Datos!A307=\"\"),P310,IF(ISERROR(VLOOKUP(VLOOKUP(P310,VrImpacto,2,0)-ROUNDDOWN(VLOOKUP(P310,VrImpacto,2,0)*Datos!A307,0),Vr_Impacto,2,1)),\"\",VLOOKUP(VLOOKUP(P310,VrImpacto,2,0)-ROUNDDOWN(VLOOKUP(P310,VrImpacto,2,0)*Datos!A307,0),Vr_Impacto,2,1)))","v":""},{"$f":"IF(Datos!B307=0,Q310,IF(Datos!B307=\"\",Q310,IF(ISERROR(VLOOKUP(VLOOKUP(Q310,Vr_Probabilidad1,2,0)+1-ROUNDDOWN(VLOOKUP(Q310,Vr_Probabilidad1,2,0)*Datos!B307,0),Vr_Probabilidad,2,1)),\"\",VLOOKUP(VLOOKUP(Q310,Vr_Probabilidad1,2,0)-ROUNDDOWN(VLOOKUP(Q310,Vr_Probabilidad1,2,0)*Datos!B307,0),Vr_Probabilidad,2,1))))","v":0},{"$f":"Datos!C307","v":0},"","",""]
["R",null,null,null,null,null,"",null,null,null,null,null,null,null,null,{"$f":"IF(COUNTA(I311:O311)<7,\"\",VLOOKUP(ROUNDUP((LEFT(I311,1)*'Criterios de Riesgo'!$C$3+LEFT(J311,1)*'Criterios de Riesgo'!$C$4+LEFT(K311,1)*'Criterios de Riesgo'!$C$5+LEFT(L311,1)*'Criterios de Riesgo'!$C$6+LEFT(M311,1)*'Criterios de Riesgo'!$C$7+LEFT(N311,1)*'Criterios de Riesgo'!$C$8+LEFT(O311,1)*'Criterios de Riesgo'!$C$9),0),Calif_Impacto,2))","v":""},null,"","",{"$f":"IF(OR(Datos!A308=0,Datos!A308=\"\"),P311,IF(ISERROR(VLOOKUP(VLOOKUP(P311,VrImpacto,2,0)-ROUNDDOWN(VLOOKUP(P311,VrImpacto,2,0)*Datos!A308,0),Vr_Impacto,2,1)),\"\",VLOOKUP(VLOOKUP(P311,VrImpacto,2,0)-ROUNDDOWN(VLOOKUP(P311,VrImpacto,2,0)*Datos!A308,0),Vr_Impacto,2,1)))","v":""},{"$f":"IF(Datos!B308=0,Q311,IF(Datos!B308=\"\",Q311,IF(ISERROR(VLOOKUP(VLOOKUP(Q311,Vr_Probabilidad1,2,0)+1-ROUNDDOWN(VLOOKUP(Q311,Vr_Probabilidad1,2,0)*Datos!B308,0),Vr_Probabilidad,2,1)),\"\",VLOOKUP(VLOOKUP(Q311,Vr_Probabilidad1,2,0)-ROUNDDOWN(VLOOKUP(Q311,Vr_Probabilidad1,2,0)*Datos!B308,0),Vr_Probabilidad,2,1))))","v":0},{"$f":"Datos!C308","v":0},"","",""]
["R",null,null,null,null,null,{"$f":"IF(ISERROR(VLOOKUP(F312,EventosPerdida,2,0)),\"\",VLOOKUP(F312,EventosPerdida,2,0))","v":""},null,null,null,null,null,null,null,null,{"$f":"IF(COUNTA(I312:O312)<7,\"\",VLOOKUP(ROUNDUP((LEFT(I312,1)*'Criterios de Riesgo'!$C$3+LEFT(J312,1)*'Criterios de Riesgo'!$C$4+LEFT(K312,1)*'Criterios de Riesgo'!$C$5+LEFT(L312,1)*'Criterios de Riesgo'!$C$6+LEFT(M312,1)*'Criterios de Riesgo'!$C$7+LEFT(N312,1)*'Criterios de Riesgo'!$C$8+LEFT(O312,1)*'Criterios de Riesgo'!$C$9),0),Calif_Impacto,2))","v":""},null,{"$f":"IF(OR(P312=\"\",Q312=\"\"),\"\",VLOOKUP(P312,VrImpacto,2,0)*VLOOKUP(Q312,Vr_Probabilidad1,2,0))","v":""},{"$f":"IF(ISERROR(VLOOKUP(Q312&\"-\"&P312,NivelRiesgo,3,0)),\"\",VLOOKUP(Q312&\"-\"&P312,NivelRiesgo,3,0))","v":""},{"$f":"IF(OR(Datos!A309=0,Datos!A309=\"\"),P312,IF(ISERROR(VLOOKUP(VLOOKUP(P312,VrImpacto,2,0)-ROUNDDOWN(VLOOKUP(P312,VrImpacto,2,0)*Datos!A309,0),Vr_Impacto,2,1)),\"\",VLOOKUP(VLOOKUP(P312,VrImpacto,2,0)-ROUNDDOWN(VLOOKUP(P312,VrImpacto,2,0)*Datos!A309,0),Vr_Impacto,2,1)))","v":""},{"$f":"IF(Datos!B309=0,Q312,IF(Datos!B309=\"\",Q312,IF(ISERROR(VLOOKUP(VLOOKUP(Q312,Vr_Probabilidad1,2,0)+1-ROUNDDOWN(VLOOKUP(Q312,Vr_Probabilidad1,2,0)*Datos!B309,0),Vr_Probabilidad,2,1)),\"\",VLOOKUP(VLOOKUP(Q312,Vr_Probabilidad1,2,0)-ROUNDDOWN(VLOOKUP(Q312,Vr_Probabilidad1,2,0)*Datos!B309,0),Vr_Probabilidad,2,1))))","v":0},{"$f":"Datos!C309","v":0},"","",{"$f":"IF(ISERROR(VLOOKUP(X312,Criterio_Riesgo_Residual,2,1)),\"\",VLOOKUP(X312,Criterio_Riesgo_Residual,2,1))","v":""}]
["R",null,null,null,null,null,"",null,null,null,null,null,null,null,null,{"$f":"IF(COUNTA(I313:O313)<7,\"\",VLOOKUP(ROUNDUP((LEFT(I313,1)*'Criterios de Riesgo'!$C$3+LEFT(J313,1)*'Criterios de Riesgo'!$C$4+LEFT(K313,1)*'Criterios de Riesgo'!$C$5+LEFT(L313,1)*'Criterios de Riesgo'!$C$6+LEFT(M313,1)*'Criterios de Riesgo'!$C$7+LEFT(N313,1)*'Criterios de Riesgo'!$C$8+LEFT(O313,1)*'Criterios de Riesgo'!$C$9),0),Calif_Impacto,2))","v":""},null,"","",{"$f":"IF(OR(Datos!A310=0,Datos!A310=\"\"),P313,IF(ISERROR(VLOOKUP(VLOOKUP(P313,VrImpacto,2,0)-ROUNDDOWN(VLOOKUP(P313,VrImpacto,2,0)*Datos!A310,0),Vr_Impacto,2,1)),\"\",VLOOKUP(VLOOKUP(P313,VrImpacto,2,0)-ROUNDDOWN(VLOOKUP(P313,VrImpacto,2,0)*Datos!A310,0),Vr_Impacto,2,1)))","v":""},{"$f":"IF(Datos!B310=0,Q313,IF(Datos!B310=\"\",Q313,IF(ISERROR(VLOOKUP(VLOOKUP(Q313,Vr_Probabilidad1,2,0)+1-ROUNDDOWN(VLOOKUP(Q313,Vr_Probabilidad1,2,0)*Datos!B310,0),Vr_Probabilidad,2,1)),\"\",VLOOKUP(VLOOKUP(Q313,Vr_Probabilidad1,2,0)-ROUNDDOWN(VLOOKUP(Q313,Vr_Probabilidad1,2,0)*Datos!B310,0),Vr_Probabilidad,2,1))))","v":0},{"$f":"Datos!C310","v":0},"","",""]
["R",null,null,null,null,null,"",null,null,null,null,null,null,null,null,{"$f":"IF(COUNTA(I314:O314)<7,\"\",VLOOKUP(ROUNDUP((LEFT(I314,1)*'Criterios de Riesgo'!$C$3+LEFT(J314,1)*'Criterios de Riesgo'!$C$4+LEFT(K314,1)*'Criterios de Riesgo'!$C$5+LEFT(L314,1)*'Criterios de Riesgo'!$C$6+LEFT(M314,1)*'Criterios de Riesgo'!$C$7+LEFT(N314,1)*'Criterios de Riesgo'!$C$8+LEFT(O314,1)*'Criterios de Riesgo'!$C$9),0),Calif_Impacto,2))","v":""},null,"","",{"$f":"IF(OR(Datos!A311=0,Datos!A311=\"\"),P314,IF(ISERROR(VLOOKUP(VLOOKUP(P314,VrImpacto,2,0)-ROUNDDOWN(VLOOKUP(P314,VrImpacto,2,0)*Datos!A311,0),Vr_Impacto,2,1)),\"\",VLOOKUP(VLOOKUP(P314,VrImpacto,2,0)-ROUNDDOWN(VLOOKUP(P314,VrImpacto,2,0)*Datos!A311,0),Vr_Impacto,2,1)))","v":""},{"$f":"IF(Datos!B311=0,Q314,IF(Datos!B311=\"\",Q314,IF(ISERROR(VLOOKUP(VLOOKUP(Q314,Vr_Probabilidad1,2,0)+1-ROUNDDOWN(VLOOKUP(Q314,Vr_Probabilidad1,2,0)*Datos!B311,0),Vr_Probabilidad,2,1)),\"\",VLOOKUP(VLOOKUP(Q314,Vr_Probabilidad1,2,0)-ROUNDDOWN(VLOOKUP(Q314,Vr_Probabilidad1,2,0)*Datos!B311,0),Vr_Probabilidad,2,1))))","v":0},{"$f":"Datos!C311","v":0},{"$f":"IF(X314=\"\",\"\",R314-X314)","v":""},{"$f":"IF(R314=\"\",\"\",VLOOKUP(T314,VrImpacto,2,0)*VLOOKUP(U314,Vr_Probabilidad1,2,0))","v":""},""]
["R",null,null,null,null,null,"",null,null,null,null,null,null,null,null,{"$f":"IF(COUNTA(I315:O315)<7,\"\",VLOOKUP(ROUNDUP((LEFT(I315,1)*'Criterios de Riesgo'!$C$3+LEFT(J315,1)*'Criterios de Riesgo'!$C$4+LEFT(K315,1)*'Criterios de Riesgo'!$C$5+LEFT(L315,1)*'Criterios de Riesgo'!$C$6+LEFT(M315,1)*'Criterios de Riesgo'!$C$7+LEFT(N315,1)*'Criterios de Riesgo'!$C$8+LEFT(O315,1)*'Criterios de Riesgo'!$C$9),0),Calif_Impacto,2))","v":""},null,"","",{"$f":"IF(OR(Datos!A312=0,Datos!A312=\"\"),P315,IF(ISERROR(VLOOKUP(VLOOKUP(P315,VrImpacto,2,0)-ROUNDDOWN(VLOOKUP(P315,VrImpacto,2,0)*Datos!A312,0),Vr_Impacto,2,1)),\"\",VLOOKUP(VLOOKUP(P315,VrImpacto,2,0)-ROUNDDOWN(VLOOKUP(P315,VrImpacto,2,0)*Datos!A312,0),Vr_Impacto,2,1)))","v":""},{"$f":"IF(Datos!B312=0,Q315,IF(Datos!B312=\"\",Q315,IF(ISERROR(VLOOKUP(VLOOKUP(Q315,Vr_Probabilidad1,2,0)+1-ROUNDDOWN(VLOOKUP(Q315,Vr_Probabilidad1,2,0)*Datos!B312,0),Vr_Probabilidad,2,1)),\"\",VLOOKUP(VLOOKUP(Q315,Vr_Probabilidad1,2,0)-ROUNDDOWN(VLOOKUP(Q315,Vr_Probabilidad1,2,0)*Datos!B312,0),Vr_Probabilidad,2,1))))","v":0},{"$f":"Datos!C312","v":0},"","",""]
["R",null,null,null,null,null,"",null,null,null,null,null,null,null,null,{"$f":"IF(COUNTA(I316:O316)<7,\"\",VLOOKUP(ROUNDUP((LEFT(I316,1)*'Criterios de Riesgo'!$C$3+LEFT(J316,1)*'Criterios de Riesgo'!$C$4+LEFT(K316,1)*'Criterios de Riesgo'!$C$5+LEFT(L316,1)*'Criterios de Riesgo'!$C$6+LEFT(M316,1)*'Criterios de Riesgo'!$C$7+LEFT(N316,1)*'Criterios de Riesgo'!$C$8+LEFT(O316,1)*'Criterios de Riesgo'!$C$9),0),Calif_Impacto,2))","v":""},null,"","",{"$f":"IF(OR(Datos!A313=0,Datos!A313=\"\"),P316,IF(ISERROR(VLOOKUP(VLOOKUP(P316,VrImpacto,2,0)-ROUNDDOWN(VLOOKUP(P316,VrImpacto,2,0)*Datos!A313,0),Vr_Impacto,2,1)),\"\",VLOOKUP(VLOOKUP(P316,VrImpacto,2,0)-ROUNDDOWN(VLOOKUP(P316,VrImpacto,2,0)*Datos!A313,0),Vr_Impacto,2,1)))","v":""},{"$f":"IF(Datos!B313=0,Q316,IF(Datos!B313=\"\",Q316,IF(ISERROR(VLOOKUP(VLOOKUP(Q316,Vr_Probabilidad1,2,0)+1-ROUNDDOWN(VLOOKUP(Q316,Vr_Probabilidad1,2,0)*Datos!B313,0),Vr_Probabilidad,2,1)),\"\",VLOOKUP(VLOOKUP(Q316,Vr_Probabilidad1,2,0)-ROUNDDOWN(VLOOKUP(Q316,Vr_Probabilidad1,2,0)*Datos!B313,0),Vr_Probabilidad,2,1))))","v":0},{"$f":"Datos!C313","v":0},"","",""]
["R",null,null,null,null,null,"",null,null,null,null,null,null,null,null,{"$f":"IF(COUNTA(I317:O317)<7,\"\",VLOOKUP(ROUNDUP((LEFT(I317,1)*'Criterios de Riesgo'!$C$3+LEFT(J317,1)*'Criterios de Riesgo'!$C$4+LEFT(K317,1)*'Criterios de Riesgo'!$C$5+LEFT(L317,1)*'Criterios de Riesgo'!$C$6+LEFT(M317,1)*'Criterios de Riesgo'!$C$7+LEFT(N317,1)*'Criterios de Riesgo'!$C$8+LEFT(O317,1)*'Criterios de Riesgo'!$C$9),0),Calif_Impacto,2))","v":""},null,"","",{"$f":"IF(OR(Datos!A314=0,Datos!A314=\"\"),P317,IF(ISERROR(VLOOKUP(VLOOKUP(P317,VrImpacto,2,0)-ROUNDDOWN(VLOOKUP(P317,VrImpacto,2,0)*Datos!A314,0),Vr_Impacto,2,1)),\"\",VLOOKUP(VLOOKUP(P317,VrImpacto,2,0)-ROUNDDOWN(VLOOKUP(P317,VrImpacto,2,0)*Datos!A314,0),Vr_Impacto,2,1)))","v":""},{"$f":"IF(Datos!B314=0,Q317,IF(Datos!B314=\"\",Q317,IF(ISERROR(VLOOKUP(VLOOKUP(Q317,Vr_Probabilidad1,2,0)+1-ROUNDDOWN(VLOOKUP(Q317,Vr_Probabilidad1,2,0)*Datos!B314,0),Vr_Probabilidad,2,1)),\"\",VLOOKUP(VLOOKUP(Q317,Vr_Probabilidad1,2,0)-ROUNDDOWN(VLOOKUP(Q317,Vr_Probabilidad1,2,0)*Datos!B314,0),Vr_Probabilidad,2,1))))","v":0},{"$f":"Datos!C314","v":0},"","",""]
["R",null,null,null,null,null,"",null,null,null,null,null,null,null,null,{"$f":"IF(COUNTA(I318:O318)<7,\"\",VLOOKUP(ROUNDUP((LEFT(I318,1)*'Criterios de Riesgo'!$C$3+LEFT(J318,1)*'Criterios de Riesgo'!$C$4+LEFT(K318,1)*'Criterios de Riesgo'!$C$5+LEFT(L318,1)*'Criterios de Riesgo'!$C$6+LEFT(M318,1)*'Criterios de Riesgo'!$C$7+LEFT(N318,1)*'Criterios de Riesgo'!$C$8+LEFT(O318,1)*'Criterios de Riesgo'!$C$9),0),Calif_Impacto,2))","v":""},null,"","",{"$f":"IF(OR(Datos!A315=0,Datos!A315=\"\"),P318,IF(ISERROR(VLOOKUP(VLOOKUP(P318,VrImpacto,2,0)-ROUNDDOWN(VLOOKUP(P318,VrImpacto,2,0)*Datos!A315,0),Vr_Impacto,2,1)),\"\",VLOOKUP(VLOOKUP(P318,VrImpacto,2,0)-ROUNDDOWN(VLOOKUP(P318,VrImpacto,2,0)*Datos!A315,0),Vr_Impacto,2,1)))","v":""},{"$f":"IF(Datos!B315=0,Q318,IF(Datos!B315=\"\",Q318,IF(ISERROR(VLOOKUP(VLOOKUP(Q318,Vr_Probabilidad1,2,0)+1-ROUNDDOWN(VLOOKUP(Q318,Vr_Probabilidad1,2,0)*Datos!B315,0),Vr_Probabilidad,2,1)),\"\",VLOOKUP(VLOOKUP(Q318,Vr_Probabilidad1,2,0)-ROUNDDOWN(VLOOKUP(Q318,Vr_Probabilidad1,2,0)*Datos!B315,0),Vr_Probabilidad,2,1))))","v":0},{"$f":"Datos!C315","v":0},"","",""]
["R",null,null,null,null,null,"",null,null,null,null,null,null,null,null,{"$f":"IF(COUNTA(I319:O319)<7,\"\",VLOOKUP(ROUNDUP((LEFT(I319,1)*'Criterios de Riesgo'!$C$3+LEFT(J319,1)*'Criterios de Riesgo'!$C$4+LEFT(K319,1)*'Criterios de Riesgo'!$C$5+LEFT(L319,1)*'Criterios de Riesgo'!$C$6+LEFT(M319,1)*'Criterios de Riesgo'!$C$7+LEFT(N319,1)*'Criterios de Riesgo'!$C$8+LEFT(O319,1)*'Criterios de Riesgo'!$C$9),0),Calif_Impacto,2))","v":""},null,"","",{"$f":"IF(OR(Datos!A316=0,Datos!A316=\"\"),P319,IF(ISERROR(VLOOKUP(VLOOKUP(P319,VrImpacto,2,0)-ROUNDDOWN(VLOOKUP(P319,VrImpacto,2,0)*Datos!A316,0),Vr_Impacto,2,1)),\"\",VLOOKUP(VLOOKUP(P319,VrImpacto,2,0)-ROUNDDOWN(VLOOKUP(P319,VrImpacto,2,0)*Datos!A316,0),Vr_Impacto,2,1)))","v":""},{"$f":"IF(Datos!B316=0,Q319,IF(Datos!B316=\"\",Q319,IF(ISERROR(VLOOKUP(VLOOKUP(Q319,Vr_Probabilidad1,2,0)+1-ROUNDDOWN(VLOOKUP(Q319,Vr_Probabilidad1,2,0)*Datos!B316,0),Vr_Probabilidad,2,1)),\"\",VLOOKUP(VLOOKUP(Q319,Vr_Probabilidad1,2,0)-ROUNDDOWN(VLOOKUP(Q319,Vr_Probabilidad1,2,0)*Datos!B316,0),Vr_Probabilidad,2,1))))","v":0},{"$f":"Datos!C316","v":0},"","",""]
["R",null,null,null,null,null,"",null,null,null,null,null,null,null,null,{"$f":"IF(COUNTA(I320:O320)<7,\"\",VLOOKUP(ROUNDUP((LEFT(I320,1)*'Criterios de Riesgo'!$C$3+LEFT(J320,1)*'Criterios de Riesgo'!$C$4+LEFT(K320,1)*'Criterios de Riesgo'!$C$5+LEFT(L320,1)*'Criterios de Riesgo'!$C$6+LEFT(M320,1)*'Criterios de Riesgo'!$C$7+LEFT(N320,1)*'Criterios de Riesgo'!$C$8+LEFT(O320,1)*'Criterios de Riesgo'!$C$9),0),Calif_Impacto,2))","v":""},null,"","",{"$f":"IF(OR(Datos!A317=0,Datos!A317=\"\"),P320,IF(ISERROR(VLOOKUP(VLOOKUP(P320,VrImpacto,2,0)-ROUNDDOWN(VLOOKUP(P320,VrImpacto,2,0)*Datos!A317,0),Vr_Impacto,2,1)),\"\",VLOOKUP(VLOOKUP(P320,VrImpacto,2,0)-ROUNDDOWN(VLOOKUP(P320,VrImpacto,2,0)*Datos!A317,0),Vr_Impacto,2,1)))","v":""},{"$f":"IF(Datos!B317=0,Q320,IF(Datos!B317=\"\",Q320,IF(ISERROR(VLOOKUP(VLOOKUP(Q320,Vr_Probabilidad1,2,0)+1-ROUNDDOWN(VLOOKUP(Q320,Vr_Probabilidad1,2,0)*Datos!B317,0),Vr_Probabilidad,2,1)),\"\",VLOOKUP(VLOOKUP(Q320,Vr_Probabilidad1,2,0)-ROUNDDOWN(VLOOKUP(Q320,Vr_Probabilidad1,2,0)*Datos!B317,0),Vr_Probabilidad,2,1))))","v":0},{"$f":"Datos!C317","v":0},"","",""]
["R",null,null,null,null,null,"",null,null,null,null,null,null,null,null,{"$f":"IF(COUNTA(I321:O321)<7,\"\",VLOOKUP(ROUNDUP((LEFT(I321,1)*'Criterios de Riesgo'!$C$3+LEFT(J321,1)*'Criterios de Riesgo'!$C$4+LEFT(K321,1)*'Criterios de Riesgo'!$C$5+LEFT(L321,1)*'Criterios de Riesgo'!$C$6+LEFT(M321,1)*'Criterios de Riesgo'!$C$7+LEFT(N321,1)*'Criterios de Riesgo'!$C$8+LEFT(O321,1)*'Criterios de Riesgo'!$C$9),0),Calif_Impacto,2))","v":""},null,"","",{"$f":"IF(OR(Datos!A318=0,Datos!A318=\"\"),P321,IF(ISERROR(VLOOKUP(VLOOKUP(P321,VrImpacto,2,0)-ROUNDDOWN(VLOOKUP(P321,VrImpacto,2,0)*Datos!A318,0),Vr_Impacto,2,1)),\"\",VLOOKUP(VLOOKUP(P321,VrImpacto,2,0)-ROUNDDOWN(VLOOKUP(P321,VrImpacto,2,0)*Datos!A318,0),Vr_Impacto,2,1)))","v":""},{"$f":"IF(Datos!B318=0,Q321,IF(Datos!B318=\"\",Q321,IF(ISERROR(VLOOKUP(VLOOKUP(Q321,Vr_Probabilidad1,2,0)+1-ROUNDDOWN(VLOOKUP(Q321,Vr_Probabilidad1,2,0)*Datos!B318,0),Vr_Probabilidad,2,1)),\"\",VLOOKUP(VLOOKUP(Q321,Vr_Probabilidad1,2,0)-ROUNDDOWN(VLOOKUP(Q321,Vr_Probabilidad1,2,0)*Datos!B318,0),Vr_Probabilidad,2,1))))","v":0},{"$f":"Datos!C318","v":0},"","",""]
["R",null,null,null,null,null,"",null,null,null,null,null,null,null,null,{"$f":"IF(COUNTA(I322:O322)<7,\"\",VLOOKUP(ROUNDUP((LEFT(I322,1)*'Criterios de Riesgo'!$C$3+LEFT(J322,1)*'Criterios de Riesgo'!$C$4+LEFT(K322,1)*'Criterios de Riesgo'!$C$5+LEFT(L322,1)*'Criterios de Riesgo'!$C$6+LEFT(M322,1)*'Criterios de Riesgo'!$C$7+LEFT(N322,1)*'Criterios de Riesgo'!$C$8+LEFT(O322,1)*'Criterios de Riesgo'!$C$9),0),Calif_Impacto,2))","v":""},null,"","",{"$f":"IF(OR(Datos!A319=0,Datos!A319=\"\"),P322,IF(ISERROR(VLOOKUP(VLOOKUP(P322,VrImpacto,2,0)-ROUNDDOWN(VLOOKUP(P322,VrImpacto,2,0)*Datos!A319,0),Vr_Impacto,2,1)),\"\",VLOOKUP(VLOOKUP(P322,VrImpacto,2,0)-ROUNDDOWN(VLOOKUP(P322,VrImpacto,2,0)*Datos!A319,0),Vr_Impacto,2,1)))","v":""},{"$f":"IF(Datos!B319=0,Q322,IF(Datos!B319=\"\",Q322,IF(ISERROR(VLOOKUP(VLOOKUP(Q322,Vr_Probabilidad1,2,0)+1-ROUNDDOWN(VLOOKUP(Q322,Vr_Probabilidad1,2,0)*Datos!B319,0),Vr_Probabilidad,2,1)),\"\",VLOOKUP(VLOOKUP(Q322,Vr_Probabilidad1,2,0)-ROUNDDOWN(VLOOKUP(Q322,Vr_Probabilidad1,2,0)*Datos!B319,0),Vr_Probabilidad,2,1))))","v":0},{"$f":"Datos!C319","v":0},"","",""]
["R",null,null,null,null,null,"",null,null,null,null,null,null,null,null,{"$f":"IF(COUNTA(I323:O323)<7,\"\",VLOOKUP(ROUNDUP((LEFT(I323,1)*'Criterios de Riesgo'!$C$3+LEFT(J323,1)*'Criterios de Riesgo'!$C$4+LEFT(K323,1)*'Criterios de Riesgo'!$C$5+LEFT(L323,1)*'Criterios de Riesgo'!$C$6+LEFT(M323,1)*'Criterios de Riesgo'!$C$7+LEFT(N323,1)*'Criterios de Riesgo'!$C$8+LEFT(O323,1)*'Criterios de Riesgo'!$C$9),0),Calif_Impacto,2))","v":""},null,"","",{"$f":"IF(OR(Datos!A320=0,Datos!A320=\"\"),P323,IF(ISERROR(VLOOKUP(VLOOKUP(P323,VrImpacto,2,0)-ROUNDDOWN(VLOOKUP(P323,VrImpacto,2,0)*Datos!A320,0),Vr_Impacto,2,1)),\"\",VLOOKUP(VLOOKUP(P323,VrImpacto,2,0)-ROUNDDOWN(VLOOKUP(P323,VrImpacto,2,0)*Datos!A320,0),Vr_Impacto,2,1)))","v":""},{"$f":"IF(Datos!B320=0,Q323,IF(Datos!B320=\"\",Q323,IF(ISERROR(VLOOKUP(VLOOKUP(Q323,Vr_Probabilidad1,2,0)+1-ROUNDDOWN(VLOOKUP(Q323,Vr_Probabilidad1,2,0)*Datos!B320,0),Vr_Probabilidad,2,1)),\"\",VLOOKUP(VLOOKUP(Q323,Vr_Probabilidad1,2,0)-ROUNDDOWN(VLOOKUP(Q323,Vr_Probabilidad1,2,0)*Datos!B320,0),Vr_Probabilidad,2,1))))","v":0},{"$f":"Datos!C320","v":0},"","",""]
["R",null,null,null,null,null,"",null,null,null,null,null,null,null,null,{"$f":"IF(COUNTA(I324:O324)<7,\"\",VLOOKUP(ROUNDUP((LEFT(I324,1)*'Criterios de Riesgo'!$C$3+LEFT(J324,1)*'Criterios de Riesgo'!$C$4+LEFT(K324,1)*'Criterios de Riesgo'!$C$5+LEFT(L324,1)*'Criterios de Riesgo'!$C$6+LEFT(M324,1)*'Criterios de Riesgo'!$C$7+LEFT(N324,1)*'Criterios de Riesgo'!$C$8+LEFT(O324,1)*'Criterios de Riesgo'!$C$9),0),Calif_Impacto,2))","v":""},null,"","",{"$f":"IF(OR(Datos!A321=0,Datos!A321=\"\"),P324,IF(ISERROR(VLOOKUP(VLOOKUP(P324,VrImpacto,2,0)-ROUNDDOWN(VLOOKUP(P324,VrImpacto,2,0)*Datos!A321,0),Vr_Impacto,2,1)),\"\",VLOOKUP(VLOOKUP(P324,VrImpacto,2,0)-ROUNDDOWN(VLOOKUP(P324,VrImpacto,2,0)*Datos!A321,0),Vr_Impacto,2,1)))","v":""},{"$f":"IF(Datos!B321=0,Q324,IF(Datos!B321=\"\",Q324,IF(ISERROR(VLOOKUP(VLOOKUP(Q324,Vr_Probabilidad1,2,0)+1-ROUNDDOWN(VLOOKUP(Q324,Vr_Probabilidad1,2,0)*Datos!B321,0),Vr_Probabilidad,2,1)),\"\",VLOOKUP(VLOOKUP(Q324,Vr_Probabilidad1,2,0)-ROUNDDOWN(VLOOKUP(Q324,Vr_Probabilidad1,2,0)*Datos!B321,0),Vr_Probabilidad,2,1))))","v":0},{"$f":"Datos!C321","v":0},"","",""]
["R",null,null,null,null,null,"",null,null,null,null,null,null,null,null,{"$f":"IF(COUNTA(I325:O325)<7,\"\",VLOOKUP(ROUNDUP((LEFT(I325,1)*'Criterios de Riesgo'!$C$3+LEFT(J325,1)*'Criterios de Riesgo'!$C$4+LEFT(K325,1)*'Criterios de Riesgo'!$C$5+LEFT(L325,1)*'Criterios de Riesgo'!$C$6+LEFT(M325,1)*'Criterios de Riesgo'!$C$7+LEFT(N325,1)*'Criterios de Riesgo'!$C$8+LEFT(O325,1)*'Criterios de Riesgo'!$C$9),0),Calif_Impacto,2))","v":""},null,"","",{"$f":"IF(OR(Datos!A322=0,Datos!A322=\"\"),P325,IF(ISERROR(VLOOKUP(VLOOKUP(P325,VrImpacto,2,0)-ROUNDDOWN(VLOOKUP(P325,VrImpacto,2,0)*Datos!A322,0),Vr_Impacto,2,1)),\"\",VLOOKUP(VLOOKUP(P325,VrImpacto,2,0)-ROUNDDOWN(VLOOKUP(P325,VrImpacto,2,0)*Datos!A322,0),Vr_Impacto,2,1)))","v":""},{"$f":"IF(Datos!B322=0,Q325,IF(Datos!B322=\"\",Q325,IF(ISERROR(VLOOKUP(VLOOKUP(Q325,Vr_Probabilidad1,2,0)+1-ROUNDDOWN(VLOOKUP(Q325,Vr_Probabilidad1,2,0)*Datos!B322,0),Vr_Probabilidad,2,1)),\"\",VLOOKUP(VLOOKUP(Q325,Vr_Probabilidad1,2,0)-ROUNDDOWN(VLOOKUP(Q325,Vr_Probabilidad1,2,0)*Datos!B322,0),Vr_Probabilidad,2,1))))","v":0},{"$f":"Datos!C322","v":0},"","",""]
["R",null,null,null,null,null,"",null,null,null,null,null,null,null,null,{"$f":"IF(COUNTA(I326:O326)<7,\"\",VLOOKUP(ROUNDUP((LEFT(I326,1)*'Criterios de Riesgo'!$C$3+LEFT(J326,1)*'Criterios de Riesgo'!$C$4+LEFT(K326,1)*'Criterios de Riesgo'!$C$5+LEFT(L326,1)*'Criterios de Riesgo'!$C$6+LEFT(M326,1)*'Criterios de Riesgo'!$C$7+LEFT(N326,1)*'Criterios de Riesgo'!$C$8+LEFT(O326,1)*'Criterios de Riesgo'!$C$9),0),Calif_Impacto,2))","v":""},null,"","",{"$f":"IF(OR(Datos!A323=0,Datos!A323=\"\"),P326,IF(ISERROR(VLOOKUP(VLOOKUP(P326,VrImpacto,2,0)-ROUNDDOWN(VLOOKUP(P326,VrImpacto,2,0)*Datos!A323,0),Vr_Impacto,2,1)),\"\",VLOOKUP(VLOOKUP(P326,VrImpacto,2,0)-ROUNDDOWN(VLOOKUP(P326,VrImpacto,2,0)*Datos!A323,0),Vr_Impacto,2,1)))","v":""},{"$f":"IF(Datos!B323=0,Q326,IF(Datos!B323=\"\",Q326,IF(ISERROR(VLOOKUP(VLOOKUP(Q326,Vr_Probabilidad1,2,0)+1-ROUNDDOWN(VLOOKUP(Q326,Vr_Probabilidad1,2,0)*Datos!B323,0),Vr_Probabilidad,2,1)),\"\",VLOOKUP(VLOOKUP(Q326,Vr_Probabilidad1,2,0)-ROUNDDOWN(VLOOKUP(Q326,Vr_Probabilidad1,2,0)*Datos!B323,0),Vr_Probabilidad,2,1))))","v":0},{"$f":"Datos!C323","v":0},"","",""]
["R",null,null,null,null,null,"",null,null,null,null,null,null,null,null,{"$f":"IF(COUNTA(I327:O327)<7,\"\",VLOOKUP(ROUNDUP((LEFT(I327,1)*'Criterios de Riesgo'!$C$3+LEFT(J327,1)*'Criterios de Riesgo'!$C$4+LEFT(K327,1)*'Criterios de Riesgo'!$C$5+LEFT(L327,1)*'Criterios de Riesgo'!$C$6+LEFT(M327,1)*'Criterios de Riesgo'!$C$7+LEFT(N327,1)*'Criterios de Riesgo'!$C$8+LEFT(O327,1)*'Criterios de Riesgo'!$C$9),0),Calif_Impacto,2))","v":""},null,"","",{"$f":"IF(OR(Datos!A324=0,Datos!A324=\"\"),P327,IF(ISERROR(VLOOKUP(VLOOKUP(P327,VrImpacto,2,0)-ROUNDDOWN(VLOOKUP(P327,VrImpacto,2,0)*Datos!A324,0),Vr_Impacto,2,1)),\"\",VLOOKUP(VLOOKUP(P327,VrImpacto,2,0)-ROUNDDOWN(VLOOKUP(P327,VrImpacto,2,0)*Datos!A324,0),Vr_Impacto,2,1)))","v":""},{"$f":"IF(Datos!B324=0,Q327,IF(Datos!B324=\"\",Q327,IF(ISERROR(VLOOKUP(VLOOKUP(Q327,Vr_Probabilidad1,2,0)+1-ROUNDDOWN(VLOOKUP(Q327,Vr_Probabilidad1,2,0)*Datos!B324,0),Vr_Probabilidad,2,1)),\"\",VLOOKUP(VLOOKUP(Q327,Vr_Probabilidad1,2,0)-ROUNDDOWN(VLOOKUP(Q327,Vr_Probabilidad1,2,0)*Datos!B324,0),Vr_Probabilidad,2,1))))","v":0},{"$f":"Datos!C324","v":0},"","",""]
["R",null,null,null,null,null,"",null,null,null,null,null,null,null,null,{"$f":"IF(COUNTA(I328:O328)<7,\"\",VLOOKUP(ROUNDUP((LEFT(I328,1)*'Criterios de Riesgo'!$C$3+LEFT(J328,1)*'Criterios de Riesgo'!$C$4+LEFT(K328,1)*'Criterios de Riesgo'!$C$5+LEFT(L328,1)*'Criterios de Riesgo'!$C$6+LEFT(M328,1)*'Criterios de Riesgo'!$C$7+LEFT(N328,1)*'Criterios de Riesgo'!$C$8+LEFT(O328,1)*'Criterios de Riesgo'!$C$9),0),Calif_Impacto,2))","v":""},null,"","",{"$f":"IF(OR(Datos!A325=0,Datos!A325=\"\"),P328,IF(ISERROR(VLOOKUP(VLOOKUP(P328,VrImpacto,2,0)-ROUNDDOWN(VLOOKUP(P328,VrImpacto,2,0)*Datos!A325,0),Vr_Impacto,2,1)),\"\",VLOOKUP(VLOOKUP(P328,VrImpacto,2,0)-ROUNDDOWN(VLOOKUP(P328,VrImpacto,2,0)*Datos!A325,0),Vr_Impacto,2,1)))","v":""},{"$f":"IF(Datos!B325=0,Q328,IF(Datos!B325=\"\",Q328,IF(ISERROR(VLOOKUP(VLOOKUP(Q328,Vr_Probabilidad1,2,0)+1-ROUNDDOWN(VLOOKUP(Q328,Vr_Probabilidad1,2,0)*Datos!B325,0),Vr_Probabilidad,2,1)),\"\",VLOOKUP(VLOOKUP(Q328,Vr_Probabilidad1,2,0)-ROUNDDOWN(VLOOKUP(Q328,Vr_Probabilidad1,2,0)*Datos!B325,0),Vr_Probabilidad,2,1))))","v":0},{"$f":"Datos!C325","v":0},"","",""]
["R",null,null,null,null,null,"",null,null,null,null,null,null,null,null,{"$f":"IF(COUNTA(I329:O329)<7,\"\",VLOOKUP(ROUNDUP((LEFT(I329,1)*'Criterios de Riesgo'!$C$3+LEFT(J329,1)*'Criterios de Riesgo'!$C$4+LEFT(K329,1)*'Criterios de Riesgo'!$C$5+LEFT(L329,1)*'Criterios de Riesgo'!$C$6+LEFT(M329,1)*'Criterios de Riesgo'!$C$7+LEFT(N329,1)*'Criterios de Riesgo'!$C$8+LEFT(O329,1)*'Criterios de Riesgo'!$C$9),0),Calif_Impacto,2))","v":""},null,"","",{"$f":"IF(OR(Datos!A326=0,Datos!A326=\"\"),P329,IF(ISERROR(VLOOKUP(VLOOKUP(P329,VrImpacto,2,0)-ROUNDDOWN(VLOOKUP(P329,VrImpacto,2,0)*Datos!A326,0),Vr_Impacto,2,1)),\"\",VLOOKUP(VLOOKUP(P329,VrImpacto,2,0)-ROUNDDOWN(VLOOKUP(P329,VrImpacto,2,0)*Datos!A326,0),Vr_Impacto,2,1)))","v":""},{"$f":"IF(Datos!B326=0,Q329,IF(Datos!B326=\"\",Q329,IF(ISERROR(VLOOKUP(VLOOKUP(Q329,Vr_Probabilidad1,2,0)+1-ROUNDDOWN(VLOOKUP(Q329,Vr_Probabilidad1,2,0)*Datos!B326,0),Vr_Probabilidad,2,1)),\"\",VLOOKUP(VLOOKUP(Q329,Vr_Probabilidad1,2,0)-ROUNDDOWN(VLOOKUP(Q329,Vr_Probabilidad1,2,0)*Datos!B326,0),Vr_Probabilidad,2,1))))","v":0},{"$f":"Datos!C326","v":0},"","",""]
["R",null,null,null,null,null,"",null,null,null,null,null,null,null,null,{"$f":"IF(COUNTA(I330:O330)<7,\"\",VLOOKUP(ROUNDUP((LEFT(I330,1)*'Criterios de Riesgo'!$C$3+LEFT(J330,1)*'Criterios de Riesgo'!$C$4+LEFT(K330,1)*'Criterios de Riesgo'!$C$5+LEFT(L330,1)*'Criterios de Riesgo'!$C$6+LEFT(M330,1)*'Criterios de Riesgo'!$C$7+LEFT(N330,1)*'Criterios de Riesgo'!$C$8+LEFT(O330,1)*'Criterios de Riesgo'!$C$9),0),Calif_Impacto,2))","v":""},null,"","",{"$f":"IF(OR(Datos!A327=0,Datos!A327=\"\"),P330,IF(ISERROR(VLOOKUP(VLOOKUP(P330,VrImpacto,2,0)-ROUNDDOWN(VLOOKUP(P330,VrImpacto,2,0)*Datos!A327,0),Vr_Impacto,2,1)),\"\",VLOOKUP(VLOOKUP(P330,VrImpacto,2,0)-ROUNDDOWN(VLOOKUP(P330,VrImpacto,2,0)*Datos!A327,0),Vr_Impacto,2,1)))","v":""},{"$f":"IF(Datos!B327=0,Q330,IF(Datos!B327=\"\",Q330,IF(ISERROR(VLOOKUP(VLOOKUP(Q330,Vr_Probabilidad1,2,0)+1-ROUNDDOWN(VLOOKUP(Q330,Vr_Probabilidad1,2,0)*Datos!B327,0),Vr_Probabilidad,2,1)),\"\",VLOOKUP(VLOOKUP(Q330,Vr_Probabilidad1,2,0)-ROUNDDOWN(VLOOKUP(Q330,Vr_Probabilidad1,2,0)*Datos!B327,0),Vr_Probabilidad,2,1))))","v":0},{"$f":"Datos!C327","v":0},"","",""]
["R",null,null,null,null,null,"",null,null,null,null,null,null,null,null,{"$f":"IF(COUNTA(I331:O331)<7,\"\",VLOOKUP(ROUNDUP((LEFT(I331,1)*'Criterios de Riesgo'!$C$3+LEFT(J331,1)*'Criterios de Riesgo'!$C$4+LEFT(K331,1)*'Criterios de Riesgo'!$C$5+LEFT(L331,1)*'Criterios de Riesgo'!$C$6+LEFT(M331,1)*'Criterios de Riesgo'!$C$7+LEFT(N331,1)*'Criterios de Riesgo'!$C$8+LEFT(O331,1)*'Criterios de Riesgo'!$C$9),0),Calif_Impacto,2))","v":""},null,"","",{"$f":"IF(OR(Datos!A328=0,Datos!A328=\"\"),P331,IF(ISERROR(VLOOKUP(VLOOKUP(P331,VrImpacto,2,0)-ROUNDDOWN(VLOOKUP(P331,VrImpacto,2,0)*Datos!A328,0),Vr_Impacto,2,1)),\"\",VLOOKUP(VLOOKUP(P331,VrImpacto,2,0)-ROUNDDOWN(VLOOKUP(P331,VrImpacto,2,0)*Datos!A328,0),Vr_Impacto,2,1)))","v":""},{"$f":"IF(Datos!B328=0,Q331,IF(Datos!B328=\"\",Q331,IF(ISERROR(VLOOKUP(VLOOKUP(Q331,Vr_Probabilidad1,2,0)+1-ROUNDDOWN(VLOOKUP(Q331,Vr_Probabilidad1,2,0)*Datos!B328,0),Vr_Probabilidad,2,1)),\"\",VLOOKUP(VLOOKUP(Q331,Vr_Probabilidad1,2,0)-ROUNDDOWN(VLOOKUP(Q331,Vr_Probabilidad1,2,0)*Datos!B328,0),Vr_Probabilidad,2,1))))","v":0},{"$f":"Datos!C328","v":0},"","",""]
["R",null,null,null,null,null,"",null,null,null,null,null,null,null,null,{"$f":"IF(COUNTA(I332:O332)<7,\"\",VLOOKUP(ROUNDUP((LEFT(I332,1)*'Criterios de Riesgo'!$C$3+LEFT(J332,1)*'Criterios de Riesgo'!$C$4+LEFT(K332,1)*'Criterios de Riesgo'!$C$5+LEFT(L332,1)*'Criterios de Riesgo'!$C$6+LEFT(M332,1)*'Criterios de Riesgo'!$C$7+LEFT(N332,1)*'Criterios de Riesgo'!$C$8+LEFT(O332,1)*'Criterios de Riesgo'!$C$9),0),Calif_Impacto,2))","v":""},null,"","",{"$f":"IF(OR(Datos!A329=0,Datos!A329=\"\"),P332,IF(ISERROR(VLOOKUP(VLOOKUP(P332,VrImpacto,2,0)-ROUNDDOWN(VLOOKUP(P332,VrImpacto,2,0)*Datos!A329,0),Vr_Impacto,2,1)),\"\",VLOOKUP(VLOOKUP(P332,VrImpacto,2,0)-ROUNDDOWN(VLOOKUP(P332,VrImpacto,2,0)*Datos!A329,0),Vr_Impacto,2,1)))","v":""},{"$f":"IF(Datos!B329=0,Q332,IF(Datos!B329=\"\",Q332,IF(ISERROR(VLOOKUP(VLOOKUP(Q332,Vr_Probabilidad1,2,0)+1-ROUNDDOWN(VLOOKUP(Q332,Vr_Probabilidad1,2,0)*Datos!B329,0),Vr_Probabilidad,2,1)),\"\",VLOOKUP(VLOOKUP(Q332,Vr_Probabilidad1,2,0)-ROUNDDOWN(VLOOKUP(Q332,Vr_Probabilidad1,2,0)*Datos!B329,0),Vr_Probabilidad,2,1))))","v":0},{"$f":"Datos!C329","v":0},"","",""]
["R",null,null,null,null,null,"",null,null,null,null,null,null,null,null,{"$f":"IF(COUNTA(I333:O333)<7,\"\",VLOOKUP(ROUNDUP((LEFT(I333,1)*'Criterios de Riesgo'!$C$3+LEFT(J333,1)*'Criterios de Riesgo'!$C$4+LEFT(K333,1)*'Criterios de Riesgo'!$C$5+LEFT(L333,1)*'Criterios de Riesgo'!$C$6+LEFT(M333,1)*'Criterios de Riesgo'!$C$7+LEFT(N333,1)*'Criterios de Riesgo'!$C$8+LEFT(O333,1)*'Criterios de Riesgo'!$C$9),0),Calif_Impacto,2))","v":""},null,"","",{"$f":"IF(OR(Datos!A330=0,Datos!A330=\"\"),P333,IF(ISERROR(VLOOKUP(VLOOKUP(P333,VrImpacto,2,0)-ROUNDDOWN(VLOOKUP(P333,VrImpacto,2,0)*Datos!A330,0),Vr_Impacto,2,1)),\"\",VLOOKUP(VLOOKUP(P333,VrImpacto,2,0)-ROUNDDOWN(VLOOKUP(P333,VrImpacto,2,0)*Datos!A330,0),Vr_Impacto,2,1)))","v":""},{"$f":"IF(Datos!B330=0,Q333,IF(Datos!B330=\"\",Q333,IF(ISERROR(VLOOKUP(VLOOKUP(Q333,Vr_Probabilidad1,2,0)+1-ROUNDDOWN(VLOOKUP(Q333,Vr_Probabilidad1,2,0)*Datos!B330,0),Vr_Probabilidad,2,1)),\"\",VLOOKUP(VLOOKUP(Q333,Vr_Probabilidad1,2,0)-ROUNDDOWN(VLOOKUP(Q333,Vr_Probabilidad1,2,0)*Datos!B330,0),Vr_Probabilidad,2,1))))","v":0},{"$f":"Datos!C330","v":0},"","",""]
["R",null,null,null,null,null,"",null,null,null,null,null,null,null,null,{"$f":"IF(COUNTA(I334:O334)<7,\"\",VLOOKUP(ROUNDUP((LEFT(I334,1)*'Criterios de Riesgo'!$C$3+LEFT(J334,1)*'Criterios de Riesgo'!$C$4+LEFT(K334,1)*'Criterios de Riesgo'!$C$5+LEFT(L334,1)*'Criterios de Riesgo'!$C$6+LEFT(M334,1)*'Criterios de Riesgo'!$C$7+LEFT(N334,1)*'Criterios de Riesgo'!$C$8+LEFT(O334,1)*'Criterios de Riesgo'!$C$9),0),Calif_Impacto,2))","v":""},null,"","",{"$f":"IF(OR(Datos!A331=0,Datos!A331=\"\"),P334,IF(ISERROR(VLOOKUP(VLOOKUP(P334,VrImpacto,2,0)-ROUNDDOWN(VLOOKUP(P334,VrImpacto,2,0)*Datos!A331,0),Vr_Impacto,2,1)),\"\",VLOOKUP(VLOOKUP(P334,VrImpacto,2,0)-ROUNDDOWN(VLOOKUP(P334,VrImpacto,2,0)*Datos!A331,0),Vr_Impacto,2,1)))","v":""},{"$f":"IF(Datos!B331=0,Q334,IF(Datos!B331=\"\",Q334,IF(ISERROR(VLOOKUP(VLOOKUP(Q334,Vr_Probabilidad1,2,0)+1-ROUNDDOWN(VLOOKUP(Q334,Vr_Probabilidad1,2,0)*Datos!B331,0),Vr_Probabilidad,2,1)),\"\",VLOOKUP(VLOOKUP(Q334,Vr_Probabilidad1,2,0)-ROUNDDOWN(VLOOKUP(Q334,Vr_Probabilidad1,2,0)*Datos!B331,0),Vr_Probabilidad,2,1))))","v":0},{"$f":"Datos!C331","v":0},"","",""]
["R",null,null,null,null,null,"",null,null,null,null,null,null,null,null,{"$f":"IF(COUNTA(I335:O335)<7,\"\",VLOOKUP(ROUNDUP((LEFT(I335,1)*'Criterios de Riesgo'!$C$3+LEFT(J335,1)*'Criterios de Riesgo'!$C$4+LEFT(K335,1)*'Criterios de Riesgo'!$C$5+LEFT(L335,1)*'Criterios de Riesgo'!$C$6+LEFT(M335,1)*'Criterios de Riesgo'!$C$7+LEFT(N335,1)*'Criterios de Riesgo'!$C$8+LEFT(O335,1)*'Criterios de Riesgo'!$C$9),0),Calif_Impacto,2))","v":""},null,"","",{"$f":"IF(OR(Datos!A332=0,Datos!A332=\"\"),P335,IF(ISERROR(VLOOKUP(VLOOKUP(P335,VrImpacto,2,0)-ROUNDDOWN(VLOOKUP(P335,VrImpacto,2,0)*Datos!A332,0),Vr_Impacto,2,1)),\"\",VLOOKUP(VLOOKUP(P335,VrImpacto,2,0)-ROUNDDOWN(VLOOKUP(P335,VrImpacto,2,0)*Datos!A332,0),Vr_Impacto,2,1)))","v":""},{"$f":"IF(Datos!B332=0,Q335,IF(Datos!B332=\"\",Q335,IF(ISERROR(VLOOKUP(VLOOKUP(Q335,Vr_Probabilidad1,2,0)+1-ROUNDDOWN(VLOOKUP(Q335,Vr_Probabilidad1,2,0)*Datos!B332,0),Vr_Probabilidad,2,1)),\"\",VLOOKUP(VLOOKUP(Q335,Vr_Probabilidad1,2,0)-ROUNDDOWN(VLOOKUP(Q335,Vr_Probabilidad1,2,0)*Datos!B332,0),Vr_Probabilidad,2,1))))","v":0},{"$f":"Datos!C332","v":0},"","",""]
["R",null,null,null,null,null,"",null,null,null,null,null,null,null,null,{"$f":"IF(COUNTA(I336:O336)<7,\"\",VLOOKUP(ROUNDUP((LEFT(I336,1)*'Criterios de Riesgo'!$C$3+LEFT(J336,1)*'Criterios de Riesgo'!$C$4+LEFT(K336,1)*'Criterios de Riesgo'!$C$5+LEFT(L336,1)*'Criterios de Riesgo'!$C$6+LEFT(M336,1)*'Criterios de Riesgo'!$C$7+LEFT(N336,1)*'Criterios de Riesgo'!$C$8+LEFT(O336,1)*'Criterios de Riesgo'!$C$9),0),Calif_Impacto,2))","v":""},null,"","",{"$f":"IF(OR(Datos!A333=0,Datos!A333=\"\"),P336,IF(ISERROR(VLOOKUP(VLOOKUP(P336,VrImpacto,2,0)-ROUNDDOWN(VLOOKUP(P336,VrImpacto,2,0)*Datos!A333,0),Vr_Impacto,2,1)),\"\",VLOOKUP(VLOOKUP(P336,VrImpacto,2,0)-ROUNDDOWN(VLOOKUP(P336,VrImpacto,2,0)*Datos!A333,0),Vr_Impacto,2,1)))","v":""},{"$f":"IF(Datos!B333=0,Q336,IF(Datos!B333=\"\",Q336,IF(ISERROR(VLOOKUP(VLOOKUP(Q336,Vr_Probabilidad1,2,0)+1-ROUNDDOWN(VLOOKUP(Q336,Vr_Probabilidad1,2,0)*Datos!B333,0),Vr_Probabilidad,2,1)),\"\",VLOOKUP(VLOOKUP(Q336,Vr_Probabilidad1,2,0)-ROUNDDOWN(VLOOKUP(Q336,Vr_Probabilidad1,2,0)*Datos!B333,0),Vr_Probabilidad,2,1))))","v":0},{"$f":"Datos!C333","v":0},"","",""]
["R",null,null,null,null,null,"",null,null,null,null,null,null,null,null,{"$f":"IF(COUNTA(I337:O337)<7,\"\",VLOOKUP(ROUNDUP((LEFT(I337,1)*'Criterios de Riesgo'!$C$3+LEFT(J337,1)*'Criterios de Riesgo'!$C$4+LEFT(K337,1)*'Criterios de Riesgo'!$C$5+LEFT(L337,1)*'Criterios de Riesgo'!$C$6+LEFT(M337,1)*'Criterios de Riesgo'!$C$7+LEFT(N337,1)*'Criterios de Riesgo'!$C$8+LEFT(O337,1)*'Criterios de Riesgo'!$C$9),0),Calif_Impacto,2))","v":""},null,"","",{"$f":"IF(OR(Datos!A334=0,Datos!A334=\"\"),P337,IF(ISERROR(VLOOKUP(VLOOKUP(P337,VrImpacto,2,0)-ROUNDDOWN(VLOOKUP(P337,VrImpacto,2,0)*Datos!A334,0),Vr_Impacto,2,1)),\"\",VLOOKUP(VLOOKUP(P337,VrImpacto,2,0)-ROUNDDOWN(VLOOKUP(P337,VrImpacto,2,0)*Datos!A334,0),Vr_Impacto,2,1)))","v":""},{"$f":"IF(Datos!B334=0,Q337,IF(Datos!B334=\"\",Q337,IF(ISERROR(VLOOKUP(VLOOKUP(Q337,Vr_Probabilidad1,2,0)+1-ROUNDDOWN(VLOOKUP(Q337,Vr_Probabilidad1,2,0)*Datos!B334,0),Vr_Probabilidad,2,1)),\"\",VLOOKUP(VLOOKUP(Q337,Vr_Probabilidad1,2,0)-ROUNDDOWN(VLOOKUP(Q337,Vr_Probabilidad1,2,0)*Datos!B334,0),Vr_Probabilidad,2,1))))","v":0},{"$f":"Datos!C334","v":0},"","",""]
["R",null,null,null,null,null,"",null,null,null,null,null,null,null,null,{"$f":"IF(COUNTA(I338:O338)<7,\"\",VLOOKUP(ROUNDUP((LEFT(I338,1)*'Criterios de Riesgo'!$C$3+LEFT(J338,1)*'Criterios de Riesgo'!$C$4+LEFT(K338,1)*'Criterios de Riesgo'!$C$5+LEFT(L338,1)*'Criterios de Riesgo'!$C$6+LEFT(M338,1)*'Criterios de Riesgo'!$C$7+LEFT(N338,1)*'Criterios de Riesgo'!$C$8+LEFT(O338,1)*'Criterios de Riesgo'!$C$9),0),Calif_Impacto,2))","v":""},null,"","",{"$f":"IF(OR(Datos!A335=0,Datos!A335=\"\"),P338,IF(ISERROR(VLOOKUP(VLOOKUP(P338,VrImpacto,2,0)-ROUNDDOWN(VLOOKUP(P338,VrImpacto,2,0)*Datos!A335,0),Vr_Impacto,2,1)),\"\",VLOOKUP(VLOOKUP(P338,VrImpacto,2,0)-ROUNDDOWN(VLOOKUP(P338,VrImpacto,2,0)*Datos!A335,0),Vr_Impacto,2,1)))","v":""},{"$f":"IF(Datos!B335=0,Q338,IF(Datos!B335=\"\",Q338,IF(ISERROR(VLOOKUP(VLOOKUP(Q338,Vr_Probabilidad1,2,0)+1-ROUNDDOWN(VLOOKUP(Q338,Vr_Probabilidad1,2,0)*Datos!B335,0),Vr_Probabilidad,2,1)),\"\",VLOOKUP(VLOOKUP(Q338,Vr_Probabilidad1,2,0)-ROUNDDOWN(VLOOKUP(Q338,Vr_Probabilidad1,2,0)*Datos!B335,0),Vr_Probabilidad,2,1))))","v":0},{"$f":"Datos!C335","v":0},"","",""]
["R",null,null,null,null,null,"",null,null,null,null,null,null,null,null,{"$f":"IF(COUNTA(I339:O339)<7,\"\",VLOOKUP(ROUNDUP((LEFT(I339,1)*'Criterios de Riesgo'!$C$3+LEFT(J339,1)*'Criterios de Riesgo'!$C$4+LEFT(K339,1)*'Criterios de Riesgo'!$C$5+LEFT(L339,1)*'Criterios de Riesgo'!$C$6+LEFT(M339,1)*'Criterios de Riesgo'!$C$7+LEFT(N339,1)*'Criterios de Riesgo'!$C$8+LEFT(O339,1)*'Criterios de Riesgo'!$C$9),0),Calif_Impacto,2))","v":""},null,"","",{"$f":"IF(OR(Datos!A336=0,Datos!A336=\"\"),P339,IF(ISERROR(VLOOKUP(VLOOKUP(P339,VrImpacto,2,0)-ROUNDDOWN(VLOOKUP(P339,VrImpacto,2,0)*Datos!A336,0),Vr_Impacto,2,1)),\"\",VLOOKUP(VLOOKUP(P339,VrImpacto,2,0)-ROUNDDOWN(VLOOKUP(P339,VrImpacto,2,0)*Datos!A336,0),Vr_Impacto,2,1)))","v":""},{"$f":"IF(Datos!B336=0,Q339,IF(Datos!B336=\"\",Q339,IF(ISERROR(VLOOKUP(VLOOKUP(Q339,Vr_Probabilidad1,2,0)+1-ROUNDDOWN(VLOOKUP(Q339,Vr_Probabilidad1,2,0)*Datos!B336,0),Vr_Probabilidad,2,1)),\"\",VLOOKUP(VLOOKUP(Q339,Vr_Probabilidad1,2,0)-ROUNDDOWN(VLOOKUP(Q339,Vr_Probabilidad1,2,0)*Datos!B336,0),Vr_Probabilidad,2,1))))","v":0},{"$f":"Datos!C336","v":0},"","",""]
["R",null,null,null,null,null,"",null,null,null,null,null,null,null,null,{"$f":"IF(COUNTA(I340:O340)<7,\"\",VLOOKUP(ROUNDUP((LEFT(I340,1)*'Criterios de Riesgo'!$C$3+LEFT(J340,1)*'Criterios de Riesgo'!$C$4+LEFT(K340,1)*'Criterios de Riesgo'!$C$5+LEFT(L340,1)*'Criterios de Riesgo'!$C$6+LEFT(M340,1)*'Criterios de Riesgo'!$C$7+LEFT(N340,1)*'Criterios de Riesgo'!$C$8+LEFT(O340,1)*'Criterios de Riesgo'!$C$9),0),Calif_Impacto,2))","v":""},null,"","",{"$f":"IF(OR(Datos!A337=0,Datos!A337=\"\"),P340,IF(ISERROR(VLOOKUP(VLOOKUP(P340,VrImpacto,2,0)-ROUNDDOWN(VLOOKUP(P340,VrImpacto,2,0)*Datos!A337,0),Vr_Impacto,2,1)),\"\",VLOOKUP(VLOOKUP(P340,VrImpacto,2,0)-ROUNDDOWN(VLOOKUP(P340,VrImpacto,2,0)*Datos!A337,0),Vr_Impacto,2,1)))","v":""},{"$f":"IF(Datos!B337=0,Q340,IF(Datos!B337=\"\",Q340,IF(ISERROR(VLOOKUP(VLOOKUP(Q340,Vr_Probabilidad1,2,0)+1-ROUNDDOWN(VLOOKUP(Q340,Vr_Probabilidad1,2,0)*Datos!B337,0),Vr_Probabilidad,2,1)),\"\",VLOOKUP(VLOOKUP(Q340,Vr_Probabilidad1,2,0)-ROUNDDOWN(VLOOKUP(Q340,Vr_Probabilidad1,2,0)*Datos!B337,0),Vr_Probabilidad,2,1))))","v":0},{"$f":"Datos!C337","v":0},"","",""]
["R",null,null,null,null,null,"",null,null,null,null,null,null,null,null,{"$f":"IF(COUNTA(I341:O341)<7,\"\",VLOOKUP(ROUNDUP((LEFT(I341,1)*'Criterios de Riesgo'!$C$3+LEFT(J341,1)*'Criterios de Riesgo'!$C$4+LEFT(K341,1)*'Criterios de Riesgo'!$C$5+LEFT(L341,1)*'Criterios de Riesgo'!$C$6+LEFT(M341,1)*'Criterios de Riesgo'!$C$7+LEFT(N341,1)*'Criterios de Riesgo'!$C$8+LEFT(O341,1)*'Criterios de Riesgo'!$C$9),0),Calif_Impacto,2))","v":""},null,"","",{"$f":"IF(OR(Datos!A338=0,Datos!A338=\"\"),P341,IF(ISERROR(VLOOKUP(VLOOKUP(P341,VrImpacto,2,0)-ROUNDDOWN(VLOOKUP(P341,VrImpacto,2,0)*Datos!A338,0),Vr_Impacto,2,1)),\"\",VLOOKUP(VLOOKUP(P341,VrImpacto,2,0)-ROUNDDOWN(VLOOKUP(P341,VrImpacto,2,0)*Datos!A338,0),Vr_Impacto,2,1)))","v":""},{"$f":"IF(Datos!B338=0,Q341,IF(Datos!B338=\"\",Q341,IF(ISERROR(VLOOKUP(VLOOKUP(Q341,Vr_Probabilidad1,2,0)+1-ROUNDDOWN(VLOOKUP(Q341,Vr_Probabilidad1,2,0)*Datos!B338,0),Vr_Probabilidad,2,1)),\"\",VLOOKUP(VLOOKUP(Q341,Vr_Probabilidad1,2,0)-ROUNDDOWN(VLOOKUP(Q341,Vr_Probabilidad1,2,0)*Datos!B338,0),Vr_Probabilidad,2,1))))","v":0},{"$f":"Datos!C338","v":0},"","",""]
["R",null,null,null,null,null,"",null,null,null,null,null,null,null,null,{"$f":"IF(COUNTA(I342:O342)<7,\"\",VLOOKUP(ROUNDUP((LEFT(I342,1)*'Criterios de Riesgo'!$C$3+LEFT(J342,1)*'Criterios de Riesgo'!$C$4+LEFT(K342,1)*'Criterios de Riesgo'!$C$5+LEFT(L342,1)*'Criterios de Riesgo'!$C$6+LEFT(M342,1)*'Criterios de Riesgo'!$C$7+LEFT(N342,1)*'Criterios de Riesgo'!$C$8+LEFT(O342,1)*'Criterios de Riesgo'!$C$9),0),Calif_Impacto,2))","v":""},null,"","",{"$f":"IF(OR(Datos!A339=0,Datos!A339=\"\"),P342,IF(ISERROR(VLOOKUP(VLOOKUP(P342,VrImpacto,2,0)-ROUNDDOWN(VLOOKUP(P342,VrImpacto,2,0)*Datos!A339,0),Vr_Impacto,2,1)),\"\",VLOOKUP(VLOOKUP(P342,VrImpacto,2,0)-ROUNDDOWN(VLOOKUP(P342,VrImpacto,2,0)*Datos!A339,0),Vr_Impacto,2,1)))","v":""},{"$f":"IF(Datos!B339=0,Q342,IF(Datos!B339=\"\",Q342,IF(ISERROR(VLOOKUP(VLOOKUP(Q342,Vr_Probabilidad1,2,0)+1-ROUNDDOWN(VLOOKUP(Q342,Vr_Probabilidad1,2,0)*Datos!B339,0),Vr_Probabilidad,2,1)),\"\",VLOOKUP(VLOOKUP(Q342,Vr_Probabilidad1,2,0)-ROUNDDOWN(VLOOKUP(Q342,Vr_Probabilidad1,2,0)*Datos!B339,0),Vr_Probabilidad,2,1))))","v":0},{"$f":"Datos!C339","v":0},"","",""]
["R",null,null,null,null,null,"",null,null,null,null,null,null,null,null,{"$f":"IF(COUNTA(I343:O343)<7,\"\",VLOOKUP(ROUNDUP((LEFT(I343,1)*'Criterios de Riesgo'!$C$3+LEFT(J343,1)*'Criterios de Riesgo'!$C$4+LEFT(K343,1)*'Criterios de Riesgo'!$C$5+LEFT(L343,1)*'Criterios de Riesgo'!$C$6+LEFT(M343,1)*'Criterios de Riesgo'!$C$7+LEFT(N343,1)*'Criterios de Riesgo'!$C$8+LEFT(O343,1)*'Criterios de Riesgo'!$C$9),0),Calif_Impacto,2))","v":""},null,"","",{"$f":"IF(OR(Datos!A340=0,Datos!A340=\"\"),P343,IF(ISERROR(VLOOKUP(VLOOKUP(P343,VrImpacto,2,0)-ROUNDDOWN(VLOOKUP(P343,VrImpacto,2,0)*Datos!A340,0),Vr_Impacto,2,1)),\"\",VLOOKUP(VLOOKUP(P343,VrImpacto,2,0)-ROUNDDOWN(VLOOKUP(P343,VrImpacto,2,0)*Datos!A340,0),Vr_Impacto,2,1)))","v":""},{"$f":"IF(Datos!B340=0,Q343,IF(Datos!B340=\"\",Q343,IF(ISERROR(VLOOKUP(VLOOKUP(Q343,Vr_Probabilidad1,2,0)+1-ROUNDDOWN(VLOOKUP(Q343,Vr_Probabilidad1,2,0)*Datos!B340,0),Vr_Probabilidad,2,1)),\"\",VLOOKUP(VLOOKUP(Q343,Vr_Probabilidad1,2,0)-ROUNDDOWN(VLOOKUP(Q343,Vr_Probabilidad1,2,0)*Datos!B340,0),Vr_Probabilidad,2,1))))","v":0},{"$f":"Datos!C340","v":0},"","",""]
["R",null,null,null,null,null,"",null,null,null,null,null,null,null,null,{"$f":"IF(COUNTA(I344:O344)<7,\"\",VLOOKUP(ROUNDUP((LEFT(I344,1)*'Criterios de Riesgo'!$C$3+LEFT(J344,1)*'Criterios de Riesgo'!$C$4+LEFT(K344,1)*'Criterios de Riesgo'!$C$5+LEFT(L344,1)*'Criterios de Riesgo'!$C$6+LEFT(M344,1)*'Criterios de Riesgo'!$C$7+LEFT(N344,1)*'Criterios de Riesgo'!$C$8+LEFT(O344,1)*'Criterios de Riesgo'!$C$9),0),Calif_Impacto,2))","v":""},null,"","",{"$f":"IF(OR(Datos!A341=0,Datos!A341=\"\"),P344,IF(ISERROR(VLOOKUP(VLOOKUP(P344,VrImpacto,2,0)-ROUNDDOWN(VLOOKUP(P344,VrImpacto,2,0)*Datos!A341,0),Vr_Impacto,2,1)),\"\",VLOOKUP(VLOOKUP(P344,VrImpacto,2,0)-ROUNDDOWN(VLOOKUP(P344,VrImpacto,2,0)*Datos!A341,0),Vr_Impacto,2,1)))","v":""},{"$f":"IF(Datos!B341=0,Q344,IF(Datos!B341=\"\",Q344,IF(ISERROR(VLOOKUP(VLOOKUP(Q344,Vr_Probabilidad1,2,0)+1-ROUNDDOWN(VLOOKUP(Q344,Vr_Probabilidad1,2,0)*Datos!B341,0),Vr_Probabilidad,2,1)),\"\",VLOOKUP(VLOOKUP(Q344,Vr_Probabilidad1,2,0)-ROUNDDOWN(VLOOKUP(Q344,Vr_Probabilidad1,2,0)*Datos!B341,0),Vr_Probabilidad,2,1))))","v":0},{"$f":"Datos!C341","v":0},"","",""]
["R",null,null,null,null,null,"",null,null,null,null,null,null,null,null,{"$f":"IF(COUNTA(I345:O345)<7,\"\",VLOOKUP(ROUNDUP((LEFT(I345,1)*'Criterios de Riesgo'!$C$3+LEFT(J345,1)*'Criterios de Riesgo'!$C$4+LEFT(K345,1)*'Criterios de Riesgo'!$C$5+LEFT(L345,1)*'Criterios de Riesgo'!$C$6+LEFT(M345,1)*'Criterios de Riesgo'!$C$7+LEFT(N345,1)*'Criterios de Riesgo'!$C$8+LEFT(O345,1)*'Criterios de Riesgo'!$C$9),0),Calif_Impacto,2))","v":""},null,"","",{"$f":"IF(OR(Datos!A342=0,Datos!A342=\"\"),P345,IF(ISERROR(VLOOKUP(VLOOKUP(P345,VrImpacto,2,0)-ROUNDDOWN(VLOOKUP(P345,VrImpacto,2,0)*Datos!A342,0),Vr_Impacto,2,1)),\"\",VLOOKUP(VLOOKUP(P345,VrImpacto,2,0)-ROUNDDOWN(VLOOKUP(P345,VrImpacto,2,0)*Datos!A342,0),Vr_Impacto,2,1)))","v":""},{"$f":"IF(Datos!B342=0,Q345,IF(Datos!B342=\"\",Q345,IF(ISERROR(VLOOKUP(VLOOKUP(Q345,Vr_Probabilidad1,2,0)+1-ROUNDDOWN(VLOOKUP(Q345,Vr_Probabilidad1,2,0)*Datos!B342,0),Vr_Probabilidad,2,1)),\"\",VLOOKUP(VLOOKUP(Q345,Vr_Probabilidad1,2,0)-ROUNDDOWN(VLOOKUP(Q345,Vr_Probabilidad1,2,0)*Datos!B342,0),Vr_Probabilidad,2,1))))","v":0},{"$f":"Datos!C342","v":0},"","",""]
["R",null,null,null,null,null,"",null,null,null,null,null,null,null,null,{"$f":"IF(COUNTA(I346:O346)<7,\"\",VLOOKUP(ROUNDUP((LEFT(I346,1)*'Criterios de Riesgo'!$C$3+LEFT(J346,1)*'Criterios de Riesgo'!$C$4+LEFT(K346,1)*'Criterios de Riesgo'!$C$5+LEFT(L346,1)*'Criterios de Riesgo'!$C$6+LEFT(M346,1)*'Criterios de Riesgo'!$C$7+LEFT(N346,1)*'Criterios de Riesgo'!$C$8+LEFT(O346,1)*'Criterios de Riesgo'!$C$9),0),Calif_Impacto,2))","v":""},null,"","",{"$f":"IF(OR(Datos!A343=0,Datos!A343=\"\"),P346,IF(ISERROR(VLOOKUP(VLOOKUP(P346,VrImpacto,2,0)-ROUNDDOWN(VLOOKUP(P346,VrImpacto,2,0)*Datos!A343,0),Vr_Impacto,2,1)),\"\",VLOOKUP(VLOOKUP(P346,VrImpacto,2,0)-ROUNDDOWN(VLOOKUP(P346,VrImpacto,2,0)*Datos!A343,0),Vr_Impacto,2,1)))","v":""},{"$f":"IF(Datos!B343=0,Q346,IF(Datos!B343=\"\",Q346,IF(ISERROR(VLOOKUP(VLOOKUP(Q346,Vr_Probabilidad1,2,0)+1-ROUNDDOWN(VLOOKUP(Q346,Vr_Probabilidad1,2,0)*Datos!B343,0),Vr_Probabilidad,2,1)),\"\",VLOOKUP(VLOOKUP(Q346,Vr_Probabilidad1,2,0)-ROUNDDOWN(VLOOKUP(Q346,Vr_Probabilidad1,2,0)*Datos!B343,0),Vr_Probabilidad,2,1))))","v":0},{"$f":"Datos!C343","v":0},"","",""]
["R",null,null,null,null,null,"",null,null,null,null,null,null,null,null,{"$f":"IF(COUNTA(I347:O347)<7,\"\",VLOOKUP(ROUNDUP((LEFT(I347,1)*'Criterios de Riesgo'!$C$3+LEFT(J347,1)*'Criterios de Riesgo'!$C$4+LEFT(K347,1)*'Criterios de Riesgo'!$C$5+LEFT(L347,1)*'Criterios de Riesgo'!$C$6+LEFT(M347,1)*'Criterios de Riesgo'!$C$7+LEFT(N347,1)*'Criterios de Riesgo'!$C$8+LEFT(O347,1)*'Criterios de Riesgo'!$C$9),0),Calif_Impacto,2))","v":""},null,"","",{"$f":"IF(OR(Datos!A344=0,Datos!A344=\"\"),P347,IF(ISERROR(VLOOKUP(VLOOKUP(P347,VrImpacto,2,0)-ROUNDDOWN(VLOOKUP(P347,VrImpacto,2,0)*Datos!A344,0),Vr_Impacto,2,1)),\"\",VLOOKUP(VLOOKUP(P347,VrImpacto,2,0)-ROUNDDOWN(VLOOKUP(P347,VrImpacto,2,0)*Datos!A344,0),Vr_Impacto,2,1)))","v":""},{"$f":"IF(Datos!B344=0,Q347,IF(Datos!B344=\"\",Q347,IF(ISERROR(VLOOKUP(VLOOKUP(Q347,Vr_Probabilidad1,2,0)+1-ROUNDDOWN(VLOOKUP(Q347,Vr_Probabilidad1,2,0)*Datos!B344,0),Vr_Probabilidad,2,1)),\"\",VLOOKUP(VLOOKUP(Q347,Vr_Probabilidad1,2,0)-ROUNDDOWN(VLOOKUP(Q347,Vr_Probabilidad1,2,0)*Datos!B344,0),Vr_Probabilidad,2,1))))","v":0},{"$f":"Datos!C344","v":0},"","",""]
["R",null,null,null,null,null,"",null,null,null,null,null,null,null,null,{"$f":"IF(COUNTA(I348:O348)<7,\"\",VLOOKUP(ROUNDUP((LEFT(I348,1)*'Criterios de Riesgo'!$C$3+LEFT(J348,1)*'Criterios de Riesgo'!$C$4+LEFT(K348,1)*'Criterios de Riesgo'!$C$5+LEFT(L348,1)*'Criterios de Riesgo'!$C$6+LEFT(M348,1)*'Criterios de Riesgo'!$C$7+LEFT(N348,1)*'Criterios de Riesgo'!$C$8+LEFT(O348,1)*'Criterios de Riesgo'!$C$9),0),Calif_Impacto,2))","v":""},null,"","",{"$f":"IF(OR(Datos!A345=0,Datos!A345=\"\"),P348,IF(ISERROR(VLOOKUP(VLOOKUP(P348,VrImpacto,2,0)-ROUNDDOWN(VLOOKUP(P348,VrImpacto,2,0)*Datos!A345,0),Vr_Impacto,2,1)),\"\",VLOOKUP(VLOOKUP(P348,VrImpacto,2,0)-ROUNDDOWN(VLOOKUP(P348,VrImpacto,2,0)*Datos!A345,0),Vr_Impacto,2,1)))","v":""},{"$f":"IF(Datos!B345=0,Q348,IF(Datos!B345=\"\",Q348,IF(ISERROR(VLOOKUP(VLOOKUP(Q348,Vr_Probabilidad1,2,0)+1-ROUNDDOWN(VLOOKUP(Q348,Vr_Probabilidad1,2,0)*Datos!B345,0),Vr_Probabilidad,2,1)),\"\",VLOOKUP(VLOOKUP(Q348,Vr_Probabilidad1,2,0)-ROUNDDOWN(VLOOKUP(Q348,Vr_Probabilidad1,2,0)*Datos!B345,0),Vr_Probabilidad,2,1))))","v":0},{"$f":"Datos!C345","v":0},"","",""]
["R",null,null,null,null,null,"",null,null,null,null,null,null,null,null,{"$f":"IF(COUNTA(I349:O349)<7,\"\",VLOOKUP(ROUNDUP((LEFT(I349,1)*'Criterios de Riesgo'!$C$3+LEFT(J349,1)*'Criterios de Riesgo'!$C$4+LEFT(K349,1)*'Criterios de Riesgo'!$C$5+LEFT(L349,1)*'Criterios de Riesgo'!$C$6+LEFT(M349,1)*'Criterios de Riesgo'!$C$7+LEFT(N349,1)*'Criterios de Riesgo'!$C$8+LEFT(O349,1)*'Criterios de Riesgo'!$C$9),0),Calif_Impacto,2))","v":""},null,"","",{"$f":"IF(OR(Datos!A346=0,Datos!A346=\"\"),P349,IF(ISERROR(VLOOKUP(VLOOKUP(P349,VrImpacto,2,0)-ROUNDDOWN(VLOOKUP(P349,VrImpacto,2,0)*Datos!A346,0),Vr_Impacto,2,1)),\"\",VLOOKUP(VLOOKUP(P349,VrImpacto,2,0)-ROUNDDOWN(VLOOKUP(P349,VrImpacto,2,0)*Datos!A346,0),Vr_Impacto,2,1)))","v":""},{"$f":"IF(Datos!B346=0,Q349,IF(Datos!B346=\"\",Q349,IF(ISERROR(VLOOKUP(VLOOKUP(Q349,Vr_Probabilidad1,2,0)+1-ROUNDDOWN(VLOOKUP(Q349,Vr_Probabilidad1,2,0)*Datos!B346,0),Vr_Probabilidad,2,1)),\"\",VLOOKUP(VLOOKUP(Q349,Vr_Probabilidad1,2,0)-ROUNDDOWN(VLOOKUP(Q349,Vr_Probabilidad1,2,0)*Datos!B346,0),Vr_Probabilidad,2,1))))","v":0},{"$f":"Datos!C346","v":0},"","",""]
["R",null,null,null,null,null,"",null,null,null,null,null,null,null,null,{"$f":"IF(COUNTA(I350:O350)<7,\"\",VLOOKUP(ROUNDUP((LEFT(I350,1)*'Criterios de Riesgo'!$C$3+LEFT(J350,1)*'Criterios de Riesgo'!$C$4+LEFT(K350,1)*'Criterios de Riesgo'!$C$5+LEFT(L350,1)*'Criterios de Riesgo'!$C$6+LEFT(M350,1)*'Criterios de Riesgo'!$C$7+LEFT(N350,1)*'Criterios de Riesgo'!$C$8+LEFT(O350,1)*'Criterios de Riesgo'!$C$9),0),Calif_Impacto,2))","v":""},null,"","",{"$f":"IF(OR(Datos!A347=0,Datos!A347=\"\"),P350,IF(ISERROR(VLOOKUP(VLOOKUP(P350,VrImpacto,2,0)-ROUNDDOWN(VLOOKUP(P350,VrImpacto,2,0)*Datos!A347,0),Vr_Impacto,2,1)),\"\",VLOOKUP(VLOOKUP(P350,VrImpacto,2,0)-ROUNDDOWN(VLOOKUP(P350,VrImpacto,2,0)*Datos!A347,0),Vr_Impacto,2,1)))","v":""},{"$f":"IF(Datos!B347=0,Q350,IF(Datos!B347=\"\",Q350,IF(ISERROR(VLOOKUP(VLOOKUP(Q350,Vr_Probabilidad1,2,0)+1-ROUNDDOWN(VLOOKUP(Q350,Vr_Probabilidad1,2,0)*Datos!B347,0),Vr_Probabilidad,2,1)),\"\",VLOOKUP(VLOOKUP(Q350,Vr_Probabilidad1,2,0)-ROUNDDOWN(VLOOKUP(Q350,Vr_Probabilidad1,2,0)*Datos!B347,0),Vr_Probabilidad,2,1))))","v":0},{"$f":"Datos!C347","v":0},"","",""]
["R",null,null,null,null,null,"",null,null,null,null,null,null,null,null,{"$f":"IF(COUNTA(I351:O351)<7,\"\",VLOOKUP(ROUNDUP((LEFT(I351,1)*'Criterios de Riesgo'!$C$3+LEFT(J351,1)*'Criterios de Riesgo'!$C$4+LEFT(K351,1)*'Criterios de Riesgo'!$C$5+LEFT(L351,1)*'Criterios de Riesgo'!$C$6+LEFT(M351,1)*'Criterios de Riesgo'!$C$7+LEFT(N351,1)*'Criterios de Riesgo'!$C$8+LEFT(O351,1)*'Criterios de Riesgo'!$C$9),0),Calif_Impacto,2))","v":""},null,"","",{"$f":"IF(OR(Datos!A348=0,Datos!A348=\"\"),P351,IF(ISERROR(VLOOKUP(VLOOKUP(P351,VrImpacto,2,0)-ROUNDDOWN(VLOOKUP(P351,VrImpacto,2,0)*Datos!A348,0),Vr_Impacto,2,1)),\"\",VLOOKUP(VLOOKUP(P351,VrImpacto,2,0)-ROUNDDOWN(VLOOKUP(P351,VrImpacto,2,0)*Datos!A348,0),Vr_Impacto,2,1)))","v":""},{"$f":"IF(Datos!B348=0,Q351,IF(Datos!B348=\"\",Q351,IF(ISERROR(VLOOKUP(VLOOKUP(Q351,Vr_Probabilidad1,2,0)+1-ROUNDDOWN(VLOOKUP(Q351,Vr_Probabilidad1,2,0)*Datos!B348,0),Vr_Probabilidad,2,1)),\"\",VLOOKUP(VLOOKUP(Q351,Vr_Probabilidad1,2,0)-ROUNDDOWN(VLOOKUP(Q351,Vr_Probabilidad1,2,0)*Datos!B348,0),Vr_Probabilidad,2,1))))","v":0},{"$f":"Datos!C348","v":0},"","",""]
["R",null,null,null,null,null,"",null,null,null,null,null,null,null,null,{"$f":"IF(COUNTA(I352:O352)<7,\"\",VLOOKUP(ROUNDUP((LEFT(I352,1)*'Criterios de Riesgo'!$C$3+LEFT(J352,1)*'Criterios de Riesgo'!$C$4+LEFT(K352,1)*'Criterios de Riesgo'!$C$5+LEFT(L352,1)*'Criterios de Riesgo'!$C$6+LEFT(M352,1)*'Criterios de Riesgo'!$C$7+LEFT(N352,1)*'Criterios de Riesgo'!$C$8+LEFT(O352,1)*'Criterios de Riesgo'!$C$9),0),Calif_Impacto,2))","v":""},null,"","",{"$f":"IF(OR(Datos!A349=0,Datos!A349=\"\"),P352,IF(ISERROR(VLOOKUP(VLOOKUP(P352,VrImpacto,2,0)-ROUNDDOWN(VLOOKUP(P352,VrImpacto,2,0)*Datos!A349,0),Vr_Impacto,2,1)),\"\",VLOOKUP(VLOOKUP(P352,VrImpacto,2,0)-ROUNDDOWN(VLOOKUP(P352,VrImpacto,2,0)*Datos!A349,0),Vr_Impacto,2,1)))","v":""},{"$f":"IF(Datos!B349=0,Q352,IF(Datos!B349=\"\",Q352,IF(ISERROR(VLOOKUP(VLOOKUP(Q352,Vr_Probabilidad1,2,0)+1-ROUNDDOWN(VLOOKUP(Q352,Vr_Probabilidad1,2,0)*Datos!B349,0),Vr_Probabilidad,2,1)),\"\",VLOOKUP(VLOOKUP(Q352,Vr_Probabilidad1,2,0)-ROUNDDOWN(VLOOKUP(Q352,Vr_Probabilidad1,2,0)*Datos!B349,0),Vr_Probabilidad,2,1))))","v":0},{"$f":"Datos!C349","v":0},"","",""]
["R",null,null,null,null,null,"",null,null,null,null,null,null,null,null,{"$f":"IF(COUNTA(I353:O353)<7,\"\",VLOOKUP(ROUNDUP((LEFT(I353,1)*'Criterios de Riesgo'!$C$3+LEFT(J353,1)*'Criterios de Riesgo'!$C$4+LEFT(K353,1)*'Criterios de Riesgo'!$C$5+LEFT(L353,1)*'Criterios de Riesgo'!$C$6+LEFT(M353,1)*'Criterios de Riesgo'!$C$7+LEFT(N353,1)*'Criterios de Riesgo'!$C$8+LEFT(O353,1)*'Criterios de Riesgo'!$C$9),0),Calif_Impacto,2))","v":""},null,"","",{"$f":"IF(OR(Datos!A350=0,Datos!A350=\"\"),P353,IF(ISERROR(VLOOKUP(VLOOKUP(P353,VrImpacto,2,0)-ROUNDDOWN(VLOOKUP(P353,VrImpacto,2,0)*Datos!A350,0),Vr_Impacto,2,1)),\"\",VLOOKUP(VLOOKUP(P353,VrImpacto,2,0)-ROUNDDOWN(VLOOKUP(P353,VrImpacto,2,0)*Datos!A350,0),Vr_Impacto,2,1)))","v":""},{"$f":"IF(Datos!B350=0,Q353,IF(Datos!B350=\"\",Q353,IF(ISERROR(VLOOKUP(VLOOKUP(Q353,Vr_Probabilidad1,2,0)+1-ROUNDDOWN(VLOOKUP(Q353,Vr_Probabilidad1,2,0)*Datos!B350,0),Vr_Probabilidad,2,1)),\"\",VLOOKUP(VLOOKUP(Q353,Vr_Probabilidad1,2,0)-ROUNDDOWN(VLOOKUP(Q353,Vr_Probabilidad1,2,0)*Datos!B350,0),Vr_Probabilidad,2,1))))","v":0},{"$f":"Datos!C350","v":0},"","",""]
["R",null,null,null,null,null,"",null,null,null,null,null,null,null,null,{"$f":"IF(COUNTA(I354:O354)<7,\"\",VLOOKUP(ROUNDUP((LEFT(I354,1)*'Criterios de Riesgo'!$C$3+LEFT(J354,1)*'Criterios de Riesgo'!$C$4+LEFT(K354,1)*'Criterios de Riesgo'!$C$5+LEFT(L354,1)*'Criterios de Riesgo'!$C$6+LEFT(M354,1)*'Criterios de Riesgo'!$C$7+LEFT(N354,1)*'Criterios de Riesgo'!$C$8+LEFT(O354,1)*'Criterios de Riesgo'!$C$9),0),Calif_Impacto,2))","v":""},null,"","",{"$f":"IF(OR(Datos!A351=0,Datos!A351=\"\"),P354,IF(ISERROR(VLOOKUP(VLOOKUP(P354,VrImpacto,2,0)-ROUNDDOWN(VLOOKUP(P354,VrImpacto,2,0)*Datos!A351,0),Vr_Impacto,2,1)),\"\",VLOOKUP(VLOOKUP(P354,VrImpacto,2,0)-ROUNDDOWN(VLOOKUP(P354,VrImpacto,2,0)*Datos!A351,0),Vr_Impacto,2,1)))","v":""},{"$f":"IF(Datos!B351=0,Q354,IF(Datos!B351=\"\",Q354,IF(ISERROR(VLOOKUP(VLOOKUP(Q354,Vr_Probabilidad1,2,0)+1-ROUNDDOWN(VLOOKUP(Q354,Vr_Probabilidad1,2,0)*Datos!B351,0),Vr_Probabilidad,2,1)),\"\",VLOOKUP(VLOOKUP(Q354,Vr_Probabilidad1,2,0)-ROUNDDOWN(VLOOKUP(Q354,Vr_Probabilidad1,2,0)*Datos!B351,0),Vr_Probabilidad,2,1))))","v":0},{"$f":"Datos!C351","v":0},"","",""]
["R",null,null,null,null,null,"",null,null,null,null,null,null,null,null,{"$f":"IF(COUNTA(I355:O355)<7,\"\",VLOOKUP(ROUNDUP((LEFT(I355,1)*'Criterios de Riesgo'!$C$3+LEFT(J355,1)*'Criterios de Riesgo'!$C$4+LEFT(K355,1)*'Criterios de Riesgo'!$C$5+LEFT(L355,1)*'Criterios de Riesgo'!$C$6+LEFT(M355,1)*'Criterios de Riesgo'!$C$7+LEFT(N355,1)*'Criterios de Riesgo'!$C$8+LEFT(O355,1)*'Criterios de Riesgo'!$C$9),0),Calif_Impacto,2))","v":""},null,"","",{"$f":"IF(OR(Datos!A352=0,Datos!A352=\"\"),P355,IF(ISERROR(VLOOKUP(VLOOKUP(P355,VrImpacto,2,0)-ROUNDDOWN(VLOOKUP(P355,VrImpacto,2,0)*Datos!A352,0),Vr_Impacto,2,1)),\"\",VLOOKUP(VLOOKUP(P355,VrImpacto,2,0)-ROUNDDOWN(VLOOKUP(P355,VrImpacto,2,0)*Datos!A352,0),Vr_Impacto,2,1)))","v":""},{"$f":"IF(Datos!B352=0,Q355,IF(Datos!B352=\"\",Q355,IF(ISERROR(VLOOKUP(VLOOKUP(Q355,Vr_Probabilidad1,2,0)+1-ROUNDDOWN(VLOOKUP(Q355,Vr_Probabilidad1,2,0)*Datos!B352,0),Vr_Probabilidad,2,1)),\"\",VLOOKUP(VLOOKUP(Q355,Vr_Probabilidad1,2,0)-ROUNDDOWN(VLOOKUP(Q355,Vr_Probabilidad1,2,0)*Datos!B352,0),Vr_Probabilidad,2,1))))","v":0},{"$f":"Datos!C352","v":0},"","",""]
["R",null,null,null,null,null,"",null,null,null,null,null,null,null,null,{"$f":"IF(COUNTA(I356:O356)<7,\"\",VLOOKUP(ROUNDUP((LEFT(I356,1)*'Criterios de Riesgo'!$C$3+LEFT(J356,1)*'Criterios de Riesgo'!$C$4+LEFT(K356,1)*'Criterios de Riesgo'!$C$5+LEFT(L356,1)*'Criterios de Riesgo'!$C$6+LEFT(M356,1)*'Criterios de Riesgo'!$C$7+LEFT(N356,1)*'Criterios de Riesgo'!$C$8+LEFT(O356,1)*'Criterios de Riesgo'!$C$9),0),Calif_Impacto,2))","v":""},null,"","",{"$f":"IF(OR(Datos!A353=0,Datos!A353=\"\"),P356,IF(ISERROR(VLOOKUP(VLOOKUP(P356,VrImpacto,2,0)-ROUNDDOWN(VLOOKUP(P356,VrImpacto,2,0)*Datos!A353,0),Vr_Impacto,2,1)),\"\",VLOOKUP(VLOOKUP(P356,VrImpacto,2,0)-ROUNDDOWN(VLOOKUP(P356,VrImpacto,2,0)*Datos!A353,0),Vr_Impacto,2,1)))","v":""},{"$f":"IF(Datos!B353=0,Q356,IF(Datos!B353=\"\",Q356,IF(ISERROR(VLOOKUP(VLOOKUP(Q356,Vr_Probabilidad1,2,0)+1-ROUNDDOWN(VLOOKUP(Q356,Vr_Probabilidad1,2,0)*Datos!B353,0),Vr_Probabilidad,2,1)),\"\",VLOOKUP(VLOOKUP(Q356,Vr_Probabilidad1,2,0)-ROUNDDOWN(VLOOKUP(Q356,Vr_Probabilidad1,2,0)*Datos!B353,0),Vr_Probabilidad,2,1))))","v":0},{"$f":"Datos!C353","v":0},"","",""]
["R",null,null,null,null,null,"",null,null,null,null,null,null,null,null,{"$f":"IF(COUNTA(I357:O357)<7,\"\",VLOOKUP(ROUNDUP((LEFT(I357,1)*'Criterios de Riesgo'!$C$3+LEFT(J357,1)*'Criterios de Riesgo'!$C$4+LEFT(K357,1)*'Criterios de Riesgo'!$C$5+LEFT(L357,1)*'Criterios de Riesgo'!$C$6+LEFT(M357,1)*'Criterios de Riesgo'!$C$7+LEFT(N357,1)*'Criterios de Riesgo'!$C$8+LEFT(O357,1)*'Criterios de Riesgo'!$C$9),0),Calif_Impacto,2))","v":""},null,"","",{"$f":"IF(OR(Datos!A354=0,Datos!A354=\"\"),P357,IF(ISERROR(VLOOKUP(VLOOKUP(P357,VrImpacto,2,0)-ROUNDDOWN(VLOOKUP(P357,VrImpacto,2,0)*Datos!A354,0),Vr_Impacto,2,1)),\"\",VLOOKUP(VLOOKUP(P357,VrImpacto,2,0)-ROUNDDOWN(VLOOKUP(P357,VrImpacto,2,0)*Datos!A354,0),Vr_Impacto,2,1)))","v":""},{"$f":"IF(Datos!B354=0,Q357,IF(Datos!B354=\"\",Q357,IF(ISERROR(VLOOKUP(VLOOKUP(Q357,Vr_Probabilidad1,2,0)+1-ROUNDDOWN(VLOOKUP(Q357,Vr_Probabilidad1,2,0)*Datos!B354,0),Vr_Probabilidad,2,1)),\"\",VLOOKUP(VLOOKUP(Q357,Vr_Probabilidad1,2,0)-ROUNDDOWN(VLOOKUP(Q357,Vr_Probabilidad1,2,0)*Datos!B354,0),Vr_Probabilidad,2,1))))","v":0},{"$f":"Datos!C354","v":0},"","",""]
["R",null,null,null,null,null,"",null,null,null,null,null,null,null,null,{"$f":"IF(COUNTA(I358:O358)<7,\"\",VLOOKUP(ROUNDUP((LEFT(I358,1)*'Criterios de Riesgo'!$C$3+LEFT(J358,1)*'Criterios de Riesgo'!$C$4+LEFT(K358,1)*'Criterios de Riesgo'!$C$5+LEFT(L358,1)*'Criterios de Riesgo'!$C$6+LEFT(M358,1)*'Criterios de Riesgo'!$C$7+LEFT(N358,1)*'Criterios de Riesgo'!$C$8+LEFT(O358,1)*'Criterios de Riesgo'!$C$9),0),Calif_Impacto,2))","v":""},null,"","",{"$f":"IF(OR(Datos!A355=0,Datos!A355=\"\"),P358,IF(ISERROR(VLOOKUP(VLOOKUP(P358,VrImpacto,2,0)-ROUNDDOWN(VLOOKUP(P358,VrImpacto,2,0)*Datos!A355,0),Vr_Impacto,2,1)),\"\",VLOOKUP(VLOOKUP(P358,VrImpacto,2,0)-ROUNDDOWN(VLOOKUP(P358,VrImpacto,2,0)*Datos!A355,0),Vr_Impacto,2,1)))","v":""},{"$f":"IF(Datos!B355=0,Q358,IF(Datos!B355=\"\",Q358,IF(ISERROR(VLOOKUP(VLOOKUP(Q358,Vr_Probabilidad1,2,0)+1-ROUNDDOWN(VLOOKUP(Q358,Vr_Probabilidad1,2,0)*Datos!B355,0),Vr_Probabilidad,2,1)),\"\",VLOOKUP(VLOOKUP(Q358,Vr_Probabilidad1,2,0)-ROUNDDOWN(VLOOKUP(Q358,Vr_Probabilidad1,2,0)*Datos!B355,0),Vr_Probabilidad,2,1))))","v":0},{"$f":"Datos!C355","v":0},"","",""]
["R",null,null,null,null,null,"",null,null,null,null,null,null,null,null,{"$f":"IF(COUNTA(I359:O359)<7,\"\",VLOOKUP(ROUNDUP((LEFT(I359,1)*'Criterios de Riesgo'!$C$3+LEFT(J359,1)*'Criterios de Riesgo'!$C$4+LEFT(K359,1)*'Criterios de Riesgo'!$C$5+LEFT(L359,1)*'Criterios de Riesgo'!$C$6+LEFT(M359,1)*'Criterios de Riesgo'!$C$7+LEFT(N359,1)*'Criterios de Riesgo'!$C$8+LEFT(O359,1)*'Criterios de Riesgo'!$C$9),0),Calif_Impacto,2))","v":""},null,"","",{"$f":"IF(OR(Datos!A356=0,Datos!A356=\"\"),P359,IF(ISERROR(VLOOKUP(VLOOKUP(P359,VrImpacto,2,0)-ROUNDDOWN(VLOOKUP(P359,VrImpacto,2,0)*Datos!A356,0),Vr_Impacto,2,1)),\"\",VLOOKUP(VLOOKUP(P359,VrImpacto,2,0)-ROUNDDOWN(VLOOKUP(P359,VrImpacto,2,0)*Datos!A356,0),Vr_Impacto,2,1)))","v":""},{"$f":"IF(Datos!B356=0,Q359,IF(Datos!B356=\"\",Q359,IF(ISERROR(VLOOKUP(VLOOKUP(Q359,Vr_Probabilidad1,2,0)+1-ROUNDDOWN(VLOOKUP(Q359,Vr_Probabilidad1,2,0)*Datos!B356,0),Vr_Probabilidad,2,1)),\"\",VLOOKUP(VLOOKUP(Q359,Vr_Probabilidad1,2,0)-ROUNDDOWN(VLOOKUP(Q359,Vr_Probabilidad1,2,0)*Datos!B356,0),Vr_Probabilidad,2,1))))","v":0},{"$f":"Datos!C356","v":0},"","",""]
["R",null,null,null,null,null,"",null,null,null,null,null,null,null,null,{"$f":"IF(COUNTA(I360:O360)<7,\"\",VLOOKUP(ROUNDUP((LEFT(I360,1)*'Criterios de Riesgo'!$C$3+LEFT(J360,1)*'Criterios de Riesgo'!$C$4+LEFT(K360,1)*'Criterios de Riesgo'!$C$5+LEFT(L360,1)*'Criterios de Riesgo'!$C$6+LEFT(M360,1)*'Criterios de Riesgo'!$C$7+LEFT(N360,1)*'Criterios de Riesgo'!$C$8+LEFT(O360,1)*'Criterios de Riesgo'!$C$9),0),Calif_Impacto,2))","v":""},null,"","",{"$f":"IF(OR(Datos!A357=0,Datos!A357=\"\"),P360,IF(ISERROR(VLOOKUP(VLOOKUP(P360,VrImpacto,2,0)-ROUNDDOWN(VLOOKUP(P360,VrImpacto,2,0)*Datos!A357,0),Vr_Impacto,2,1)),\"\",VLOOKUP(VLOOKUP(P360,VrImpacto,2,0)-ROUNDDOWN(VLOOKUP(P360,VrImpacto,2,0)*Datos!A357,0),Vr_Impacto,2,1)))","v":""},{"$f":"IF(Datos!B357=0,Q360,IF(Datos!B357=\"\",Q360,IF(ISERROR(VLOOKUP(VLOOKUP(Q360,Vr_Probabilidad1,2,0)+1-ROUNDDOWN(VLOOKUP(Q360,Vr_Probabilidad1,2,0)*Datos!B357,0),Vr_Probabilidad,2,1)),\"\",VLOOKUP(VLOOKUP(Q360,Vr_Probabilidad1,2,0)-ROUNDDOWN(VLOOKUP(Q360,Vr_Probabilidad1,2,0)*Datos!B357,0),Vr_Probabilidad,2,1))))","v":0},{"$f":"Datos!C357","v":0},"","",""]
["R",null,null,null,null,null,"",null,null,null,null,null,null,null,null,{"$f":"IF(COUNTA(I361:O361)<7,\"\",VLOOKUP(ROUNDUP((LEFT(I361,1)*'Criterios de Riesgo'!$C$3+LEFT(J361,1)*'Criterios de Riesgo'!$C$4+LEFT(K361,1)*'Criterios de Riesgo'!$C$5+LEFT(L361,1)*'Criterios de Riesgo'!$C$6+LEFT(M361,1)*'Criterios de Riesgo'!$C$7+LEFT(N361,1)*'Criterios de Riesgo'!$C$8+LEFT(O361,1)*'Criterios de Riesgo'!$C$9),0),Calif_Impacto,2))","v":""},null,"","",{"$f":"IF(OR(Datos!A358=0,Datos!A358=\"\"),P361,IF(ISERROR(VLOOKUP(VLOOKUP(P361,VrImpacto,2,0)-ROUNDDOWN(VLOOKUP(P361,VrImpacto,2,0)*Datos!A358,0),Vr_Impacto,2,1)),\"\",VLOOKUP(VLOOKUP(P361,VrImpacto,2,0)-ROUNDDOWN(VLOOKUP(P361,VrImpacto,2,0)*Datos!A358,0),Vr_Impacto,2,1)))","v":""},{"$f":"IF(Datos!B358=0,Q361,IF(Datos!B358=\"\",Q361,IF(ISERROR(VLOOKUP(VLOOKUP(Q361,Vr_Probabilidad1,2,0)+1-ROUNDDOWN(VLOOKUP(Q361,Vr_Probabilidad1,2,0)*Datos!B358,0),Vr_Probabilidad,2,1)),\"\",VLOOKUP(VLOOKUP(Q361,Vr_Probabilidad1,2,0)-ROUNDDOWN(VLOOKUP(Q361,Vr_Probabilidad1,2,0)*Datos!B358,0),Vr_Probabilidad,2,1))))","v":0},{"$f":"Datos!C358","v":0},"","",""]
["R",null,null,null,null,null,"",null,null,null,null,null,null,null,null,{"$f":"IF(COUNTA(I362:O362)<7,\"\",VLOOKUP(ROUNDUP((LEFT(I362,1)*'Criterios de Riesgo'!$C$3+LEFT(J362,1)*'Criterios de Riesgo'!$C$4+LEFT(K362,1)*'Criterios de Riesgo'!$C$5+LEFT(L362,1)*'Criterios de Riesgo'!$C$6+LEFT(M362,1)*'Criterios de Riesgo'!$C$7+LEFT(N362,1)*'Criterios de Riesgo'!$C$8+LEFT(O362,1)*'Criterios de Riesgo'!$C$9),0),Calif_Impacto,2))","v":""},null,"","",{"$f":"IF(OR(Datos!A359=0,Datos!A359=\"\"),P362,IF(ISERROR(VLOOKUP(VLOOKUP(P362,VrImpacto,2,0)-ROUNDDOWN(VLOOKUP(P362,VrImpacto,2,0)*Datos!A359,0),Vr_Impacto,2,1)),\"\",VLOOKUP(VLOOKUP(P362,VrImpacto,2,0)-ROUNDDOWN(VLOOKUP(P362,VrImpacto,2,0)*Datos!A359,0),Vr_Impacto,2,1)))","v":""},{"$f":"IF(Datos!B359=0,Q362,IF(Datos!B359=\"\",Q362,IF(ISERROR(VLOOKUP(VLOOKUP(Q362,Vr_Probabilidad1,2,0)+1-ROUNDDOWN(VLOOKUP(Q362,Vr_Probabilidad1,2,0)*Datos!B359,0),Vr_Probabilidad,2,1)),\"\",VLOOKUP(VLOOKUP(Q362,Vr_Probabilidad1,2,0)-ROUNDDOWN(VLOOKUP(Q362,Vr_Probabilidad1,2,0)*Datos!B359,0),Vr_Probabilidad,2,1))))","v":0},{"$f":"Datos!C359","v":0},"","",""]
["R",null,null,null,null,null,"",null,null,null,null,null,null,null,null,{"$f":"IF(COUNTA(I363:O363)<7,\"\",VLOOKUP(ROUNDUP((LEFT(I363,1)*'Criterios de Riesgo'!$C$3+LEFT(J363,1)*'Criterios de Riesgo'!$C$4+LEFT(K363,1)*'Criterios de Riesgo'!$C$5+LEFT(L363,1)*'Criterios de Riesgo'!$C$6+LEFT(M363,1)*'Criterios de Riesgo'!$C$7+LEFT(N363,1)*'Criterios de Riesgo'!$C$8+LEFT(O363,1)*'Criterios de Riesgo'!$C$9),0),Calif_Impacto,2))","v":""},null,"","",{"$f":"IF(OR(Datos!A360=0,Datos!A360=\"\"),P363,IF(ISERROR(VLOOKUP(VLOOKUP(P363,VrImpacto,2,0)-ROUNDDOWN(VLOOKUP(P363,VrImpacto,2,0)*Datos!A360,0),Vr_Impacto,2,1)),\"\",VLOOKUP(VLOOKUP(P363,VrImpacto,2,0)-ROUNDDOWN(VLOOKUP(P363,VrImpacto,2,0)*Datos!A360,0),Vr_Impacto,2,1)))","v":""},{"$f":"IF(Datos!B360=0,Q363,IF(Datos!B360=\"\",Q363,IF(ISERROR(VLOOKUP(VLOOKUP(Q363,Vr_Probabilidad1,2,0)+1-ROUNDDOWN(VLOOKUP(Q363,Vr_Probabilidad1,2,0)*Datos!B360,0),Vr_Probabilidad,2,1)),\"\",VLOOKUP(VLOOKUP(Q363,Vr_Probabilidad1,2,0)-ROUNDDOWN(VLOOKUP(Q363,Vr_Probabilidad1,2,0)*Datos!B360,0),Vr_Probabilidad,2,1))))","v":0},{"$f":"Datos!C360","v":0},"","",""]
["R",null,null,null,null,null,"",null,null,null,null,null,null,null,null,{"$f":"IF(COUNTA(I364:O364)<7,\"\",VLOOKUP(ROUNDUP((LEFT(I364,1)*'Criterios de Riesgo'!$C$3+LEFT(J364,1)*'Criterios de Riesgo'!$C$4+LEFT(K364,1)*'Criterios de Riesgo'!$C$5+LEFT(L364,1)*'Criterios de Riesgo'!$C$6+LEFT(M364,1)*'Criterios de Riesgo'!$C$7+LEFT(N364,1)*'Criterios de Riesgo'!$C$8+LEFT(O364,1)*'Criterios de Riesgo'!$C$9),0),Calif_Impacto,2))","v":""},null,"","",{"$f":"IF(OR(Datos!A361=0,Datos!A361=\"\"),P364,IF(ISERROR(VLOOKUP(VLOOKUP(P364,VrImpacto,2,0)-ROUNDDOWN(VLOOKUP(P364,VrImpacto,2,0)*Datos!A361,0),Vr_Impacto,2,1)),\"\",VLOOKUP(VLOOKUP(P364,VrImpacto,2,0)-ROUNDDOWN(VLOOKUP(P364,VrImpacto,2,0)*Datos!A361,0),Vr_Impacto,2,1)))","v":""},{"$f":"IF(Datos!B361=0,Q364,IF(Datos!B361=\"\",Q364,IF(ISERROR(VLOOKUP(VLOOKUP(Q364,Vr_Probabilidad1,2,0)+1-ROUNDDOWN(VLOOKUP(Q364,Vr_Probabilidad1,2,0)*Datos!B361,0),Vr_Probabilidad,2,1)),\"\",VLOOKUP(VLOOKUP(Q364,Vr_Probabilidad1,2,0)-ROUNDDOWN(VLOOKUP(Q364,Vr_Probabilidad1,2,0)*Datos!B361,0),Vr_Probabilidad,2,1))))","v":0},{"$f":"Datos!C361","v":0},"","",""]
["R",null,null,null,null,null,"",null,null,null,null,null,null,null,null,{"$f":"IF(COUNTA(I365:O365)<7,\"\",VLOOKUP(ROUNDUP((LEFT(I365,1)*'Criterios de Riesgo'!$C$3+LEFT(J365,1)*'Criterios de Riesgo'!$C$4+LEFT(K365,1)*'Criterios de Riesgo'!$C$5+LEFT(L365,1)*'Criterios de Riesgo'!$C$6+LEFT(M365,1)*'Criterios de Riesgo'!$C$7+LEFT(N365,1)*'Criterios de Riesgo'!$C$8+LEFT(O365,1)*'Criterios de Riesgo'!$C$9),0),Calif_Impacto,2))","v":""},null,"","",{"$f":"IF(OR(Datos!A362=0,Datos!A362=\"\"),P365,IF(ISERROR(VLOOKUP(VLOOKUP(P365,VrImpacto,2,0)-ROUNDDOWN(VLOOKUP(P365,VrImpacto,2,0)*Datos!A362,0),Vr_Impacto,2,1)),\"\",VLOOKUP(VLOOKUP(P365,VrImpacto,2,0)-ROUNDDOWN(VLOOKUP(P365,VrImpacto,2,0)*Datos!A362,0),Vr_Impacto,2,1)))","v":""},{"$f":"IF(Datos!B362=0,Q365,IF(Datos!B362=\"\",Q365,IF(ISERROR(VLOOKUP(VLOOKUP(Q365,Vr_Probabilidad1,2,0)+1-ROUNDDOWN(VLOOKUP(Q365,Vr_Probabilidad1,2,0)*Datos!B362,0),Vr_Probabilidad,2,1)),\"\",VLOOKUP(VLOOKUP(Q365,Vr_Probabilidad1,2,0)-ROUNDDOWN(VLOOKUP(Q365,Vr_Probabilidad1,2,0)*Datos!B362,0),Vr_Probabilidad,2,1))))","v":0},{"$f":"Datos!C362","v":0},"","",""]
["R",null,null,null,null,null,"",null,null,null,null,null,null,null,null,{"$f":"IF(COUNTA(I366:O366)<7,\"\",VLOOKUP(ROUNDUP((LEFT(I366,1)*'Criterios de Riesgo'!$C$3+LEFT(J366,1)*'Criterios de Riesgo'!$C$4+LEFT(K366,1)*'Criterios de Riesgo'!$C$5+LEFT(L366,1)*'Criterios de Riesgo'!$C$6+LEFT(M366,1)*'Criterios de Riesgo'!$C$7+LEFT(N366,1)*'Criterios de Riesgo'!$C$8+LEFT(O366,1)*'Criterios de Riesgo'!$C$9),0),Calif_Impacto,2))","v":""},null,"","",{"$f":"IF(OR(Datos!A363=0,Datos!A363=\"\"),P366,IF(ISERROR(VLOOKUP(VLOOKUP(P366,VrImpacto,2,0)-ROUNDDOWN(VLOOKUP(P366,VrImpacto,2,0)*Datos!A363,0),Vr_Impacto,2,1)),\"\",VLOOKUP(VLOOKUP(P366,VrImpacto,2,0)-ROUNDDOWN(VLOOKUP(P366,VrImpacto,2,0)*Datos!A363,0),Vr_Impacto,2,1)))","v":""},{"$f":"IF(Datos!B363=0,Q366,IF(Datos!B363=\"\",Q366,IF(ISERROR(VLOOKUP(VLOOKUP(Q366,Vr_Probabilidad1,2,0)+1-ROUNDDOWN(VLOOKUP(Q366,Vr_Probabilidad1,2,0)*Datos!B363,0),Vr_Probabilidad,2,1)),\"\",VLOOKUP(VLOOKUP(Q366,Vr_Probabilidad1,2,0)-ROUNDDOWN(VLOOKUP(Q366,Vr_Probabilidad1,2,0)*Datos!B363,0),Vr_Probabilidad,2,1))))","v":0},{"$f":"Datos!C363","v":0},"","",""]
["R",null,null,null,null,null,"",null,null,null,null,null,null,null,null,{"$f":"IF(COUNTA(I367:O367)<7,\"\",VLOOKUP(ROUNDUP((LEFT(I367,1)*'Criterios de Riesgo'!$C$3+LEFT(J367,1)*'Criterios de Riesgo'!$C$4+LEFT(K367,1)*'Criterios de Riesgo'!$C$5+LEFT(L367,1)*'Criterios de Riesgo'!$C$6+LEFT(M367,1)*'Criterios de Riesgo'!$C$7+LEFT(N367,1)*'Criterios de Riesgo'!$C$8+LEFT(O367,1)*'Criterios de Riesgo'!$C$9),0),Calif_Impacto,2))","v":""},null,"","",{"$f":"IF(OR(Datos!A364=0,Datos!A364=\"\"),P367,IF(ISERROR(VLOOKUP(VLOOKUP(P367,VrImpacto,2,0)-ROUNDDOWN(VLOOKUP(P367,VrImpacto,2,0)*Datos!A364,0),Vr_Impacto,2,1)),\"\",VLOOKUP(VLOOKUP(P367,VrImpacto,2,0)-ROUNDDOWN(VLOOKUP(P367,VrImpacto,2,0)*Datos!A364,0),Vr_Impacto,2,1)))","v":""},{"$f":"IF(Datos!B364=0,Q367,IF(Datos!B364=\"\",Q367,IF(ISERROR(VLOOKUP(VLOOKUP(Q367,Vr_Probabilidad1,2,0)+1-ROUNDDOWN(VLOOKUP(Q367,Vr_Probabilidad1,2,0)*Datos!B364,0),Vr_Probabilidad,2,1)),\"\",VLOOKUP(VLOOKUP(Q367,Vr_Probabilidad1,2,0)-ROUNDDOWN(VLOOKUP(Q367,Vr_Probabilidad1,2,0)*Datos!B364,0),Vr_Probabilidad,2,1))))","v":0},{"$f":"Datos!C364","v":0},"","",""]
["R",null,null,null,null,null,"",null,null,null,null,null,null,null,null,{"$f":"IF(COUNTA(I368:O368)<7,\"\",VLOOKUP(ROUNDUP((LEFT(I368,1)*'Criterios de Riesgo'!$C$3+LEFT(J368,1)*'Criterios de Riesgo'!$C$4+LEFT(K368,1)*'Criterios de Riesgo'!$C$5+LEFT(L368,1)*'Criterios de Riesgo'!$C$6+LEFT(M368,1)*'Criterios de Riesgo'!$C$7+LEFT(N368,1)*'Criterios de Riesgo'!$C$8+LEFT(O368,1)*'Criterios de Riesgo'!$C$9),0),Calif_Impacto,2))","v":""},null,"","",{"$f":"IF(OR(Datos!A365=0,Datos!A365=\"\"),P368,IF(ISERROR(VLOOKUP(VLOOKUP(P368,VrImpacto,2,0)-ROUNDDOWN(VLOOKUP(P368,VrImpacto,2,0)*Datos!A365,0),Vr_Impacto,2,1)),\"\",VLOOKUP(VLOOKUP(P368,VrImpacto,2,0)-ROUNDDOWN(VLOOKUP(P368,VrImpacto,2,0)*Datos!A365,0),Vr_Impacto,2,1)))","v":""},{"$f":"IF(Datos!B365=0,Q368,IF(Datos!B365=\"\",Q368,IF(ISERROR(VLOOKUP(VLOOKUP(Q368,Vr_Probabilidad1,2,0)+1-ROUNDDOWN(VLOOKUP(Q368,Vr_Probabilidad1,2,0)*Datos!B365,0),Vr_Probabilidad,2,1)),\"\",VLOOKUP(VLOOKUP(Q368,Vr_Probabilidad1,2,0)-ROUNDDOWN(VLOOKUP(Q368,Vr_Probabilidad1,2,0)*Datos!B365,0),Vr_Probabilidad,2,1))))","v":0},{"$f":"Datos!C365","v":0},"","",""]
["R",null,null,null,null,null,"",null,null,null,null,null,null,null,null,{"$f":"IF(COUNTA(I369:O369)<7,\"\",VLOOKUP(ROUNDUP((LEFT(I369,1)*'Criterios de Riesgo'!$C$3+LEFT(J369,1)*'Criterios de Riesgo'!$C$4+LEFT(K369,1)*'Criterios de Riesgo'!$C$5+LEFT(L369,1)*'Criterios de Riesgo'!$C$6+LEFT(M369,1)*'Criterios de Riesgo'!$C$7+LEFT(N369,1)*'Criterios de Riesgo'!$C$8+LEFT(O369,1)*'Criterios de Riesgo'!$C$9),0),Calif_Impacto,2))","v":""},null,"","",{"$f":"IF(OR(Datos!A366=0,Datos!A366=\"\"),P369,IF(ISERROR(VLOOKUP(VLOOKUP(P369,VrImpacto,2,0)-ROUNDDOWN(VLOOKUP(P369,VrImpacto,2,0)*Datos!A366,0),Vr_Impacto,2,1)),\"\",VLOOKUP(VLOOKUP(P369,VrImpacto,2,0)-ROUNDDOWN(VLOOKUP(P369,VrImpacto,2,0)*Datos!A366,0),Vr_Impacto,2,1)))","v":""},{"$f":"IF(Datos!B366=0,Q369,IF(Datos!B366=\"\",Q369,IF(ISERROR(VLOOKUP(VLOOKUP(Q369,Vr_Probabilidad1,2,0)+1-ROUNDDOWN(VLOOKUP(Q369,Vr_Probabilidad1,2,0)*Datos!B366,0),Vr_Probabilidad,2,1)),\"\",VLOOKUP(VLOOKUP(Q369,Vr_Probabilidad1,2,0)-ROUNDDOWN(VLOOKUP(Q369,Vr_Probabilidad1,2,0)*Datos!B366,0),Vr_Probabilidad,2,1))))","v":0},{"$f":"Datos!C366","v":0},"","",""]
["R",null,null,null,null,null,"",null,null,null,null,null,null,null,null,{"$f":"IF(COUNTA(I370:O370)<7,\"\",VLOOKUP(ROUNDUP((LEFT(I370,1)*'Criterios de Riesgo'!$C$3+LEFT(J370,1)*'Criterios de Riesgo'!$C$4+LEFT(K370,1)*'Criterios de Riesgo'!$C$5+LEFT(L370,1)*'Criterios de Riesgo'!$C$6+LEFT(M370,1)*'Criterios de Riesgo'!$C$7+LEFT(N370,1)*'Criterios de Riesgo'!$C$8+LEFT(O370,1)*'Criterios de Riesgo'!$C$9),0),Calif_Impacto,2))","v":""},null,"","",{"$f":"IF(OR(Datos!A367=0,Datos!A367=\"\"),P370,IF(ISERROR(VLOOKUP(VLOOKUP(P370,VrImpacto,2,0)-ROUNDDOWN(VLOOKUP(P370,VrImpacto,2,0)*Datos!A367,0),Vr_Impacto,2,1)),\"\",VLOOKUP(VLOOKUP(P370,VrImpacto,2,0)-ROUNDDOWN(VLOOKUP(P370,VrImpacto,2,0)*Datos!A367,0),Vr_Impacto,2,1)))","v":""},{"$f":"IF(Datos!B367=0,Q370,IF(Datos!B367=\"\",Q370,IF(ISERROR(VLOOKUP(VLOOKUP(Q370,Vr_Probabilidad1,2,0)+1-ROUNDDOWN(VLOOKUP(Q370,Vr_Probabilidad1,2,0)*Datos!B367,0),Vr_Probabilidad,2,1)),\"\",VLOOKUP(VLOOKUP(Q370,Vr_Probabilidad1,2,0)-ROUNDDOWN(VLOOKUP(Q370,Vr_Probabilidad1,2,0)*Datos!B367,0),Vr_Probabilidad,2,1))))","v":0},{"$f":"Datos!C367","v":0},"","",""]
["R",null,null,null,null,null,"",null,null,null,null,null,null,null,null,{"$f":"IF(COUNTA(I371:O371)<7,\"\",VLOOKUP(ROUNDUP((LEFT(I371,1)*'Criterios de Riesgo'!$C$3+LEFT(J371,1)*'Criterios de Riesgo'!$C$4+LEFT(K371,1)*'Criterios de Riesgo'!$C$5+LEFT(L371,1)*'Criterios de Riesgo'!$C$6+LEFT(M371,1)*'Criterios de Riesgo'!$C$7+LEFT(N371,1)*'Criterios de Riesgo'!$C$8+LEFT(O371,1)*'Criterios de Riesgo'!$C$9),0),Calif_Impacto,2))","v":""},null,"","",{"$f":"IF(OR(Datos!A368=0,Datos!A368=\"\"),P371,IF(ISERROR(VLOOKUP(VLOOKUP(P371,VrImpacto,2,0)-ROUNDDOWN(VLOOKUP(P371,VrImpacto,2,0)*Datos!A368,0),Vr_Impacto,2,1)),\"\",VLOOKUP(VLOOKUP(P371,VrImpacto,2,0)-ROUNDDOWN(VLOOKUP(P371,VrImpacto,2,0)*Datos!A368,0),Vr_Impacto,2,1)))","v":""},{"$f":"IF(Datos!B368=0,Q371,IF(Datos!B368=\"\",Q371,IF(ISERROR(VLOOKUP(VLOOKUP(Q371,Vr_Probabilidad1,2,0)+1-ROUNDDOWN(VLOOKUP(Q371,Vr_Probabilidad1,2,0)*Datos!B368,0),Vr_Probabilidad,2,1)),\"\",VLOOKUP(VLOOKUP(Q371,Vr_Probabilidad1,2,0)-ROUNDDOWN(VLOOKUP(Q371,Vr_Probabilidad1,2,0)*Datos!B368,0),Vr_Probabilidad,2,1))))","v":0},{"$f":"Datos!C368","v":0},"","",""]
["R",null,null,null,null,null,"",null,null,null,null,null,null,null,null,{"$f":"IF(COUNTA(I372:O372)<7,\"\",VLOOKUP(ROUNDUP((LEFT(I372,1)*'Criterios de Riesgo'!$C$3+LEFT(J372,1)*'Criterios de Riesgo'!$C$4+LEFT(K372,1)*'Criterios de Riesgo'!$C$5+LEFT(L372,1)*'Criterios de Riesgo'!$C$6+LEFT(M372,1)*'Criterios de Riesgo'!$C$7+LEFT(N372,1)*'Criterios de Riesgo'!$C$8+LEFT(O372,1)*'Criterios de Riesgo'!$C$9),0),Calif_Impacto,2))","v":""},null,"","",{"$f":"IF(OR(Datos!A369=0,Datos!A369=\"\"),P372,IF(ISERROR(VLOOKUP(VLOOKUP(P372,VrImpacto,2,0)-ROUNDDOWN(VLOOKUP(P372,VrImpacto,2,0)*Datos!A369,0),Vr_Impacto,2,1)),\"\",VLOOKUP(VLOOKUP(P372,VrImpacto,2,0)-ROUNDDOWN(VLOOKUP(P372,VrImpacto,2,0)*Datos!A369,0),Vr_Impacto,2,1)))","v":""},{"$f":"IF(Datos!B369=0,Q372,IF(Datos!B369=\"\",Q372,IF(ISERROR(VLOOKUP(VLOOKUP(Q372,Vr_Probabilidad1,2,0)+1-ROUNDDOWN(VLOOKUP(Q372,Vr_Probabilidad1,2,0)*Datos!B369,0),Vr_Probabilidad,2,1)),\"\",VLOOKUP(VLOOKUP(Q372,Vr_Probabilidad1,2,0)-ROUNDDOWN(VLOOKUP(Q372,Vr_Probabilidad1,2,0)*Datos!B369,0),Vr_Probabilidad,2,1))))","v":0},{"$f":"Datos!C369","v":0},"","",""]
["R",null,null,null,null,null,"",null,null,null,null,null,null,null,null,{"$f":"IF(COUNTA(I373:O373)<7,\"\",VLOOKUP(ROUNDUP((LEFT(I373,1)*'Criterios de Riesgo'!$C$3+LEFT(J373,1)*'Criterios de Riesgo'!$C$4+LEFT(K373,1)*'Criterios de Riesgo'!$C$5+LEFT(L373,1)*'Criterios de Riesgo'!$C$6+LEFT(M373,1)*'Criterios de Riesgo'!$C$7+LEFT(N373,1)*'Criterios de Riesgo'!$C$8+LEFT(O373,1)*'Criterios de Riesgo'!$C$9),0),Calif_Impacto,2))","v":""},null,"","",{"$f":"IF(OR(Datos!A370=0,Datos!A370=\"\"),P373,IF(ISERROR(VLOOKUP(VLOOKUP(P373,VrImpacto,2,0)-ROUNDDOWN(VLOOKUP(P373,VrImpacto,2,0)*Datos!A370,0),Vr_Impacto,2,1)),\"\",VLOOKUP(VLOOKUP(P373,VrImpacto,2,0)-ROUNDDOWN(VLOOKUP(P373,VrImpacto,2,0)*Datos!A370,0),Vr_Impacto,2,1)))","v":""},{"$f":"IF(Datos!B370=0,Q373,IF(Datos!B370=\"\",Q373,IF(ISERROR(VLOOKUP(VLOOKUP(Q373,Vr_Probabilidad1,2,0)+1-ROUNDDOWN(VLOOKUP(Q373,Vr_Probabilidad1,2,0)*Datos!B370,0),Vr_Probabilidad,2,1)),\"\",VLOOKUP(VLOOKUP(Q373,Vr_Probabilidad1,2,0)-ROUNDDOWN(VLOOKUP(Q373,Vr_Probabilidad1,2,0)*Datos!B370,0),Vr_Probabilidad,2,1))))","v":0},{"$f":"Datos!C370","v":0},"","",""]
["R",null,null,null,null,null,"",null,null,null,null,null,null,null,null,{"$f":"IF(COUNTA(I374:O374)<7,\"\",VLOOKUP(ROUNDUP((LEFT(I374,1)*'Criterios de Riesgo'!$C$3+LEFT(J374,1)*'Criterios de Riesgo'!$C$4+LEFT(K374,1)*'Criterios de Riesgo'!$C$5+LEFT(L374,1)*'Criterios de Riesgo'!$C$6+LEFT(M374,1)*'Criterios de Riesgo'!$C$7+LEFT(N374,1)*'Criterios de Riesgo'!$C$8+LEFT(O374,1)*'Criterios de Riesgo'!$C$9),0),Calif_Impacto,2))","v":""},null,"","",{"$f":"IF(OR(Datos!A371=0,Datos!A371=\"\"),P374,IF(ISERROR(VLOOKUP(VLOOKUP(P374,VrImpacto,2,0)-ROUNDDOWN(VLOOKUP(P374,VrImpacto,2,0)*Datos!A371,0),Vr_Impacto,2,1)),\"\",VLOOKUP(VLOOKUP(P374,VrImpacto,2,0)-ROUNDDOWN(VLOOKUP(P374,VrImpacto,2,0)*Datos!A371,0),Vr_Impacto,2,1)))","v":""},{"$f":"IF(Datos!B371=0,Q374,IF(Datos!B371=\"\",Q374,IF(ISERROR(VLOOKUP(VLOOKUP(Q374,Vr_Probabilidad1,2,0)+1-ROUNDDOWN(VLOOKUP(Q374,Vr_Probabilidad1,2,0)*Datos!B371,0),Vr_Probabilidad,2,1)),\"\",VLOOKUP(VLOOKUP(Q374,Vr_Probabilidad1,2,0)-ROUNDDOWN(VLOOKUP(Q374,Vr_Probabilidad1,2,0)*Datos!B371,0),Vr_Probabilidad,2,1))))","v":0},{"$f":"Datos!C371","v":0},"","",""]
["R",null,null,null,null,null,"",null,null,null,null,null,null,null,null,{"$f":"IF(COUNTA(I375:O375)<7,\"\",VLOOKUP(ROUNDUP((LEFT(I375,1)*'Criterios de Riesgo'!$C$3+LEFT(J375,1)*'Criterios de Riesgo'!$C$4+LEFT(K375,1)*'Criterios de Riesgo'!$C$5+LEFT(L375,1)*'Criterios de Riesgo'!$C$6+LEFT(M375,1)*'Criterios de Riesgo'!$C$7+LEFT(N375,1)*'Criterios de Riesgo'!$C$8+LEFT(O375,1)*'Criterios de Riesgo'!$C$9),0),Calif_Impacto,2))","v":""},null,"","",{"$f":"IF(OR(Datos!A372=0,Datos!A372=\"\"),P375,IF(ISERROR(VLOOKUP(VLOOKUP(P375,VrImpacto,2,0)-ROUNDDOWN(VLOOKUP(P375,VrImpacto,2,0)*Datos!A372,0),Vr_Impacto,2,1)),\"\",VLOOKUP(VLOOKUP(P375,VrImpacto,2,0)-ROUNDDOWN(VLOOKUP(P375,VrImpacto,2,0)*Datos!A372,0),Vr_Impacto,2,1)))","v":""},{"$f":"IF(Datos!B372=0,Q375,IF(Datos!B372=\"\",Q375,IF(ISERROR(VLOOKUP(VLOOKUP(Q375,Vr_Probabilidad1,2,0)+1-ROUNDDOWN(VLOOKUP(Q375,Vr_Probabilidad1,2,0)*Datos!B372,0),Vr_Probabilidad,2,1)),\"\",VLOOKUP(VLOOKUP(Q375,Vr_Probabilidad1,2,0)-ROUNDDOWN(VLOOKUP(Q375,Vr_Probabilidad1,2,0)*Datos!B372,0),Vr_Probabilidad,2,1))))","v":0},{"$f":"Datos!C372","v":0},"","",""]
["R",null,null,null,null,null,{"$f":"IF(ISERROR(VLOOKUP(F376,EventosPerdida,2,0)),\"\",VLOOKUP(F376,EventosPerdida,2,0))","v":""},null,null,null,null,null,null,null,null,{"$f":"IF(COUNTA(I376:O376)<7,\"\",VLOOKUP(ROUNDUP((LEFT(I376,1)*'Criterios de Riesgo'!$C$3+LEFT(J376,1)*'Criterios de Riesgo'!$C$4+LEFT(K376,1)*'Criterios de Riesgo'!$C$5+LEFT(L376,1)*'Criterios de Riesgo'!$C$6+LEFT(M376,1)*'Criterios de Riesgo'!$C$7+LEFT(N376,1)*'Criterios de Riesgo'!$C$8+LEFT(O376,1)*'Criterios de Riesgo'!$C$9),0),Calif_Impacto,2))","v":""},null,{"$f":"IF(OR(P376=\"\",Q376=\"\"),\"\",VLOOKUP(P376,VrImpacto,2,0)*VLOOKUP(Q376,Vr_Probabilidad1,2,0))","v":""},{"$f":"IF(ISERROR(VLOOKUP(Q376&\"-\"&P376,NivelRiesgo,3,0)),\"\",VLOOKUP(Q376&\"-\"&P376,NivelRiesgo,3,0))","v":""},{"$f":"IF(OR(Datos!A373=0,Datos!A373=\"\"),P376,IF(ISERROR(VLOOKUP(VLOOKUP(P376,VrImpacto,2,0)-ROUNDDOWN(VLOOKUP(P376,VrImpacto,2,0)*Datos!A373,0),Vr_Impacto,2,1)),\"\",VLOOKUP(VLOOKUP(P376,VrImpacto,2,0)-ROUNDDOWN(VLOOKUP(P376,VrImpacto,2,0)*Datos!A373,0),Vr_Impacto,2,1)))","v":""},{"$f":"IF(Datos!B373=0,Q376,IF(Datos!B373=\"\",Q376,IF(ISERROR(VLOOKUP(VLOOKUP(Q376,Vr_Probabilidad1,2,0)+1-ROUNDDOWN(VLOOKUP(Q376,Vr_Probabilidad1,2,0)*Datos!B373,0),Vr_Probabilidad,2,1)),\"\",VLOOKUP(VLOOKUP(Q376,Vr_Probabilidad1,2,0)-ROUNDDOWN(VLOOKUP(Q376,Vr_Probabilidad1,2,0)*Datos!B373,0),Vr_Probabilidad,2,1))))","v":0},{"$f":"Datos!C373","v":0},"","",{"$f":"IF(ISERROR(VLOOKUP(X376,Criterio_Riesgo_Residual,2,1)),\"\",VLOOKUP(X376,Criterio_Riesgo_Residual,2,1))","v":""}]
["R",null,null,null,null,null,"",null,null,null,null,null,null,null,null,{"$f":"IF(COUNTA(I377:O377)<7,\"\",VLOOKUP(ROUNDUP((LEFT(I377,1)*'Criterios de Riesgo'!$C$3+LEFT(J377,1)*'Criterios de Riesgo'!$C$4+LEFT(K377,1)*'Criterios de Riesgo'!$C$5+LEFT(L377,1)*'Criterios de Riesgo'!$C$6+LEFT(M377,1)*'Criterios de Riesgo'!$C$7+LEFT(N377,1)*'Criterios de Riesgo'!$C$8+LEFT(O377,1)*'Criterios de Riesgo'!$C$9),0),Calif_Impacto,2))","v":""},null,"","",{"$f":"IF(OR(Datos!A374=0,Datos!A374=\"\"),P377,IF(ISERROR(VLOOKUP(VLOOKUP(P377,VrImpacto,2,0)-ROUNDDOWN(VLOOKUP(P377,VrImpacto,2,0)*Datos!A374,0),Vr_Impacto,2,1)),\"\",VLOOKUP(VLOOKUP(P377,VrImpacto,2,0)-ROUNDDOWN(VLOOKUP(P377,VrImpacto,2,0)*Datos!A374,0),Vr_Impacto,2,1)))","v":""},{"$f":"IF(Datos!B374=0,Q377,IF(Datos!B374=\"\",Q377,IF(ISERROR(VLOOKUP(VLOOKUP(Q377,Vr_Probabilidad1,2,0)+1-ROUNDDOWN(VLOOKUP(Q377,Vr_Probabilidad1,2,0)*Datos!B374,0),Vr_Probabilidad,2,1)),\"\",VLOOKUP(VLOOKUP(Q377,Vr_Probabilidad1,2,0)-ROUNDDOWN(VLOOKUP(Q377,Vr_Probabilidad1,2,0)*Datos!B374,0),Vr_Probabilidad,2,1))))","v":0},{"$f":"Datos!C374","v":0},"","",""]
["R",null,null,null,null,null,"",null,null,null,null,null,null,null,null,{"$f":"IF(COUNTA(I378:O378)<7,\"\",VLOOKUP(ROUNDUP((LEFT(I378,1)*'Criterios de Riesgo'!$C$3+LEFT(J378,1)*'Criterios de Riesgo'!$C$4+LEFT(K378,1)*'Criterios de Riesgo'!$C$5+LEFT(L378,1)*'Criterios de Riesgo'!$C$6+LEFT(M378,1)*'Criterios de Riesgo'!$C$7+LEFT(N378,1)*'Criterios de Riesgo'!$C$8+LEFT(O378,1)*'Criterios de Riesgo'!$C$9),0),Calif_Impacto,2))","v":""},null,"","",{"$f":"IF(OR(Datos!A375=0,Datos!A375=\"\"),P378,IF(ISERROR(VLOOKUP(VLOOKUP(P378,VrImpacto,2,0)-ROUNDDOWN(VLOOKUP(P378,VrImpacto,2,0)*Datos!A375,0),Vr_Impacto,2,1)),\"\",VLOOKUP(VLOOKUP(P378,VrImpacto,2,0)-ROUNDDOWN(VLOOKUP(P378,VrImpacto,2,0)*Datos!A375,0),Vr_Impacto,2,1)))","v":""},{"$f":"IF(Datos!B375=0,Q378,IF(Datos!B375=\"\",Q378,IF(ISERROR(VLOOKUP(VLOOKUP(Q378,Vr_Probabilidad1,2,0)+1-ROUNDDOWN(VLOOKUP(Q378,Vr_Probabilidad1,2,0)*Datos!B375,0),Vr_Probabilidad,2,1)),\"\",VLOOKUP(VLOOKUP(Q378,Vr_Probabilidad1,2,0)-ROUNDDOWN(VLOOKUP(Q378,Vr_Probabilidad1,2,0)*Datos!B375,0),Vr_Probabilidad,2,1))))","v":0},{"$f":"Datos!C375","v":0},{"$f":"IF(X378=\"\",\"\",R378-X378)","v":""},{"$f":"IF(R378=\"\",\"\",VLOOKUP(T378,VrImpacto,2,0)*VLOOKUP(U378,Vr_Probabilidad1,2,0))","v":""},""]
["R",null,null,null,null,null,"",null,null,null,null,null,null,null,null,{"$f":"IF(COUNTA(I379:O379)<7,\"\",VLOOKUP(ROUNDUP((LEFT(I379,1)*'Criterios de Riesgo'!$C$3+LEFT(J379,1)*'Criterios de Riesgo'!$C$4+LEFT(K379,1)*'Criterios de Riesgo'!$C$5+LEFT(L379,1)*'Criterios de Riesgo'!$C$6+LEFT(M379,1)*'Criterios de Riesgo'!$C$7+LEFT(N379,1)*'Criterios de Riesgo'!$C$8+LEFT(O379,1)*'Criterios de Riesgo'!$C$9),0),Calif_Impacto,2))","v":""},null,"","",{"$f":"IF(OR(Datos!A376=0,Datos!A376=\"\"),P379,IF(ISERROR(VLOOKUP(VLOOKUP(P379,VrImpacto,2,0)-ROUNDDOWN(VLOOKUP(P379,VrImpacto,2,0)*Datos!A376,0),Vr_Impacto,2,1)),\"\",VLOOKUP(VLOOKUP(P379,VrImpacto,2,0)-ROUNDDOWN(VLOOKUP(P379,VrImpacto,2,0)*Datos!A376,0),Vr_Impacto,2,1)))","v":""},{"$f":"IF(Datos!B376=0,Q379,IF(Datos!B376=\"\",Q379,IF(ISERROR(VLOOKUP(VLOOKUP(Q379,Vr_Probabilidad1,2,0)+1-ROUNDDOWN(VLOOKUP(Q379,Vr_Probabilidad1,2,0)*Datos!B376,0),Vr_Probabilidad,2,1)),\"\",VLOOKUP(VLOOKUP(Q379,Vr_Probabilidad1,2,0)-ROUNDDOWN(VLOOKUP(Q379,Vr_Probabilidad1,2,0)*Datos!B376,0),Vr_Probabilidad,2,1))))","v":0},{"$f":"Datos!C376","v":0},"","",""]
["R",null,null,null,null,null,"",null,null,null,null,null,null,null,null,{"$f":"IF(COUNTA(I380:O380)<7,\"\",VLOOKUP(ROUNDUP((LEFT(I380,1)*'Criterios de Riesgo'!$C$3+LEFT(J380,1)*'Criterios de Riesgo'!$C$4+LEFT(K380,1)*'Criterios de Riesgo'!$C$5+LEFT(L380,1)*'Criterios de Riesgo'!$C$6+LEFT(M380,1)*'Criterios de Riesgo'!$C$7+LEFT(N380,1)*'Criterios de Riesgo'!$C$8+LEFT(O380,1)*'Criterios de Riesgo'!$C$9),0),Calif_Impacto,2))","v":""},null,"","",{"$f":"IF(OR(Datos!A377=0,Datos!A377=\"\"),P380,IF(ISERROR(VLOOKUP(VLOOKUP(P380,VrImpacto,2,0)-ROUNDDOWN(VLOOKUP(P380,VrImpacto,2,0)*Datos!A377,0),Vr_Impacto,2,1)),\"\",VLOOKUP(VLOOKUP(P380,VrImpacto,2,0)-ROUNDDOWN(VLOOKUP(P380,VrImpacto,2,0)*Datos!A377,0),Vr_Impacto,2,1)))","v":""},{"$f":"IF(Datos!B377=0,Q380,IF(Datos!B377=\"\",Q380,IF(ISERROR(VLOOKUP(VLOOKUP(Q380,Vr_Probabilidad1,2,0)+1-ROUNDDOWN(VLOOKUP(Q380,Vr_Probabilidad1,2,0)*Datos!B377,0),Vr_Probabilidad,2,1)),\"\",VLOOKUP(VLOOKUP(Q380,Vr_Probabilidad1,2,0)-ROUNDDOWN(VLOOKUP(Q380,Vr_Probabilidad1,2,0)*Datos!B377,0),Vr_Probabilidad,2,1))))","v":0},{"$f":"Datos!C377","v":0},"","",""]
["R",null,null,null,null,null,"",null,null,null,null,null,null,null,null,{"$f":"IF(COUNTA(I381:O381)<7,\"\",VLOOKUP(ROUNDUP((LEFT(I381,1)*'Criterios de Riesgo'!$C$3+LEFT(J381,1)*'Criterios de Riesgo'!$C$4+LEFT(K381,1)*'Criterios de Riesgo'!$C$5+LEFT(L381,1)*'Criterios de Riesgo'!$C$6+LEFT(M381,1)*'Criterios de Riesgo'!$C$7+LEFT(N381,1)*'Criterios de Riesgo'!$C$8+LEFT(O381,1)*'Criterios de Riesgo'!$C$9),0),Calif_Impacto,2))","v":""},null,"","",{"$f":"IF(OR(Datos!A378=0,Datos!A378=\"\"),P381,IF(ISERROR(VLOOKUP(VLOOKUP(P381,VrImpacto,2,0)-ROUNDDOWN(VLOOKUP(P381,VrImpacto,2,0)*Datos!A378,0),Vr_Impacto,2,1)),\"\",VLOOKUP(VLOOKUP(P381,VrImpacto,2,0)-ROUNDDOWN(VLOOKUP(P381,VrImpacto,2,0)*Datos!A378,0),Vr_Impacto,2,1)))","v":""},{"$f":"IF(Datos!B378=0,Q381,IF(Datos!B378=\"\",Q381,IF(ISERROR(VLOOKUP(VLOOKUP(Q381,Vr_Probabilidad1,2,0)+1-ROUNDDOWN(VLOOKUP(Q381,Vr_Probabilidad1,2,0)*Datos!B378,0),Vr_Probabilidad,2,1)),\"\",VLOOKUP(VLOOKUP(Q381,Vr_Probabilidad1,2,0)-ROUNDDOWN(VLOOKUP(Q381,Vr_Probabilidad1,2,0)*Datos!B378,0),Vr_Probabilidad,2,1))))","v":0},{"$f":"Datos!C378","v":0},"","",""]
["R",null,null,null,null,null,"",null,null,null,null,null,null,null,null,{"$f":"IF(COUNTA(I382:O382)<7,\"\",VLOOKUP(ROUNDUP((LEFT(I382,1)*'Criterios de Riesgo'!$C$3+LEFT(J382,1)*'Criterios de Riesgo'!$C$4+LEFT(K382,1)*'Criterios de Riesgo'!$C$5+LEFT(L382,1)*'Criterios de Riesgo'!$C$6+LEFT(M382,1)*'Criterios de Riesgo'!$C$7+LEFT(N382,1)*'Criterios de Riesgo'!$C$8+LEFT(O382,1)*'Criterios de Riesgo'!$C$9),0),Calif_Impacto,2))","v":""},null,"","",{"$f":"IF(OR(Datos!A379=0,Datos!A379=\"\"),P382,IF(ISERROR(VLOOKUP(VLOOKUP(P382,VrImpacto,2,0)-ROUNDDOWN(VLOOKUP(P382,VrImpacto,2,0)*Datos!A379,0),Vr_Impacto,2,1)),\"\",VLOOKUP(VLOOKUP(P382,VrImpacto,2,0)-ROUNDDOWN(VLOOKUP(P382,VrImpacto,2,0)*Datos!A379,0),Vr_Impacto,2,1)))","v":""},{"$f":"IF(Datos!B379=0,Q382,IF(Datos!B379=\"\",Q382,IF(ISERROR(VLOOKUP(VLOOKUP(Q382,Vr_Probabilidad1,2,0)+1-ROUNDDOWN(VLOOKUP(Q382,Vr_Probabilidad1,2,0)*Datos!B379,0),Vr_Probabilidad,2,1)),\"\",VLOOKUP(VLOOKUP(Q382,Vr_Probabilidad1,2,0)-ROUNDDOWN(VLOOKUP(Q382,Vr_Probabilidad1,2,0)*Datos!B379,0),Vr_Probabilidad,2,1))))","v":0},{"$f":"Datos!C379","v":0},"","",""]
["R",null,null,null,null,null,"",null,null,null,null,null,null,null,null,{"$f":"IF(COUNTA(I383:O383)<7,\"\",VLOOKUP(ROUNDUP((LEFT(I383,1)*'Criterios de Riesgo'!$C$3+LEFT(J383,1)*'Criterios de Riesgo'!$C$4+LEFT(K383,1)*'Criterios de Riesgo'!$C$5+LEFT(L383,1)*'Criterios de Riesgo'!$C$6+LEFT(M383,1)*'Criterios de Riesgo'!$C$7+LEFT(N383,1)*'Criterios de Riesgo'!$C$8+LEFT(O383,1)*'Criterios de Riesgo'!$C$9),0),Calif_Impacto,2))","v":""},null,"","",{"$f":"IF(OR(Datos!A380=0,Datos!A380=\"\"),P383,IF(ISERROR(VLOOKUP(VLOOKUP(P383,VrImpacto,2,0)-ROUNDDOWN(VLOOKUP(P383,VrImpacto,2,0)*Datos!A380,0),Vr_Impacto,2,1)),\"\",VLOOKUP(VLOOKUP(P383,VrImpacto,2,0)-ROUNDDOWN(VLOOKUP(P383,VrImpacto,2,0)*Datos!A380,0),Vr_Impacto,2,1)))","v":""},{"$f":"IF(Datos!B380=0,Q383,IF(Datos!B380=\"\",Q383,IF(ISERROR(VLOOKUP(VLOOKUP(Q383,Vr_Probabilidad1,2,0)+1-ROUNDDOWN(VLOOKUP(Q383,Vr_Probabilidad1,2,0)*Datos!B380,0),Vr_Probabilidad,2,1)),\"\",VLOOKUP(VLOOKUP(Q383,Vr_Probabilidad1,2,0)-ROUNDDOWN(VLOOKUP(Q383,Vr_Probabilidad1,2,0)*Datos!B380,0),Vr_Probabilidad,2,1))))","v":0},{"$f":"Datos!C380","v":0},"","",""]
["R",null,null,null,null,null,"",null,null,null,null,null,null,null,null,{"$f":"IF(COUNTA(I384:O384)<7,\"\",VLOOKUP(ROUNDUP((LEFT(I384,1)*'Criterios de Riesgo'!$C$3+LEFT(J384,1)*'Criterios de Riesgo'!$C$4+LEFT(K384,1)*'Criterios de Riesgo'!$C$5+LEFT(L384,1)*'Criterios de Riesgo'!$C$6+LEFT(M384,1)*'Criterios de Riesgo'!$C$7+LEFT(N384,1)*'Criterios de Riesgo'!$C$8+LEFT(O384,1)*'Criterios de Riesgo'!$C$9),0),Calif_Impacto,2))","v":""},null,"","",{"$f":"IF(OR(Datos!A381=0,Datos!A381=\"\"),P384,IF(ISERROR(VLOOKUP(VLOOKUP(P384,VrImpacto,2,0)-ROUNDDOWN(VLOOKUP(P384,VrImpacto,2,0)*Datos!A381,0),Vr_Impacto,2,1)),\"\",VLOOKUP(VLOOKUP(P384,VrImpacto,2,0)-ROUNDDOWN(VLOOKUP(P384,VrImpacto,2,0)*Datos!A381,0),Vr_Impacto,2,1)))","v":""},{"$f":"IF(Datos!B381=0,Q384,IF(Datos!B381=\"\",Q384,IF(ISERROR(VLOOKUP(VLOOKUP(Q384,Vr_Probabilidad1,2,0)+1-ROUNDDOWN(VLOOKUP(Q384,Vr_Probabilidad1,2,0)*Datos!B381,0),Vr_Probabilidad,2,1)),\"\",VLOOKUP(VLOOKUP(Q384,Vr_Probabilidad1,2,0)-ROUNDDOWN(VLOOKUP(Q384,Vr_Probabilidad1,2,0)*Datos!B381,0),Vr_Probabilidad,2,1))))","v":0},{"$f":"Datos!C381","v":0},"","",""]
["R",null,null,null,null,null,"",null,null,null,null,null,null,null,null,{"$f":"IF(COUNTA(I385:O385)<7,\"\",VLOOKUP(ROUNDUP((LEFT(I385,1)*'Criterios de Riesgo'!$C$3+LEFT(J385,1)*'Criterios de Riesgo'!$C$4+LEFT(K385,1)*'Criterios de Riesgo'!$C$5+LEFT(L385,1)*'Criterios de Riesgo'!$C$6+LEFT(M385,1)*'Criterios de Riesgo'!$C$7+LEFT(N385,1)*'Criterios de Riesgo'!$C$8+LEFT(O385,1)*'Criterios de Riesgo'!$C$9),0),Calif_Impacto,2))","v":""},null,"","",{"$f":"IF(OR(Datos!A382=0,Datos!A382=\"\"),P385,IF(ISERROR(VLOOKUP(VLOOKUP(P385,VrImpacto,2,0)-ROUNDDOWN(VLOOKUP(P385,VrImpacto,2,0)*Datos!A382,0),Vr_Impacto,2,1)),\"\",VLOOKUP(VLOOKUP(P385,VrImpacto,2,0)-ROUNDDOWN(VLOOKUP(P385,VrImpacto,2,0)*Datos!A382,0),Vr_Impacto,2,1)))","v":""},{"$f":"IF(Datos!B382=0,Q385,IF(Datos!B382=\"\",Q385,IF(ISERROR(VLOOKUP(VLOOKUP(Q385,Vr_Probabilidad1,2,0)+1-ROUNDDOWN(VLOOKUP(Q385,Vr_Probabilidad1,2,0)*Datos!B382,0),Vr_Probabilidad,2,1)),\"\",VLOOKUP(VLOOKUP(Q385,Vr_Probabilidad1,2,0)-ROUNDDOWN(VLOOKUP(Q385,Vr_Probabilidad1,2,0)*Datos!B382,0),Vr_Probabilidad,2,1))))","v":0},{"$f":"Datos!C382","v":0},"","",""]
["R",null,null,null,null,null,"",null,null,null,null,null,null,null,null,{"$f":"IF(COUNTA(I386:O386)<7,\"\",VLOOKUP(ROUNDUP((LEFT(I386,1)*'Criterios de Riesgo'!$C$3+LEFT(J386,1)*'Criterios de Riesgo'!$C$4+LEFT(K386,1)*'Criterios de Riesgo'!$C$5+LEFT(L386,1)*'Criterios de Riesgo'!$C$6+LEFT(M386,1)*'Criterios de Riesgo'!$C$7+LEFT(N386,1)*'Criterios de Riesgo'!$C$8+LEFT(O386,1)*'Criterios de Riesgo'!$C$9),0),Calif_Impacto,2))","v":""},null,"","",{"$f":"IF(OR(Datos!A383=0,Datos!A383=\"\"),P386,IF(ISERROR(VLOOKUP(VLOOKUP(P386,VrImpacto,2,0)-ROUNDDOWN(VLOOKUP(P386,VrImpacto,2,0)*Datos!A383,0),Vr_Impacto,2,1)),\"\",VLOOKUP(VLOOKUP(P386,VrImpacto,2,0)-ROUNDDOWN(VLOOKUP(P386,VrImpacto,2,0)*Datos!A383,0),Vr_Impacto,2,1)))","v":""},{"$f":"IF(Datos!B383=0,Q386,IF(Datos!B383=\"\",Q386,IF(ISERROR(VLOOKUP(VLOOKUP(Q386,Vr_Probabilidad1,2,0)+1-ROUNDDOWN(VLOOKUP(Q386,Vr_Probabilidad1,2,0)*Datos!B383,0),Vr_Probabilidad,2,1)),\"\",VLOOKUP(VLOOKUP(Q386,Vr_Probabilidad1,2,0)-ROUNDDOWN(VLOOKUP(Q386,Vr_Probabilidad1,2,0)*Datos!B383,0),Vr_Probabilidad,2,1))))","v":0},{"$f":"Datos!C383","v":0},"","",""]
["R",null,null,null,null,null,"",null,null,null,null,null,null,null,null,{"$f":"IF(COUNTA(I387:O387)<7,\"\",VLOOKUP(ROUNDUP((LEFT(I387,1)*'Criterios de Riesgo'!$C$3+LEFT(J387,1)*'Criterios de Riesgo'!$C$4+LEFT(K387,1)*'Criterios de Riesgo'!$C$5+LEFT(L387,1)*'Criterios de Riesgo'!$C$6+LEFT(M387,1)*'Criterios de Riesgo'!$C$7+LEFT(N387,1)*'Criterios de Riesgo'!$C$8+LEFT(O387,1)*'Criterios de Riesgo'!$C$9),0),Calif_Impacto,2))","v":""},null,"","",{"$f":"IF(OR(Datos!A384=0,Datos!A384=\"\"),P387,IF(ISERROR(VLOOKUP(VLOOKUP(P387,VrImpacto,2,0)-ROUNDDOWN(VLOOKUP(P387,VrImpacto,2,0)*Datos!A384,0),Vr_Impacto,2,1)),\"\",VLOOKUP(VLOOKUP(P387,VrImpacto,2,0)-ROUNDDOWN(VLOOKUP(P387,VrImpacto,2,0)*Datos!A384,0),Vr_Impacto,2,1)))","v":""},{"$f":"IF(Datos!B384=0,Q387,IF(Datos!B384=\"\",Q387,IF(ISERROR(VLOOKUP(VLOOKUP(Q387,Vr_Probabilidad1,2,0)+1-ROUNDDOWN(VLOOKUP(Q387,Vr_Probabilidad1,2,0)*Datos!B384,0),Vr_Probabilidad,2,1)),\"\",VLOOKUP(VLOOKUP(Q387,Vr_Probabilidad1,2,0)-ROUNDDOWN(VLOOKUP(Q387,Vr_Probabilidad1,2,0)*Datos!B384,0),Vr_Probabilidad,2,1))))","v":0},{"$f":"Datos!C384","v":0},"","",""]
["R",null,null,null,null,null,"",null,null,null,null,null,null,null,null,{"$f":"IF(COUNTA(I388:O388)<7,\"\",VLOOKUP(ROUNDUP((LEFT(I388,1)*'Criterios de Riesgo'!$C$3+LEFT(J388,1)*'Criterios de Riesgo'!$C$4+LEFT(K388,1)*'Criterios de Riesgo'!$C$5+LEFT(L388,1)*'Criterios de Riesgo'!$C$6+LEFT(M388,1)*'Criterios de Riesgo'!$C$7+LEFT(N388,1)*'Criterios de Riesgo'!$C$8+LEFT(O388,1)*'Criterios de Riesgo'!$C$9),0),Calif_Impacto,2))","v":""},null,"","",{"$f":"IF(OR(Datos!A385=0,Datos!A385=\"\"),P388,IF(ISERROR(VLOOKUP(VLOOKUP(P388,VrImpacto,2,0)-ROUNDDOWN(VLOOKUP(P388,VrImpacto,2,0)*Datos!A385,0),Vr_Impacto,2,1)),\"\",VLOOKUP(VLOOKUP(P388,VrImpacto,2,0)-ROUNDDOWN(VLOOKUP(P388,VrImpacto,2,0)*Datos!A385,0),Vr_Impacto,2,1)))","v":""},{"$f":"IF(Datos!B385=0,Q388,IF(Datos!B385=\"\",Q388,IF(ISERROR(VLOOKUP(VLOOKUP(Q388,Vr_Probabilidad1,2,0)+1-ROUNDDOWN(VLOOKUP(Q388,Vr_Probabilidad1,2,0)*Datos!B385,0),Vr_Probabilidad,2,1)),\"\",VLOOKUP(VLOOKUP(Q388,Vr_Probabilidad1,2,0)-ROUNDDOWN(VLOOKUP(Q388,Vr_Probabilidad1,2,0)*Datos!B385,0),Vr_Probabilidad,2,1))))","v":0},{"$f":"Datos!C385","v":0},"","",""]
["R",null,null,null,null,null,"",null,null,null,null,null,null,null,null,{"$f":"IF(COUNTA(I389:O389)<7,\"\",VLOOKUP(ROUNDUP((LEFT(I389,1)*'Criterios de Riesgo'!$C$3+LEFT(J389,1)*'Criterios de Riesgo'!$C$4+LEFT(K389,1)*'Criterios de Riesgo'!$C$5+LEFT(L389,1)*'Criterios de Riesgo'!$C$6+LEFT(M389,1)*'Criterios de Riesgo'!$C$7+LEFT(N389,1)*'Criterios de Riesgo'!$C$8+LEFT(O389,1)*'Criterios de Riesgo'!$C$9),0),Calif_Impacto,2))","v":""},null,"","",{"$f":"IF(OR(Datos!A386=0,Datos!A386=\"\"),P389,IF(ISERROR(VLOOKUP(VLOOKUP(P389,VrImpacto,2,0)-ROUNDDOWN(VLOOKUP(P389,VrImpacto,2,0)*Datos!A386,0),Vr_Impacto,2,1)),\"\",VLOOKUP(VLOOKUP(P389,VrImpacto,2,0)-ROUNDDOWN(VLOOKUP(P389,VrImpacto,2,0)*Datos!A386,0),Vr_Impacto,2,1)))","v":""},{"$f":"IF(Datos!B386=0,Q389,IF(Datos!B386=\"\",Q389,IF(ISERROR(VLOOKUP(VLOOKUP(Q389,Vr_Probabilidad1,2,0)+1-ROUNDDOWN(VLOOKUP(Q389,Vr_Probabilidad1,2,0)*Datos!B386,0),Vr_Probabilidad,2,1)),\"\",VLOOKUP(VLOOKUP(Q389,Vr_Probabilidad1,2,0)-ROUNDDOWN(VLOOKUP(Q389,Vr_Probabilidad1,2,0)*Datos!B386,0),Vr_Probabilidad,2,1))))","v":0},{"$f":"Datos!C386","v":0},"","",""]
["R",null,null,null,null,null,"",null,null,null,null,null,null,null,null,{"$f":"IF(COUNTA(I390:O390)<7,\"\",VLOOKUP(ROUNDUP((LEFT(I390,1)*'Criterios de Riesgo'!$C$3+LEFT(J390,1)*'Criterios de Riesgo'!$C$4+LEFT(K390,1)*'Criterios de Riesgo'!$C$5+LEFT(L390,1)*'Criterios de Riesgo'!$C$6+LEFT(M390,1)*'Criterios de Riesgo'!$C$7+LEFT(N390,1)*'Criterios de Riesgo'!$C$8+LEFT(O390,1)*'Criterios de Riesgo'!$C$9),0),Calif_Impacto,2))","v":""},null,"","",{"$f":"IF(OR(Datos!A387=0,Datos!A387=\"\"),P390,IF(ISERROR(VLOOKUP(VLOOKUP(P390,VrImpacto,2,0)-ROUNDDOWN(VLOOKUP(P390,VrImpacto,2,0)*Datos!A387,0),Vr_Impacto,2,1)),\"\",VLOOKUP(VLOOKUP(P390,VrImpacto,2,0)-ROUNDDOWN(VLOOKUP(P390,VrImpacto,2,0)*Datos!A387,0),Vr_Impacto,2,1)))","v":""},{"$f":"IF(Datos!B387=0,Q390,IF(Datos!B387=\"\",Q390,IF(ISERROR(VLOOKUP(VLOOKUP(Q390,Vr_Probabilidad1,2,0)+1-ROUNDDOWN(VLOOKUP(Q390,Vr_Probabilidad1,2,0)*Datos!B387,0),Vr_Probabilidad,2,1)),\"\",VLOOKUP(VLOOKUP(Q390,Vr_Probabilidad1,2,0)-ROUNDDOWN(VLOOKUP(Q390,Vr_Probabilidad1,2,0)*Datos!B387,0),Vr_Probabilidad,2,1))))","v":0},{"$f":"Datos!C387","v":0},"","",""]
["R",null,null,null,null,null,"",null,null,null,null,null,null,null,null,{"$f":"IF(COUNTA(I391:O391)<7,\"\",VLOOKUP(ROUNDUP((LEFT(I391,1)*'Criterios de Riesgo'!$C$3+LEFT(J391,1)*'Criterios de Riesgo'!$C$4+LEFT(K391,1)*'Criterios de Riesgo'!$C$5+LEFT(L391,1)*'Criterios de Riesgo'!$C$6+LEFT(M391,1)*'Criterios de Riesgo'!$C$7+LEFT(N391,1)*'Criterios de Riesgo'!$C$8+LEFT(O391,1)*'Criterios de Riesgo'!$C$9),0),Calif_Impacto,2))","v":""},null,"","",{"$f":"IF(OR(Datos!A388=0,Datos!A388=\"\"),P391,IF(ISERROR(VLOOKUP(VLOOKUP(P391,VrImpacto,2,0)-ROUNDDOWN(VLOOKUP(P391,VrImpacto,2,0)*Datos!A388,0),Vr_Impacto,2,1)),\"\",VLOOKUP(VLOOKUP(P391,VrImpacto,2,0)-ROUNDDOWN(VLOOKUP(P391,VrImpacto,2,0)*Datos!A388,0),Vr_Impacto,2,1)))","v":""},{"$f":"IF(Datos!B388=0,Q391,IF(Datos!B388=\"\",Q391,IF(ISERROR(VLOOKUP(VLOOKUP(Q391,Vr_Probabilidad1,2,0)+1-ROUNDDOWN(VLOOKUP(Q391,Vr_Probabilidad1,2,0)*Datos!B388,0),Vr_Probabilidad,2,1)),\"\",VLOOKUP(VLOOKUP(Q391,Vr_Probabilidad1,2,0)-ROUNDDOWN(VLOOKUP(Q391,Vr_Probabilidad1,2,0)*Datos!B388,0),Vr_Probabilidad,2,1))))","v":0},{"$f":"Datos!C388","v":0},"","",""]
["R",null,null,null,null,null,"",null,null,null,null,null,null,null,null,{"$f":"IF(COUNTA(I392:O392)<7,\"\",VLOOKUP(ROUNDUP((LEFT(I392,1)*'Criterios de Riesgo'!$C$3+LEFT(J392,1)*'Criterios de Riesgo'!$C$4+LEFT(K392,1)*'Criterios de Riesgo'!$C$5+LEFT(L392,1)*'Criterios de Riesgo'!$C$6+LEFT(M392,1)*'Criterios de Riesgo'!$C$7+LEFT(N392,1)*'Criterios de Riesgo'!$C$8+LEFT(O392,1)*'Criterios de Riesgo'!$C$9),0),Calif_Impacto,2))","v":""},null,"","",{"$f":"IF(OR(Datos!A389=0,Datos!A389=\"\"),P392,IF(ISERROR(VLOOKUP(VLOOKUP(P392,VrImpacto,2,0)-ROUNDDOWN(VLOOKUP(P392,VrImpacto,2,0)*Datos!A389,0),Vr_Impacto,2,1)),\"\",VLOOKUP(VLOOKUP(P392,VrImpacto,2,0)-ROUNDDOWN(VLOOKUP(P392,VrImpacto,2,0)*Datos!A389,0),Vr_Impacto,2,1)))","v":""},{"$f":"IF(Datos!B389=0,Q392,IF(Datos!B389=\"\",Q392,IF(ISERROR(VLOOKUP(VLOOKUP(Q392,Vr_Probabilidad1,2,0)+1-ROUNDDOWN(VLOOKUP(Q392,Vr_Probabilidad1,2,0)*Datos!B389,0),Vr_Probabilidad,2,1)),\"\",VLOOKUP(VLOOKUP(Q392,Vr_Probabilidad1,2,0)-ROUNDDOWN(VLOOKUP(Q392,Vr_Probabilidad1,2,0)*Datos!B389,0),Vr_Probabilidad,2,1))))","v":0},{"$f":"Datos!C389","v":0},"","",""]
["R",null,null,null,null,null,"",null,null,null,null,null,null,null,null,{"$f":"IF(COUNTA(I393:O393)<7,\"\",VLOOKUP(ROUNDUP((LEFT(I393,1)*'Criterios de Riesgo'!$C$3+LEFT(J393,1)*'Criterios de Riesgo'!$C$4+LEFT(K393,1)*'Criterios de Riesgo'!$C$5+LEFT(L393,1)*'Criterios de Riesgo'!$C$6+LEFT(M393,1)*'Criterios de Riesgo'!$C$7+LEFT(N393,1)*'Criterios de Riesgo'!$C$8+LEFT(O393,1)*'Criterios de Riesgo'!$C$9),0),Calif_Impacto,2))","v":""},null,"","",{"$f":"IF(OR(Datos!A390=0,Datos!A390=\"\"),P393,IF(ISERROR(VLOOKUP(VLOOKUP(P393,VrImpacto,2,0)-ROUNDDOWN(VLOOKUP(P393,VrImpacto,2,0)*Datos!A390,0),Vr_Impacto,2,1)),\"\",VLOOKUP(VLOOKUP(P393,VrImpacto,2,0)-ROUNDDOWN(VLOOKUP(P393,VrImpacto,2,0)*Datos!A390,0),Vr_Impacto,2,1)))","v":""},{"$f":"IF(Datos!B390=0,Q393,IF(Datos!B390=\"\",Q393,IF(ISERROR(VLOOKUP(VLOOKUP(Q393,Vr_Probabilidad1,2,0)+1-ROUNDDOWN(VLOOKUP(Q393,Vr_Probabilidad1,2,0)*Datos!B390,0),Vr_Probabilidad,2,1)),\"\",VLOOKUP(VLOOKUP(Q393,Vr_Probabilidad1,2,0)-ROUNDDOWN(VLOOKUP(Q393,Vr_Probabilidad1,2,0)*Datos!B390,0),Vr_Probabilidad,2,1))))","v":0},{"$f":"Datos!C390","v":0},"","",""]
["R",null,null,null,null,null,"",null,null,null,null,null,null,null,null,{"$f":"IF(COUNTA(I394:O394)<7,\"\",VLOOKUP(ROUNDUP((LEFT(I394,1)*'Criterios de Riesgo'!$C$3+LEFT(J394,1)*'Criterios de Riesgo'!$C$4+LEFT(K394,1)*'Criterios de Riesgo'!$C$5+LEFT(L394,1)*'Criterios de Riesgo'!$C$6+LEFT(M394,1)*'Criterios de Riesgo'!$C$7+LEFT(N394,1)*'Criterios de Riesgo'!$C$8+LEFT(O394,1)*'Criterios de Riesgo'!$C$9),0),Calif_Impacto,2))","v":""},null,"","",{"$f":"IF(OR(Datos!A391=0,Datos!A391=\"\"),P394,IF(ISERROR(VLOOKUP(VLOOKUP(P394,VrImpacto,2,0)-ROUNDDOWN(VLOOKUP(P394,VrImpacto,2,0)*Datos!A391,0),Vr_Impacto,2,1)),\"\",VLOOKUP(VLOOKUP(P394,VrImpacto,2,0)-ROUNDDOWN(VLOOKUP(P394,VrImpacto,2,0)*Datos!A391,0),Vr_Impacto,2,1)))","v":""},{"$f":"IF(Datos!B391=0,Q394,IF(Datos!B391=\"\",Q394,IF(ISERROR(VLOOKUP(VLOOKUP(Q394,Vr_Probabilidad1,2,0)+1-ROUNDDOWN(VLOOKUP(Q394,Vr_Probabilidad1,2,0)*Datos!B391,0),Vr_Probabilidad,2,1)),\"\",VLOOKUP(VLOOKUP(Q394,Vr_Probabilidad1,2,0)-ROUNDDOWN(VLOOKUP(Q394,Vr_Probabilidad1,2,0)*Datos!B391,0),Vr_Probabilidad,2,1))))","v":0},{"$f":"Datos!C391","v":0},"","",""]
["R",null,null,null,null,null,"",null,null,null,null,null,null,null,null,{"$f":"IF(COUNTA(I395:O395)<7,\"\",VLOOKUP(ROUNDUP((LEFT(I395,1)*'Criterios de Riesgo'!$C$3+LEFT(J395,1)*'Criterios de Riesgo'!$C$4+LEFT(K395,1)*'Criterios de Riesgo'!$C$5+LEFT(L395,1)*'Criterios de Riesgo'!$C$6+LEFT(M395,1)*'Criterios de Riesgo'!$C$7+LEFT(N395,1)*'Criterios de Riesgo'!$C$8+LEFT(O395,1)*'Criterios de Riesgo'!$C$9),0),Calif_Impacto,2))","v":""},null,"","",{"$f":"IF(OR(Datos!A392=0,Datos!A392=\"\"),P395,IF(ISERROR(VLOOKUP(VLOOKUP(P395,VrImpacto,2,0)-ROUNDDOWN(VLOOKUP(P395,VrImpacto,2,0)*Datos!A392,0),Vr_Impacto,2,1)),\"\",VLOOKUP(VLOOKUP(P395,VrImpacto,2,0)-ROUNDDOWN(VLOOKUP(P395,VrImpacto,2,0)*Datos!A392,0),Vr_Impacto,2,1)))","v":""},{"$f":"IF(Datos!B392=0,Q395,IF(Datos!B392=\"\",Q395,IF(ISERROR(VLOOKUP(VLOOKUP(Q395,Vr_Probabilidad1,2,0)+1-ROUNDDOWN(VLOOKUP(Q395,Vr_Probabilidad1,2,0)*Datos!B392,0),Vr_Probabilidad,2,1)),\"\",VLOOKUP(VLOOKUP(Q395,Vr_Probabilidad1,2,0)-ROUNDDOWN(VLOOKUP(Q395,Vr_Probabilidad1,2,0)*Datos!B392,0),Vr_Probabilidad,2,1))))","v":0},{"$f":"Datos!C392","v":0},"","",""]
["R",null,null,null,null,null,"",null,null,null,null,null,null,null,null,{"$f":"IF(COUNTA(I396:O396)<7,\"\",VLOOKUP(ROUNDUP((LEFT(I396,1)*'Criterios de Riesgo'!$C$3+LEFT(J396,1)*'Criterios de Riesgo'!$C$4+LEFT(K396,1)*'Criterios de Riesgo'!$C$5+LEFT(L396,1)*'Criterios de Riesgo'!$C$6+LEFT(M396,1)*'Criterios de Riesgo'!$C$7+LEFT(N396,1)*'Criterios de Riesgo'!$C$8+LEFT(O396,1)*'Criterios de Riesgo'!$C$9),0),Calif_Impacto,2))","v":""},null,"","",{"$f":"IF(OR(Datos!A393=0,Datos!A393=\"\"),P396,IF(ISERROR(VLOOKUP(VLOOKUP(P396,VrImpacto,2,0)-ROUNDDOWN(VLOOKUP(P396,VrImpacto,2,0)*Datos!A393,0),Vr_Impacto,2,1)),\"\",VLOOKUP(VLOOKUP(P396,VrImpacto,2,0)-ROUNDDOWN(VLOOKUP(P396,VrImpacto,2,0)*Datos!A393,0),Vr_Impacto,2,1)))","v":""},{"$f":"IF(Datos!B393=0,Q396,IF(Datos!B393=\"\",Q396,IF(ISERROR(VLOOKUP(VLOOKUP(Q396,Vr_Probabilidad1,2,0)+1-ROUNDDOWN(VLOOKUP(Q396,Vr_Probabilidad1,2,0)*Datos!B393,0),Vr_Probabilidad,2,1)),\"\",VLOOKUP(VLOOKUP(Q396,Vr_Probabilidad1,2,0)-ROUNDDOWN(VLOOKUP(Q396,Vr_Probabilidad1,2,0)*Datos!B393,0),Vr_Probabilidad,2,1))))","v":0},{"$f":"Datos!C393","v":0},"","",""]
["R",null,null,null,null,null,"",null,null,null,null,null,null,null,null,{"$f":"IF(COUNTA(I397:O397)<7,\"\",VLOOKUP(ROUNDUP((LEFT(I397,1)*'Criterios de Riesgo'!$C$3+LEFT(J397,1)*'Criterios de Riesgo'!$C$4+LEFT(K397,1)*'Criterios de Riesgo'!$C$5+LEFT(L397,1)*'Criterios de Riesgo'!$C$6+LEFT(M397,1)*'Criterios de Riesgo'!$C$7+LEFT(N397,1)*'Criterios de Riesgo'!$C$8+LEFT(O397,1)*'Criterios de Riesgo'!$C$9),0),Calif_Impacto,2))","v":""},null,"","",{"$f":"IF(OR(Datos!A394=0,Datos!A394=\"\"),P397,IF(ISERROR(VLOOKUP(VLOOKUP(P397,VrImpacto,2,0)-ROUNDDOWN(VLOOKUP(P397,VrImpacto,2,0)*Datos!A394,0),Vr_Impacto,2,1)),\"\",VLOOKUP(VLOOKUP(P397,VrImpacto,2,0)-ROUNDDOWN(VLOOKUP(P397,VrImpacto,2,0)*Datos!A394,0),Vr_Impacto,2,1)))","v":""},{"$f":"IF(Datos!B394=0,Q397,IF(Datos!B394=\"\",Q397,IF(ISERROR(VLOOKUP(VLOOKUP(Q397,Vr_Probabilidad1,2,0)+1-ROUNDDOWN(VLOOKUP(Q397,Vr_Probabilidad1,2,0)*Datos!B394,0),Vr_Probabilidad,2,1)),\"\",VLOOKUP(VLOOKUP(Q397,Vr_Probabilidad1,2,0)-ROUNDDOWN(VLOOKUP(Q397,Vr_Probabilidad1,2,0)*Datos!B394,0),Vr_Probabilidad,2,1))))","v":0},{"$f":"Datos!C394","v":0},"","",""]
["R",null,null,null,null,null,"",null,null,null,null,null,null,null,null,{"$f":"IF(COUNTA(I398:O398)<7,\"\",VLOOKUP(ROUNDUP((LEFT(I398,1)*'Criterios de Riesgo'!$C$3+LEFT(J398,1)*'Criterios de Riesgo'!$C$4+LEFT(K398,1)*'Criterios de Riesgo'!$C$5+LEFT(L398,1)*'Criterios de Riesgo'!$C$6+LEFT(M398,1)*'Criterios de Riesgo'!$C$7+LEFT(N398,1)*'Criterios de Riesgo'!$C$8+LEFT(O398,1)*'Criterios de Riesgo'!$C$9),0),Calif_Impacto,2))","v":""},null,"","",{"$f":"IF(OR(Datos!A395=0,Datos!A395=\"\"),P398,IF(ISERROR(VLOOKUP(VLOOKUP(P398,VrImpacto,2,0)-ROUNDDOWN(VLOOKUP(P398,VrImpacto,2,0)*Datos!A395,0),Vr_Impacto,2,1)),\"\",VLOOKUP(VLOOKUP(P398,VrImpacto,2,0)-ROUNDDOWN(VLOOKUP(P398,VrImpacto,2,0)*Datos!A395,0),Vr_Impacto,2,1)))","v":""},{"$f":"IF(Datos!B395=0,Q398,IF(Datos!B395=\"\",Q398,IF(ISERROR(VLOOKUP(VLOOKUP(Q398,Vr_Probabilidad1,2,0)+1-ROUNDDOWN(VLOOKUP(Q398,Vr_Probabilidad1,2,0)*Datos!B395,0),Vr_Probabilidad,2,1)),\"\",VLOOKUP(VLOOKUP(Q398,Vr_Probabilidad1,2,0)-ROUNDDOWN(VLOOKUP(Q398,Vr_Probabilidad1,2,0)*Datos!B395,0),Vr_Probabilidad,2,1))))","v":0},{"$f":"Datos!C395","v":0},"","",""]
["R",null,null,null,null,null,"",null,null,null,null,null,null,null,null,{"$f":"IF(COUNTA(I399:O399)<7,\"\",VLOOKUP(ROUNDUP((LEFT(I399,1)*'Criterios de Riesgo'!$C$3+LEFT(J399,1)*'Criterios de Riesgo'!$C$4+LEFT(K399,1)*'Criterios de Riesgo'!$C$5+LEFT(L399,1)*'Criterios de Riesgo'!$C$6+LEFT(M399,1)*'Criterios de Riesgo'!$C$7+LEFT(N399,1)*'Criterios de Riesgo'!$C$8+LEFT(O399,1)*'Criterios de Riesgo'!$C$9),0),Calif_Impacto,2))","v":""},null,"","",{"$f":"IF(OR(Datos!A396=0,Datos!A396=\"\"),P399,IF(ISERROR(VLOOKUP(VLOOKUP(P399,VrImpacto,2,0)-ROUNDDOWN(VLOOKUP(P399,VrImpacto,2,0)*Datos!A396,0),Vr_Impacto,2,1)),\"\",VLOOKUP(VLOOKUP(P399,VrImpacto,2,0)-ROUNDDOWN(VLOOKUP(P399,VrImpacto,2,0)*Datos!A396,0),Vr_Impacto,2,1)))","v":""},{"$f":"IF(Datos!B396=0,Q399,IF(Datos!B396=\"\",Q399,IF(ISERROR(VLOOKUP(VLOOKUP(Q399,Vr_Probabilidad1,2,0)+1-ROUNDDOWN(VLOOKUP(Q399,Vr_Probabilidad1,2,0)*Datos!B396,0),Vr_Probabilidad,2,1)),\"\",VLOOKUP(VLOOKUP(Q399,Vr_Probabilidad1,2,0)-ROUNDDOWN(VLOOKUP(Q399,Vr_Probabilidad1,2,0)*Datos!B396,0),Vr_Probabilidad,2,1))))","v":0},{"$f":"Datos!C396","v":0},"","",""]
["R",null,null,null,null,null,"",null,null,null,null,null,null,null,null,{"$f":"IF(COUNTA(I400:O400)<7,\"\",VLOOKUP(ROUNDUP((LEFT(I400,1)*'Criterios de Riesgo'!$C$3+LEFT(J400,1)*'Criterios de Riesgo'!$C$4+LEFT(K400,1)*'Criterios de Riesgo'!$C$5+LEFT(L400,1)*'Criterios de Riesgo'!$C$6+LEFT(M400,1)*'Criterios de Riesgo'!$C$7+LEFT(N400,1)*'Criterios de Riesgo'!$C$8+LEFT(O400,1)*'Criterios de Riesgo'!$C$9),0),Calif_Impacto,2))","v":""},null,"","",{"$f":"IF(OR(Datos!A397=0,Datos!A397=\"\"),P400,IF(ISERROR(VLOOKUP(VLOOKUP(P400,VrImpacto,2,0)-ROUNDDOWN(VLOOKUP(P400,VrImpacto,2,0)*Datos!A397,0),Vr_Impacto,2,1)),\"\",VLOOKUP(VLOOKUP(P400,VrImpacto,2,0)-ROUNDDOWN(VLOOKUP(P400,VrImpacto,2,0)*Datos!A397,0),Vr_Impacto,2,1)))","v":""},{"$f":"IF(Datos!B397=0,Q400,IF(Datos!B397=\"\",Q400,IF(ISERROR(VLOOKUP(VLOOKUP(Q400,Vr_Probabilidad1,2,0)+1-ROUNDDOWN(VLOOKUP(Q400,Vr_Probabilidad1,2,0)*Datos!B397,0),Vr_Probabilidad,2,1)),\"\",VLOOKUP(VLOOKUP(Q400,Vr_Probabilidad1,2,0)-ROUNDDOWN(VLOOKUP(Q400,Vr_Probabilidad1,2,0)*Datos!B397,0),Vr_Probabilidad,2,1))))","v":0},{"$f":"Datos!C397","v":0},"","",""]
["R",null,null,null,null,null,"",null,null,null,null,null,null,null,null,{"$f":"IF(COUNTA(I401:O401)<7,\"\",VLOOKUP(ROUNDUP((LEFT(I401,1)*'Criterios de Riesgo'!$C$3+LEFT(J401,1)*'Criterios de Riesgo'!$C$4+LEFT(K401,1)*'Criterios de Riesgo'!$C$5+LEFT(L401,1)*'Criterios de Riesgo'!$C$6+LEFT(M401,1)*'Criterios de Riesgo'!$C$7+LEFT(N401,1)*'Criterios de Riesgo'!$C$8+LEFT(O401,1)*'Criterios de Riesgo'!$C$9),0),Calif_Impacto,2))","v":""},null,"","",{"$f":"IF(OR(Datos!A398=0,Datos!A398=\"\"),P401,IF(ISERROR(VLOOKUP(VLOOKUP(P401,VrImpacto,2,0)-ROUNDDOWN(VLOOKUP(P401,VrImpacto,2,0)*Datos!A398,0),Vr_Impacto,2,1)),\"\",VLOOKUP(VLOOKUP(P401,VrImpacto,2,0)-ROUNDDOWN(VLOOKUP(P401,VrImpacto,2,0)*Datos!A398,0),Vr_Impacto,2,1)))","v":""},{"$f":"IF(Datos!B398=0,Q401,IF(Datos!B398=\"\",Q401,IF(ISERROR(VLOOKUP(VLOOKUP(Q401,Vr_Probabilidad1,2,0)+1-ROUNDDOWN(VLOOKUP(Q401,Vr_Probabilidad1,2,0)*Datos!B398,0),Vr_Probabilidad,2,1)),\"\",VLOOKUP(VLOOKUP(Q401,Vr_Probabilidad1,2,0)-ROUNDDOWN(VLOOKUP(Q401,Vr_Probabilidad1,2,0)*Datos!B398,0),Vr_Probabilidad,2,1))))","v":0},{"$f":"Datos!C398","v":0},"","",""]
["R",null,null,null,null,null,"",null,null,null,null,null,null,null,null,{"$f":"IF(COUNTA(I402:O402)<7,\"\",VLOOKUP(ROUNDUP((LEFT(I402,1)*'Criterios de Riesgo'!$C$3+LEFT(J402,1)*'Criterios de Riesgo'!$C$4+LEFT(K402,1)*'Criterios de Riesgo'!$C$5+LEFT(L402,1)*'Criterios de Riesgo'!$C$6+LEFT(M402,1)*'Criterios de Riesgo'!$C$7+LEFT(N402,1)*'Criterios de Riesgo'!$C$8+LEFT(O402,1)*'Criterios de Riesgo'!$C$9),0),Calif_Impacto,2))","v":""},null,"","",{"$f":"IF(OR(Datos!A399=0,Datos!A399=\"\"),P402,IF(ISERROR(VLOOKUP(VLOOKUP(P402,VrImpacto,2,0)-ROUNDDOWN(VLOOKUP(P402,VrImpacto,2,0)*Datos!A399,0),Vr_Impacto,2,1)),\"\",VLOOKUP(VLOOKUP(P402,VrImpacto,2,0)-ROUNDDOWN(VLOOKUP(P402,VrImpacto,2,0)*Datos!A399,0),Vr_Impacto,2,1)))","v":""},{"$f":"IF(Datos!B399=0,Q402,IF(Datos!B399=\"\",Q402,IF(ISERROR(VLOOKUP(VLOOKUP(Q402,Vr_Probabilidad1,2,0)+1-ROUNDDOWN(VLOOKUP(Q402,Vr_Probabilidad1,2,0)*Datos!B399,0),Vr_Probabilidad,2,1)),\"\",VLOOKUP(VLOOKUP(Q402,Vr_Probabilidad1,2,0)-ROUNDDOWN(VLOOKUP(Q402,Vr_Probabilidad1,2,0)*Datos!B399,0),Vr_Probabilidad,2,1))))","v":0},{"$f":"Datos!C399","v":0},"","",""]
["R",null,null,null,null,null,"",null,null,null,null,null,null,null,null,{"$f":"IF(COUNTA(I403:O403)<7,\"\",VLOOKUP(ROUNDUP((LEFT(I403,1)*'Criterios de Riesgo'!$C$3+LEFT(J403,1)*'Criterios de Riesgo'!$C$4+LEFT(K403,1)*'Criterios de Riesgo'!$C$5+LEFT(L403,1)*'Criterios de Riesgo'!$C$6+LEFT(M403,1)*'Criterios de Riesgo'!$C$7+LEFT(N403,1)*'Criterios de Riesgo'!$C$8+LEFT(O403,1)*'Criterios de Riesgo'!$C$9),0),Calif_Impacto,2))","v":""},null,"","",{"$f":"IF(OR(Datos!A400=0,Datos!A400=\"\"),P403,IF(ISERROR(VLOOKUP(VLOOKUP(P403,VrImpacto,2,0)-ROUNDDOWN(VLOOKUP(P403,VrImpacto,2,0)*Datos!A400,0),Vr_Impacto,2,1)),\"\",VLOOKUP(VLOOKUP(P403,VrImpacto,2,0)-ROUNDDOWN(VLOOKUP(P403,VrImpacto,2,0)*Datos!A400,0),Vr_Impacto,2,1)))","v":""},{"$f":"IF(Datos!B400=0,Q403,IF(Datos!B400=\"\",Q403,IF(ISERROR(VLOOKUP(VLOOKUP(Q403,Vr_Probabilidad1,2,0)+1-ROUNDDOWN(VLOOKUP(Q403,Vr_Probabilidad1,2,0)*Datos!B400,0),Vr_Probabilidad,2,1)),\"\",VLOOKUP(VLOOKUP(Q403,Vr_Probabilidad1,2,0)-ROUNDDOWN(VLOOKUP(Q403,Vr_Probabilidad1,2,0)*Datos!B400,0),Vr_Probabilidad,2,1))))","v":0},{"$f":"Datos!C400","v":0},"","",""]
["R",null,null,null,null,null,"",null,null,null,null,null,null,null,null,{"$f":"IF(COUNTA(I404:O404)<7,\"\",VLOOKUP(ROUNDUP((LEFT(I404,1)*'Criterios de Riesgo'!$C$3+LEFT(J404,1)*'Criterios de Riesgo'!$C$4+LEFT(K404,1)*'Criterios de Riesgo'!$C$5+LEFT(L404,1)*'Criterios de Riesgo'!$C$6+LEFT(M404,1)*'Criterios de Riesgo'!$C$7+LEFT(N404,1)*'Criterios de Riesgo'!$C$8+LEFT(O404,1)*'Criterios de Riesgo'!$C$9),0),Calif_Impacto,2))","v":""},null,"","",{"$f":"IF(OR(Datos!A401=0,Datos!A401=\"\"),P404,IF(ISERROR(VLOOKUP(VLOOKUP(P404,VrImpacto,2,0)-ROUNDDOWN(VLOOKUP(P404,VrImpacto,2,0)*Datos!A401,0),Vr_Impacto,2,1)),\"\",VLOOKUP(VLOOKUP(P404,VrImpacto,2,0)-ROUNDDOWN(VLOOKUP(P404,VrImpacto,2,0)*Datos!A401,0),Vr_Impacto,2,1)))","v":""},{"$f":"IF(Datos!B401=0,Q404,IF(Datos!B401=\"\",Q404,IF(ISERROR(VLOOKUP(VLOOKUP(Q404,Vr_Probabilidad1,2,0)+1-ROUNDDOWN(VLOOKUP(Q404,Vr_Probabilidad1,2,0)*Datos!B401,0),Vr_Probabilidad,2,1)),\"\",VLOOKUP(VLOOKUP(Q404,Vr_Probabilidad1,2,0)-ROUNDDOWN(VLOOKUP(Q404,Vr_Probabilidad1,2,0)*Datos!B401,0),Vr_Probabilidad,2,1))))","v":0},{"$f":"Datos!C401","v":0},"","",""]
["R",null,null,null,null,null,"",null,null,null,null,null,null,null,null,{"$f":"IF(COUNTA(I405:O405)<7,\"\",VLOOKUP(ROUNDUP((LEFT(I405,1)*'Criterios de Riesgo'!$C$3+LEFT(J405,1)*'Criterios de Riesgo'!$C$4+LEFT(K405,1)*'Criterios de Riesgo'!$C$5+LEFT(L405,1)*'Criterios de Riesgo'!$C$6+LEFT(M405,1)*'Criterios de Riesgo'!$C$7+LEFT(N405,1)*'Criterios de Riesgo'!$C$8+LEFT(O405,1)*'Criterios de Riesgo'!$C$9),0),Calif_Impacto,2))","v":""},null,"","",{"$f":"IF(OR(Datos!A402=0,Datos!A402=\"\"),P405,IF(ISERROR(VLOOKUP(VLOOKUP(P405,VrImpacto,2,0)-ROUNDDOWN(VLOOKUP(P405,VrImpacto,2,0)*Datos!A402,0),Vr_Impacto,2,1)),\"\",VLOOKUP(VLOOKUP(P405,VrImpacto,2,0)-ROUNDDOWN(VLOOKUP(P405,VrImpacto,2,0)*Datos!A402,0),Vr_Impacto,2,1)))","v":""},{"$f":"IF(Datos!B402=0,Q405,IF(Datos!B402=\"\",Q405,IF(ISERROR(VLOOKUP(VLOOKUP(Q405,Vr_Probabilidad1,2,0)+1-ROUNDDOWN(VLOOKUP(Q405,Vr_Probabilidad1,2,0)*Datos!B402,0),Vr_Probabilidad,2,1)),\"\",VLOOKUP(VLOOKUP(Q405,Vr_Probabilidad1,2,0)-ROUNDDOWN(VLOOKUP(Q405,Vr_Probabilidad1,2,0)*Datos!B402,0),Vr_Probabilidad,2,1))))","v":0},{"$f":"Datos!C402","v":0},"","",""]
["R",null,null,null,null,null,"",null,null,null,null,null,null,null,null,{"$f":"IF(COUNTA(I406:O406)<7,\"\",VLOOKUP(ROUNDUP((LEFT(I406,1)*'Criterios de Riesgo'!$C$3+LEFT(J406,1)*'Criterios de Riesgo'!$C$4+LEFT(K406,1)*'Criterios de Riesgo'!$C$5+LEFT(L406,1)*'Criterios de Riesgo'!$C$6+LEFT(M406,1)*'Criterios de Riesgo'!$C$7+LEFT(N406,1)*'Criterios de Riesgo'!$C$8+LEFT(O406,1)*'Criterios de Riesgo'!$C$9),0),Calif_Impacto,2))","v":""},null,"","",{"$f":"IF(OR(Datos!A403=0,Datos!A403=\"\"),P406,IF(ISERROR(VLOOKUP(VLOOKUP(P406,VrImpacto,2,0)-ROUNDDOWN(VLOOKUP(P406,VrImpacto,2,0)*Datos!A403,0),Vr_Impacto,2,1)),\"\",VLOOKUP(VLOOKUP(P406,VrImpacto,2,0)-ROUNDDOWN(VLOOKUP(P406,VrImpacto,2,0)*Datos!A403,0),Vr_Impacto,2,1)))","v":""},{"$f":"IF(Datos!B403=0,Q406,IF(Datos!B403=\"\",Q406,IF(ISERROR(VLOOKUP(VLOOKUP(Q406,Vr_Probabilidad1,2,0)+1-ROUNDDOWN(VLOOKUP(Q406,Vr_Probabilidad1,2,0)*Datos!B403,0),Vr_Probabilidad,2,1)),\"\",VLOOKUP(VLOOKUP(Q406,Vr_Probabilidad1,2,0)-ROUNDDOWN(VLOOKUP(Q406,Vr_Probabilidad1,2,0)*Datos!B403,0),Vr_Probabilidad,2,1))))","v":0},{"$f":"Datos!C403","v":0},"","",""]
["R",null,null,null,null,null,"",null,null,null,null,null,null,null,null,{"$f":"IF(COUNTA(I407:O407)<7,\"\",VLOOKUP(ROUNDUP((LEFT(I407,1)*'Criterios de Riesgo'!$C$3+LEFT(J407,1)*'Criterios de Riesgo'!$C$4+LEFT(K407,1)*'Criterios de Riesgo'!$C$5+LEFT(L407,1)*'Criterios de Riesgo'!$C$6+LEFT(M407,1)*'Criterios de Riesgo'!$C$7+LEFT(N407,1)*'Criterios de Riesgo'!$C$8+LEFT(O407,1)*'Criterios de Riesgo'!$C$9),0),Calif_Impacto,2))","v":""},null,"","",{"$f":"IF(OR(Datos!A404=0,Datos!A404=\"\"),P407,IF(ISERROR(VLOOKUP(VLOOKUP(P407,VrImpacto,2,0)-ROUNDDOWN(VLOOKUP(P407,VrImpacto,2,0)*Datos!A404,0),Vr_Impacto,2,1)),\"\",VLOOKUP(VLOOKUP(P407,VrImpacto,2,0)-ROUNDDOWN(VLOOKUP(P407,VrImpacto,2,0)*Datos!A404,0),Vr_Impacto,2,1)))","v":""},{"$f":"IF(Datos!B404=0,Q407,IF(Datos!B404=\"\",Q407,IF(ISERROR(VLOOKUP(VLOOKUP(Q407,Vr_Probabilidad1,2,0)+1-ROUNDDOWN(VLOOKUP(Q407,Vr_Probabilidad1,2,0)*Datos!B404,0),Vr_Probabilidad,2,1)),\"\",VLOOKUP(VLOOKUP(Q407,Vr_Probabilidad1,2,0)-ROUNDDOWN(VLOOKUP(Q407,Vr_Probabilidad1,2,0)*Datos!B404,0),Vr_Probabilidad,2,1))))","v":0},{"$f":"Datos!C404","v":0},"","",""]
["R",null,null,null,null,null,"",null,null,null,null,null,null,null,null,{"$f":"IF(COUNTA(I408:O408)<7,\"\",VLOOKUP(ROUNDUP((LEFT(I408,1)*'Criterios de Riesgo'!$C$3+LEFT(J408,1)*'Criterios de Riesgo'!$C$4+LEFT(K408,1)*'Criterios de Riesgo'!$C$5+LEFT(L408,1)*'Criterios de Riesgo'!$C$6+LEFT(M408,1)*'Criterios de Riesgo'!$C$7+LEFT(N408,1)*'Criterios de Riesgo'!$C$8+LEFT(O408,1)*'Criterios de Riesgo'!$C$9),0),Calif_Impacto,2))","v":""},null,"","",{"$f":"IF(OR(Datos!A405=0,Datos!A405=\"\"),P408,IF(ISERROR(VLOOKUP(VLOOKUP(P408,VrImpacto,2,0)-ROUNDDOWN(VLOOKUP(P408,VrImpacto,2,0)*Datos!A405,0),Vr_Impacto,2,1)),\"\",VLOOKUP(VLOOKUP(P408,VrImpacto,2,0)-ROUNDDOWN(VLOOKUP(P408,VrImpacto,2,0)*Datos!A405,0),Vr_Impacto,2,1)))","v":""},{"$f":"IF(Datos!B405=0,Q408,IF(Datos!B405=\"\",Q408,IF(ISERROR(VLOOKUP(VLOOKUP(Q408,Vr_Probabilidad1,2,0)+1-ROUNDDOWN(VLOOKUP(Q408,Vr_Probabilidad1,2,0)*Datos!B405,0),Vr_Probabilidad,2,1)),\"\",VLOOKUP(VLOOKUP(Q408,Vr_Probabilidad1,2,0)-ROUNDDOWN(VLOOKUP(Q408,Vr_Probabilidad1,2,0)*Datos!B405,0),Vr_Probabilidad,2,1))))","v":0},{"$f":"Datos!C405","v":0},"","",""]
["R",null,null,null,null,null,"",null,null,null,null,null,null,null,null,{"$f":"IF(COUNTA(I409:O409)<7,\"\",VLOOKUP(ROUNDUP((LEFT(I409,1)*'Criterios de Riesgo'!$C$3+LEFT(J409,1)*'Criterios de Riesgo'!$C$4+LEFT(K409,1)*'Criterios de Riesgo'!$C$5+LEFT(L409,1)*'Criterios de Riesgo'!$C$6+LEFT(M409,1)*'Criterios de Riesgo'!$C$7+LEFT(N409,1)*'Criterios de Riesgo'!$C$8+LEFT(O409,1)*'Criterios de Riesgo'!$C$9),0),Calif_Impacto,2))","v":""},null,"","",{"$f":"IF(OR(Datos!A406=0,Datos!A406=\"\"),P409,IF(ISERROR(VLOOKUP(VLOOKUP(P409,VrImpacto,2,0)-ROUNDDOWN(VLOOKUP(P409,VrImpacto,2,0)*Datos!A406,0),Vr_Impacto,2,1)),\"\",VLOOKUP(VLOOKUP(P409,VrImpacto,2,0)-ROUNDDOWN(VLOOKUP(P409,VrImpacto,2,0)*Datos!A406,0),Vr_Impacto,2,1)))","v":""},{"$f":"IF(Datos!B406=0,Q409,IF(Datos!B406=\"\",Q409,IF(ISERROR(VLOOKUP(VLOOKUP(Q409,Vr_Probabilidad1,2,0)+1-ROUNDDOWN(VLOOKUP(Q409,Vr_Probabilidad1,2,0)*Datos!B406,0),Vr_Probabilidad,2,1)),\"\",VLOOKUP(VLOOKUP(Q409,Vr_Probabilidad1,2,0)-ROUNDDOWN(VLOOKUP(Q409,Vr_Probabilidad1,2,0)*Datos!B406,0),Vr_Probabilidad,2,1))))","v":0},{"$f":"Datos!C406","v":0},"","",""]
["R",null,null,null,null,null,"",null,null,null,null,null,null,null,null,{"$f":"IF(COUNTA(I410:O410)<7,\"\",VLOOKUP(ROUNDUP((LEFT(I410,1)*'Criterios de Riesgo'!$C$3+LEFT(J410,1)*'Criterios de Riesgo'!$C$4+LEFT(K410,1)*'Criterios de Riesgo'!$C$5+LEFT(L410,1)*'Criterios de Riesgo'!$C$6+LEFT(M410,1)*'Criterios de Riesgo'!$C$7+LEFT(N410,1)*'Criterios de Riesgo'!$C$8+LEFT(O410,1)*'Criterios de Riesgo'!$C$9),0),Calif_Impacto,2))","v":""},null,"","",{"$f":"IF(OR(Datos!A407=0,Datos!A407=\"\"),P410,IF(ISERROR(VLOOKUP(VLOOKUP(P410,VrImpacto,2,0)-ROUNDDOWN(VLOOKUP(P410,VrImpacto,2,0)*Datos!A407,0),Vr_Impacto,2,1)),\"\",VLOOKUP(VLOOKUP(P410,VrImpacto,2,0)-ROUNDDOWN(VLOOKUP(P410,VrImpacto,2,0)*Datos!A407,0),Vr_Impacto,2,1)))","v":""},{"$f":"IF(Datos!B407=0,Q410,IF(Datos!B407=\"\",Q410,IF(ISERROR(VLOOKUP(VLOOKUP(Q410,Vr_Probabilidad1,2,0)+1-ROUNDDOWN(VLOOKUP(Q410,Vr_Probabilidad1,2,0)*Datos!B407,0),Vr_Probabilidad,2,1)),\"\",VLOOKUP(VLOOKUP(Q410,Vr_Probabilidad1,2,0)-ROUNDDOWN(VLOOKUP(Q410,Vr_Probabilidad1,2,0)*Datos!B407,0),Vr_Probabilidad,2,1))))","v":0},{"$f":"Datos!C407","v":0},"","",""]
["R",null,null,null,null,null,"",null,null,null,null,null,null,null,null,{"$f":"IF(COUNTA(I411:O411)<7,\"\",VLOOKUP(ROUNDUP((LEFT(I411,1)*'Criterios de Riesgo'!$C$3+LEFT(J411,1)*'Criterios de Riesgo'!$C$4+LEFT(K411,1)*'Criterios de Riesgo'!$C$5+LEFT(L411,1)*'Criterios de Riesgo'!$C$6+LEFT(M411,1)*'Criterios de Riesgo'!$C$7+LEFT(N411,1)*'Criterios de Riesgo'!$C$8+LEFT(O411,1)*'Criterios de Riesgo'!$C$9),0),Calif_Impacto,2))","v":""},null,"","",{"$f":"IF(OR(Datos!A408=0,Datos!A408=\"\"),P411,IF(ISERROR(VLOOKUP(VLOOKUP(P411,VrImpacto,2,0)-ROUNDDOWN(VLOOKUP(P411,VrImpacto,2,0)*Datos!A408,0),Vr_Impacto,2,1)),\"\",VLOOKUP(VLOOKUP(P411,VrImpacto,2,0)-ROUNDDOWN(VLOOKUP(P411,VrImpacto,2,0)*Datos!A408,0),Vr_Impacto,2,1)))","v":""},{"$f":"IF(Datos!B408=0,Q411,IF(Datos!B408=\"\",Q411,IF(ISERROR(VLOOKUP(VLOOKUP(Q411,Vr_Probabilidad1,2,0)+1-ROUNDDOWN(VLOOKUP(Q411,Vr_Probabilidad1,2,0)*Datos!B408,0),Vr_Probabilidad,2,1)),\"\",VLOOKUP(VLOOKUP(Q411,Vr_Probabilidad1,2,0)-ROUNDDOWN(VLOOKUP(Q411,Vr_Probabilidad1,2,0)*Datos!B408,0),Vr_Probabilidad,2,1))))","v":0},{"$f":"Datos!C408","v":0},"","",""]
["R",null,null,null,null,null,"",null,null,null,null,null,null,null,null,{"$f":"IF(COUNTA(I412:O412)<7,\"\",VLOOKUP(ROUNDUP((LEFT(I412,1)*'Criterios de Riesgo'!$C$3+LEFT(J412,1)*'Criterios de Riesgo'!$C$4+LEFT(K412,1)*'Criterios de Riesgo'!$C$5+LEFT(L412,1)*'Criterios de Riesgo'!$C$6+LEFT(M412,1)*'Criterios de Riesgo'!$C$7+LEFT(N412,1)*'Criterios de Riesgo'!$C$8+LEFT(O412,1)*'Criterios de Riesgo'!$C$9),0),Calif_Impacto,2))","v":""},null,"","",{"$f":"IF(OR(Datos!A409=0,Datos!A409=\"\"),P412,IF(ISERROR(VLOOKUP(VLOOKUP(P412,VrImpacto,2,0)-ROUNDDOWN(VLOOKUP(P412,VrImpacto,2,0)*Datos!A409,0),Vr_Impacto,2,1)),\"\",VLOOKUP(VLOOKUP(P412,VrImpacto,2,0)-ROUNDDOWN(VLOOKUP(P412,VrImpacto,2,0)*Datos!A409,0),Vr_Impacto,2,1)))","v":""},{"$f":"IF(Datos!B409=0,Q412,IF(Datos!B409=\"\",Q412,IF(ISERROR(VLOOKUP(VLOOKUP(Q412,Vr_Probabilidad1,2,0)+1-ROUNDDOWN(VLOOKUP(Q412,Vr_Probabilidad1,2,0)*Datos!B409,0),Vr_Probabilidad,2,1)),\"\",VLOOKUP(VLOOKUP(Q412,Vr_Probabilidad1,2,0)-ROUNDDOWN(VLOOKUP(Q412,Vr_Probabilidad1,2,0)*Datos!B409,0),Vr_Probabilidad,2,1))))","v":0},{"$f":"Datos!C409","v":0},"","",""]
["R",null,null,null,null,null,"",null,null,null,null,null,null,null,null,{"$f":"IF(COUNTA(I413:O413)<7,\"\",VLOOKUP(ROUNDUP((LEFT(I413,1)*'Criterios de Riesgo'!$C$3+LEFT(J413,1)*'Criterios de Riesgo'!$C$4+LEFT(K413,1)*'Criterios de Riesgo'!$C$5+LEFT(L413,1)*'Criterios de Riesgo'!$C$6+LEFT(M413,1)*'Criterios de Riesgo'!$C$7+LEFT(N413,1)*'Criterios de Riesgo'!$C$8+LEFT(O413,1)*'Criterios de Riesgo'!$C$9),0),Calif_Impacto,2))","v":""},null,"","",{"$f":"IF(OR(Datos!A410=0,Datos!A410=\"\"),P413,IF(ISERROR(VLOOKUP(VLOOKUP(P413,VrImpacto,2,0)-ROUNDDOWN(VLOOKUP(P413,VrImpacto,2,0)*Datos!A410,0),Vr_Impacto,2,1)),\"\",VLOOKUP(VLOOKUP(P413,VrImpacto,2,0)-ROUNDDOWN(VLOOKUP(P413,VrImpacto,2,0)*Datos!A410,0),Vr_Impacto,2,1)))","v":""},{"$f":"IF(Datos!B410=0,Q413,IF(Datos!B410=\"\",Q413,IF(ISERROR(VLOOKUP(VLOOKUP(Q413,Vr_Probabilidad1,2,0)+1-ROUNDDOWN(VLOOKUP(Q413,Vr_Probabilidad1,2,0)*Datos!B410,0),Vr_Probabilidad,2,1)),\"\",VLOOKUP(VLOOKUP(Q413,Vr_Probabilidad1,2,0)-ROUNDDOWN(VLOOKUP(Q413,Vr_Probabilidad1,2,0)*Datos!B410,0),Vr_Probabilidad,2,1))))","v":0},{"$f":"Datos!C410","v":0},"","",""]
["R",null,null,null,null,null,"",null,null,null,null,null,null,null,null,{"$f":"IF(COUNTA(I414:O414)<7,\"\",VLOOKUP(ROUNDUP((LEFT(I414,1)*'Criterios de Riesgo'!$C$3+LEFT(J414,1)*'Criterios de Riesgo'!$C$4+LEFT(K414,1)*'Criterios de Riesgo'!$C$5+LEFT(L414,1)*'Criterios de Riesgo'!$C$6+LEFT(M414,1)*'Criterios de Riesgo'!$C$7+LEFT(N414,1)*'Criterios de Riesgo'!$C$8+LEFT(O414,1)*'Criterios de Riesgo'!$C$9),0),Calif_Impacto,2))","v":""},null,"","",{"$f":"IF(OR(Datos!A411=0,Datos!A411=\"\"),P414,IF(ISERROR(VLOOKUP(VLOOKUP(P414,VrImpacto,2,0)-ROUNDDOWN(VLOOKUP(P414,VrImpacto,2,0)*Datos!A411,0),Vr_Impacto,2,1)),\"\",VLOOKUP(VLOOKUP(P414,VrImpacto,2,0)-ROUNDDOWN(VLOOKUP(P414,VrImpacto,2,0)*Datos!A411,0),Vr_Impacto,2,1)))","v":""},{"$f":"IF(Datos!B411=0,Q414,IF(Datos!B411=\"\",Q414,IF(ISERROR(VLOOKUP(VLOOKUP(Q414,Vr_Probabilidad1,2,0)+1-ROUNDDOWN(VLOOKUP(Q414,Vr_Probabilidad1,2,0)*Datos!B411,0),Vr_Probabilidad,2,1)),\"\",VLOOKUP(VLOOKUP(Q414,Vr_Probabilidad1,2,0)-ROUNDDOWN(VLOOKUP(Q414,Vr_Probabilidad1,2,0)*Datos!B411,0),Vr_Probabilidad,2,1))))","v":0},{"$f":"Datos!C411","v":0},"","",""]
["R",null,null,null,null,null,"",null,null,null,null,null,null,null,null,{"$f":"IF(COUNTA(I415:O415)<7,\"\",VLOOKUP(ROUNDUP((LEFT(I415,1)*'Criterios de Riesgo'!$C$3+LEFT(J415,1)*'Criterios de Riesgo'!$C$4+LEFT(K415,1)*'Criterios de Riesgo'!$C$5+LEFT(L415,1)*'Criterios de Riesgo'!$C$6+LEFT(M415,1)*'Criterios de Riesgo'!$C$7+LEFT(N415,1)*'Criterios de Riesgo'!$C$8+LEFT(O415,1)*'Criterios de Riesgo'!$C$9),0),Calif_Impacto,2))","v":""},null,"","",{"$f":"IF(OR(Datos!A412=0,Datos!A412=\"\"),P415,IF(ISERROR(VLOOKUP(VLOOKUP(P415,VrImpacto,2,0)-ROUNDDOWN(VLOOKUP(P415,VrImpacto,2,0)*Datos!A412,0),Vr_Impacto,2,1)),\"\",VLOOKUP(VLOOKUP(P415,VrImpacto,2,0)-ROUNDDOWN(VLOOKUP(P415,VrImpacto,2,0)*Datos!A412,0),Vr_Impacto,2,1)))","v":""},{"$f":"IF(Datos!B412=0,Q415,IF(Datos!B412=\"\",Q415,IF(ISERROR(VLOOKUP(VLOOKUP(Q415,Vr_Probabilidad1,2,0)+1-ROUNDDOWN(VLOOKUP(Q415,Vr_Probabilidad1,2,0)*Datos!B412,0),Vr_Probabilidad,2,1)),\"\",VLOOKUP(VLOOKUP(Q415,Vr_Probabilidad1,2,0)-ROUNDDOWN(VLOOKUP(Q415,Vr_Probabilidad1,2,0)*Datos!B412,0),Vr_Probabilidad,2,1))))","v":0},{"$f":"Datos!C412","v":0},"","",""]
["R",null,null,null,null,null,"",null,null,null,null,null,null,null,null,{"$f":"IF(COUNTA(I416:O416)<7,\"\",VLOOKUP(ROUNDUP((LEFT(I416,1)*'Criterios de Riesgo'!$C$3+LEFT(J416,1)*'Criterios de Riesgo'!$C$4+LEFT(K416,1)*'Criterios de Riesgo'!$C$5+LEFT(L416,1)*'Criterios de Riesgo'!$C$6+LEFT(M416,1)*'Criterios de Riesgo'!$C$7+LEFT(N416,1)*'Criterios de Riesgo'!$C$8+LEFT(O416,1)*'Criterios de Riesgo'!$C$9),0),Calif_Impacto,2))","v":""},null,"","",{"$f":"IF(OR(Datos!A413=0,Datos!A413=\"\"),P416,IF(ISERROR(VLOOKUP(VLOOKUP(P416,VrImpacto,2,0)-ROUNDDOWN(VLOOKUP(P416,VrImpacto,2,0)*Datos!A413,0),Vr_Impacto,2,1)),\"\",VLOOKUP(VLOOKUP(P416,VrImpacto,2,0)-ROUNDDOWN(VLOOKUP(P416,VrImpacto,2,0)*Datos!A413,0),Vr_Impacto,2,1)))","v":""},{"$f":"IF(Datos!B413=0,Q416,IF(Datos!B413=\"\",Q416,IF(ISERROR(VLOOKUP(VLOOKUP(Q416,Vr_Probabilidad1,2,0)+1-ROUNDDOWN(VLOOKUP(Q416,Vr_Probabilidad1,2,0)*Datos!B413,0),Vr_Probabilidad,2,1)),\"\",VLOOKUP(VLOOKUP(Q416,Vr_Probabilidad1,2,0)-ROUNDDOWN(VLOOKUP(Q416,Vr_Probabilidad1,2,0)*Datos!B413,0),Vr_Probabilidad,2,1))))","v":0},{"$f":"Datos!C413","v":0},"","",""]
["R",null,null,null,null,null,"",null,null,null,null,null,null,null,null,{"$f":"IF(COUNTA(I417:O417)<7,\"\",VLOOKUP(ROUNDUP((LEFT(I417,1)*'Criterios de Riesgo'!$C$3+LEFT(J417,1)*'Criterios de Riesgo'!$C$4+LEFT(K417,1)*'Criterios de Riesgo'!$C$5+LEFT(L417,1)*'Criterios de Riesgo'!$C$6+LEFT(M417,1)*'Criterios de Riesgo'!$C$7+LEFT(N417,1)*'Criterios de Riesgo'!$C$8+LEFT(O417,1)*'Criterios de Riesgo'!$C$9),0),Calif_Impacto,2))","v":""},null,"","",{"$f":"IF(OR(Datos!A414=0,Datos!A414=\"\"),P417,IF(ISERROR(VLOOKUP(VLOOKUP(P417,VrImpacto,2,0)-ROUNDDOWN(VLOOKUP(P417,VrImpacto,2,0)*Datos!A414,0),Vr_Impacto,2,1)),\"\",VLOOKUP(VLOOKUP(P417,VrImpacto,2,0)-ROUNDDOWN(VLOOKUP(P417,VrImpacto,2,0)*Datos!A414,0),Vr_Impacto,2,1)))","v":""},{"$f":"IF(Datos!B414=0,Q417,IF(Datos!B414=\"\",Q417,IF(ISERROR(VLOOKUP(VLOOKUP(Q417,Vr_Probabilidad1,2,0)+1-ROUNDDOWN(VLOOKUP(Q417,Vr_Probabilidad1,2,0)*Datos!B414,0),Vr_Probabilidad,2,1)),\"\",VLOOKUP(VLOOKUP(Q417,Vr_Probabilidad1,2,0)-ROUNDDOWN(VLOOKUP(Q417,Vr_Probabilidad1,2,0)*Datos!B414,0),Vr_Probabilidad,2,1))))","v":0},{"$f":"Datos!C414","v":0},"","",""]
["R",null,null,null,null,null,"",null,null,null,null,null,null,null,null,{"$f":"IF(COUNTA(I418:O418)<7,\"\",VLOOKUP(ROUNDUP((LEFT(I418,1)*'Criterios de Riesgo'!$C$3+LEFT(J418,1)*'Criterios de Riesgo'!$C$4+LEFT(K418,1)*'Criterios de Riesgo'!$C$5+LEFT(L418,1)*'Criterios de Riesgo'!$C$6+LEFT(M418,1)*'Criterios de Riesgo'!$C$7+LEFT(N418,1)*'Criterios de Riesgo'!$C$8+LEFT(O418,1)*'Criterios de Riesgo'!$C$9),0),Calif_Impacto,2))","v":""},null,"","",{"$f":"IF(OR(Datos!A415=0,Datos!A415=\"\"),P418,IF(ISERROR(VLOOKUP(VLOOKUP(P418,VrImpacto,2,0)-ROUNDDOWN(VLOOKUP(P418,VrImpacto,2,0)*Datos!A415,0),Vr_Impacto,2,1)),\"\",VLOOKUP(VLOOKUP(P418,VrImpacto,2,0)-ROUNDDOWN(VLOOKUP(P418,VrImpacto,2,0)*Datos!A415,0),Vr_Impacto,2,1)))","v":""},{"$f":"IF(Datos!B415=0,Q418,IF(Datos!B415=\"\",Q418,IF(ISERROR(VLOOKUP(VLOOKUP(Q418,Vr_Probabilidad1,2,0)+1-ROUNDDOWN(VLOOKUP(Q418,Vr_Probabilidad1,2,0)*Datos!B415,0),Vr_Probabilidad,2,1)),\"\",VLOOKUP(VLOOKUP(Q418,Vr_Probabilidad1,2,0)-ROUNDDOWN(VLOOKUP(Q418,Vr_Probabilidad1,2,0)*Datos!B415,0),Vr_Probabilidad,2,1))))","v":0},{"$f":"Datos!C415","v":0},"","",""]
["R",null,null,null,null,null,"",null,null,null,null,null,null,null,null,{"$f":"IF(COUNTA(I419:O419)<7,\"\",VLOOKUP(ROUNDUP((LEFT(I419,1)*'Criterios de Riesgo'!$C$3+LEFT(J419,1)*'Criterios de Riesgo'!$C$4+LEFT(K419,1)*'Criterios de Riesgo'!$C$5+LEFT(L419,1)*'Criterios de Riesgo'!$C$6+LEFT(M419,1)*'Criterios de Riesgo'!$C$7+LEFT(N419,1)*'Criterios de Riesgo'!$C$8+LEFT(O419,1)*'Criterios de Riesgo'!$C$9),0),Calif_Impacto,2))","v":""},null,"","",{"$f":"IF(OR(Datos!A416=0,Datos!A416=\"\"),P419,IF(ISERROR(VLOOKUP(VLOOKUP(P419,VrImpacto,2,0)-ROUNDDOWN(VLOOKUP(P419,VrImpacto,2,0)*Datos!A416,0),Vr_Impacto,2,1)),\"\",VLOOKUP(VLOOKUP(P419,VrImpacto,2,0)-ROUNDDOWN(VLOOKUP(P419,VrImpacto,2,0)*Datos!A416,0),Vr_Impacto,2,1)))","v":""},{"$f":"IF(Datos!B416=0,Q419,IF(Datos!B416=\"\",Q419,IF(ISERROR(VLOOKUP(VLOOKUP(Q419,Vr_Probabilidad1,2,0)+1-ROUNDDOWN(VLOOKUP(Q419,Vr_Probabilidad1,2,0)*Datos!B416,0),Vr_Probabilidad,2,1)),\"\",VLOOKUP(VLOOKUP(Q419,Vr_Probabilidad1,2,0)-ROUNDDOWN(VLOOKUP(Q419,Vr_Probabilidad1,2,0)*Datos!B416,0),Vr_Probabilidad,2,1))))","v":0},{"$f":"Datos!C416","v":0},"","",""]
["R",null,null,null,null,null,"",null,null,null,null,null,null,null,null,{"$f":"IF(COUNTA(I420:O420)<7,\"\",VLOOKUP(ROUNDUP((LEFT(I420,1)*'Criterios de Riesgo'!$C$3+LEFT(J420,1)*'Criterios de Riesgo'!$C$4+LEFT(K420,1)*'Criterios de Riesgo'!$C$5+LEFT(L420,1)*'Criterios de Riesgo'!$C$6+LEFT(M420,1)*'Criterios de Riesgo'!$C$7+LEFT(N420,1)*'Criterios de Riesgo'!$C$8+LEFT(O420,1)*'Criterios de Riesgo'!$C$9),0),Calif_Impacto,2))","v":""},null,"","",{"$f":"IF(OR(Datos!A417=0,Datos!A417=\"\"),P420,IF(ISERROR(VLOOKUP(VLOOKUP(P420,VrImpacto,2,0)-ROUNDDOWN(VLOOKUP(P420,VrImpacto,2,0)*Datos!A417,0),Vr_Impacto,2,1)),\"\",VLOOKUP(VLOOKUP(P420,VrImpacto,2,0)-ROUNDDOWN(VLOOKUP(P420,VrImpacto,2,0)*Datos!A417,0),Vr_Impacto,2,1)))","v":""},{"$f":"IF(Datos!B417=0,Q420,IF(Datos!B417=\"\",Q420,IF(ISERROR(VLOOKUP(VLOOKUP(Q420,Vr_Probabilidad1,2,0)+1-ROUNDDOWN(VLOOKUP(Q420,Vr_Probabilidad1,2,0)*Datos!B417,0),Vr_Probabilidad,2,1)),\"\",VLOOKUP(VLOOKUP(Q420,Vr_Probabilidad1,2,0)-ROUNDDOWN(VLOOKUP(Q420,Vr_Probabilidad1,2,0)*Datos!B417,0),Vr_Probabilidad,2,1))))","v":0},{"$f":"Datos!C417","v":0},"","",""]
["R",null,null,null,null,null,"",null,null,null,null,null,null,null,null,{"$f":"IF(COUNTA(I421:O421)<7,\"\",VLOOKUP(ROUNDUP((LEFT(I421,1)*'Criterios de Riesgo'!$C$3+LEFT(J421,1)*'Criterios de Riesgo'!$C$4+LEFT(K421,1)*'Criterios de Riesgo'!$C$5+LEFT(L421,1)*'Criterios de Riesgo'!$C$6+LEFT(M421,1)*'Criterios de Riesgo'!$C$7+LEFT(N421,1)*'Criterios de Riesgo'!$C$8+LEFT(O421,1)*'Criterios de Riesgo'!$C$9),0),Calif_Impacto,2))","v":""},null,"","",{"$f":"IF(OR(Datos!A418=0,Datos!A418=\"\"),P421,IF(ISERROR(VLOOKUP(VLOOKUP(P421,VrImpacto,2,0)-ROUNDDOWN(VLOOKUP(P421,VrImpacto,2,0)*Datos!A418,0),Vr_Impacto,2,1)),\"\",VLOOKUP(VLOOKUP(P421,VrImpacto,2,0)-ROUNDDOWN(VLOOKUP(P421,VrImpacto,2,0)*Datos!A418,0),Vr_Impacto,2,1)))","v":""},{"$f":"IF(Datos!B418=0,Q421,IF(Datos!B418=\"\",Q421,IF(ISERROR(VLOOKUP(VLOOKUP(Q421,Vr_Probabilidad1,2,0)+1-ROUNDDOWN(VLOOKUP(Q421,Vr_Probabilidad1,2,0)*Datos!B418,0),Vr_Probabilidad,2,1)),\"\",VLOOKUP(VLOOKUP(Q421,Vr_Probabilidad1,2,0)-ROUNDDOWN(VLOOKUP(Q421,Vr_Probabilidad1,2,0)*Datos!B418,0),Vr_Probabilidad,2,1))))","v":0},{"$f":"Datos!C418","v":0},"","",""]
["R",null,null,null,null,null,"",null,null,null,null,null,null,null,null,{"$f":"IF(COUNTA(I422:O422)<7,\"\",VLOOKUP(ROUNDUP((LEFT(I422,1)*'Criterios de Riesgo'!$C$3+LEFT(J422,1)*'Criterios de Riesgo'!$C$4+LEFT(K422,1)*'Criterios de Riesgo'!$C$5+LEFT(L422,1)*'Criterios de Riesgo'!$C$6+LEFT(M422,1)*'Criterios de Riesgo'!$C$7+LEFT(N422,1)*'Criterios de Riesgo'!$C$8+LEFT(O422,1)*'Criterios de Riesgo'!$C$9),0),Calif_Impacto,2))","v":""},null,"","",{"$f":"IF(OR(Datos!A419=0,Datos!A419=\"\"),P422,IF(ISERROR(VLOOKUP(VLOOKUP(P422,VrImpacto,2,0)-ROUNDDOWN(VLOOKUP(P422,VrImpacto,2,0)*Datos!A419,0),Vr_Impacto,2,1)),\"\",VLOOKUP(VLOOKUP(P422,VrImpacto,2,0)-ROUNDDOWN(VLOOKUP(P422,VrImpacto,2,0)*Datos!A419,0),Vr_Impacto,2,1)))","v":""},{"$f":"IF(Datos!B419=0,Q422,IF(Datos!B419=\"\",Q422,IF(ISERROR(VLOOKUP(VLOOKUP(Q422,Vr_Probabilidad1,2,0)+1-ROUNDDOWN(VLOOKUP(Q422,Vr_Probabilidad1,2,0)*Datos!B419,0),Vr_Probabilidad,2,1)),\"\",VLOOKUP(VLOOKUP(Q422,Vr_Probabilidad1,2,0)-ROUNDDOWN(VLOOKUP(Q422,Vr_Probabilidad1,2,0)*Datos!B419,0),Vr_Probabilidad,2,1))))","v":0},{"$f":"Datos!C419","v":0},"","",""]
["R",null,null,null,null,null,"",null,null,null,null,null,null,null,null,{"$f":"IF(COUNTA(I423:O423)<7,\"\",VLOOKUP(ROUNDUP((LEFT(I423,1)*'Criterios de Riesgo'!$C$3+LEFT(J423,1)*'Criterios de Riesgo'!$C$4+LEFT(K423,1)*'Criterios de Riesgo'!$C$5+LEFT(L423,1)*'Criterios de Riesgo'!$C$6+LEFT(M423,1)*'Criterios de Riesgo'!$C$7+LEFT(N423,1)*'Criterios de Riesgo'!$C$8+LEFT(O423,1)*'Criterios de Riesgo'!$C$9),0),Calif_Impacto,2))","v":""},null,"","",{"$f":"IF(OR(Datos!A420=0,Datos!A420=\"\"),P423,IF(ISERROR(VLOOKUP(VLOOKUP(P423,VrImpacto,2,0)-ROUNDDOWN(VLOOKUP(P423,VrImpacto,2,0)*Datos!A420,0),Vr_Impacto,2,1)),\"\",VLOOKUP(VLOOKUP(P423,VrImpacto,2,0)-ROUNDDOWN(VLOOKUP(P423,VrImpacto,2,0)*Datos!A420,0),Vr_Impacto,2,1)))","v":""},{"$f":"IF(Datos!B420=0,Q423,IF(Datos!B420=\"\",Q423,IF(ISERROR(VLOOKUP(VLOOKUP(Q423,Vr_Probabilidad1,2,0)+1-ROUNDDOWN(VLOOKUP(Q423,Vr_Probabilidad1,2,0)*Datos!B420,0),Vr_Probabilidad,2,1)),\"\",VLOOKUP(VLOOKUP(Q423,Vr_Probabilidad1,2,0)-ROUNDDOWN(VLOOKUP(Q423,Vr_Probabilidad1,2,0)*Datos!B420,0),Vr_Probabilidad,2,1))))","v":0},{"$f":"Datos!C420","v":0},"","",""]
["R",null,null,null,null,null,"",null,null,null,null,null,null,null,null,{"$f":"IF(COUNTA(I424:O424)<7,\"\",VLOOKUP(ROUNDUP((LEFT(I424,1)*'Criterios de Riesgo'!$C$3+LEFT(J424,1)*'Criterios de Riesgo'!$C$4+LEFT(K424,1)*'Criterios de Riesgo'!$C$5+LEFT(L424,1)*'Criterios de Riesgo'!$C$6+LEFT(M424,1)*'Criterios de Riesgo'!$C$7+LEFT(N424,1)*'Criterios de Riesgo'!$C$8+LEFT(O424,1)*'Criterios de Riesgo'!$C$9),0),Calif_Impacto,2))","v":""},null,"","",{"$f":"IF(OR(Datos!A421=0,Datos!A421=\"\"),P424,IF(ISERROR(VLOOKUP(VLOOKUP(P424,VrImpacto,2,0)-ROUNDDOWN(VLOOKUP(P424,VrImpacto,2,0)*Datos!A421,0),Vr_Impacto,2,1)),\"\",VLOOKUP(VLOOKUP(P424,VrImpacto,2,0)-ROUNDDOWN(VLOOKUP(P424,VrImpacto,2,0)*Datos!A421,0),Vr_Impacto,2,1)))","v":""},{"$f":"IF(Datos!B421=0,Q424,IF(Datos!B421=\"\",Q424,IF(ISERROR(VLOOKUP(VLOOKUP(Q424,Vr_Probabilidad1,2,0)+1-ROUNDDOWN(VLOOKUP(Q424,Vr_Probabilidad1,2,0)*Datos!B421,0),Vr_Probabilidad,2,1)),\"\",VLOOKUP(VLOOKUP(Q424,Vr_Probabilidad1,2,0)-ROUNDDOWN(VLOOKUP(Q424,Vr_Probabilidad1,2,0)*Datos!B421,0),Vr_Probabilidad,2,1))))","v":0},{"$f":"Datos!C421","v":0},"","",""]
["R",null,null,null,null,null,"",null,null,null,null,null,null,null,null,{"$f":"IF(COUNTA(I425:O425)<7,\"\",VLOOKUP(ROUNDUP((LEFT(I425,1)*'Criterios de Riesgo'!$C$3+LEFT(J425,1)*'Criterios de Riesgo'!$C$4+LEFT(K425,1)*'Criterios de Riesgo'!$C$5+LEFT(L425,1)*'Criterios de Riesgo'!$C$6+LEFT(M425,1)*'Criterios de Riesgo'!$C$7+LEFT(N425,1)*'Criterios de Riesgo'!$C$8+LEFT(O425,1)*'Criterios de Riesgo'!$C$9),0),Calif_Impacto,2))","v":""},null,"","",{"$f":"IF(OR(Datos!A422=0,Datos!A422=\"\"),P425,IF(ISERROR(VLOOKUP(VLOOKUP(P425,VrImpacto,2,0)-ROUNDDOWN(VLOOKUP(P425,VrImpacto,2,0)*Datos!A422,0),Vr_Impacto,2,1)),\"\",VLOOKUP(VLOOKUP(P425,VrImpacto,2,0)-ROUNDDOWN(VLOOKUP(P425,VrImpacto,2,0)*Datos!A422,0),Vr_Impacto,2,1)))","v":""},{"$f":"IF(Datos!B422=0,Q425,IF(Datos!B422=\"\",Q425,IF(ISERROR(VLOOKUP(VLOOKUP(Q425,Vr_Probabilidad1,2,0)+1-ROUNDDOWN(VLOOKUP(Q425,Vr_Probabilidad1,2,0)*Datos!B422,0),Vr_Probabilidad,2,1)),\"\",VLOOKUP(VLOOKUP(Q425,Vr_Probabilidad1,2,0)-ROUNDDOWN(VLOOKUP(Q425,Vr_Probabilidad1,2,0)*Datos!B422,0),Vr_Probabilidad,2,1))))","v":0},{"$f":"Datos!C422","v":0},"","",""]
["R",null,null,null,null,null,"",null,null,null,null,null,null,null,null,{"$f":"IF(COUNTA(I426:O426)<7,\"\",VLOOKUP(ROUNDUP((LEFT(I426,1)*'Criterios de Riesgo'!$C$3+LEFT(J426,1)*'Criterios de Riesgo'!$C$4+LEFT(K426,1)*'Criterios de Riesgo'!$C$5+LEFT(L426,1)*'Criterios de Riesgo'!$C$6+LEFT(M426,1)*'Criterios de Riesgo'!$C$7+LEFT(N426,1)*'Criterios de Riesgo'!$C$8+LEFT(O426,1)*'Criterios de Riesgo'!$C$9),0),Calif_Impacto,2))","v":""},null,"","",{"$f":"IF(OR(Datos!A423=0,Datos!A423=\"\"),P426,IF(ISERROR(VLOOKUP(VLOOKUP(P426,VrImpacto,2,0)-ROUNDDOWN(VLOOKUP(P426,VrImpacto,2,0)*Datos!A423,0),Vr_Impacto,2,1)),\"\",VLOOKUP(VLOOKUP(P426,VrImpacto,2,0)-ROUNDDOWN(VLOOKUP(P426,VrImpacto,2,0)*Datos!A423,0),Vr_Impacto,2,1)))","v":""},{"$f":"IF(Datos!B423=0,Q426,IF(Datos!B423=\"\",Q426,IF(ISERROR(VLOOKUP(VLOOKUP(Q426,Vr_Probabilidad1,2,0)+1-ROUNDDOWN(VLOOKUP(Q426,Vr_Probabilidad1,2,0)*Datos!B423,0),Vr_Probabilidad,2,1)),\"\",VLOOKUP(VLOOKUP(Q426,Vr_Probabilidad1,2,0)-ROUNDDOWN(VLOOKUP(Q426,Vr_Probabilidad1,2,0)*Datos!B423,0),Vr_Probabilidad,2,1))))","v":0},{"$f":"Datos!C423","v":0},"","",""]
["R",null,null,null,null,null,"",null,null,null,null,null,null,null,null,{"$f":"IF(COUNTA(I427:O427)<7,\"\",VLOOKUP(ROUNDUP((LEFT(I427,1)*'Criterios de Riesgo'!$C$3+LEFT(J427,1)*'Criterios de Riesgo'!$C$4+LEFT(K427,1)*'Criterios de Riesgo'!$C$5+LEFT(L427,1)*'Criterios de Riesgo'!$C$6+LEFT(M427,1)*'Criterios de Riesgo'!$C$7+LEFT(N427,1)*'Criterios de Riesgo'!$C$8+LEFT(O427,1)*'Criterios de Riesgo'!$C$9),0),Calif_Impacto,2))","v":""},null,"","",{"$f":"IF(OR(Datos!A424=0,Datos!A424=\"\"),P427,IF(ISERROR(VLOOKUP(VLOOKUP(P427,VrImpacto,2,0)-ROUNDDOWN(VLOOKUP(P427,VrImpacto,2,0)*Datos!A424,0),Vr_Impacto,2,1)),\"\",VLOOKUP(VLOOKUP(P427,VrImpacto,2,0)-ROUNDDOWN(VLOOKUP(P427,VrImpacto,2,0)*Datos!A424,0),Vr_Impacto,2,1)))","v":""},{"$f":"IF(Datos!B424=0,Q427,IF(Datos!B424=\"\",Q427,IF(ISERROR(VLOOKUP(VLOOKUP(Q427,Vr_Probabilidad1,2,0)+1-ROUNDDOWN(VLOOKUP(Q427,Vr_Probabilidad1,2,0)*Datos!B424,0),Vr_Probabilidad,2,1)),\"\",VLOOKUP(VLOOKUP(Q427,Vr_Probabilidad1,2,0)-ROUNDDOWN(VLOOKUP(Q427,Vr_Probabilidad1,2,0)*Datos!B424,0),Vr_Probabilidad,2,1))))","v":0},{"$f":"Datos!C424","v":0},"","",""]
["R",null,null,null,null,null,"",null,null,null,null,null,null,null,null,{"$f":"IF(COUNTA(I428:O428)<7,\"\",VLOOKUP(ROUNDUP((LEFT(I428,1)*'Criterios de Riesgo'!$C$3+LEFT(J428,1)*'Criterios de Riesgo'!$C$4+LEFT(K428,1)*'Criterios de Riesgo'!$C$5+LEFT(L428,1)*'Criterios de Riesgo'!$C$6+LEFT(M428,1)*'Criterios de Riesgo'!$C$7+LEFT(N428,1)*'Criterios de Riesgo'!$C$8+LEFT(O428,1)*'Criterios de Riesgo'!$C$9),0),Calif_Impacto,2))","v":""},null,"","",{"$f":"IF(OR(Datos!A425=0,Datos!A425=\"\"),P428,IF(ISERROR(VLOOKUP(VLOOKUP(P428,VrImpacto,2,0)-ROUNDDOWN(VLOOKUP(P428,VrImpacto,2,0)*Datos!A425,0),Vr_Impacto,2,1)),\"\",VLOOKUP(VLOOKUP(P428,VrImpacto,2,0)-ROUNDDOWN(VLOOKUP(P428,VrImpacto,2,0)*Datos!A425,0),Vr_Impacto,2,1)))","v":""},{"$f":"IF(Datos!B425=0,Q428,IF(Datos!B425=\"\",Q428,IF(ISERROR(VLOOKUP(VLOOKUP(Q428,Vr_Probabilidad1,2,0)+1-ROUNDDOWN(VLOOKUP(Q428,Vr_Probabilidad1,2,0)*Datos!B425,0),Vr_Probabilidad,2,1)),\"\",VLOOKUP(VLOOKUP(Q428,Vr_Probabilidad1,2,0)-ROUNDDOWN(VLOOKUP(Q428,Vr_Probabilidad1,2,0)*Datos!B425,0),Vr_Probabilidad,2,1))))","v":0},{"$f":"Datos!C425","v":0},"","",""]
["R",null,null,null,null,null,"",null,null,null,null,null,null,null,null,{"$f":"IF(COUNTA(I429:O429)<7,\"\",VLOOKUP(ROUNDUP((LEFT(I429,1)*'Criterios de Riesgo'!$C$3+LEFT(J429,1)*'Criterios de Riesgo'!$C$4+LEFT(K429,1)*'Criterios de Riesgo'!$C$5+LEFT(L429,1)*'Criterios de Riesgo'!$C$6+LEFT(M429,1)*'Criterios de Riesgo'!$C$7+LEFT(N429,1)*'Criterios de Riesgo'!$C$8+LEFT(O429,1)*'Criterios de Riesgo'!$C$9),0),Calif_Impacto,2))","v":""},null,"","",{"$f":"IF(OR(Datos!A426=0,Datos!A426=\"\"),P429,IF(ISERROR(VLOOKUP(VLOOKUP(P429,VrImpacto,2,0)-ROUNDDOWN(VLOOKUP(P429,VrImpacto,2,0)*Datos!A426,0),Vr_Impacto,2,1)),\"\",VLOOKUP(VLOOKUP(P429,VrImpacto,2,0)-ROUNDDOWN(VLOOKUP(P429,VrImpacto,2,0)*Datos!A426,0),Vr_Impacto,2,1)))","v":""},{"$f":"IF(Datos!B426=0,Q429,IF(Datos!B426=\"\",Q429,IF(ISERROR(VLOOKUP(VLOOKUP(Q429,Vr_Probabilidad1,2,0)+1-ROUNDDOWN(VLOOKUP(Q429,Vr_Probabilidad1,2,0)*Datos!B426,0),Vr_Probabilidad,2,1)),\"\",VLOOKUP(VLOOKUP(Q429,Vr_Probabilidad1,2,0)-ROUNDDOWN(VLOOKUP(Q429,Vr_Probabilidad1,2,0)*Datos!B426,0),Vr_Probabilidad,2,1))))","v":0},{"$f":"Datos!C426","v":0},"","",""]
["R",null,null,null,null,null,"",null,null,null,null,null,null,null,null,{"$f":"IF(COUNTA(I430:O430)<7,\"\",VLOOKUP(ROUNDUP((LEFT(I430,1)*'Criterios de Riesgo'!$C$3+LEFT(J430,1)*'Criterios de Riesgo'!$C$4+LEFT(K430,1)*'Criterios de Riesgo'!$C$5+LEFT(L430,1)*'Criterios de Riesgo'!$C$6+LEFT(M430,1)*'Criterios de Riesgo'!$C$7+LEFT(N430,1)*'Criterios de Riesgo'!$C$8+LEFT(O430,1)*'Criterios de Riesgo'!$C$9),0),Calif_Impacto,2))","v":""},null,"","",{"$f":"IF(OR(Datos!A427=0,Datos!A427=\"\"),P430,IF(ISERROR(VLOOKUP(VLOOKUP(P430,VrImpacto,2,0)-ROUNDDOWN(VLOOKUP(P430,VrImpacto,2,0)*Datos!A427,0),Vr_Impacto,2,1)),\"\",VLOOKUP(VLOOKUP(P430,VrImpacto,2,0)-ROUNDDOWN(VLOOKUP(P430,VrImpacto,2,0)*Datos!A427,0),Vr_Impacto,2,1)))","v":""},{"$f":"IF(Datos!B427=0,Q430,IF(Datos!B427=\"\",Q430,IF(ISERROR(VLOOKUP(VLOOKUP(Q430,Vr_Probabilidad1,2,0)+1-ROUNDDOWN(VLOOKUP(Q430,Vr_Probabilidad1,2,0)*Datos!B427,0),Vr_Probabilidad,2,1)),\"\",VLOOKUP(VLOOKUP(Q430,Vr_Probabilidad1,2,0)-ROUNDDOWN(VLOOKUP(Q430,Vr_Probabilidad1,2,0)*Datos!B427,0),Vr_Probabilidad,2,1))))","v":0},{"$f":"Datos!C427","v":0},"","",""]
["R",null,null,null,null,null,"",null,null,null,null,null,null,null,null,{"$f":"IF(COUNTA(I431:O431)<7,\"\",VLOOKUP(ROUNDUP((LEFT(I431,1)*'Criterios de Riesgo'!$C$3+LEFT(J431,1)*'Criterios de Riesgo'!$C$4+LEFT(K431,1)*'Criterios de Riesgo'!$C$5+LEFT(L431,1)*'Criterios de Riesgo'!$C$6+LEFT(M431,1)*'Criterios de Riesgo'!$C$7+LEFT(N431,1)*'Criterios de Riesgo'!$C$8+LEFT(O431,1)*'Criterios de Riesgo'!$C$9),0),Calif_Impacto,2))","v":""},null,"","",{"$f":"IF(OR(Datos!A428=0,Datos!A428=\"\"),P431,IF(ISERROR(VLOOKUP(VLOOKUP(P431,VrImpacto,2,0)-ROUNDDOWN(VLOOKUP(P431,VrImpacto,2,0)*Datos!A428,0),Vr_Impacto,2,1)),\"\",VLOOKUP(VLOOKUP(P431,VrImpacto,2,0)-ROUNDDOWN(VLOOKUP(P431,VrImpacto,2,0)*Datos!A428,0),Vr_Impacto,2,1)))","v":""},{"$f":"IF(Datos!B428=0,Q431,IF(Datos!B428=\"\",Q431,IF(ISERROR(VLOOKUP(VLOOKUP(Q431,Vr_Probabilidad1,2,0)+1-ROUNDDOWN(VLOOKUP(Q431,Vr_Probabilidad1,2,0)*Datos!B428,0),Vr_Probabilidad,2,1)),\"\",VLOOKUP(VLOOKUP(Q431,Vr_Probabilidad1,2,0)-ROUNDDOWN(VLOOKUP(Q431,Vr_Probabilidad1,2,0)*Datos!B428,0),Vr_Probabilidad,2,1))))","v":0},{"$f":"Datos!C428","v":0},"","",""]
["R",null,null,null,null,null,"",null,null,null,null,null,null,null,null,{"$f":"IF(COUNTA(I432:O432)<7,\"\",VLOOKUP(ROUNDUP((LEFT(I432,1)*'Criterios de Riesgo'!$C$3+LEFT(J432,1)*'Criterios de Riesgo'!$C$4+LEFT(K432,1)*'Criterios de Riesgo'!$C$5+LEFT(L432,1)*'Criterios de Riesgo'!$C$6+LEFT(M432,1)*'Criterios de Riesgo'!$C$7+LEFT(N432,1)*'Criterios de Riesgo'!$C$8+LEFT(O432,1)*'Criterios de Riesgo'!$C$9),0),Calif_Impacto,2))","v":""},null,"","",{"$f":"IF(OR(Datos!A429=0,Datos!A429=\"\"),P432,IF(ISERROR(VLOOKUP(VLOOKUP(P432,VrImpacto,2,0)-ROUNDDOWN(VLOOKUP(P432,VrImpacto,2,0)*Datos!A429,0),Vr_Impacto,2,1)),\"\",VLOOKUP(VLOOKUP(P432,VrImpacto,2,0)-ROUNDDOWN(VLOOKUP(P432,VrImpacto,2,0)*Datos!A429,0),Vr_Impacto,2,1)))","v":""},{"$f":"IF(Datos!B429=0,Q432,IF(Datos!B429=\"\",Q432,IF(ISERROR(VLOOKUP(VLOOKUP(Q432,Vr_Probabilidad1,2,0)+1-ROUNDDOWN(VLOOKUP(Q432,Vr_Probabilidad1,2,0)*Datos!B429,0),Vr_Probabilidad,2,1)),\"\",VLOOKUP(VLOOKUP(Q432,Vr_Probabilidad1,2,0)-ROUNDDOWN(VLOOKUP(Q432,Vr_Probabilidad1,2,0)*Datos!B429,0),Vr_Probabilidad,2,1))))","v":0},{"$f":"Datos!C429","v":0},"","",""]
["R",null,null,null,null,null,"",null,null,null,null,null,null,null,null,{"$f":"IF(COUNTA(I433:O433)<7,\"\",VLOOKUP(ROUNDUP((LEFT(I433,1)*'Criterios de Riesgo'!$C$3+LEFT(J433,1)*'Criterios de Riesgo'!$C$4+LEFT(K433,1)*'Criterios de Riesgo'!$C$5+LEFT(L433,1)*'Criterios de Riesgo'!$C$6+LEFT(M433,1)*'Criterios de Riesgo'!$C$7+LEFT(N433,1)*'Criterios de Riesgo'!$C$8+LEFT(O433,1)*'Criterios de Riesgo'!$C$9),0),Calif_Impacto,2))","v":""},null,"","",{"$f":"IF(OR(Datos!A430=0,Datos!A430=\"\"),P433,IF(ISERROR(VLOOKUP(VLOOKUP(P433,VrImpacto,2,0)-ROUNDDOWN(VLOOKUP(P433,VrImpacto,2,0)*Datos!A430,0),Vr_Impacto,2,1)),\"\",VLOOKUP(VLOOKUP(P433,VrImpacto,2,0)-ROUNDDOWN(VLOOKUP(P433,VrImpacto,2,0)*Datos!A430,0),Vr_Impacto,2,1)))","v":""},{"$f":"IF(Datos!B430=0,Q433,IF(Datos!B430=\"\",Q433,IF(ISERROR(VLOOKUP(VLOOKUP(Q433,Vr_Probabilidad1,2,0)+1-ROUNDDOWN(VLOOKUP(Q433,Vr_Probabilidad1,2,0)*Datos!B430,0),Vr_Probabilidad,2,1)),\"\",VLOOKUP(VLOOKUP(Q433,Vr_Probabilidad1,2,0)-ROUNDDOWN(VLOOKUP(Q433,Vr_Probabilidad1,2,0)*Datos!B430,0),Vr_Probabilidad,2,1))))","v":0},{"$f":"Datos!C430","v":0},"","",""]
["R",null,null,null,null,null,"",null,null,null,null,null,null,null,null,{"$f":"IF(COUNTA(I434:O434)<7,\"\",VLOOKUP(ROUNDUP((LEFT(I434,1)*'Criterios de Riesgo'!$C$3+LEFT(J434,1)*'Criterios de Riesgo'!$C$4+LEFT(K434,1)*'Criterios de Riesgo'!$C$5+LEFT(L434,1)*'Criterios de Riesgo'!$C$6+LEFT(M434,1)*'Criterios de Riesgo'!$C$7+LEFT(N434,1)*'Criterios de Riesgo'!$C$8+LEFT(O434,1)*'Criterios de Riesgo'!$C$9),0),Calif_Impacto,2))","v":""},null,"","",{"$f":"IF(OR(Datos!A431=0,Datos!A431=\"\"),P434,IF(ISERROR(VLOOKUP(VLOOKUP(P434,VrImpacto,2,0)-ROUNDDOWN(VLOOKUP(P434,VrImpacto,2,0)*Datos!A431,0),Vr_Impacto,2,1)),\"\",VLOOKUP(VLOOKUP(P434,VrImpacto,2,0)-ROUNDDOWN(VLOOKUP(P434,VrImpacto,2,0)*Datos!A431,0),Vr_Impacto,2,1)))","v":""},{"$f":"IF(Datos!B431=0,Q434,IF(Datos!B431=\"\",Q434,IF(ISERROR(VLOOKUP(VLOOKUP(Q434,Vr_Probabilidad1,2,0)+1-ROUNDDOWN(VLOOKUP(Q434,Vr_Probabilidad1,2,0)*Datos!B431,0),Vr_Probabilidad,2,1)),\"\",VLOOKUP(VLOOKUP(Q434,Vr_Probabilidad1,2,0)-ROUNDDOWN(VLOOKUP(Q434,Vr_Probabilidad1,2,0)*Datos!B431,0),Vr_Probabilidad,2,1))))","v":0},{"$f":"Datos!C431","v":0},"","",""]
["R",null,null,null,null,null,"",null,null,null,null,null,null,null,null,{"$f":"IF(COUNTA(I435:O435)<7,\"\",VLOOKUP(ROUNDUP((LEFT(I435,1)*'Criterios de Riesgo'!$C$3+LEFT(J435,1)*'Criterios de Riesgo'!$C$4+LEFT(K435,1)*'Criterios de Riesgo'!$C$5+LEFT(L435,1)*'Criterios de Riesgo'!$C$6+LEFT(M435,1)*'Criterios de Riesgo'!$C$7+LEFT(N435,1)*'Criterios de Riesgo'!$C$8+LEFT(O435,1)*'Criterios de Riesgo'!$C$9),0),Calif_Impacto,2))","v":""},null,"","",{"$f":"IF(OR(Datos!A432=0,Datos!A432=\"\"),P435,IF(ISERROR(VLOOKUP(VLOOKUP(P435,VrImpacto,2,0)-ROUNDDOWN(VLOOKUP(P435,VrImpacto,2,0)*Datos!A432,0),Vr_Impacto,2,1)),\"\",VLOOKUP(VLOOKUP(P435,VrImpacto,2,0)-ROUNDDOWN(VLOOKUP(P435,VrImpacto,2,0)*Datos!A432,0),Vr_Impacto,2,1)))","v":""},{"$f":"IF(Datos!B432=0,Q435,IF(Datos!B432=\"\",Q435,IF(ISERROR(VLOOKUP(VLOOKUP(Q435,Vr_Probabilidad1,2,0)+1-ROUNDDOWN(VLOOKUP(Q435,Vr_Probabilidad1,2,0)*Datos!B432,0),Vr_Probabilidad,2,1)),\"\",VLOOKUP(VLOOKUP(Q435,Vr_Probabilidad1,2,0)-ROUNDDOWN(VLOOKUP(Q435,Vr_Probabilidad1,2,0)*Datos!B432,0),Vr_Probabilidad,2,1))))","v":0},{"$f":"Datos!C432","v":0},"","",""]
["R",null,null,null,null,null,"",null,null,null,null,null,null,null,null,{"$f":"IF(COUNTA(I436:O436)<7,\"\",VLOOKUP(ROUNDUP((LEFT(I436,1)*'Criterios de Riesgo'!$C$3+LEFT(J436,1)*'Criterios de Riesgo'!$C$4+LEFT(K436,1)*'Criterios de Riesgo'!$C$5+LEFT(L436,1)*'Criterios de Riesgo'!$C$6+LEFT(M436,1)*'Criterios de Riesgo'!$C$7+LEFT(N436,1)*'Criterios de Riesgo'!$C$8+LEFT(O436,1)*'Criterios de Riesgo'!$C$9),0),Calif_Impacto,2))","v":""},null,"","",{"$f":"IF(OR(Datos!A433=0,Datos!A433=\"\"),P436,IF(ISERROR(VLOOKUP(VLOOKUP(P436,VrImpacto,2,0)-ROUNDDOWN(VLOOKUP(P436,VrImpacto,2,0)*Datos!A433,0),Vr_Impacto,2,1)),\"\",VLOOKUP(VLOOKUP(P436,VrImpacto,2,0)-ROUNDDOWN(VLOOKUP(P436,VrImpacto,2,0)*Datos!A433,0),Vr_Impacto,2,1)))","v":""},{"$f":"IF(Datos!B433=0,Q436,IF(Datos!B433=\"\",Q436,IF(ISERROR(VLOOKUP(VLOOKUP(Q436,Vr_Probabilidad1,2,0)+1-ROUNDDOWN(VLOOKUP(Q436,Vr_Probabilidad1,2,0)*Datos!B433,0),Vr_Probabilidad,2,1)),\"\",VLOOKUP(VLOOKUP(Q436,Vr_Probabilidad1,2,0)-ROUNDDOWN(VLOOKUP(Q436,Vr_Probabilidad1,2,0)*Datos!B433,0),Vr_Probabilidad,2,1))))","v":0},{"$f":"Datos!C433","v":0},"","",""]
["R",null,null,null,null,null,"",null,null,null,null,null,null,null,null,{"$f":"IF(COUNTA(I437:O437)<7,\"\",VLOOKUP(ROUNDUP((LEFT(I437,1)*'Criterios de Riesgo'!$C$3+LEFT(J437,1)*'Criterios de Riesgo'!$C$4+LEFT(K437,1)*'Criterios de Riesgo'!$C$5+LEFT(L437,1)*'Criterios de Riesgo'!$C$6+LEFT(M437,1)*'Criterios de Riesgo'!$C$7+LEFT(N437,1)*'Criterios de Riesgo'!$C$8+LEFT(O437,1)*'Criterios de Riesgo'!$C$9),0),Calif_Impacto,2))","v":""},null,"","",{"$f":"IF(OR(Datos!A434=0,Datos!A434=\"\"),P437,IF(ISERROR(VLOOKUP(VLOOKUP(P437,VrImpacto,2,0)-ROUNDDOWN(VLOOKUP(P437,VrImpacto,2,0)*Datos!A434,0),Vr_Impacto,2,1)),\"\",VLOOKUP(VLOOKUP(P437,VrImpacto,2,0)-ROUNDDOWN(VLOOKUP(P437,VrImpacto,2,0)*Datos!A434,0),Vr_Impacto,2,1)))","v":""},{"$f":"IF(Datos!B434=0,Q437,IF(Datos!B434=\"\",Q437,IF(ISERROR(VLOOKUP(VLOOKUP(Q437,Vr_Probabilidad1,2,0)+1-ROUNDDOWN(VLOOKUP(Q437,Vr_Probabilidad1,2,0)*Datos!B434,0),Vr_Probabilidad,2,1)),\"\",VLOOKUP(VLOOKUP(Q437,Vr_Probabilidad1,2,0)-ROUNDDOWN(VLOOKUP(Q437,Vr_Probabilidad1,2,0)*Datos!B434,0),Vr_Probabilidad,2,1))))","v":0},{"$f":"Datos!C434","v":0},"","",""]
["R",null,null,null,null,null,"",null,null,null,null,null,null,null,null,{"$f":"IF(COUNTA(I438:O438)<7,\"\",VLOOKUP(ROUNDUP((LEFT(I438,1)*'Criterios de Riesgo'!$C$3+LEFT(J438,1)*'Criterios de Riesgo'!$C$4+LEFT(K438,1)*'Criterios de Riesgo'!$C$5+LEFT(L438,1)*'Criterios de Riesgo'!$C$6+LEFT(M438,1)*'Criterios de Riesgo'!$C$7+LEFT(N438,1)*'Criterios de Riesgo'!$C$8+LEFT(O438,1)*'Criterios de Riesgo'!$C$9),0),Calif_Impacto,2))","v":""},null,"","",{"$f":"IF(OR(Datos!A435=0,Datos!A435=\"\"),P438,IF(ISERROR(VLOOKUP(VLOOKUP(P438,VrImpacto,2,0)-ROUNDDOWN(VLOOKUP(P438,VrImpacto,2,0)*Datos!A435,0),Vr_Impacto,2,1)),\"\",VLOOKUP(VLOOKUP(P438,VrImpacto,2,0)-ROUNDDOWN(VLOOKUP(P438,VrImpacto,2,0)*Datos!A435,0),Vr_Impacto,2,1)))","v":""},{"$f":"IF(Datos!B435=0,Q438,IF(Datos!B435=\"\",Q438,IF(ISERROR(VLOOKUP(VLOOKUP(Q438,Vr_Probabilidad1,2,0)+1-ROUNDDOWN(VLOOKUP(Q438,Vr_Probabilidad1,2,0)*Datos!B435,0),Vr_Probabilidad,2,1)),\"\",VLOOKUP(VLOOKUP(Q438,Vr_Probabilidad1,2,0)-ROUNDDOWN(VLOOKUP(Q438,Vr_Probabilidad1,2,0)*Datos!B435,0),Vr_Probabilidad,2,1))))","v":0},{"$f":"Datos!C435","v":0},"","",""]
["R",null,null,null,null,null,"",null,null,null,null,null,null,null,null,{"$f":"IF(COUNTA(I439:O439)<7,\"\",VLOOKUP(ROUNDUP((LEFT(I439,1)*'Criterios de Riesgo'!$C$3+LEFT(J439,1)*'Criterios de Riesgo'!$C$4+LEFT(K439,1)*'Criterios de Riesgo'!$C$5+LEFT(L439,1)*'Criterios de Riesgo'!$C$6+LEFT(M439,1)*'Criterios de Riesgo'!$C$7+LEFT(N439,1)*'Criterios de Riesgo'!$C$8+LEFT(O439,1)*'Criterios de Riesgo'!$C$9),0),Calif_Impacto,2))","v":""},null,"","",{"$f":"IF(OR(Datos!A436=0,Datos!A436=\"\"),P439,IF(ISERROR(VLOOKUP(VLOOKUP(P439,VrImpacto,2,0)-ROUNDDOWN(VLOOKUP(P439,VrImpacto,2,0)*Datos!A436,0),Vr_Impacto,2,1)),\"\",VLOOKUP(VLOOKUP(P439,VrImpacto,2,0)-ROUNDDOWN(VLOOKUP(P439,VrImpacto,2,0)*Datos!A436,0),Vr_Impacto,2,1)))","v":""},{"$f":"IF(Datos!B436=0,Q439,IF(Datos!B436=\"\",Q439,IF(ISERROR(VLOOKUP(VLOOKUP(Q439,Vr_Probabilidad1,2,0)+1-ROUNDDOWN(VLOOKUP(Q439,Vr_Probabilidad1,2,0)*Datos!B436,0),Vr_Probabilidad,2,1)),\"\",VLOOKUP(VLOOKUP(Q439,Vr_Probabilidad1,2,0)-ROUNDDOWN(VLOOKUP(Q439,Vr_Probabilidad1,2,0)*Datos!B436,0),Vr_Probabilidad,2,1))))","v":0},{"$f":"Datos!C436","v":0},"","",""]
["R",null,null,null,null,null,{"$f":"IF(ISERROR(VLOOKUP(F440,EventosPerdida,2,0)),\"\",VLOOKUP(F440,EventosPerdida,2,0))","v":""},null,null,null,null,null,null,null,null,{"$f":"IF(COUNTA(I440:O440)<7,\"\",VLOOKUP(ROUNDUP((LEFT(I440,1)*'Criterios de Riesgo'!$C$3+LEFT(J440,1)*'Criterios de Riesgo'!$C$4+LEFT(K440,1)*'Criterios de Riesgo'!$C$5+LEFT(L440,1)*'Criterios de Riesgo'!$C$6+LEFT(M440,1)*'Criterios de Riesgo'!$C$7+LEFT(N440,1)*'Criterios de Riesgo'!$C$8+LEFT(O440,1)*'Criterios de Riesgo'!$C$9),0),Calif_Impacto,2))","v":""},null,{"$f":"IF(OR(P440=\"\",Q440=\"\"),\"\",VLOOKUP(P440,VrImpacto,2,0)*VLOOKUP(Q440,Vr_Probabilidad1,2,0))","v":""},{"$f":"IF(ISERROR(VLOOKUP(Q440&\"-\"&P440,NivelRiesgo,3,0)),\"\",VLOOKUP(Q440&\"-\"&P440,NivelRiesgo,3,0))","v":""},{"$f":"IF(OR(Datos!A437=0,Datos!A437=\"\"),P440,IF(ISERROR(VLOOKUP(VLOOKUP(P440,VrImpacto,2,0)-ROUNDDOWN(VLOOKUP(P440,VrImpacto,2,0)*Datos!A437,0),Vr_Impacto,2,1)),\"\",VLOOKUP(VLOOKUP(P440,VrImpacto,2,0)-ROUNDDOWN(VLOOKUP(P440,VrImpacto,2,0)*Datos!A437,0),Vr_Impacto,2,1)))","v":""},{"$f":"IF(Datos!B437=0,Q440,IF(Datos!B437=\"\",Q440,IF(ISERROR(VLOOKUP(VLOOKUP(Q440,Vr_Probabilidad1,2,0)+1-ROUNDDOWN(VLOOKUP(Q440,Vr_Probabilidad1,2,0)*Datos!B437,0),Vr_Probabilidad,2,1)),\"\",VLOOKUP(VLOOKUP(Q440,Vr_Probabilidad1,2,0)-ROUNDDOWN(VLOOKUP(Q440,Vr_Probabilidad1,2,0)*Datos!B437,0),Vr_Probabilidad,2,1))))","v":0},{"$f":"Datos!C437","v":0},"","",{"$f":"IF(ISERROR(VLOOKUP(X440,Criterio_Riesgo_Residual,2,1)),\"\",VLOOKUP(X440,Criterio_Riesgo_Residual,2,1))","v":""}]
["R",null,null,null,null,null,"",null,null,null,null,null,null,null,null,{"$f":"IF(COUNTA(I441:O441)<7,\"\",VLOOKUP(ROUNDUP((LEFT(I441,1)*'Criterios de Riesgo'!$C$3+LEFT(J441,1)*'Criterios de Riesgo'!$C$4+LEFT(K441,1)*'Criterios de Riesgo'!$C$5+LEFT(L441,1)*'Criterios de Riesgo'!$C$6+LEFT(M441,1)*'Criterios de Riesgo'!$C$7+LEFT(N441,1)*'Criterios de Riesgo'!$C$8+LEFT(O441,1)*'Criterios de Riesgo'!$C$9),0),Calif_Impacto,2))","v":""},null,"","",{"$f":"IF(OR(Datos!A438=0,Datos!A438=\"\"),P441,IF(ISERROR(VLOOKUP(VLOOKUP(P441,VrImpacto,2,0)-ROUNDDOWN(VLOOKUP(P441,VrImpacto,2,0)*Datos!A438,0),Vr_Impacto,2,1)),\"\",VLOOKUP(VLOOKUP(P441,VrImpacto,2,0)-ROUNDDOWN(VLOOKUP(P441,VrImpacto,2,0)*Datos!A438,0),Vr_Impacto,2,1)))","v":""},{"$f":"IF(Datos!B438=0,Q441,IF(Datos!B438=\"\",Q441,IF(ISERROR(VLOOKUP(VLOOKUP(Q441,Vr_Probabilidad1,2,0)+1-ROUNDDOWN(VLOOKUP(Q441,Vr_Probabilidad1,2,0)*Datos!B438,0),Vr_Probabilidad,2,1)),\"\",VLOOKUP(VLOOKUP(Q441,Vr_Probabilidad1,2,0)-ROUNDDOWN(VLOOKUP(Q441,Vr_Probabilidad1,2,0)*Datos!B438,0),Vr_Probabilidad,2,1))))","v":0},{"$f":"Datos!C438","v":0},"","",""]
["R",null,null,null,null,null,"",null,null,null,null,null,null,null,null,{"$f":"IF(COUNTA(I442:O442)<7,\"\",VLOOKUP(ROUNDUP((LEFT(I442,1)*'Criterios de Riesgo'!$C$3+LEFT(J442,1)*'Criterios de Riesgo'!$C$4+LEFT(K442,1)*'Criterios de Riesgo'!$C$5+LEFT(L442,1)*'Criterios de Riesgo'!$C$6+LEFT(M442,1)*'Criterios de Riesgo'!$C$7+LEFT(N442,1)*'Criterios de Riesgo'!$C$8+LEFT(O442,1)*'Criterios de Riesgo'!$C$9),0),Calif_Impacto,2))","v":""},null,"","",{"$f":"IF(OR(Datos!A439=0,Datos!A439=\"\"),P442,IF(ISERROR(VLOOKUP(VLOOKUP(P442,VrImpacto,2,0)-ROUNDDOWN(VLOOKUP(P442,VrImpacto,2,0)*Datos!A439,0),Vr_Impacto,2,1)),\"\",VLOOKUP(VLOOKUP(P442,VrImpacto,2,0)-ROUNDDOWN(VLOOKUP(P442,VrImpacto,2,0)*Datos!A439,0),Vr_Impacto,2,1)))","v":""},{"$f":"IF(Datos!B439=0,Q442,IF(Datos!B439=\"\",Q442,IF(ISERROR(VLOOKUP(VLOOKUP(Q442,Vr_Probabilidad1,2,0)+1-ROUNDDOWN(VLOOKUP(Q442,Vr_Probabilidad1,2,0)*Datos!B439,0),Vr_Probabilidad,2,1)),\"\",VLOOKUP(VLOOKUP(Q442,Vr_Probabilidad1,2,0)-ROUNDDOWN(VLOOKUP(Q442,Vr_Probabilidad1,2,0)*Datos!B439,0),Vr_Probabilidad,2,1))))","v":0},{"$f":"Datos!C439","v":0},{"$f":"IF(X442=\"\",\"\",R442-X442)","v":""},{"$f":"IF(R442=\"\",\"\",VLOOKUP(T442,VrImpacto,2,0)*VLOOKUP(U442,Vr_Probabilidad1,2,0))","v":""},""]
["R",null,null,null,null,null,"",null,null,null,null,null,null,null,null,{"$f":"IF(COUNTA(I443:O443)<7,\"\",VLOOKUP(ROUNDUP((LEFT(I443,1)*'Criterios de Riesgo'!$C$3+LEFT(J443,1)*'Criterios de Riesgo'!$C$4+LEFT(K443,1)*'Criterios de Riesgo'!$C$5+LEFT(L443,1)*'Criterios de Riesgo'!$C$6+LEFT(M443,1)*'Criterios de Riesgo'!$C$7+LEFT(N443,1)*'Criterios de Riesgo'!$C$8+LEFT(O443,1)*'Criterios de Riesgo'!$C$9),0),Calif_Impacto,2))","v":""},null,"","",{"$f":"IF(OR(Datos!A440=0,Datos!A440=\"\"),P443,IF(ISERROR(VLOOKUP(VLOOKUP(P443,VrImpacto,2,0)-ROUNDDOWN(VLOOKUP(P443,VrImpacto,2,0)*Datos!A440,0),Vr_Impacto,2,1)),\"\",VLOOKUP(VLOOKUP(P443,VrImpacto,2,0)-ROUNDDOWN(VLOOKUP(P443,VrImpacto,2,0)*Datos!A440,0),Vr_Impacto,2,1)))","v":""},{"$f":"IF(Datos!B440=0,Q443,IF(Datos!B440=\"\",Q443,IF(ISERROR(VLOOKUP(VLOOKUP(Q443,Vr_Probabilidad1,2,0)+1-ROUNDDOWN(VLOOKUP(Q443,Vr_Probabilidad1,2,0)*Datos!B440,0),Vr_Probabilidad,2,1)),\"\",VLOOKUP(VLOOKUP(Q443,Vr_Probabilidad1,2,0)-ROUNDDOWN(VLOOKUP(Q443,Vr_Probabilidad1,2,0)*Datos!B440,0),Vr_Probabilidad,2,1))))","v":0},{"$f":"Datos!C440","v":0},"","",""]
["R",null,null,null,null,null,"",null,null,null,null,null,null,null,null,{"$f":"IF(COUNTA(I444:O444)<7,\"\",VLOOKUP(ROUNDUP((LEFT(I444,1)*'Criterios de Riesgo'!$C$3+LEFT(J444,1)*'Criterios de Riesgo'!$C$4+LEFT(K444,1)*'Criterios de Riesgo'!$C$5+LEFT(L444,1)*'Criterios de Riesgo'!$C$6+LEFT(M444,1)*'Criterios de Riesgo'!$C$7+LEFT(N444,1)*'Criterios de Riesgo'!$C$8+LEFT(O444,1)*'Criterios de Riesgo'!$C$9),0),Calif_Impacto,2))","v":""},null,"","",{"$f":"IF(OR(Datos!A441=0,Datos!A441=\"\"),P444,IF(ISERROR(VLOOKUP(VLOOKUP(P444,VrImpacto,2,0)-ROUNDDOWN(VLOOKUP(P444,VrImpacto,2,0)*Datos!A441,0),Vr_Impacto,2,1)),\"\",VLOOKUP(VLOOKUP(P444,VrImpacto,2,0)-ROUNDDOWN(VLOOKUP(P444,VrImpacto,2,0)*Datos!A441,0),Vr_Impacto,2,1)))","v":""},{"$f":"IF(Datos!B441=0,Q444,IF(Datos!B441=\"\",Q444,IF(ISERROR(VLOOKUP(VLOOKUP(Q444,Vr_Probabilidad1,2,0)+1-ROUNDDOWN(VLOOKUP(Q444,Vr_Probabilidad1,2,0)*Datos!B441,0),Vr_Probabilidad,2,1)),\"\",VLOOKUP(VLOOKUP(Q444,Vr_Probabilidad1,2,0)-ROUNDDOWN(VLOOKUP(Q444,Vr_Probabilidad1,2,0)*Datos!B441,0),Vr_Probabilidad,2,1))))","v":0},{"$f":"Datos!C441","v":0},"","",""]
["R",null,null,null,null,null,"",null,null,null,null,null,null,null,null,{"$f":"IF(COUNTA(I445:O445)<7,\"\",VLOOKUP(ROUNDUP((LEFT(I445,1)*'Criterios de Riesgo'!$C$3+LEFT(J445,1)*'Criterios de Riesgo'!$C$4+LEFT(K445,1)*'Criterios de Riesgo'!$C$5+LEFT(L445,1)*'Criterios de Riesgo'!$C$6+LEFT(M445,1)*'Criterios de Riesgo'!$C$7+LEFT(N445,1)*'Criterios de Riesgo'!$C$8+LEFT(O445,1)*'Criterios de Riesgo'!$C$9),0),Calif_Impacto,2))","v":""},null,"","",{"$f":"IF(OR(Datos!A442=0,Datos!A442=\"\"),P445,IF(ISERROR(VLOOKUP(VLOOKUP(P445,VrImpacto,2,0)-ROUNDDOWN(VLOOKUP(P445,VrImpacto,2,0)*Datos!A442,0),Vr_Impacto,2,1)),\"\",VLOOKUP(VLOOKUP(P445,VrImpacto,2,0)-ROUNDDOWN(VLOOKUP(P445,VrImpacto,2,0)*Datos!A442,0),Vr_Impacto,2,1)))","v":""},{"$f":"IF(Datos!B442=0,Q445,IF(Datos!B442=\"\",Q445,IF(ISERROR(VLOOKUP(VLOOKUP(Q445,Vr_Probabilidad1,2,0)+1-ROUNDDOWN(VLOOKUP(Q445,Vr_Probabilidad1,2,0)*Datos!B442,0),Vr_Probabilidad,2,1)),\"\",VLOOKUP(VLOOKUP(Q445,Vr_Probabilidad1,2,0)-ROUNDDOWN(VLOOKUP(Q445,Vr_Probabilidad1,2,0)*Datos!B442,0),Vr_Probabilidad,2,1))))","v":0},{"$f":"Datos!C442","v":0},"","",""]
["R",null,null,null,null,null,"",null,null,null,null,null,null,null,null,{"$f":"IF(COUNTA(I446:O446)<7,\"\",VLOOKUP(ROUNDUP((LEFT(I446,1)*'Criterios de Riesgo'!$C$3+LEFT(J446,1)*'Criterios de Riesgo'!$C$4+LEFT(K446,1)*'Criterios de Riesgo'!$C$5+LEFT(L446,1)*'Criterios de Riesgo'!$C$6+LEFT(M446,1)*'Criterios de Riesgo'!$C$7+LEFT(N446,1)*'Criterios de Riesgo'!$C$8+LEFT(O446,1)*'Criterios de Riesgo'!$C$9),0),Calif_Impacto,2))","v":""},null,"","",{"$f":"IF(OR(Datos!A443=0,Datos!A443=\"\"),P446,IF(ISERROR(VLOOKUP(VLOOKUP(P446,VrImpacto,2,0)-ROUNDDOWN(VLOOKUP(P446,VrImpacto,2,0)*Datos!A443,0),Vr_Impacto,2,1)),\"\",VLOOKUP(VLOOKUP(P446,VrImpacto,2,0)-ROUNDDOWN(VLOOKUP(P446,VrImpacto,2,0)*Datos!A443,0),Vr_Impacto,2,1)))","v":""},{"$f":"IF(Datos!B443=0,Q446,IF(Datos!B443=\"\",Q446,IF(ISERROR(VLOOKUP(VLOOKUP(Q446,Vr_Probabilidad1,2,0)+1-ROUNDDOWN(VLOOKUP(Q446,Vr_Probabilidad1,2,0)*Datos!B443,0),Vr_Probabilidad,2,1)),\"\",VLOOKUP(VLOOKUP(Q446,Vr_Probabilidad1,2,0)-ROUNDDOWN(VLOOKUP(Q446,Vr_Probabilidad1,2,0)*Datos!B443,0),Vr_Probabilidad,2,1))))","v":0},{"$f":"Datos!C443","v":0},"","",""]
["R",null,null,null,null,null,"",null,null,null,null,null,null,null,null,{"$f":"IF(COUNTA(I447:O447)<7,\"\",VLOOKUP(ROUNDUP((LEFT(I447,1)*'Criterios de Riesgo'!$C$3+LEFT(J447,1)*'Criterios de Riesgo'!$C$4+LEFT(K447,1)*'Criterios de Riesgo'!$C$5+LEFT(L447,1)*'Criterios de Riesgo'!$C$6+LEFT(M447,1)*'Criterios de Riesgo'!$C$7+LEFT(N447,1)*'Criterios de Riesgo'!$C$8+LEFT(O447,1)*'Criterios de Riesgo'!$C$9),0),Calif_Impacto,2))","v":""},null,"","",{"$f":"IF(OR(Datos!A444=0,Datos!A444=\"\"),P447,IF(ISERROR(VLOOKUP(VLOOKUP(P447,VrImpacto,2,0)-ROUNDDOWN(VLOOKUP(P447,VrImpacto,2,0)*Datos!A444,0),Vr_Impacto,2,1)),\"\",VLOOKUP(VLOOKUP(P447,VrImpacto,2,0)-ROUNDDOWN(VLOOKUP(P447,VrImpacto,2,0)*Datos!A444,0),Vr_Impacto,2,1)))","v":""},{"$f":"IF(Datos!B444=0,Q447,IF(Datos!B444=\"\",Q447,IF(ISERROR(VLOOKUP(VLOOKUP(Q447,Vr_Probabilidad1,2,0)+1-ROUNDDOWN(VLOOKUP(Q447,Vr_Probabilidad1,2,0)*Datos!B444,0),Vr_Probabilidad,2,1)),\"\",VLOOKUP(VLOOKUP(Q447,Vr_Probabilidad1,2,0)-ROUNDDOWN(VLOOKUP(Q447,Vr_Probabilidad1,2,0)*Datos!B444,0),Vr_Probabilidad,2,1))))","v":0},{"$f":"Datos!C444","v":0},"","",""]
["R",null,null,null,null,null,"",null,null,null,null,null,null,null,null,{"$f":"IF(COUNTA(I448:O448)<7,\"\",VLOOKUP(ROUNDUP((LEFT(I448,1)*'Criterios de Riesgo'!$C$3+LEFT(J448,1)*'Criterios de Riesgo'!$C$4+LEFT(K448,1)*'Criterios de Riesgo'!$C$5+LEFT(L448,1)*'Criterios de Riesgo'!$C$6+LEFT(M448,1)*'Criterios de Riesgo'!$C$7+LEFT(N448,1)*'Criterios de Riesgo'!$C$8+LEFT(O448,1)*'Criterios de Riesgo'!$C$9),0),Calif_Impacto,2))","v":""},null,"","",{"$f":"IF(OR(Datos!A445=0,Datos!A445=\"\"),P448,IF(ISERROR(VLOOKUP(VLOOKUP(P448,VrImpacto,2,0)-ROUNDDOWN(VLOOKUP(P448,VrImpacto,2,0)*Datos!A445,0),Vr_Impacto,2,1)),\"\",VLOOKUP(VLOOKUP(P448,VrImpacto,2,0)-ROUNDDOWN(VLOOKUP(P448,VrImpacto,2,0)*Datos!A445,0),Vr_Impacto,2,1)))","v":""},{"$f":"IF(Datos!B445=0,Q448,IF(Datos!B445=\"\",Q448,IF(ISERROR(VLOOKUP(VLOOKUP(Q448,Vr_Probabilidad1,2,0)+1-ROUNDDOWN(VLOOKUP(Q448,Vr_Probabilidad1,2,0)*Datos!B445,0),Vr_Probabilidad,2,1)),\"\",VLOOKUP(VLOOKUP(Q448,Vr_Probabilidad1,2,0)-ROUNDDOWN(VLOOKUP(Q448,Vr_Probabilidad1,2,0)*Datos!B445,0),Vr_Probabilidad,2,1))))","v":0},{"$f":"Datos!C445","v":0},"","",""]
["R",null,null,null,null,null,"",null,null,null,null,null,null,null,null,{"$f":"IF(COUNTA(I449:O449)<7,\"\",VLOOKUP(ROUNDUP((LEFT(I449,1)*'Criterios de Riesgo'!$C$3+LEFT(J449,1)*'Criterios de Riesgo'!$C$4+LEFT(K449,1)*'Criterios de Riesgo'!$C$5+LEFT(L449,1)*'Criterios de Riesgo'!$C$6+LEFT(M449,1)*'Criterios de Riesgo'!$C$7+LEFT(N449,1)*'Criterios de Riesgo'!$C$8+LEFT(O449,1)*'Criterios de Riesgo'!$C$9),0),Calif_Impacto,2))","v":""},null,"","",{"$f":"IF(OR(Datos!A446=0,Datos!A446=\"\"),P449,IF(ISERROR(VLOOKUP(VLOOKUP(P449,VrImpacto,2,0)-ROUNDDOWN(VLOOKUP(P449,VrImpacto,2,0)*Datos!A446,0),Vr_Impacto,2,1)),\"\",VLOOKUP(VLOOKUP(P449,VrImpacto,2,0)-ROUNDDOWN(VLOOKUP(P449,VrImpacto,2,0)*Datos!A446,0),Vr_Impacto,2,1)))","v":""},{"$f":"IF(Datos!B446=0,Q449,IF(Datos!B446=\"\",Q449,IF(ISERROR(VLOOKUP(VLOOKUP(Q449,Vr_Probabilidad1,2,0)+1-ROUNDDOWN(VLOOKUP(Q449,Vr_Probabilidad1,2,0)*Datos!B446,0),Vr_Probabilidad,2,1)),\"\",VLOOKUP(VLOOKUP(Q449,Vr_Probabilidad1,2,0)-ROUNDDOWN(VLOOKUP(Q449,Vr_Probabilidad1,2,0)*Datos!B446,0),Vr_Probabilidad,2,1))))","v":0},{"$f":"Datos!C446","v":0},"","",""]
["R",null,null,null,null,null,"",null,null,null,null,null,null,null,null,{"$f":"IF(COUNTA(I450:O450)<7,\"\",VLOOKUP(ROUNDUP((LEFT(I450,1)*'Criterios de Riesgo'!$C$3+LEFT(J450,1)*'Criterios de Riesgo'!$C$4+LEFT(K450,1)*'Criterios de Riesgo'!$C$5+LEFT(L450,1)*'Criterios de Riesgo'!$C$6+LEFT(M450,1)*'Criterios de Riesgo'!$C$7+LEFT(N450,1)*'Criterios de Riesgo'!$C$8+LEFT(O450,1)*'Criterios de Riesgo'!$C$9),0),Calif_Impacto,2))","v":""},null,"","",{"$f":"IF(OR(Datos!A447=0,Datos!A447=\"\"),P450,IF(ISERROR(VLOOKUP(VLOOKUP(P450,VrImpacto,2,0)-ROUNDDOWN(VLOOKUP(P450,VrImpacto,2,0)*Datos!A447,0),Vr_Impacto,2,1)),\"\",VLOOKUP(VLOOKUP(P450,VrImpacto,2,0)-ROUNDDOWN(VLOOKUP(P450,VrImpacto,2,0)*Datos!A447,0),Vr_Impacto,2,1)))","v":""},{"$f":"IF(Datos!B447=0,Q450,IF(Datos!B447=\"\",Q450,IF(ISERROR(VLOOKUP(VLOOKUP(Q450,Vr_Probabilidad1,2,0)+1-ROUNDDOWN(VLOOKUP(Q450,Vr_Probabilidad1,2,0)*Datos!B447,0),Vr_Probabilidad,2,1)),\"\",VLOOKUP(VLOOKUP(Q450,Vr_Probabilidad1,2,0)-ROUNDDOWN(VLOOKUP(Q450,Vr_Probabilidad1,2,0)*Datos!B447,0),Vr_Probabilidad,2,1))))","v":0},{"$f":"Datos!C447","v":0},"","",""]
["R",null,null,null,null,null,"",null,null,null,null,null,null,null,null,{"$f":"IF(COUNTA(I451:O451)<7,\"\",VLOOKUP(ROUNDUP((LEFT(I451,1)*'Criterios de Riesgo'!$C$3+LEFT(J451,1)*'Criterios de Riesgo'!$C$4+LEFT(K451,1)*'Criterios de Riesgo'!$C$5+LEFT(L451,1)*'Criterios de Riesgo'!$C$6+LEFT(M451,1)*'Criterios de Riesgo'!$C$7+LEFT(N451,1)*'Criterios de Riesgo'!$C$8+LEFT(O451,1)*'Criterios de Riesgo'!$C$9),0),Calif_Impacto,2))","v":""},null,"","",{"$f":"IF(OR(Datos!A448=0,Datos!A448=\"\"),P451,IF(ISERROR(VLOOKUP(VLOOKUP(P451,VrImpacto,2,0)-ROUNDDOWN(VLOOKUP(P451,VrImpacto,2,0)*Datos!A448,0),Vr_Impacto,2,1)),\"\",VLOOKUP(VLOOKUP(P451,VrImpacto,2,0)-ROUNDDOWN(VLOOKUP(P451,VrImpacto,2,0)*Datos!A448,0),Vr_Impacto,2,1)))","v":""},{"$f":"IF(Datos!B448=0,Q451,IF(Datos!B448=\"\",Q451,IF(ISERROR(VLOOKUP(VLOOKUP(Q451,Vr_Probabilidad1,2,0)+1-ROUNDDOWN(VLOOKUP(Q451,Vr_Probabilidad1,2,0)*Datos!B448,0),Vr_Probabilidad,2,1)),\"\",VLOOKUP(VLOOKUP(Q451,Vr_Probabilidad1,2,0)-ROUNDDOWN(VLOOKUP(Q451,Vr_Probabilidad1,2,0)*Datos!B448,0),Vr_Probabilidad,2,1))))","v":0},{"$f":"Datos!C448","v":0},"","",""]
["R",null,null,null,null,null,"",null,null,null,null,null,null,null,null,{"$f":"IF(COUNTA(I452:O452)<7,\"\",VLOOKUP(ROUNDUP((LEFT(I452,1)*'Criterios de Riesgo'!$C$3+LEFT(J452,1)*'Criterios de Riesgo'!$C$4+LEFT(K452,1)*'Criterios de Riesgo'!$C$5+LEFT(L452,1)*'Criterios de Riesgo'!$C$6+LEFT(M452,1)*'Criterios de Riesgo'!$C$7+LEFT(N452,1)*'Criterios de Riesgo'!$C$8+LEFT(O452,1)*'Criterios de Riesgo'!$C$9),0),Calif_Impacto,2))","v":""},null,"","",{"$f":"IF(OR(Datos!A449=0,Datos!A449=\"\"),P452,IF(ISERROR(VLOOKUP(VLOOKUP(P452,VrImpacto,2,0)-ROUNDDOWN(VLOOKUP(P452,VrImpacto,2,0)*Datos!A449,0),Vr_Impacto,2,1)),\"\",VLOOKUP(VLOOKUP(P452,VrImpacto,2,0)-ROUNDDOWN(VLOOKUP(P452,VrImpacto,2,0)*Datos!A449,0),Vr_Impacto,2,1)))","v":""},{"$f":"IF(Datos!B449=0,Q452,IF(Datos!B449=\"\",Q452,IF(ISERROR(VLOOKUP(VLOOKUP(Q452,Vr_Probabilidad1,2,0)+1-ROUNDDOWN(VLOOKUP(Q452,Vr_Probabilidad1,2,0)*Datos!B449,0),Vr_Probabilidad,2,1)),\"\",VLOOKUP(VLOOKUP(Q452,Vr_Probabilidad1,2,0)-ROUNDDOWN(VLOOKUP(Q452,Vr_Probabilidad1,2,0)*Datos!B449,0),Vr_Probabilidad,2,1))))","v":0},{"$f":"Datos!C449","v":0},"","",""]
["R",null,null,null,null,null,"",null,null,null,null,null,null,null,null,{"$f":"IF(COUNTA(I453:O453)<7,\"\",VLOOKUP(ROUNDUP((LEFT(I453,1)*'Criterios de Riesgo'!$C$3+LEFT(J453,1)*'Criterios de Riesgo'!$C$4+LEFT(K453,1)*'Criterios de Riesgo'!$C$5+LEFT(L453,1)*'Criterios de Riesgo'!$C$6+LEFT(M453,1)*'Criterios de Riesgo'!$C$7+LEFT(N453,1)*'Criterios de Riesgo'!$C$8+LEFT(O453,1)*'Criterios de Riesgo'!$C$9),0),Calif_Impacto,2))","v":""},null,"","",{"$f":"IF(OR(Datos!A450=0,Datos!A450=\"\"),P453,IF(ISERROR(VLOOKUP(VLOOKUP(P453,VrImpacto,2,0)-ROUNDDOWN(VLOOKUP(P453,VrImpacto,2,0)*Datos!A450,0),Vr_Impacto,2,1)),\"\",VLOOKUP(VLOOKUP(P453,VrImpacto,2,0)-ROUNDDOWN(VLOOKUP(P453,VrImpacto,2,0)*Datos!A450,0),Vr_Impacto,2,1)))","v":""},{"$f":"IF(Datos!B450=0,Q453,IF(Datos!B450=\"\",Q453,IF(ISERROR(VLOOKUP(VLOOKUP(Q453,Vr_Probabilidad1,2,0)+1-ROUNDDOWN(VLOOKUP(Q453,Vr_Probabilidad1,2,0)*Datos!B450,0),Vr_Probabilidad,2,1)),\"\",VLOOKUP(VLOOKUP(Q453,Vr_Probabilidad1,2,0)-ROUNDDOWN(VLOOKUP(Q453,Vr_Probabilidad1,2,0)*Datos!B450,0),Vr_Probabilidad,2,1))))","v":0},{"$f":"Datos!C450","v":0},"","",""]
["R",null,null,null,null,null,"",null,null,null,null,null,null,null,null,{"$f":"IF(COUNTA(I454:O454)<7,\"\",VLOOKUP(ROUNDUP((LEFT(I454,1)*'Criterios de Riesgo'!$C$3+LEFT(J454,1)*'Criterios de Riesgo'!$C$4+LEFT(K454,1)*'Criterios de Riesgo'!$C$5+LEFT(L454,1)*'Criterios de Riesgo'!$C$6+LEFT(M454,1)*'Criterios de Riesgo'!$C$7+LEFT(N454,1)*'Criterios de Riesgo'!$C$8+LEFT(O454,1)*'Criterios de Riesgo'!$C$9),0),Calif_Impacto,2))","v":""},null,"","",{"$f":"IF(OR(Datos!A451=0,Datos!A451=\"\"),P454,IF(ISERROR(VLOOKUP(VLOOKUP(P454,VrImpacto,2,0)-ROUNDDOWN(VLOOKUP(P454,VrImpacto,2,0)*Datos!A451,0),Vr_Impacto,2,1)),\"\",VLOOKUP(VLOOKUP(P454,VrImpacto,2,0)-ROUNDDOWN(VLOOKUP(P454,VrImpacto,2,0)*Datos!A451,0),Vr_Impacto,2,1)))","v":""},{"$f":"IF(Datos!B451=0,Q454,IF(Datos!B451=\"\",Q454,IF(ISERROR(VLOOKUP(VLOOKUP(Q454,Vr_Probabilidad1,2,0)+1-ROUNDDOWN(VLOOKUP(Q454,Vr_Probabilidad1,2,0)*Datos!B451,0),Vr_Probabilidad,2,1)),\"\",VLOOKUP(VLOOKUP(Q454,Vr_Probabilidad1,2,0)-ROUNDDOWN(VLOOKUP(Q454,Vr_Probabilidad1,2,0)*Datos!B451,0),Vr_Probabilidad,2,1))))","v":0},{"$f":"Datos!C451","v":0},"","",""]
["R",null,null,null,null,null,"",null,null,null,null,null,null,null,null,{"$f":"IF(COUNTA(I455:O455)<7,\"\",VLOOKUP(ROUNDUP((LEFT(I455,1)*'Criterios de Riesgo'!$C$3+LEFT(J455,1)*'Criterios de Riesgo'!$C$4+LEFT(K455,1)*'Criterios de Riesgo'!$C$5+LEFT(L455,1)*'Criterios de Riesgo'!$C$6+LEFT(M455,1)*'Criterios de Riesgo'!$C$7+LEFT(N455,1)*'Criterios de Riesgo'!$C$8+LEFT(O455,1)*'Criterios de Riesgo'!$C$9),0),Calif_Impacto,2))","v":""},null,"","",{"$f":"IF(OR(Datos!A452=0,Datos!A452=\"\"),P455,IF(ISERROR(VLOOKUP(VLOOKUP(P455,VrImpacto,2,0)-ROUNDDOWN(VLOOKUP(P455,VrImpacto,2,0)*Datos!A452,0),Vr_Impacto,2,1)),\"\",VLOOKUP(VLOOKUP(P455,VrImpacto,2,0)-ROUNDDOWN(VLOOKUP(P455,VrImpacto,2,0)*Datos!A452,0),Vr_Impacto,2,1)))","v":""},{"$f":"IF(Datos!B452=0,Q455,IF(Datos!B452=\"\",Q455,IF(ISERROR(VLOOKUP(VLOOKUP(Q455,Vr_Probabilidad1,2,0)+1-ROUNDDOWN(VLOOKUP(Q455,Vr_Probabilidad1,2,0)*Datos!B452,0),Vr_Probabilidad,2,1)),\"\",VLOOKUP(VLOOKUP(Q455,Vr_Probabilidad1,2,0)-ROUNDDOWN(VLOOKUP(Q455,Vr_Probabilidad1,2,0)*Datos!B452,0),Vr_Probabilidad,2,1))))","v":0},{"$f":"Datos!C452","v":0},"","",""]
["R",null,null,null,null,null,"",null,null,null,null,null,null,null,null,{"$f":"IF(COUNTA(I456:O456)<7,\"\",VLOOKUP(ROUNDUP((LEFT(I456,1)*'Criterios de Riesgo'!$C$3+LEFT(J456,1)*'Criterios de Riesgo'!$C$4+LEFT(K456,1)*'Criterios de Riesgo'!$C$5+LEFT(L456,1)*'Criterios de Riesgo'!$C$6+LEFT(M456,1)*'Criterios de Riesgo'!$C$7+LEFT(N456,1)*'Criterios de Riesgo'!$C$8+LEFT(O456,1)*'Criterios de Riesgo'!$C$9),0),Calif_Impacto,2))","v":""},null,"","",{"$f":"IF(OR(Datos!A453=0,Datos!A453=\"\"),P456,IF(ISERROR(VLOOKUP(VLOOKUP(P456,VrImpacto,2,0)-ROUNDDOWN(VLOOKUP(P456,VrImpacto,2,0)*Datos!A453,0),Vr_Impacto,2,1)),\"\",VLOOKUP(VLOOKUP(P456,VrImpacto,2,0)-ROUNDDOWN(VLOOKUP(P456,VrImpacto,2,0)*Datos!A453,0),Vr_Impacto,2,1)))","v":""},{"$f":"IF(Datos!B453=0,Q456,IF(Datos!B453=\"\",Q456,IF(ISERROR(VLOOKUP(VLOOKUP(Q456,Vr_Probabilidad1,2,0)+1-ROUNDDOWN(VLOOKUP(Q456,Vr_Probabilidad1,2,0)*Datos!B453,0),Vr_Probabilidad,2,1)),\"\",VLOOKUP(VLOOKUP(Q456,Vr_Probabilidad1,2,0)-ROUNDDOWN(VLOOKUP(Q456,Vr_Probabilidad1,2,0)*Datos!B453,0),Vr_Probabilidad,2,1))))","v":0},{"$f":"Datos!C453","v":0},"","",""]
["R",null,null,null,null,null,"",null,null,null,null,null,null,null,null,{"$f":"IF(COUNTA(I457:O457)<7,\"\",VLOOKUP(ROUNDUP((LEFT(I457,1)*'Criterios de Riesgo'!$C$3+LEFT(J457,1)*'Criterios de Riesgo'!$C$4+LEFT(K457,1)*'Criterios de Riesgo'!$C$5+LEFT(L457,1)*'Criterios de Riesgo'!$C$6+LEFT(M457,1)*'Criterios de Riesgo'!$C$7+LEFT(N457,1)*'Criterios de Riesgo'!$C$8+LEFT(O457,1)*'Criterios de Riesgo'!$C$9),0),Calif_Impacto,2))","v":""},null,"","",{"$f":"IF(OR(Datos!A454=0,Datos!A454=\"\"),P457,IF(ISERROR(VLOOKUP(VLOOKUP(P457,VrImpacto,2,0)-ROUNDDOWN(VLOOKUP(P457,VrImpacto,2,0)*Datos!A454,0),Vr_Impacto,2,1)),\"\",VLOOKUP(VLOOKUP(P457,VrImpacto,2,0)-ROUNDDOWN(VLOOKUP(P457,VrImpacto,2,0)*Datos!A454,0),Vr_Impacto,2,1)))","v":""},{"$f":"IF(Datos!B454=0,Q457,IF(Datos!B454=\"\",Q457,IF(ISERROR(VLOOKUP(VLOOKUP(Q457,Vr_Probabilidad1,2,0)+1-ROUNDDOWN(VLOOKUP(Q457,Vr_Probabilidad1,2,0)*Datos!B454,0),Vr_Probabilidad,2,1)),\"\",VLOOKUP(VLOOKUP(Q457,Vr_Probabilidad1,2,0)-ROUNDDOWN(VLOOKUP(Q457,Vr_Probabilidad1,2,0)*Datos!B454,0),Vr_Probabilidad,2,1))))","v":0},{"$f":"Datos!C454","v":0},"","",""]
["R",null,null,null,null,null,"",null,null,null,null,null,null,null,null,{"$f":"IF(COUNTA(I458:O458)<7,\"\",VLOOKUP(ROUNDUP((LEFT(I458,1)*'Criterios de Riesgo'!$C$3+LEFT(J458,1)*'Criterios de Riesgo'!$C$4+LEFT(K458,1)*'Criterios de Riesgo'!$C$5+LEFT(L458,1)*'Criterios de Riesgo'!$C$6+LEFT(M458,1)*'Criterios de Riesgo'!$C$7+LEFT(N458,1)*'Criterios de Riesgo'!$C$8+LEFT(O458,1)*'Criterios de Riesgo'!$C$9),0),Calif_Impacto,2))","v":""},null,"","",{"$f":"IF(OR(Datos!A455=0,Datos!A455=\"\"),P458,IF(ISERROR(VLOOKUP(VLOOKUP(P458,VrImpacto,2,0)-ROUNDDOWN(VLOOKUP(P458,VrImpacto,2,0)*Datos!A455,0),Vr_Impacto,2,1)),\"\",VLOOKUP(VLOOKUP(P458,VrImpacto,2,0)-ROUNDDOWN(VLOOKUP(P458,VrImpacto,2,0)*Datos!A455,0),Vr_Impacto,2,1)))","v":""},{"$f":"IF(Datos!B455=0,Q458,IF(Datos!B455=\"\",Q458,IF(ISERROR(VLOOKUP(VLOOKUP(Q458,Vr_Probabilidad1,2,0)+1-ROUNDDOWN(VLOOKUP(Q458,Vr_Probabilidad1,2,0)*Datos!B455,0),Vr_Probabilidad,2,1)),\"\",VLOOKUP(VLOOKUP(Q458,Vr_Probabilidad1,2,0)-ROUNDDOWN(VLOOKUP(Q458,Vr_Probabilidad1,2,0)*Datos!B455,0),Vr_Probabilidad,2,1))))","v":0},{"$f":"Datos!C455","v":0},"","",""]
["R",null,null,null,null,null,"",null,null,null,null,null,null,null,null,{"$f":"IF(COUNTA(I459:O459)<7,\"\",VLOOKUP(ROUNDUP((LEFT(I459,1)*'Criterios de Riesgo'!$C$3+LEFT(J459,1)*'Criterios de Riesgo'!$C$4+LEFT(K459,1)*'Criterios de Riesgo'!$C$5+LEFT(L459,1)*'Criterios de Riesgo'!$C$6+LEFT(M459,1)*'Criterios de Riesgo'!$C$7+LEFT(N459,1)*'Criterios de Riesgo'!$C$8+LEFT(O459,1)*'Criterios de Riesgo'!$C$9),0),Calif_Impacto,2))","v":""},null,"","",{"$f":"IF(OR(Datos!A456=0,Datos!A456=\"\"),P459,IF(ISERROR(VLOOKUP(VLOOKUP(P459,VrImpacto,2,0)-ROUNDDOWN(VLOOKUP(P459,VrImpacto,2,0)*Datos!A456,0),Vr_Impacto,2,1)),\"\",VLOOKUP(VLOOKUP(P459,VrImpacto,2,0)-ROUNDDOWN(VLOOKUP(P459,VrImpacto,2,0)*Datos!A456,0),Vr_Impacto,2,1)))","v":""},{"$f":"IF(Datos!B456=0,Q459,IF(Datos!B456=\"\",Q459,IF(ISERROR(VLOOKUP(VLOOKUP(Q459,Vr_Probabilidad1,2,0)+1-ROUNDDOWN(VLOOKUP(Q459,Vr_Probabilidad1,2,0)*Datos!B456,0),Vr_Probabilidad,2,1)),\"\",VLOOKUP(VLOOKUP(Q459,Vr_Probabilidad1,2,0)-ROUNDDOWN(VLOOKUP(Q459,Vr_Probabilidad1,2,0)*Datos!B456,0),Vr_Probabilidad,2,1))))","v":0},{"$f":"Datos!C456","v":0},"","",""]
["R",null,null,null,null,null,"",null,null,null,null,null,null,null,null,{"$f":"IF(COUNTA(I460:O460)<7,\"\",VLOOKUP(ROUNDUP((LEFT(I460,1)*'Criterios de Riesgo'!$C$3+LEFT(J460,1)*'Criterios de Riesgo'!$C$4+LEFT(K460,1)*'Criterios de Riesgo'!$C$5+LEFT(L460,1)*'Criterios de Riesgo'!$C$6+LEFT(M460,1)*'Criterios de Riesgo'!$C$7+LEFT(N460,1)*'Criterios de Riesgo'!$C$8+LEFT(O460,1)*'Criterios de Riesgo'!$C$9),0),Calif_Impacto,2))","v":""},null,"","",{"$f":"IF(OR(Datos!A457=0,Datos!A457=\"\"),P460,IF(ISERROR(VLOOKUP(VLOOKUP(P460,VrImpacto,2,0)-ROUNDDOWN(VLOOKUP(P460,VrImpacto,2,0)*Datos!A457,0),Vr_Impacto,2,1)),\"\",VLOOKUP(VLOOKUP(P460,VrImpacto,2,0)-ROUNDDOWN(VLOOKUP(P460,VrImpacto,2,0)*Datos!A457,0),Vr_Impacto,2,1)))","v":""},{"$f":"IF(Datos!B457=0,Q460,IF(Datos!B457=\"\",Q460,IF(ISERROR(VLOOKUP(VLOOKUP(Q460,Vr_Probabilidad1,2,0)+1-ROUNDDOWN(VLOOKUP(Q460,Vr_Probabilidad1,2,0)*Datos!B457,0),Vr_Probabilidad,2,1)),\"\",VLOOKUP(VLOOKUP(Q460,Vr_Probabilidad1,2,0)-ROUNDDOWN(VLOOKUP(Q460,Vr_Probabilidad1,2,0)*Datos!B457,0),Vr_Probabilidad,2,1))))","v":0},{"$f":"Datos!C457","v":0},"","",""]
["R",null,null,null,null,null,"",null,null,null,null,null,null,null,null,{"$f":"IF(COUNTA(I461:O461)<7,\"\",VLOOKUP(ROUNDUP((LEFT(I461,1)*'Criterios de Riesgo'!$C$3+LEFT(J461,1)*'Criterios de Riesgo'!$C$4+LEFT(K461,1)*'Criterios de Riesgo'!$C$5+LEFT(L461,1)*'Criterios de Riesgo'!$C$6+LEFT(M461,1)*'Criterios de Riesgo'!$C$7+LEFT(N461,1)*'Criterios de Riesgo'!$C$8+LEFT(O461,1)*'Criterios de Riesgo'!$C$9),0),Calif_Impacto,2))","v":""},null,"","",{"$f":"IF(OR(Datos!A458=0,Datos!A458=\"\"),P461,IF(ISERROR(VLOOKUP(VLOOKUP(P461,VrImpacto,2,0)-ROUNDDOWN(VLOOKUP(P461,VrImpacto,2,0)*Datos!A458,0),Vr_Impacto,2,1)),\"\",VLOOKUP(VLOOKUP(P461,VrImpacto,2,0)-ROUNDDOWN(VLOOKUP(P461,VrImpacto,2,0)*Datos!A458,0),Vr_Impacto,2,1)))","v":""},{"$f":"IF(Datos!B458=0,Q461,IF(Datos!B458=\"\",Q461,IF(ISERROR(VLOOKUP(VLOOKUP(Q461,Vr_Probabilidad1,2,0)+1-ROUNDDOWN(VLOOKUP(Q461,Vr_Probabilidad1,2,0)*Datos!B458,0),Vr_Probabilidad,2,1)),\"\",VLOOKUP(VLOOKUP(Q461,Vr_Probabilidad1,2,0)-ROUNDDOWN(VLOOKUP(Q461,Vr_Probabilidad1,2,0)*Datos!B458,0),Vr_Probabilidad,2,1))))","v":0},{"$f":"Datos!C458","v":0},"","",""]
["R",null,null,null,null,null,"",null,null,null,null,null,null,null,null,{"$f":"IF(COUNTA(I462:O462)<7,\"\",VLOOKUP(ROUNDUP((LEFT(I462,1)*'Criterios de Riesgo'!$C$3+LEFT(J462,1)*'Criterios de Riesgo'!$C$4+LEFT(K462,1)*'Criterios de Riesgo'!$C$5+LEFT(L462,1)*'Criterios de Riesgo'!$C$6+LEFT(M462,1)*'Criterios de Riesgo'!$C$7+LEFT(N462,1)*'Criterios de Riesgo'!$C$8+LEFT(O462,1)*'Criterios de Riesgo'!$C$9),0),Calif_Impacto,2))","v":""},null,"","",{"$f":"IF(OR(Datos!A459=0,Datos!A459=\"\"),P462,IF(ISERROR(VLOOKUP(VLOOKUP(P462,VrImpacto,2,0)-ROUNDDOWN(VLOOKUP(P462,VrImpacto,2,0)*Datos!A459,0),Vr_Impacto,2,1)),\"\",VLOOKUP(VLOOKUP(P462,VrImpacto,2,0)-ROUNDDOWN(VLOOKUP(P462,VrImpacto,2,0)*Datos!A459,0),Vr_Impacto,2,1)))","v":""},{"$f":"IF(Datos!B459=0,Q462,IF(Datos!B459=\"\",Q462,IF(ISERROR(VLOOKUP(VLOOKUP(Q462,Vr_Probabilidad1,2,0)+1-ROUNDDOWN(VLOOKUP(Q462,Vr_Probabilidad1,2,0)*Datos!B459,0),Vr_Probabilidad,2,1)),\"\",VLOOKUP(VLOOKUP(Q462,Vr_Probabilidad1,2,0)-ROUNDDOWN(VLOOKUP(Q462,Vr_Probabilidad1,2,0)*Datos!B459,0),Vr_Probabilidad,2,1))))","v":0},{"$f":"Datos!C459","v":0},"","",""]
["R",null,null,null,null,null,"",null,null,null,null,null,null,null,null,{"$f":"IF(COUNTA(I463:O463)<7,\"\",VLOOKUP(ROUNDUP((LEFT(I463,1)*'Criterios de Riesgo'!$C$3+LEFT(J463,1)*'Criterios de Riesgo'!$C$4+LEFT(K463,1)*'Criterios de Riesgo'!$C$5+LEFT(L463,1)*'Criterios de Riesgo'!$C$6+LEFT(M463,1)*'Criterios de Riesgo'!$C$7+LEFT(N463,1)*'Criterios de Riesgo'!$C$8+LEFT(O463,1)*'Criterios de Riesgo'!$C$9),0),Calif_Impacto,2))","v":""},null,"","",{"$f":"IF(OR(Datos!A460=0,Datos!A460=\"\"),P463,IF(ISERROR(VLOOKUP(VLOOKUP(P463,VrImpacto,2,0)-ROUNDDOWN(VLOOKUP(P463,VrImpacto,2,0)*Datos!A460,0),Vr_Impacto,2,1)),\"\",VLOOKUP(VLOOKUP(P463,VrImpacto,2,0)-ROUNDDOWN(VLOOKUP(P463,VrImpacto,2,0)*Datos!A460,0),Vr_Impacto,2,1)))","v":""},{"$f":"IF(Datos!B460=0,Q463,IF(Datos!B460=\"\",Q463,IF(ISERROR(VLOOKUP(VLOOKUP(Q463,Vr_Probabilidad1,2,0)+1-ROUNDDOWN(VLOOKUP(Q463,Vr_Probabilidad1,2,0)*Datos!B460,0),Vr_Probabilidad,2,1)),\"\",VLOOKUP(VLOOKUP(Q463,Vr_Probabilidad1,2,0)-ROUNDDOWN(VLOOKUP(Q463,Vr_Probabilidad1,2,0)*Datos!B460,0),Vr_Probabilidad,2,1))))","v":0},{"$f":"Datos!C460","v":0},"","",""]
["R",null,null,null,null,null,"",null,null,null,null,null,null,null,null,{"$f":"IF(COUNTA(I464:O464)<7,\"\",VLOOKUP(ROUNDUP((LEFT(I464,1)*'Criterios de Riesgo'!$C$3+LEFT(J464,1)*'Criterios de Riesgo'!$C$4+LEFT(K464,1)*'Criterios de Riesgo'!$C$5+LEFT(L464,1)*'Criterios de Riesgo'!$C$6+LEFT(M464,1)*'Criterios de Riesgo'!$C$7+LEFT(N464,1)*'Criterios de Riesgo'!$C$8+LEFT(O464,1)*'Criterios de Riesgo'!$C$9),0),Calif_Impacto,2))","v":""},null,"","",{"$f":"IF(OR(Datos!A461=0,Datos!A461=\"\"),P464,IF(ISERROR(VLOOKUP(VLOOKUP(P464,VrImpacto,2,0)-ROUNDDOWN(VLOOKUP(P464,VrImpacto,2,0)*Datos!A461,0),Vr_Impacto,2,1)),\"\",VLOOKUP(VLOOKUP(P464,VrImpacto,2,0)-ROUNDDOWN(VLOOKUP(P464,VrImpacto,2,0)*Datos!A461,0),Vr_Impacto,2,1)))","v":""},{"$f":"IF(Datos!B461=0,Q464,IF(Datos!B461=\"\",Q464,IF(ISERROR(VLOOKUP(VLOOKUP(Q464,Vr_Probabilidad1,2,0)+1-ROUNDDOWN(VLOOKUP(Q464,Vr_Probabilidad1,2,0)*Datos!B461,0),Vr_Probabilidad,2,1)),\"\",VLOOKUP(VLOOKUP(Q464,Vr_Probabilidad1,2,0)-ROUNDDOWN(VLOOKUP(Q464,Vr_Probabilidad1,2,0)*Datos!B461,0),Vr_Probabilidad,2,1))))","v":0},{"$f":"Datos!C461","v":0},"","",""]
["R",null,null,null,null,null,"",null,null,null,null,null,null,null,null,{"$f":"IF(COUNTA(I465:O465)<7,\"\",VLOOKUP(ROUNDUP((LEFT(I465,1)*'Criterios de Riesgo'!$C$3+LEFT(J465,1)*'Criterios de Riesgo'!$C$4+LEFT(K465,1)*'Criterios de Riesgo'!$C$5+LEFT(L465,1)*'Criterios de Riesgo'!$C$6+LEFT(M465,1)*'Criterios de Riesgo'!$C$7+LEFT(N465,1)*'Criterios de Riesgo'!$C$8+LEFT(O465,1)*'Criterios de Riesgo'!$C$9),0),Calif_Impacto,2))","v":""},null,"","",{"$f":"IF(OR(Datos!A462=0,Datos!A462=\"\"),P465,IF(ISERROR(VLOOKUP(VLOOKUP(P465,VrImpacto,2,0)-ROUNDDOWN(VLOOKUP(P465,VrImpacto,2,0)*Datos!A462,0),Vr_Impacto,2,1)),\"\",VLOOKUP(VLOOKUP(P465,VrImpacto,2,0)-ROUNDDOWN(VLOOKUP(P465,VrImpacto,2,0)*Datos!A462,0),Vr_Impacto,2,1)))","v":""},{"$f":"IF(Datos!B462=0,Q465,IF(Datos!B462=\"\",Q465,IF(ISERROR(VLOOKUP(VLOOKUP(Q465,Vr_Probabilidad1,2,0)+1-ROUNDDOWN(VLOOKUP(Q465,Vr_Probabilidad1,2,0)*Datos!B462,0),Vr_Probabilidad,2,1)),\"\",VLOOKUP(VLOOKUP(Q465,Vr_Probabilidad1,2,0)-ROUNDDOWN(VLOOKUP(Q465,Vr_Probabilidad1,2,0)*Datos!B462,0),Vr_Probabilidad,2,1))))","v":0},{"$f":"Datos!C462","v":0},"","",""]
["R",null,null,null,null,null,"",null,null,null,null,null,null,null,null,{"$f":"IF(COUNTA(I466:O466)<7,\"\",VLOOKUP(ROUNDUP((LEFT(I466,1)*'Criterios de Riesgo'!$C$3+LEFT(J466,1)*'Criterios de Riesgo'!$C$4+LEFT(K466,1)*'Criterios de Riesgo'!$C$5+LEFT(L466,1)*'Criterios de Riesgo'!$C$6+LEFT(M466,1)*'Criterios de Riesgo'!$C$7+LEFT(N466,1)*'Criterios de Riesgo'!$C$8+LEFT(O466,1)*'Criterios de Riesgo'!$C$9),0),Calif_Impacto,2))","v":""},null,"","",{"$f":"IF(OR(Datos!A463=0,Datos!A463=\"\"),P466,IF(ISERROR(VLOOKUP(VLOOKUP(P466,VrImpacto,2,0)-ROUNDDOWN(VLOOKUP(P466,VrImpacto,2,0)*Datos!A463,0),Vr_Impacto,2,1)),\"\",VLOOKUP(VLOOKUP(P466,VrImpacto,2,0)-ROUNDDOWN(VLOOKUP(P466,VrImpacto,2,0)*Datos!A463,0),Vr_Impacto,2,1)))","v":""},{"$f":"IF(Datos!B463=0,Q466,IF(Datos!B463=\"\",Q466,IF(ISERROR(VLOOKUP(VLOOKUP(Q466,Vr_Probabilidad1,2,0)+1-ROUNDDOWN(VLOOKUP(Q466,Vr_Probabilidad1,2,0)*Datos!B463,0),Vr_Probabilidad,2,1)),\"\",VLOOKUP(VLOOKUP(Q466,Vr_Probabilidad1,2,0)-ROUNDDOWN(VLOOKUP(Q466,Vr_Probabilidad1,2,0)*Datos!B463,0),Vr_Probabilidad,2,1))))","v":0},{"$f":"Datos!C463","v":0},"","",""]
["R",null,null,null,null,null,"",null,null,null,null,null,null,null,null,{"$f":"IF(COUNTA(I467:O467)<7,\"\",VLOOKUP(ROUNDUP((LEFT(I467,1)*'Criterios de Riesgo'!$C$3+LEFT(J467,1)*'Criterios de Riesgo'!$C$4+LEFT(K467,1)*'Criterios de Riesgo'!$C$5+LEFT(L467,1)*'Criterios de Riesgo'!$C$6+LEFT(M467,1)*'Criterios de Riesgo'!$C$7+LEFT(N467,1)*'Criterios de Riesgo'!$C$8+LEFT(O467,1)*'Criterios de Riesgo'!$C$9),0),Calif_Impacto,2))","v":""},null,"","",{"$f":"IF(OR(Datos!A464=0,Datos!A464=\"\"),P467,IF(ISERROR(VLOOKUP(VLOOKUP(P467,VrImpacto,2,0)-ROUNDDOWN(VLOOKUP(P467,VrImpacto,2,0)*Datos!A464,0),Vr_Impacto,2,1)),\"\",VLOOKUP(VLOOKUP(P467,VrImpacto,2,0)-ROUNDDOWN(VLOOKUP(P467,VrImpacto,2,0)*Datos!A464,0),Vr_Impacto,2,1)))","v":""},{"$f":"IF(Datos!B464=0,Q467,IF(Datos!B464=\"\",Q467,IF(ISERROR(VLOOKUP(VLOOKUP(Q467,Vr_Probabilidad1,2,0)+1-ROUNDDOWN(VLOOKUP(Q467,Vr_Probabilidad1,2,0)*Datos!B464,0),Vr_Probabilidad,2,1)),\"\",VLOOKUP(VLOOKUP(Q467,Vr_Probabilidad1,2,0)-ROUNDDOWN(VLOOKUP(Q467,Vr_Probabilidad1,2,0)*Datos!B464,0),Vr_Probabilidad,2,1))))","v":0},{"$f":"Datos!C464","v":0},"","",""]
["R",null,null,null,null,null,"",null,null,null,null,null,null,null,null,{"$f":"IF(COUNTA(I468:O468)<7,\"\",VLOOKUP(ROUNDUP((LEFT(I468,1)*'Criterios de Riesgo'!$C$3+LEFT(J468,1)*'Criterios de Riesgo'!$C$4+LEFT(K468,1)*'Criterios de Riesgo'!$C$5+LEFT(L468,1)*'Criterios de Riesgo'!$C$6+LEFT(M468,1)*'Criterios de Riesgo'!$C$7+LEFT(N468,1)*'Criterios de Riesgo'!$C$8+LEFT(O468,1)*'Criterios de Riesgo'!$C$9),0),Calif_Impacto,2))","v":""},null,"","",{"$f":"IF(OR(Datos!A465=0,Datos!A465=\"\"),P468,IF(ISERROR(VLOOKUP(VLOOKUP(P468,VrImpacto,2,0)-ROUNDDOWN(VLOOKUP(P468,VrImpacto,2,0)*Datos!A465,0),Vr_Impacto,2,1)),\"\",VLOOKUP(VLOOKUP(P468,VrImpacto,2,0)-ROUNDDOWN(VLOOKUP(P468,VrImpacto,2,0)*Datos!A465,0),Vr_Impacto,2,1)))","v":""},{"$f":"IF(Datos!B465=0,Q468,IF(Datos!B465=\"\",Q468,IF(ISERROR(VLOOKUP(VLOOKUP(Q468,Vr_Probabilidad1,2,0)+1-ROUNDDOWN(VLOOKUP(Q468,Vr_Probabilidad1,2,0)*Datos!B465,0),Vr_Probabilidad,2,1)),\"\",VLOOKUP(VLOOKUP(Q468,Vr_Probabilidad1,2,0)-ROUNDDOWN(VLOOKUP(Q468,Vr_Probabilidad1,2,0)*Datos!B465,0),Vr_Probabilidad,2,1))))","v":0},{"$f":"Datos!C465","v":0},"","",""]
["R",null,null,null,null,null,"",null,null,null,null,null,null,null,null,{"$f":"IF(COUNTA(I469:O469)<7,\"\",VLOOKUP(ROUNDUP((LEFT(I469,1)*'Criterios de Riesgo'!$C$3+LEFT(J469,1)*'Criterios de Riesgo'!$C$4+LEFT(K469,1)*'Criterios de Riesgo'!$C$5+LEFT(L469,1)*'Criterios de Riesgo'!$C$6+LEFT(M469,1)*'Criterios de Riesgo'!$C$7+LEFT(N469,1)*'Criterios de Riesgo'!$C$8+LEFT(O469,1)*'Criterios de Riesgo'!$C$9),0),Calif_Impacto,2))","v":""},null,"","",{"$f":"IF(OR(Datos!A466=0,Datos!A466=\"\"),P469,IF(ISERROR(VLOOKUP(VLOOKUP(P469,VrImpacto,2,0)-ROUNDDOWN(VLOOKUP(P469,VrImpacto,2,0)*Datos!A466,0),Vr_Impacto,2,1)),\"\",VLOOKUP(VLOOKUP(P469,VrImpacto,2,0)-ROUNDDOWN(VLOOKUP(P469,VrImpacto,2,0)*Datos!A466,0),Vr_Impacto,2,1)))","v":""},{"$f":"IF(Datos!B466=0,Q469,IF(Datos!B466=\"\",Q469,IF(ISERROR(VLOOKUP(VLOOKUP(Q469,Vr_Probabilidad1,2,0)+1-ROUNDDOWN(VLOOKUP(Q469,Vr_Probabilidad1,2,0)*Datos!B466,0),Vr_Probabilidad,2,1)),\"\",VLOOKUP(VLOOKUP(Q469,Vr_Probabilidad1,2,0)-ROUNDDOWN(VLOOKUP(Q469,Vr_Probabilidad1,2,0)*Datos!B466,0),Vr_Probabilidad,2,1))))","v":0},{"$f":"Datos!C466","v":0},"","",""]
["R",null,null,null,null,null,"",null,null,null,null,null,null,null,null,{"$f":"IF(COUNTA(I470:O470)<7,\"\",VLOOKUP(ROUNDUP((LEFT(I470,1)*'Criterios de Riesgo'!$C$3+LEFT(J470,1)*'Criterios de Riesgo'!$C$4+LEFT(K470,1)*'Criterios de Riesgo'!$C$5+LEFT(L470,1)*'Criterios de Riesgo'!$C$6+LEFT(M470,1)*'Criterios de Riesgo'!$C$7+LEFT(N470,1)*'Criterios de Riesgo'!$C$8+LEFT(O470,1)*'Criterios de Riesgo'!$C$9),0),Calif_Impacto,2))","v":""},null,"","",{"$f":"IF(OR(Datos!A467=0,Datos!A467=\"\"),P470,IF(ISERROR(VLOOKUP(VLOOKUP(P470,VrImpacto,2,0)-ROUNDDOWN(VLOOKUP(P470,VrImpacto,2,0)*Datos!A467,0),Vr_Impacto,2,1)),\"\",VLOOKUP(VLOOKUP(P470,VrImpacto,2,0)-ROUNDDOWN(VLOOKUP(P470,VrImpacto,2,0)*Datos!A467,0),Vr_Impacto,2,1)))","v":""},{"$f":"IF(Datos!B467=0,Q470,IF(Datos!B467=\"\",Q470,IF(ISERROR(VLOOKUP(VLOOKUP(Q470,Vr_Probabilidad1,2,0)+1-ROUNDDOWN(VLOOKUP(Q470,Vr_Probabilidad1,2,0)*Datos!B467,0),Vr_Probabilidad,2,1)),\"\",VLOOKUP(VLOOKUP(Q470,Vr_Probabilidad1,2,0)-ROUNDDOWN(VLOOKUP(Q470,Vr_Probabilidad1,2,0)*Datos!B467,0),Vr_Probabilidad,2,1))))","v":0},{"$f":"Datos!C467","v":0},"","",""]
["R",null,null,null,null,null,"",null,null,null,null,null,null,null,null,{"$f":"IF(COUNTA(I471:O471)<7,\"\",VLOOKUP(ROUNDUP((LEFT(I471,1)*'Criterios de Riesgo'!$C$3+LEFT(J471,1)*'Criterios de Riesgo'!$C$4+LEFT(K471,1)*'Criterios de Riesgo'!$C$5+LEFT(L471,1)*'Criterios de Riesgo'!$C$6+LEFT(M471,1)*'Criterios de Riesgo'!$C$7+LEFT(N471,1)*'Criterios de Riesgo'!$C$8+LEFT(O471,1)*'Criterios de Riesgo'!$C$9),0),Calif_Impacto,2))","v":""},null,"","",{"$f":"IF(OR(Datos!A468=0,Datos!A468=\"\"),P471,IF(ISERROR(VLOOKUP(VLOOKUP(P471,VrImpacto,2,0)-ROUNDDOWN(VLOOKUP(P471,VrImpacto,2,0)*Datos!A468,0),Vr_Impacto,2,1)),\"\",VLOOKUP(VLOOKUP(P471,VrImpacto,2,0)-ROUNDDOWN(VLOOKUP(P471,VrImpacto,2,0)*Datos!A468,0),Vr_Impacto,2,1)))","v":""},{"$f":"IF(Datos!B468=0,Q471,IF(Datos!B468=\"\",Q471,IF(ISERROR(VLOOKUP(VLOOKUP(Q471,Vr_Probabilidad1,2,0)+1-ROUNDDOWN(VLOOKUP(Q471,Vr_Probabilidad1,2,0)*Datos!B468,0),Vr_Probabilidad,2,1)),\"\",VLOOKUP(VLOOKUP(Q471,Vr_Probabilidad1,2,0)-ROUNDDOWN(VLOOKUP(Q471,Vr_Probabilidad1,2,0)*Datos!B468,0),Vr_Probabilidad,2,1))))","v":0},{"$f":"Datos!C468","v":0},"","",""]
["R",null,null,null,null,null,"",null,null,null,null,null,null,null,null,{"$f":"IF(COUNTA(I472:O472)<7,\"\",VLOOKUP(ROUNDUP((LEFT(I472,1)*'Criterios de Riesgo'!$C$3+LEFT(J472,1)*'Criterios de Riesgo'!$C$4+LEFT(K472,1)*'Criterios de Riesgo'!$C$5+LEFT(L472,1)*'Criterios de Riesgo'!$C$6+LEFT(M472,1)*'Criterios de Riesgo'!$C$7+LEFT(N472,1)*'Criterios de Riesgo'!$C$8+LEFT(O472,1)*'Criterios de Riesgo'!$C$9),0),Calif_Impacto,2))","v":""},null,"","",{"$f":"IF(OR(Datos!A469=0,Datos!A469=\"\"),P472,IF(ISERROR(VLOOKUP(VLOOKUP(P472,VrImpacto,2,0)-ROUNDDOWN(VLOOKUP(P472,VrImpacto,2,0)*Datos!A469,0),Vr_Impacto,2,1)),\"\",VLOOKUP(VLOOKUP(P472,VrImpacto,2,0)-ROUNDDOWN(VLOOKUP(P472,VrImpacto,2,0)*Datos!A469,0),Vr_Impacto,2,1)))","v":""},{"$f":"IF(Datos!B469=0,Q472,IF(Datos!B469=\"\",Q472,IF(ISERROR(VLOOKUP(VLOOKUP(Q472,Vr_Probabilidad1,2,0)+1-ROUNDDOWN(VLOOKUP(Q472,Vr_Probabilidad1,2,0)*Datos!B469,0),Vr_Probabilidad,2,1)),\"\",VLOOKUP(VLOOKUP(Q472,Vr_Probabilidad1,2,0)-ROUNDDOWN(VLOOKUP(Q472,Vr_Probabilidad1,2,0)*Datos!B469,0),Vr_Probabilidad,2,1))))","v":0},{"$f":"Datos!C469","v":0},"","",""]
["R",null,null,null,null,null,"",null,null,null,null,null,null,null,null,{"$f":"IF(COUNTA(I473:O473)<7,\"\",VLOOKUP(ROUNDUP((LEFT(I473,1)*'Criterios de Riesgo'!$C$3+LEFT(J473,1)*'Criterios de Riesgo'!$C$4+LEFT(K473,1)*'Criterios de Riesgo'!$C$5+LEFT(L473,1)*'Criterios de Riesgo'!$C$6+LEFT(M473,1)*'Criterios de Riesgo'!$C$7+LEFT(N473,1)*'Criterios de Riesgo'!$C$8+LEFT(O473,1)*'Criterios de Riesgo'!$C$9),0),Calif_Impacto,2))","v":""},null,"","",{"$f":"IF(OR(Datos!A470=0,Datos!A470=\"\"),P473,IF(ISERROR(VLOOKUP(VLOOKUP(P473,VrImpacto,2,0)-ROUNDDOWN(VLOOKUP(P473,VrImpacto,2,0)*Datos!A470,0),Vr_Impacto,2,1)),\"\",VLOOKUP(VLOOKUP(P473,VrImpacto,2,0)-ROUNDDOWN(VLOOKUP(P473,VrImpacto,2,0)*Datos!A470,0),Vr_Impacto,2,1)))","v":""},{"$f":"IF(Datos!B470=0,Q473,IF(Datos!B470=\"\",Q473,IF(ISERROR(VLOOKUP(VLOOKUP(Q473,Vr_Probabilidad1,2,0)+1-ROUNDDOWN(VLOOKUP(Q473,Vr_Probabilidad1,2,0)*Datos!B470,0),Vr_Probabilidad,2,1)),\"\",VLOOKUP(VLOOKUP(Q473,Vr_Probabilidad1,2,0)-ROUNDDOWN(VLOOKUP(Q473,Vr_Probabilidad1,2,0)*Datos!B470,0),Vr_Probabilidad,2,1))))","v":0},{"$f":"Datos!C470","v":0},"","",""]
["R",null,null,null,null,null,"",null,null,null,null,null,null,null,null,{"$f":"IF(COUNTA(I474:O474)<7,\"\",VLOOKUP(ROUNDUP((LEFT(I474,1)*'Criterios de Riesgo'!$C$3+LEFT(J474,1)*'Criterios de Riesgo'!$C$4+LEFT(K474,1)*'Criterios de Riesgo'!$C$5+LEFT(L474,1)*'Criterios de Riesgo'!$C$6+LEFT(M474,1)*'Criterios de Riesgo'!$C$7+LEFT(N474,1)*'Criterios de Riesgo'!$C$8+LEFT(O474,1)*'Criterios de Riesgo'!$C$9),0),Calif_Impacto,2))","v":""},null,"","",{"$f":"IF(OR(Datos!A471=0,Datos!A471=\"\"),P474,IF(ISERROR(VLOOKUP(VLOOKUP(P474,VrImpacto,2,0)-ROUNDDOWN(VLOOKUP(P474,VrImpacto,2,0)*Datos!A471,0),Vr_Impacto,2,1)),\"\",VLOOKUP(VLOOKUP(P474,VrImpacto,2,0)-ROUNDDOWN(VLOOKUP(P474,VrImpacto,2,0)*Datos!A471,0),Vr_Impacto,2,1)))","v":""},{"$f":"IF(Datos!B471=0,Q474,IF(Datos!B471=\"\",Q474,IF(ISERROR(VLOOKUP(VLOOKUP(Q474,Vr_Probabilidad1,2,0)+1-ROUNDDOWN(VLOOKUP(Q474,Vr_Probabilidad1,2,0)*Datos!B471,0),Vr_Probabilidad,2,1)),\"\",VLOOKUP(VLOOKUP(Q474,Vr_Probabilidad1,2,0)-ROUNDDOWN(VLOOKUP(Q474,Vr_Probabilidad1,2,0)*Datos!B471,0),Vr_Probabilidad,2,1))))","v":0},{"$f":"Datos!C471","v":0},"","",""]
["R",null,null,null,null,null,"",null,null,null,null,null,null,null,null,{"$f":"IF(COUNTA(I475:O475)<7,\"\",VLOOKUP(ROUNDUP((LEFT(I475,1)*'Criterios de Riesgo'!$C$3+LEFT(J475,1)*'Criterios de Riesgo'!$C$4+LEFT(K475,1)*'Criterios de Riesgo'!$C$5+LEFT(L475,1)*'Criterios de Riesgo'!$C$6+LEFT(M475,1)*'Criterios de Riesgo'!$C$7+LEFT(N475,1)*'Criterios de Riesgo'!$C$8+LEFT(O475,1)*'Criterios de Riesgo'!$C$9),0),Calif_Impacto,2))","v":""},null,"","",{"$f":"IF(OR(Datos!A472=0,Datos!A472=\"\"),P475,IF(ISERROR(VLOOKUP(VLOOKUP(P475,VrImpacto,2,0)-ROUNDDOWN(VLOOKUP(P475,VrImpacto,2,0)*Datos!A472,0),Vr_Impacto,2,1)),\"\",VLOOKUP(VLOOKUP(P475,VrImpacto,2,0)-ROUNDDOWN(VLOOKUP(P475,VrImpacto,2,0)*Datos!A472,0),Vr_Impacto,2,1)))","v":""},{"$f":"IF(Datos!B472=0,Q475,IF(Datos!B472=\"\",Q475,IF(ISERROR(VLOOKUP(VLOOKUP(Q475,Vr_Probabilidad1,2,0)+1-ROUNDDOWN(VLOOKUP(Q475,Vr_Probabilidad1,2,0)*Datos!B472,0),Vr_Probabilidad,2,1)),\"\",VLOOKUP(VLOOKUP(Q475,Vr_Probabilidad1,2,0)-ROUNDDOWN(VLOOKUP(Q475,Vr_Probabilidad1,2,0)*Datos!B472,0),Vr_Probabilidad,2,1))))","v":0},{"$f":"Datos!C472","v":0},"","",""]
["R",null,null,null,null,null,"",null,null,null,null,null,null,null,null,{"$f":"IF(COUNTA(I476:O476)<7,\"\",VLOOKUP(ROUNDUP((LEFT(I476,1)*'Criterios de Riesgo'!$C$3+LEFT(J476,1)*'Criterios de Riesgo'!$C$4+LEFT(K476,1)*'Criterios de Riesgo'!$C$5+LEFT(L476,1)*'Criterios de Riesgo'!$C$6+LEFT(M476,1)*'Criterios de Riesgo'!$C$7+LEFT(N476,1)*'Criterios de Riesgo'!$C$8+LEFT(O476,1)*'Criterios de Riesgo'!$C$9),0),Calif_Impacto,2))","v":""},null,"","",{"$f":"IF(OR(Datos!A473=0,Datos!A473=\"\"),P476,IF(ISERROR(VLOOKUP(VLOOKUP(P476,VrImpacto,2,0)-ROUNDDOWN(VLOOKUP(P476,VrImpacto,2,0)*Datos!A473,0),Vr_Impacto,2,1)),\"\",VLOOKUP(VLOOKUP(P476,VrImpacto,2,0)-ROUNDDOWN(VLOOKUP(P476,VrImpacto,2,0)*Datos!A473,0),Vr_Impacto,2,1)))","v":""},{"$f":"IF(Datos!B473=0,Q476,IF(Datos!B473=\"\",Q476,IF(ISERROR(VLOOKUP(VLOOKUP(Q476,Vr_Probabilidad1,2,0)+1-ROUNDDOWN(VLOOKUP(Q476,Vr_Probabilidad1,2,0)*Datos!B473,0),Vr_Probabilidad,2,1)),\"\",VLOOKUP(VLOOKUP(Q476,Vr_Probabilidad1,2,0)-ROUNDDOWN(VLOOKUP(Q476,Vr_Probabilidad1,2,0)*Datos!B473,0),Vr_Probabilidad,2,1))))","v":0},{"$f":"Datos!C473","v":0},"","",""]
["R",null,null,null,null,null,"",null,null,null,null,null,null,null,null,{"$f":"IF(COUNTA(I477:O477)<7,\"\",VLOOKUP(ROUNDUP((LEFT(I477,1)*'Criterios de Riesgo'!$C$3+LEFT(J477,1)*'Criterios de Riesgo'!$C$4+LEFT(K477,1)*'Criterios de Riesgo'!$C$5+LEFT(L477,1)*'Criterios de Riesgo'!$C$6+LEFT(M477,1)*'Criterios de Riesgo'!$C$7+LEFT(N477,1)*'Criterios de Riesgo'!$C$8+LEFT(O477,1)*'Criterios de Riesgo'!$C$9),0),Calif_Impacto,2))","v":""},null,"","",{"$f":"IF(OR(Datos!A474=0,Datos!A474=\"\"),P477,IF(ISERROR(VLOOKUP(VLOOKUP(P477,VrImpacto,2,0)-ROUNDDOWN(VLOOKUP(P477,VrImpacto,2,0)*Datos!A474,0),Vr_Impacto,2,1)),\"\",VLOOKUP(VLOOKUP(P477,VrImpacto,2,0)-ROUNDDOWN(VLOOKUP(P477,VrImpacto,2,0)*Datos!A474,0),Vr_Impacto,2,1)))","v":""},{"$f":"IF(Datos!B474=0,Q477,IF(Datos!B474=\"\",Q477,IF(ISERROR(VLOOKUP(VLOOKUP(Q477,Vr_Probabilidad1,2,0)+1-ROUNDDOWN(VLOOKUP(Q477,Vr_Probabilidad1,2,0)*Datos!B474,0),Vr_Probabilidad,2,1)),\"\",VLOOKUP(VLOOKUP(Q477,Vr_Probabilidad1,2,0)-ROUNDDOWN(VLOOKUP(Q477,Vr_Probabilidad1,2,0)*Datos!B474,0),Vr_Probabilidad,2,1))))","v":0},{"$f":"Datos!C474","v":0},"","",""]
["R",null,null,null,null,null,"",null,null,null,null,null,null,null,null,{"$f":"IF(COUNTA(I478:O478)<7,\"\",VLOOKUP(ROUNDUP((LEFT(I478,1)*'Criterios de Riesgo'!$C$3+LEFT(J478,1)*'Criterios de Riesgo'!$C$4+LEFT(K478,1)*'Criterios de Riesgo'!$C$5+LEFT(L478,1)*'Criterios de Riesgo'!$C$6+LEFT(M478,1)*'Criterios de Riesgo'!$C$7+LEFT(N478,1)*'Criterios de Riesgo'!$C$8+LEFT(O478,1)*'Criterios de Riesgo'!$C$9),0),Calif_Impacto,2))","v":""},null,"","",{"$f":"IF(OR(Datos!A475=0,Datos!A475=\"\"),P478,IF(ISERROR(VLOOKUP(VLOOKUP(P478,VrImpacto,2,0)-ROUNDDOWN(VLOOKUP(P478,VrImpacto,2,0)*Datos!A475,0),Vr_Impacto,2,1)),\"\",VLOOKUP(VLOOKUP(P478,VrImpacto,2,0)-ROUNDDOWN(VLOOKUP(P478,VrImpacto,2,0)*Datos!A475,0),Vr_Impacto,2,1)))","v":""},{"$f":"IF(Datos!B475=0,Q478,IF(Datos!B475=\"\",Q478,IF(ISERROR(VLOOKUP(VLOOKUP(Q478,Vr_Probabilidad1,2,0)+1-ROUNDDOWN(VLOOKUP(Q478,Vr_Probabilidad1,2,0)*Datos!B475,0),Vr_Probabilidad,2,1)),\"\",VLOOKUP(VLOOKUP(Q478,Vr_Probabilidad1,2,0)-ROUNDDOWN(VLOOKUP(Q478,Vr_Probabilidad1,2,0)*Datos!B475,0),Vr_Probabilidad,2,1))))","v":0},{"$f":"Datos!C475","v":0},"","",""]
["R",null,null,null,null,null,"",null,null,null,null,null,null,null,null,{"$f":"IF(COUNTA(I479:O479)<7,\"\",VLOOKUP(ROUNDUP((LEFT(I479,1)*'Criterios de Riesgo'!$C$3+LEFT(J479,1)*'Criterios de Riesgo'!$C$4+LEFT(K479,1)*'Criterios de Riesgo'!$C$5+LEFT(L479,1)*'Criterios de Riesgo'!$C$6+LEFT(M479,1)*'Criterios de Riesgo'!$C$7+LEFT(N479,1)*'Criterios de Riesgo'!$C$8+LEFT(O479,1)*'Criterios de Riesgo'!$C$9),0),Calif_Impacto,2))","v":""},null,"","",{"$f":"IF(OR(Datos!A476=0,Datos!A476=\"\"),P479,IF(ISERROR(VLOOKUP(VLOOKUP(P479,VrImpacto,2,0)-ROUNDDOWN(VLOOKUP(P479,VrImpacto,2,0)*Datos!A476,0),Vr_Impacto,2,1)),\"\",VLOOKUP(VLOOKUP(P479,VrImpacto,2,0)-ROUNDDOWN(VLOOKUP(P479,VrImpacto,2,0)*Datos!A476,0),Vr_Impacto,2,1)))","v":""},{"$f":"IF(Datos!B476=0,Q479,IF(Datos!B476=\"\",Q479,IF(ISERROR(VLOOKUP(VLOOKUP(Q479,Vr_Probabilidad1,2,0)+1-ROUNDDOWN(VLOOKUP(Q479,Vr_Probabilidad1,2,0)*Datos!B476,0),Vr_Probabilidad,2,1)),\"\",VLOOKUP(VLOOKUP(Q479,Vr_Probabilidad1,2,0)-ROUNDDOWN(VLOOKUP(Q479,Vr_Probabilidad1,2,0)*Datos!B476,0),Vr_Probabilidad,2,1))))","v":0},{"$f":"Datos!C476","v":0},"","",""]
["R",null,null,null,null,null,"",null,null,null,null,null,null,null,null,{"$f":"IF(COUNTA(I480:O480)<7,\"\",VLOOKUP(ROUNDUP((LEFT(I480,1)*'Criterios de Riesgo'!$C$3+LEFT(J480,1)*'Criterios de Riesgo'!$C$4+LEFT(K480,1)*'Criterios de Riesgo'!$C$5+LEFT(L480,1)*'Criterios de Riesgo'!$C$6+LEFT(M480,1)*'Criterios de Riesgo'!$C$7+LEFT(N480,1)*'Criterios de Riesgo'!$C$8+LEFT(O480,1)*'Criterios de Riesgo'!$C$9),0),Calif_Impacto,2))","v":""},null,"","",{"$f":"IF(OR(Datos!A477=0,Datos!A477=\"\"),P480,IF(ISERROR(VLOOKUP(VLOOKUP(P480,VrImpacto,2,0)-ROUNDDOWN(VLOOKUP(P480,VrImpacto,2,0)*Datos!A477,0),Vr_Impacto,2,1)),\"\",VLOOKUP(VLOOKUP(P480,VrImpacto,2,0)-ROUNDDOWN(VLOOKUP(P480,VrImpacto,2,0)*Datos!A477,0),Vr_Impacto,2,1)))","v":""},{"$f":"IF(Datos!B477=0,Q480,IF(Datos!B477=\"\",Q480,IF(ISERROR(VLOOKUP(VLOOKUP(Q480,Vr_Probabilidad1,2,0)+1-ROUNDDOWN(VLOOKUP(Q480,Vr_Probabilidad1,2,0)*Datos!B477,0),Vr_Probabilidad,2,1)),\"\",VLOOKUP(VLOOKUP(Q480,Vr_Probabilidad1,2,0)-ROUNDDOWN(VLOOKUP(Q480,Vr_Probabilidad1,2,0)*Datos!B477,0),Vr_Probabilidad,2,1))))","v":0},{"$f":"Datos!C477","v":0},"","",""]
["R",null,null,null,null,null,"",null,null,null,null,null,null,null,null,{"$f":"IF(COUNTA(I481:O481)<7,\"\",VLOOKUP(ROUNDUP((LEFT(I481,1)*'Criterios de Riesgo'!$C$3+LEFT(J481,1)*'Criterios de Riesgo'!$C$4+LEFT(K481,1)*'Criterios de Riesgo'!$C$5+LEFT(L481,1)*'Criterios de Riesgo'!$C$6+LEFT(M481,1)*'Criterios de Riesgo'!$C$7+LEFT(N481,1)*'Criterios de Riesgo'!$C$8+LEFT(O481,1)*'Criterios de Riesgo'!$C$9),0),Calif_Impacto,2))","v":""},null,"","",{"$f":"IF(OR(Datos!A478=0,Datos!A478=\"\"),P481,IF(ISERROR(VLOOKUP(VLOOKUP(P481,VrImpacto,2,0)-ROUNDDOWN(VLOOKUP(P481,VrImpacto,2,0)*Datos!A478,0),Vr_Impacto,2,1)),\"\",VLOOKUP(VLOOKUP(P481,VrImpacto,2,0)-ROUNDDOWN(VLOOKUP(P481,VrImpacto,2,0)*Datos!A478,0),Vr_Impacto,2,1)))","v":""},{"$f":"IF(Datos!B478=0,Q481,IF(Datos!B478=\"\",Q481,IF(ISERROR(VLOOKUP(VLOOKUP(Q481,Vr_Probabilidad1,2,0)+1-ROUNDDOWN(VLOOKUP(Q481,Vr_Probabilidad1,2,0)*Datos!B478,0),Vr_Probabilidad,2,1)),\"\",VLOOKUP(VLOOKUP(Q481,Vr_Probabilidad1,2,0)-ROUNDDOWN(VLOOKUP(Q481,Vr_Probabilidad1,2,0)*Datos!B478,0),Vr_Probabilidad,2,1))))","v":0},{"$f":"Datos!C478","v":0},"","",""]
["R",null,null,null,null,null,"",null,null,null,null,null,null,null,null,{"$f":"IF(COUNTA(I482:O482)<7,\"\",VLOOKUP(ROUNDUP((LEFT(I482,1)*'Criterios de Riesgo'!$C$3+LEFT(J482,1)*'Criterios de Riesgo'!$C$4+LEFT(K482,1)*'Criterios de Riesgo'!$C$5+LEFT(L482,1)*'Criterios de Riesgo'!$C$6+LEFT(M482,1)*'Criterios de Riesgo'!$C$7+LEFT(N482,1)*'Criterios de Riesgo'!$C$8+LEFT(O482,1)*'Criterios de Riesgo'!$C$9),0),Calif_Impacto,2))","v":""},null,"","",{"$f":"IF(OR(Datos!A479=0,Datos!A479=\"\"),P482,IF(ISERROR(VLOOKUP(VLOOKUP(P482,VrImpacto,2,0)-ROUNDDOWN(VLOOKUP(P482,VrImpacto,2,0)*Datos!A479,0),Vr_Impacto,2,1)),\"\",VLOOKUP(VLOOKUP(P482,VrImpacto,2,0)-ROUNDDOWN(VLOOKUP(P482,VrImpacto,2,0)*Datos!A479,0),Vr_Impacto,2,1)))","v":""},{"$f":"IF(Datos!B479=0,Q482,IF(Datos!B479=\"\",Q482,IF(ISERROR(VLOOKUP(VLOOKUP(Q482,Vr_Probabilidad1,2,0)+1-ROUNDDOWN(VLOOKUP(Q482,Vr_Probabilidad1,2,0)*Datos!B479,0),Vr_Probabilidad,2,1)),\"\",VLOOKUP(VLOOKUP(Q482,Vr_Probabilidad1,2,0)-ROUNDDOWN(VLOOKUP(Q482,Vr_Probabilidad1,2,0)*Datos!B479,0),Vr_Probabilidad,2,1))))","v":0},{"$f":"Datos!C479","v":0},"","",""]
["R",null,null,null,null,null,"",null,null,null,null,null,null,null,null,{"$f":"IF(COUNTA(I483:O483)<7,\"\",VLOOKUP(ROUNDUP((LEFT(I483,1)*'Criterios de Riesgo'!$C$3+LEFT(J483,1)*'Criterios de Riesgo'!$C$4+LEFT(K483,1)*'Criterios de Riesgo'!$C$5+LEFT(L483,1)*'Criterios de Riesgo'!$C$6+LEFT(M483,1)*'Criterios de Riesgo'!$C$7+LEFT(N483,1)*'Criterios de Riesgo'!$C$8+LEFT(O483,1)*'Criterios de Riesgo'!$C$9),0),Calif_Impacto,2))","v":""},null,"","",{"$f":"IF(OR(Datos!A480=0,Datos!A480=\"\"),P483,IF(ISERROR(VLOOKUP(VLOOKUP(P483,VrImpacto,2,0)-ROUNDDOWN(VLOOKUP(P483,VrImpacto,2,0)*Datos!A480,0),Vr_Impacto,2,1)),\"\",VLOOKUP(VLOOKUP(P483,VrImpacto,2,0)-ROUNDDOWN(VLOOKUP(P483,VrImpacto,2,0)*Datos!A480,0),Vr_Impacto,2,1)))","v":""},{"$f":"IF(Datos!B480=0,Q483,IF(Datos!B480=\"\",Q483,IF(ISERROR(VLOOKUP(VLOOKUP(Q483,Vr_Probabilidad1,2,0)+1-ROUNDDOWN(VLOOKUP(Q483,Vr_Probabilidad1,2,0)*Datos!B480,0),Vr_Probabilidad,2,1)),\"\",VLOOKUP(VLOOKUP(Q483,Vr_Probabilidad1,2,0)-ROUNDDOWN(VLOOKUP(Q483,Vr_Probabilidad1,2,0)*Datos!B480,0),Vr_Probabilidad,2,1))))","v":0},{"$f":"Datos!C480","v":0},"","",""]
["R",null,null,null,null,null,"",null,null,null,null,null,null,null,null,{"$f":"IF(COUNTA(I484:O484)<7,\"\",VLOOKUP(ROUNDUP((LEFT(I484,1)*'Criterios de Riesgo'!$C$3+LEFT(J484,1)*'Criterios de Riesgo'!$C$4+LEFT(K484,1)*'Criterios de Riesgo'!$C$5+LEFT(L484,1)*'Criterios de Riesgo'!$C$6+LEFT(M484,1)*'Criterios de Riesgo'!$C$7+LEFT(N484,1)*'Criterios de Riesgo'!$C$8+LEFT(O484,1)*'Criterios de Riesgo'!$C$9),0),Calif_Impacto,2))","v":""},null,"","",{"$f":"IF(OR(Datos!A481=0,Datos!A481=\"\"),P484,IF(ISERROR(VLOOKUP(VLOOKUP(P484,VrImpacto,2,0)-ROUNDDOWN(VLOOKUP(P484,VrImpacto,2,0)*Datos!A481,0),Vr_Impacto,2,1)),\"\",VLOOKUP(VLOOKUP(P484,VrImpacto,2,0)-ROUNDDOWN(VLOOKUP(P484,VrImpacto,2,0)*Datos!A481,0),Vr_Impacto,2,1)))","v":""},{"$f":"IF(Datos!B481=0,Q484,IF(Datos!B481=\"\",Q484,IF(ISERROR(VLOOKUP(VLOOKUP(Q484,Vr_Probabilidad1,2,0)+1-ROUNDDOWN(VLOOKUP(Q484,Vr_Probabilidad1,2,0)*Datos!B481,0),Vr_Probabilidad,2,1)),\"\",VLOOKUP(VLOOKUP(Q484,Vr_Probabilidad1,2,0)-ROUNDDOWN(VLOOKUP(Q484,Vr_Probabilidad1,2,0)*Datos!B481,0),Vr_Probabilidad,2,1))))","v":0},{"$f":"Datos!C481","v":0},"","",""]
["R",null,null,null,null,null,"",null,null,null,null,null,null,null,null,{"$f":"IF(COUNTA(I485:O485)<7,\"\",VLOOKUP(ROUNDUP((LEFT(I485,1)*'Criterios de Riesgo'!$C$3+LEFT(J485,1)*'Criterios de Riesgo'!$C$4+LEFT(K485,1)*'Criterios de Riesgo'!$C$5+LEFT(L485,1)*'Criterios de Riesgo'!$C$6+LEFT(M485,1)*'Criterios de Riesgo'!$C$7+LEFT(N485,1)*'Criterios de Riesgo'!$C$8+LEFT(O485,1)*'Criterios de Riesgo'!$C$9),0),Calif_Impacto,2))","v":""},null,"","",{"$f":"IF(OR(Datos!A482=0,Datos!A482=\"\"),P485,IF(ISERROR(VLOOKUP(VLOOKUP(P485,VrImpacto,2,0)-ROUNDDOWN(VLOOKUP(P485,VrImpacto,2,0)*Datos!A482,0),Vr_Impacto,2,1)),\"\",VLOOKUP(VLOOKUP(P485,VrImpacto,2,0)-ROUNDDOWN(VLOOKUP(P485,VrImpacto,2,0)*Datos!A482,0),Vr_Impacto,2,1)))","v":""},{"$f":"IF(Datos!B482=0,Q485,IF(Datos!B482=\"\",Q485,IF(ISERROR(VLOOKUP(VLOOKUP(Q485,Vr_Probabilidad1,2,0)+1-ROUNDDOWN(VLOOKUP(Q485,Vr_Probabilidad1,2,0)*Datos!B482,0),Vr_Probabilidad,2,1)),\"\",VLOOKUP(VLOOKUP(Q485,Vr_Probabilidad1,2,0)-ROUNDDOWN(VLOOKUP(Q485,Vr_Probabilidad1,2,0)*Datos!B482,0),Vr_Probabilidad,2,1))))","v":0},{"$f":"Datos!C482","v":0},"","",""]
["R",null,null,null,null,null,"",null,null,null,null,null,null,null,null,{"$f":"IF(COUNTA(I486:O486)<7,\"\",VLOOKUP(ROUNDUP((LEFT(I486,1)*'Criterios de Riesgo'!$C$3+LEFT(J486,1)*'Criterios de Riesgo'!$C$4+LEFT(K486,1)*'Criterios de Riesgo'!$C$5+LEFT(L486,1)*'Criterios de Riesgo'!$C$6+LEFT(M486,1)*'Criterios de Riesgo'!$C$7+LEFT(N486,1)*'Criterios de Riesgo'!$C$8+LEFT(O486,1)*'Criterios de Riesgo'!$C$9),0),Calif_Impacto,2))","v":""},null,"","",{"$f":"IF(OR(Datos!A483=0,Datos!A483=\"\"),P486,IF(ISERROR(VLOOKUP(VLOOKUP(P486,VrImpacto,2,0)-ROUNDDOWN(VLOOKUP(P486,VrImpacto,2,0)*Datos!A483,0),Vr_Impacto,2,1)),\"\",VLOOKUP(VLOOKUP(P486,VrImpacto,2,0)-ROUNDDOWN(VLOOKUP(P486,VrImpacto,2,0)*Datos!A483,0),Vr_Impacto,2,1)))","v":""},{"$f":"IF(Datos!B483=0,Q486,IF(Datos!B483=\"\",Q486,IF(ISERROR(VLOOKUP(VLOOKUP(Q486,Vr_Probabilidad1,2,0)+1-ROUNDDOWN(VLOOKUP(Q486,Vr_Probabilidad1,2,0)*Datos!B483,0),Vr_Probabilidad,2,1)),\"\",VLOOKUP(VLOOKUP(Q486,Vr_Probabilidad1,2,0)-ROUNDDOWN(VLOOKUP(Q486,Vr_Probabilidad1,2,0)*Datos!B483,0),Vr_Probabilidad,2,1))))","v":0},{"$f":"Datos!C483","v":0},"","",""]
["R",null,null,null,null,null,"",null,null,null,null,null,null,null,null,{"$f":"IF(COUNTA(I487:O487)<7,\"\",VLOOKUP(ROUNDUP((LEFT(I487,1)*'Criterios de Riesgo'!$C$3+LEFT(J487,1)*'Criterios de Riesgo'!$C$4+LEFT(K487,1)*'Criterios de Riesgo'!$C$5+LEFT(L487,1)*'Criterios de Riesgo'!$C$6+LEFT(M487,1)*'Criterios de Riesgo'!$C$7+LEFT(N487,1)*'Criterios de Riesgo'!$C$8+LEFT(O487,1)*'Criterios de Riesgo'!$C$9),0),Calif_Impacto,2))","v":""},null,"","",{"$f":"IF(OR(Datos!A484=0,Datos!A484=\"\"),P487,IF(ISERROR(VLOOKUP(VLOOKUP(P487,VrImpacto,2,0)-ROUNDDOWN(VLOOKUP(P487,VrImpacto,2,0)*Datos!A484,0),Vr_Impacto,2,1)),\"\",VLOOKUP(VLOOKUP(P487,VrImpacto,2,0)-ROUNDDOWN(VLOOKUP(P487,VrImpacto,2,0)*Datos!A484,0),Vr_Impacto,2,1)))","v":""},{"$f":"IF(Datos!B484=0,Q487,IF(Datos!B484=\"\",Q487,IF(ISERROR(VLOOKUP(VLOOKUP(Q487,Vr_Probabilidad1,2,0)+1-ROUNDDOWN(VLOOKUP(Q487,Vr_Probabilidad1,2,0)*Datos!B484,0),Vr_Probabilidad,2,1)),\"\",VLOOKUP(VLOOKUP(Q487,Vr_Probabilidad1,2,0)-ROUNDDOWN(VLOOKUP(Q487,Vr_Probabilidad1,2,0)*Datos!B484,0),Vr_Probabilidad,2,1))))","v":0},{"$f":"Datos!C484","v":0},"","",""]
["R",null,null,null,null,null,"",null,null,null,null,null,null,null,null,{"$f":"IF(COUNTA(I488:O488)<7,\"\",VLOOKUP(ROUNDUP((LEFT(I488,1)*'Criterios de Riesgo'!$C$3+LEFT(J488,1)*'Criterios de Riesgo'!$C$4+LEFT(K488,1)*'Criterios de Riesgo'!$C$5+LEFT(L488,1)*'Criterios de Riesgo'!$C$6+LEFT(M488,1)*'Criterios de Riesgo'!$C$7+LEFT(N488,1)*'Criterios de Riesgo'!$C$8+LEFT(O488,1)*'Criterios de Riesgo'!$C$9),0),Calif_Impacto,2))","v":""},null,"","",{"$f":"IF(OR(Datos!A485=0,Datos!A485=\"\"),P488,IF(ISERROR(VLOOKUP(VLOOKUP(P488,VrImpacto,2,0)-ROUNDDOWN(VLOOKUP(P488,VrImpacto,2,0)*Datos!A485,0),Vr_Impacto,2,1)),\"\",VLOOKUP(VLOOKUP(P488,VrImpacto,2,0)-ROUNDDOWN(VLOOKUP(P488,VrImpacto,2,0)*Datos!A485,0),Vr_Impacto,2,1)))","v":""},{"$f":"IF(Datos!B485=0,Q488,IF(Datos!B485=\"\",Q488,IF(ISERROR(VLOOKUP(VLOOKUP(Q488,Vr_Probabilidad1,2,0)+1-ROUNDDOWN(VLOOKUP(Q488,Vr_Probabilidad1,2,0)*Datos!B485,0),Vr_Probabilidad,2,1)),\"\",VLOOKUP(VLOOKUP(Q488,Vr_Probabilidad1,2,0)-ROUNDDOWN(VLOOKUP(Q488,Vr_Probabilidad1,2,0)*Datos!B485,0),Vr_Probabilidad,2,1))))","v":0},{"$f":"Datos!C485","v":0},"","",""]
["R",null,null,null,null,null,"",null,null,null,null,null,null,null,null,{"$f":"IF(COUNTA(I489:O489)<7,\"\",VLOOKUP(ROUNDUP((LEFT(I489,1)*'Criterios de Riesgo'!$C$3+LEFT(J489,1)*'Criterios de Riesgo'!$C$4+LEFT(K489,1)*'Criterios de Riesgo'!$C$5+LEFT(L489,1)*'Criterios de Riesgo'!$C$6+LEFT(M489,1)*'Criterios de Riesgo'!$C$7+LEFT(N489,1)*'Criterios de Riesgo'!$C$8+LEFT(O489,1)*'Criterios de Riesgo'!$C$9),0),Calif_Impacto,2))","v":""},null,"","",{"$f":"IF(OR(Datos!A486=0,Datos!A486=\"\"),P489,IF(ISERROR(VLOOKUP(VLOOKUP(P489,VrImpacto,2,0)-ROUNDDOWN(VLOOKUP(P489,VrImpacto,2,0)*Datos!A486,0),Vr_Impacto,2,1)),\"\",VLOOKUP(VLOOKUP(P489,VrImpacto,2,0)-ROUNDDOWN(VLOOKUP(P489,VrImpacto,2,0)*Datos!A486,0),Vr_Impacto,2,1)))","v":""},{"$f":"IF(Datos!B486=0,Q489,IF(Datos!B486=\"\",Q489,IF(ISERROR(VLOOKUP(VLOOKUP(Q489,Vr_Probabilidad1,2,0)+1-ROUNDDOWN(VLOOKUP(Q489,Vr_Probabilidad1,2,0)*Datos!B486,0),Vr_Probabilidad,2,1)),\"\",VLOOKUP(VLOOKUP(Q489,Vr_Probabilidad1,2,0)-ROUNDDOWN(VLOOKUP(Q489,Vr_Probabilidad1,2,0)*Datos!B486,0),Vr_Probabilidad,2,1))))","v":0},{"$f":"Datos!C486","v":0},"","",""]
["R",null,null,null,null,null,"",null,null,null,null,null,null,null,null,{"$f":"IF(COUNTA(I490:O490)<7,\"\",VLOOKUP(ROUNDUP((LEFT(I490,1)*'Criterios de Riesgo'!$C$3+LEFT(J490,1)*'Criterios de Riesgo'!$C$4+LEFT(K490,1)*'Criterios de Riesgo'!$C$5+LEFT(L490,1)*'Criterios de Riesgo'!$C$6+LEFT(M490,1)*'Criterios de Riesgo'!$C$7+LEFT(N490,1)*'Criterios de Riesgo'!$C$8+LEFT(O490,1)*'Criterios de Riesgo'!$C$9),0),Calif_Impacto,2))","v":""},null,"","",{"$f":"IF(OR(Datos!A487=0,Datos!A487=\"\"),P490,IF(ISERROR(VLOOKUP(VLOOKUP(P490,VrImpacto,2,0)-ROUNDDOWN(VLOOKUP(P490,VrImpacto,2,0)*Datos!A487,0),Vr_Impacto,2,1)),\"\",VLOOKUP(VLOOKUP(P490,VrImpacto,2,0)-ROUNDDOWN(VLOOKUP(P490,VrImpacto,2,0)*Datos!A487,0),Vr_Impacto,2,1)))","v":""},{"$f":"IF(Datos!B487=0,Q490,IF(Datos!B487=\"\",Q490,IF(ISERROR(VLOOKUP(VLOOKUP(Q490,Vr_Probabilidad1,2,0)+1-ROUNDDOWN(VLOOKUP(Q490,Vr_Probabilidad1,2,0)*Datos!B487,0),Vr_Probabilidad,2,1)),\"\",VLOOKUP(VLOOKUP(Q490,Vr_Probabilidad1,2,0)-ROUNDDOWN(VLOOKUP(Q490,Vr_Probabilidad1,2,0)*Datos!B487,0),Vr_Probabilidad,2,1))))","v":0},{"$f":"Datos!C487","v":0},"","",""]
["R",null,null,null,null,null,"",null,null,null,null,null,null,null,null,{"$f":"IF(COUNTA(I491:O491)<7,\"\",VLOOKUP(ROUNDUP((LEFT(I491,1)*'Criterios de Riesgo'!$C$3+LEFT(J491,1)*'Criterios de Riesgo'!$C$4+LEFT(K491,1)*'Criterios de Riesgo'!$C$5+LEFT(L491,1)*'Criterios de Riesgo'!$C$6+LEFT(M491,1)*'Criterios de Riesgo'!$C$7+LEFT(N491,1)*'Criterios de Riesgo'!$C$8+LEFT(O491,1)*'Criterios de Riesgo'!$C$9),0),Calif_Impacto,2))","v":""},null,"","",{"$f":"IF(OR(Datos!A488=0,Datos!A488=\"\"),P491,IF(ISERROR(VLOOKUP(VLOOKUP(P491,VrImpacto,2,0)-ROUNDDOWN(VLOOKUP(P491,VrImpacto,2,0)*Datos!A488,0),Vr_Impacto,2,1)),\"\",VLOOKUP(VLOOKUP(P491,VrImpacto,2,0)-ROUNDDOWN(VLOOKUP(P491,VrImpacto,2,0)*Datos!A488,0),Vr_Impacto,2,1)))","v":""},{"$f":"IF(Datos!B488=0,Q491,IF(Datos!B488=\"\",Q491,IF(ISERROR(VLOOKUP(VLOOKUP(Q491,Vr_Probabilidad1,2,0)+1-ROUNDDOWN(VLOOKUP(Q491,Vr_Probabilidad1,2,0)*Datos!B488,0),Vr_Probabilidad,2,1)),\"\",VLOOKUP(VLOOKUP(Q491,Vr_Probabilidad1,2,0)-ROUNDDOWN(VLOOKUP(Q491,Vr_Probabilidad1,2,0)*Datos!B488,0),Vr_Probabilidad,2,1))))","v":0},{"$f":"Datos!C488","v":0},"","",""]
["R",null,null,null,null,null,"",null,null,null,null,null,null,null,null,{"$f":"IF(COUNTA(I492:O492)<7,\"\",VLOOKUP(ROUNDUP((LEFT(I492,1)*'Criterios de Riesgo'!$C$3+LEFT(J492,1)*'Criterios de Riesgo'!$C$4+LEFT(K492,1)*'Criterios de Riesgo'!$C$5+LEFT(L492,1)*'Criterios de Riesgo'!$C$6+LEFT(M492,1)*'Criterios de Riesgo'!$C$7+LEFT(N492,1)*'Criterios de Riesgo'!$C$8+LEFT(O492,1)*'Criterios de Riesgo'!$C$9),0),Calif_Impacto,2))","v":""},null,"","",{"$f":"IF(OR(Datos!A489=0,Datos!A489=\"\"),P492,IF(ISERROR(VLOOKUP(VLOOKUP(P492,VrImpacto,2,0)-ROUNDDOWN(VLOOKUP(P492,VrImpacto,2,0)*Datos!A489,0),Vr_Impacto,2,1)),\"\",VLOOKUP(VLOOKUP(P492,VrImpacto,2,0)-ROUNDDOWN(VLOOKUP(P492,VrImpacto,2,0)*Datos!A489,0),Vr_Impacto,2,1)))","v":""},{"$f":"IF(Datos!B489=0,Q492,IF(Datos!B489=\"\",Q492,IF(ISERROR(VLOOKUP(VLOOKUP(Q492,Vr_Probabilidad1,2,0)+1-ROUNDDOWN(VLOOKUP(Q492,Vr_Probabilidad1,2,0)*Datos!B489,0),Vr_Probabilidad,2,1)),\"\",VLOOKUP(VLOOKUP(Q492,Vr_Probabilidad1,2,0)-ROUNDDOWN(VLOOKUP(Q492,Vr_Probabilidad1,2,0)*Datos!B489,0),Vr_Probabilidad,2,1))))","v":0},{"$f":"Datos!C489","v":0},"","",""]
["R",null,null,null,null,null,"",null,null,null,null,null,null,null,null,{"$f":"IF(COUNTA(I493:O493)<7,\"\",VLOOKUP(ROUNDUP((LEFT(I493,1)*'Criterios de Riesgo'!$C$3+LEFT(J493,1)*'Criterios de Riesgo'!$C$4+LEFT(K493,1)*'Criterios de Riesgo'!$C$5+LEFT(L493,1)*'Criterios de Riesgo'!$C$6+LEFT(M493,1)*'Criterios de Riesgo'!$C$7+LEFT(N493,1)*'Criterios de Riesgo'!$C$8+LEFT(O493,1)*'Criterios de Riesgo'!$C$9),0),Calif_Impacto,2))","v":""},null,"","",{"$f":"IF(OR(Datos!A490=0,Datos!A490=\"\"),P493,IF(ISERROR(VLOOKUP(VLOOKUP(P493,VrImpacto,2,0)-ROUNDDOWN(VLOOKUP(P493,VrImpacto,2,0)*Datos!A490,0),Vr_Impacto,2,1)),\"\",VLOOKUP(VLOOKUP(P493,VrImpacto,2,0)-ROUNDDOWN(VLOOKUP(P493,VrImpacto,2,0)*Datos!A490,0),Vr_Impacto,2,1)))","v":""},{"$f":"IF(Datos!B490=0,Q493,IF(Datos!B490=\"\",Q493,IF(ISERROR(VLOOKUP(VLOOKUP(Q493,Vr_Probabilidad1,2,0)+1-ROUNDDOWN(VLOOKUP(Q493,Vr_Probabilidad1,2,0)*Datos!B490,0),Vr_Probabilidad,2,1)),\"\",VLOOKUP(VLOOKUP(Q493,Vr_Probabilidad1,2,0)-ROUNDDOWN(VLOOKUP(Q493,Vr_Probabilidad1,2,0)*Datos!B490,0),Vr_Probabilidad,2,1))))","v":0},{"$f":"Datos!C490","v":0},"","",""]
["R",null,null,null,null,null,"",null,null,null,null,null,null,null,null,{"$f":"IF(COUNTA(I494:O494)<7,\"\",VLOOKUP(ROUNDUP((LEFT(I494,1)*'Criterios de Riesgo'!$C$3+LEFT(J494,1)*'Criterios de Riesgo'!$C$4+LEFT(K494,1)*'Criterios de Riesgo'!$C$5+LEFT(L494,1)*'Criterios de Riesgo'!$C$6+LEFT(M494,1)*'Criterios de Riesgo'!$C$7+LEFT(N494,1)*'Criterios de Riesgo'!$C$8+LEFT(O494,1)*'Criterios de Riesgo'!$C$9),0),Calif_Impacto,2))","v":""},null,"","",{"$f":"IF(OR(Datos!A491=0,Datos!A491=\"\"),P494,IF(ISERROR(VLOOKUP(VLOOKUP(P494,VrImpacto,2,0)-ROUNDDOWN(VLOOKUP(P494,VrImpacto,2,0)*Datos!A491,0),Vr_Impacto,2,1)),\"\",VLOOKUP(VLOOKUP(P494,VrImpacto,2,0)-ROUNDDOWN(VLOOKUP(P494,VrImpacto,2,0)*Datos!A491,0),Vr_Impacto,2,1)))","v":""},{"$f":"IF(Datos!B491=0,Q494,IF(Datos!B491=\"\",Q494,IF(ISERROR(VLOOKUP(VLOOKUP(Q494,Vr_Probabilidad1,2,0)+1-ROUNDDOWN(VLOOKUP(Q494,Vr_Probabilidad1,2,0)*Datos!B491,0),Vr_Probabilidad,2,1)),\"\",VLOOKUP(VLOOKUP(Q494,Vr_Probabilidad1,2,0)-ROUNDDOWN(VLOOKUP(Q494,Vr_Probabilidad1,2,0)*Datos!B491,0),Vr_Probabilidad,2,1))))","v":0},{"$f":"Datos!C491","v":0},"","",""]
["R",null,null,null,null,null,"",null,null,null,null,null,null,null,null,{"$f":"IF(COUNTA(I495:O495)<7,\"\",VLOOKUP(ROUNDUP((LEFT(I495,1)*'Criterios de Riesgo'!$C$3+LEFT(J495,1)*'Criterios de Riesgo'!$C$4+LEFT(K495,1)*'Criterios de Riesgo'!$C$5+LEFT(L495,1)*'Criterios de Riesgo'!$C$6+LEFT(M495,1)*'Criterios de Riesgo'!$C$7+LEFT(N495,1)*'Criterios de Riesgo'!$C$8+LEFT(O495,1)*'Criterios de Riesgo'!$C$9),0),Calif_Impacto,2))","v":""},null,"","",{"$f":"IF(OR(Datos!A492=0,Datos!A492=\"\"),P495,IF(ISERROR(VLOOKUP(VLOOKUP(P495,VrImpacto,2,0)-ROUNDDOWN(VLOOKUP(P495,VrImpacto,2,0)*Datos!A492,0),Vr_Impacto,2,1)),\"\",VLOOKUP(VLOOKUP(P495,VrImpacto,2,0)-ROUNDDOWN(VLOOKUP(P495,VrImpacto,2,0)*Datos!A492,0),Vr_Impacto,2,1)))","v":""},{"$f":"IF(Datos!B492=0,Q495,IF(Datos!B492=\"\",Q495,IF(ISERROR(VLOOKUP(VLOOKUP(Q495,Vr_Probabilidad1,2,0)+1-ROUNDDOWN(VLOOKUP(Q495,Vr_Probabilidad1,2,0)*Datos!B492,0),Vr_Probabilidad,2,1)),\"\",VLOOKUP(VLOOKUP(Q495,Vr_Probabilidad1,2,0)-ROUNDDOWN(VLOOKUP(Q495,Vr_Probabilidad1,2,0)*Datos!B492,0),Vr_Probabilidad,2,1))))","v":0},{"$f":"Datos!C492","v":0},"","",""]
["R",null,null,null,null,null,"",null,null,null,null,null,null,null,null,{"$f":"IF(COUNTA(I496:O496)<7,\"\",VLOOKUP(ROUNDUP((LEFT(I496,1)*'Criterios de Riesgo'!$C$3+LEFT(J496,1)*'Criterios de Riesgo'!$C$4+LEFT(K496,1)*'Criterios de Riesgo'!$C$5+LEFT(L496,1)*'Criterios de Riesgo'!$C$6+LEFT(M496,1)*'Criterios de Riesgo'!$C$7+LEFT(N496,1)*'Criterios de Riesgo'!$C$8+LEFT(O496,1)*'Criterios de Riesgo'!$C$9),0),Calif_Impacto,2))","v":""},null,"","",{"$f":"IF(OR(Datos!A493=0,Datos!A493=\"\"),P496,IF(ISERROR(VLOOKUP(VLOOKUP(P496,VrImpacto,2,0)-ROUNDDOWN(VLOOKUP(P496,VrImpacto,2,0)*Datos!A493,0),Vr_Impacto,2,1)),\"\",VLOOKUP(VLOOKUP(P496,VrImpacto,2,0)-ROUNDDOWN(VLOOKUP(P496,VrImpacto,2,0)*Datos!A493,0),Vr_Impacto,2,1)))","v":""},{"$f":"IF(Datos!B493=0,Q496,IF(Datos!B493=\"\",Q496,IF(ISERROR(VLOOKUP(VLOOKUP(Q496,Vr_Probabilidad1,2,0)+1-ROUNDDOWN(VLOOKUP(Q496,Vr_Probabilidad1,2,0)*Datos!B493,0),Vr_Probabilidad,2,1)),\"\",VLOOKUP(VLOOKUP(Q496,Vr_Probabilidad1,2,0)-ROUNDDOWN(VLOOKUP(Q496,Vr_Probabilidad1,2,0)*Datos!B493,0),Vr_Probabilidad,2,1))))","v":0},{"$f":"Datos!C493","v":0},"","",""]
["R",null,null,null,null,null,"",null,null,null,null,null,null,null,null,{"$f":"IF(COUNTA(I497:O497)<7,\"\",VLOOKUP(ROUNDUP((LEFT(I497,1)*'Criterios de Riesgo'!$C$3+LEFT(J497,1)*'Criterios de Riesgo'!$C$4+LEFT(K497,1)*'Criterios de Riesgo'!$C$5+LEFT(L497,1)*'Criterios de Riesgo'!$C$6+LEFT(M497,1)*'Criterios de Riesgo'!$C$7+LEFT(N497,1)*'Criterios de Riesgo'!$C$8+LEFT(O497,1)*'Criterios de Riesgo'!$C$9),0),Calif_Impacto,2))","v":""},null,"","",{"$f":"IF(OR(Datos!A494=0,Datos!A494=\"\"),P497,IF(ISERROR(VLOOKUP(VLOOKUP(P497,VrImpacto,2,0)-ROUNDDOWN(VLOOKUP(P497,VrImpacto,2,0)*Datos!A494,0),Vr_Impacto,2,1)),\"\",VLOOKUP(VLOOKUP(P497,VrImpacto,2,0)-ROUNDDOWN(VLOOKUP(P497,VrImpacto,2,0)*Datos!A494,0),Vr_Impacto,2,1)))","v":""},{"$f":"IF(Datos!B494=0,Q497,IF(Datos!B494=\"\",Q497,IF(ISERROR(VLOOKUP(VLOOKUP(Q497,Vr_Probabilidad1,2,0)+1-ROUNDDOWN(VLOOKUP(Q497,Vr_Probabilidad1,2,0)*Datos!B494,0),Vr_Probabilidad,2,1)),\"\",VLOOKUP(VLOOKUP(Q497,Vr_Probabilidad1,2,0)-ROUNDDOWN(VLOOKUP(Q497,Vr_Probabilidad1,2,0)*Datos!B494,0),Vr_Probabilidad,2,1))))","v":0},{"$f":"Datos!C494","v":0},"","",""]
["R",null,null,null,null,null,"",null,null,null,null,null,null,null,null,{"$f":"IF(COUNTA(I498:O498)<7,\"\",VLOOKUP(ROUNDUP((LEFT(I498,1)*'Criterios de Riesgo'!$C$3+LEFT(J498,1)*'Criterios de Riesgo'!$C$4+LEFT(K498,1)*'Criterios de Riesgo'!$C$5+LEFT(L498,1)*'Criterios de Riesgo'!$C$6+LEFT(M498,1)*'Criterios de Riesgo'!$C$7+LEFT(N498,1)*'Criterios de Riesgo'!$C$8+LEFT(O498,1)*'Criterios de Riesgo'!$C$9),0),Calif_Impacto,2))","v":""},null,"","",{"$f":"IF(OR(Datos!A495=0,Datos!A495=\"\"),P498,IF(ISERROR(VLOOKUP(VLOOKUP(P498,VrImpacto,2,0)-ROUNDDOWN(VLOOKUP(P498,VrImpacto,2,0)*Datos!A495,0),Vr_Impacto,2,1)),\"\",VLOOKUP(VLOOKUP(P498,VrImpacto,2,0)-ROUNDDOWN(VLOOKUP(P498,VrImpacto,2,0)*Datos!A495,0),Vr_Impacto,2,1)))","v":""},{"$f":"IF(Datos!B495=0,Q498,IF(Datos!B495=\"\",Q498,IF(ISERROR(VLOOKUP(VLOOKUP(Q498,Vr_Probabilidad1,2,0)+1-ROUNDDOWN(VLOOKUP(Q498,Vr_Probabilidad1,2,0)*Datos!B495,0),Vr_Probabilidad,2,1)),\"\",VLOOKUP(VLOOKUP(Q498,Vr_Probabilidad1,2,0)-ROUNDDOWN(VLOOKUP(Q498,Vr_Probabilidad1,2,0)*Datos!B495,0),Vr_Probabilidad,2,1))))","v":0},{"$f":"Datos!C495","v":0},"","",""]
["R",null,null,null,null,null,"",null,null,null,null,null,null,null,null,{"$f":"IF(COUNTA(I499:O499)<7,\"\",VLOOKUP(ROUNDUP((LEFT(I499,1)*'Criterios de Riesgo'!$C$3+LEFT(J499,1)*'Criterios de Riesgo'!$C$4+LEFT(K499,1)*'Criterios de Riesgo'!$C$5+LEFT(L499,1)*'Criterios de Riesgo'!$C$6+LEFT(M499,1)*'Criterios de Riesgo'!$C$7+LEFT(N499,1)*'Criterios de Riesgo'!$C$8+LEFT(O499,1)*'Criterios de Riesgo'!$C$9),0),Calif_Impacto,2))","v":""},null,"","",{"$f":"IF(OR(Datos!A496=0,Datos!A496=\"\"),P499,IF(ISERROR(VLOOKUP(VLOOKUP(P499,VrImpacto,2,0)-ROUNDDOWN(VLOOKUP(P499,VrImpacto,2,0)*Datos!A496,0),Vr_Impacto,2,1)),\"\",VLOOKUP(VLOOKUP(P499,VrImpacto,2,0)-ROUNDDOWN(VLOOKUP(P499,VrImpacto,2,0)*Datos!A496,0),Vr_Impacto,2,1)))","v":""},{"$f":"IF(Datos!B496=0,Q499,IF(Datos!B496=\"\",Q499,IF(ISERROR(VLOOKUP(VLOOKUP(Q499,Vr_Probabilidad1,2,0)+1-ROUNDDOWN(VLOOKUP(Q499,Vr_Probabilidad1,2,0)*Datos!B496,0),Vr_Probabilidad,2,1)),\"\",VLOOKUP(VLOOKUP(Q499,Vr_Probabilidad1,2,0)-ROUNDDOWN(VLOOKUP(Q499,Vr_Probabilidad1,2,0)*Datos!B496,0),Vr_Probabilidad,2,1))))","v":0},{"$f":"Datos!C496","v":0},"","",""]
["R",null,null,null,null,null,"",null,null,null,null,null,null,null,null,{"$f":"IF(COUNTA(I500:O500)<7,\"\",VLOOKUP(ROUNDUP((LEFT(I500,1)*'Criterios de Riesgo'!$C$3+LEFT(J500,1)*'Criterios de Riesgo'!$C$4+LEFT(K500,1)*'Criterios de Riesgo'!$C$5+LEFT(L500,1)*'Criterios de Riesgo'!$C$6+LEFT(M500,1)*'Criterios de Riesgo'!$C$7+LEFT(N500,1)*'Criterios de Riesgo'!$C$8+LEFT(O500,1)*'Criterios de Riesgo'!$C$9),0),Calif_Impacto,2))","v":""},null,"","",{"$f":"IF(OR(Datos!A497=0,Datos!A497=\"\"),P500,IF(ISERROR(VLOOKUP(VLOOKUP(P500,VrImpacto,2,0)-ROUNDDOWN(VLOOKUP(P500,VrImpacto,2,0)*Datos!A497,0),Vr_Impacto,2,1)),\"\",VLOOKUP(VLOOKUP(P500,VrImpacto,2,0)-ROUNDDOWN(VLOOKUP(P500,VrImpacto,2,0)*Datos!A497,0),Vr_Impacto,2,1)))","v":""},{"$f":"IF(Datos!B497=0,Q500,IF(Datos!B497=\"\",Q500,IF(ISERROR(VLOOKUP(VLOOKUP(Q500,Vr_Probabilidad1,2,0)+1-ROUNDDOWN(VLOOKUP(Q500,Vr_Probabilidad1,2,0)*Datos!B497,0),Vr_Probabilidad,2,1)),\"\",VLOOKUP(VLOOKUP(Q500,Vr_Probabilidad1,2,0)-ROUNDDOWN(VLOOKUP(Q500,Vr_Probabilidad1,2,0)*Datos!B497,0),Vr_Probabilidad,2,1))))","v":0},{"$f":"Datos!C497","v":0},"","",""]
["R",null,null,null,null,null,"",null,null,null,null,null,null,null,null,{"$f":"IF(COUNTA(I501:O501)<7,\"\",VLOOKUP(ROUNDUP((LEFT(I501,1)*'Criterios de Riesgo'!$C$3+LEFT(J501,1)*'Criterios de Riesgo'!$C$4+LEFT(K501,1)*'Criterios de Riesgo'!$C$5+LEFT(L501,1)*'Criterios de Riesgo'!$C$6+LEFT(M501,1)*'Criterios de Riesgo'!$C$7+LEFT(N501,1)*'Criterios de Riesgo'!$C$8+LEFT(O501,1)*'Criterios de Riesgo'!$C$9),0),Calif_Impacto,2))","v":""},null,"","",{"$f":"IF(OR(Datos!A498=0,Datos!A498=\"\"),P501,IF(ISERROR(VLOOKUP(VLOOKUP(P501,VrImpacto,2,0)-ROUNDDOWN(VLOOKUP(P501,VrImpacto,2,0)*Datos!A498,0),Vr_Impacto,2,1)),\"\",VLOOKUP(VLOOKUP(P501,VrImpacto,2,0)-ROUNDDOWN(VLOOKUP(P501,VrImpacto,2,0)*Datos!A498,0),Vr_Impacto,2,1)))","v":""},{"$f":"IF(Datos!B498=0,Q501,IF(Datos!B498=\"\",Q501,IF(ISERROR(VLOOKUP(VLOOKUP(Q501,Vr_Probabilidad1,2,0)+1-ROUNDDOWN(VLOOKUP(Q501,Vr_Probabilidad1,2,0)*Datos!B498,0),Vr_Probabilidad,2,1)),\"\",VLOOKUP(VLOOKUP(Q501,Vr_Probabilidad1,2,0)-ROUNDDOWN(VLOOKUP(Q501,Vr_Probabilidad1,2,0)*Datos!B498,0),Vr_Probabilidad,2,1))))","v":0},{"$f":"Datos!C498","v":0},"","",""]
["R",null,null,null,null,null,"",null,null,null,null,null,null,null,null,{"$f":"IF(COUNTA(I502:O502)<7,\"\",VLOOKUP(ROUNDUP((LEFT(I502,1)*'Criterios de Riesgo'!$C$3+LEFT(J502,1)*'Criterios de Riesgo'!$C$4+LEFT(K502,1)*'Criterios de Riesgo'!$C$5+LEFT(L502,1)*'Criterios de Riesgo'!$C$6+LEFT(M502,1)*'Criterios de Riesgo'!$C$7+LEFT(N502,1)*'Criterios de Riesgo'!$C$8+LEFT(O502,1)*'Criterios de Riesgo'!$C$9),0),Calif_Impacto,2))","v":""},null,"","",{"$f":"IF(OR(Datos!A499=0,Datos!A499=\"\"),P502,IF(ISERROR(VLOOKUP(VLOOKUP(P502,VrImpacto,2,0)-ROUNDDOWN(VLOOKUP(P502,VrImpacto,2,0)*Datos!A499,0),Vr_Impacto,2,1)),\"\",VLOOKUP(VLOOKUP(P502,VrImpacto,2,0)-ROUNDDOWN(VLOOKUP(P502,VrImpacto,2,0)*Datos!A499,0),Vr_Impacto,2,1)))","v":""},{"$f":"IF(Datos!B499=0,Q502,IF(Datos!B499=\"\",Q502,IF(ISERROR(VLOOKUP(VLOOKUP(Q502,Vr_Probabilidad1,2,0)+1-ROUNDDOWN(VLOOKUP(Q502,Vr_Probabilidad1,2,0)*Datos!B499,0),Vr_Probabilidad,2,1)),\"\",VLOOKUP(VLOOKUP(Q502,Vr_Probabilidad1,2,0)-ROUNDDOWN(VLOOKUP(Q502,Vr_Probabilidad1,2,0)*Datos!B499,0),Vr_Probabilidad,2,1))))","v":0},{"$f":"Datos!C499","v":0},"","",""]
["R",null,null,null,null,null,"",null,null,null,null,null,null,null,null,{"$f":"IF(COUNTA(I503:O503)<7,\"\",VLOOKUP(ROUNDUP((LEFT(I503,1)*'Criterios de Riesgo'!$C$3+LEFT(J503,1)*'Criterios de Riesgo'!$C$4+LEFT(K503,1)*'Criterios de Riesgo'!$C$5+LEFT(L503,1)*'Criterios de Riesgo'!$C$6+LEFT(M503,1)*'Criterios de Riesgo'!$C$7+LEFT(N503,1)*'Criterios de Riesgo'!$C$8+LEFT(O503,1)*'Criterios de Riesgo'!$C$9),0),Calif_Impacto,2))","v":""},null,"","",{"$f":"IF(OR(Datos!A500=0,Datos!A500=\"\"),P503,IF(ISERROR(VLOOKUP(VLOOKUP(P503,VrImpacto,2,0)-ROUNDDOWN(VLOOKUP(P503,VrImpacto,2,0)*Datos!A500,0),Vr_Impacto,2,1)),\"\",VLOOKUP(VLOOKUP(P503,VrImpacto,2,0)-ROUNDDOWN(VLOOKUP(P503,VrImpacto,2,0)*Datos!A500,0),Vr_Impacto,2,1)))","v":""},{"$f":"IF(Datos!B500=0,Q503,IF(Datos!B500=\"\",Q503,IF(ISERROR(VLOOKUP(VLOOKUP(Q503,Vr_Probabilidad1,2,0)+1-ROUNDDOWN(VLOOKUP(Q503,Vr_Probabilidad1,2,0)*Datos!B500,0),Vr_Probabilidad,2,1)),\"\",VLOOKUP(VLOOKUP(Q503,Vr_Probabilidad1,2,0)-ROUNDDOWN(VLOOKUP(Q503,Vr_Probabilidad1,2,0)*Datos!B500,0),Vr_Probabilidad,2,1))))","v":0},{"$f":"Datos!C500","v":0},"","",""]
["R",null,null,null,null,null,{"$f":"IF(ISERROR(VLOOKUP(F504,EventosPerdida,2,0)),\"\",VLOOKUP(F504,EventosPerdida,2,0))","v":""},null,null,null,null,null,null,null,null,{"$f":"IF(COUNTA(I504:O504)<7,\"\",VLOOKUP(ROUNDUP((LEFT(I504,1)*'Criterios de Riesgo'!$C$3+LEFT(J504,1)*'Criterios de Riesgo'!$C$4+LEFT(K504,1)*'Criterios de Riesgo'!$C$5+LEFT(L504,1)*'Criterios de Riesgo'!$C$6+LEFT(M504,1)*'Criterios de Riesgo'!$C$7+LEFT(N504,1)*'Criterios de Riesgo'!$C$8+LEFT(O504,1)*'Criterios de Riesgo'!$C$9),0),Calif_Impacto,2))","v":""},null,{"$f":"IF(OR(P504=\"\",Q504=\"\"),\"\",VLOOKUP(P504,VrImpacto,2,0)*VLOOKUP(Q504,Vr_Probabilidad1,2,0))","v":""},{"$f":"IF(ISERROR(VLOOKUP(Q504&\"-\"&P504,NivelRiesgo,3,0)),\"\",VLOOKUP(Q504&\"-\"&P504,NivelRiesgo,3,0))","v":""},{"$f":"IF(OR(Datos!A501=0,Datos!A501=\"\"),P504,IF(ISERROR(VLOOKUP(VLOOKUP(P504,VrImpacto,2,0)-ROUNDDOWN(VLOOKUP(P504,VrImpacto,2,0)*Datos!A501,0),Vr_Impacto,2,1)),\"\",VLOOKUP(VLOOKUP(P504,VrImpacto,2,0)-ROUNDDOWN(VLOOKUP(P504,VrImpacto,2,0)*Datos!A501,0),Vr_Impacto,2,1)))","v":""},{"$f":"IF(Datos!B501=0,Q504,IF(Datos!B501=\"\",Q504,IF(ISERROR(VLOOKUP(VLOOKUP(Q504,Vr_Probabilidad1,2,0)+1-ROUNDDOWN(VLOOKUP(Q504,Vr_Probabilidad1,2,0)*Datos!B501,0),Vr_Probabilidad,2,1)),\"\",VLOOKUP(VLOOKUP(Q504,Vr_Probabilidad1,2,0)-ROUNDDOWN(VLOOKUP(Q504,Vr_Probabilidad1,2,0)*Datos!B501,0),Vr_Probabilidad,2,1))))","v":0},{"$f":"Datos!C501","v":0},"","",{"$f":"IF(ISERROR(VLOOKUP(X504,Criterio_Riesgo_Residual,2,1)),\"\",VLOOKUP(X504,Criterio_Riesgo_Residual,2,1))","v":""}]
["R",null,null,null,null,null,"",null,null,null,null,null,null,null,null,{"$f":"IF(COUNTA(I505:O505)<7,\"\",VLOOKUP(ROUNDUP((LEFT(I505,1)*'Criterios de Riesgo'!$C$3+LEFT(J505,1)*'Criterios de Riesgo'!$C$4+LEFT(K505,1)*'Criterios de Riesgo'!$C$5+LEFT(L505,1)*'Criterios de Riesgo'!$C$6+LEFT(M505,1)*'Criterios de Riesgo'!$C$7+LEFT(N505,1)*'Criterios de Riesgo'!$C$8+LEFT(O505,1)*'Criterios de Riesgo'!$C$9),0),Calif_Impacto,2))","v":""},null,"","",{"$f":"IF(OR(Datos!A502=0,Datos!A502=\"\"),P505,IF(ISERROR(VLOOKUP(VLOOKUP(P505,VrImpacto,2,0)-ROUNDDOWN(VLOOKUP(P505,VrImpacto,2,0)*Datos!A502,0),Vr_Impacto,2,1)),\"\",VLOOKUP(VLOOKUP(P505,VrImpacto,2,0)-ROUNDDOWN(VLOOKUP(P505,VrImpacto,2,0)*Datos!A502,0),Vr_Impacto,2,1)))","v":""},{"$f":"IF(Datos!B502=0,Q505,IF(Datos!B502=\"\",Q505,IF(ISERROR(VLOOKUP(VLOOKUP(Q505,Vr_Probabilidad1,2,0)+1-ROUNDDOWN(VLOOKUP(Q505,Vr_Probabilidad1,2,0)*Datos!B502,0),Vr_Probabilidad,2,1)),\"\",VLOOKUP(VLOOKUP(Q505,Vr_Probabilidad1,2,0)-ROUNDDOWN(VLOOKUP(Q505,Vr_Probabilidad1,2,0)*Datos!B502,0),Vr_Probabilidad,2,1))))","v":0},{"$f":"Datos!C502","v":0},"","",""]
["R",null,null,null,null,null,"",null,null,null,null,null,null,null,null,{"$f":"IF(COUNTA(I506:O506)<7,\"\",VLOOKUP(ROUNDUP((LEFT(I506,1)*'Criterios de Riesgo'!$C$3+LEFT(J506,1)*'Criterios de Riesgo'!$C$4+LEFT(K506,1)*'Criterios de Riesgo'!$C$5+LEFT(L506,1)*'Criterios de Riesgo'!$C$6+LEFT(M506,1)*'Criterios de Riesgo'!$C$7+LEFT(N506,1)*'Criterios de Riesgo'!$C$8+LEFT(O506,1)*'Criterios de Riesgo'!$C$9),0),Calif_Impacto,2))","v":""},null,"","",{"$f":"IF(OR(Datos!A503=0,Datos!A503=\"\"),P506,IF(ISERROR(VLOOKUP(VLOOKUP(P506,VrImpacto,2,0)-ROUNDDOWN(VLOOKUP(P506,VrImpacto,2,0)*Datos!A503,0),Vr_Impacto,2,1)),\"\",VLOOKUP(VLOOKUP(P506,VrImpacto,2,0)-ROUNDDOWN(VLOOKUP(P506,VrImpacto,2,0)*Datos!A503,0),Vr_Impacto,2,1)))","v":""},{"$f":"IF(Datos!B503=0,Q506,IF(Datos!B503=\"\",Q506,IF(ISERROR(VLOOKUP(VLOOKUP(Q506,Vr_Probabilidad1,2,0)+1-ROUNDDOWN(VLOOKUP(Q506,Vr_Probabilidad1,2,0)*Datos!B503,0),Vr_Probabilidad,2,1)),\"\",VLOOKUP(VLOOKUP(Q506,Vr_Probabilidad1,2,0)-ROUNDDOWN(VLOOKUP(Q506,Vr_Probabilidad1,2,0)*Datos!B503,0),Vr_Probabilidad,2,1))))","v":0},{"$f":"Datos!C503","v":0},{"$f":"IF(X506=\"\",\"\",R506-X506)","v":""},{"$f":"IF(R506=\"\",\"\",VLOOKUP(T506,VrImpacto,2,0)*VLOOKUP(U506,Vr_Probabilidad1,2,0))","v":""},""]
["R",null,null,null,null,null,"",null,null,null,null,null,null,null,null,{"$f":"IF(COUNTA(I507:O507)<7,\"\",VLOOKUP(ROUNDUP((LEFT(I507,1)*'Criterios de Riesgo'!$C$3+LEFT(J507,1)*'Criterios de Riesgo'!$C$4+LEFT(K507,1)*'Criterios de Riesgo'!$C$5+LEFT(L507,1)*'Criterios de Riesgo'!$C$6+LEFT(M507,1)*'Criterios de Riesgo'!$C$7+LEFT(N507,1)*'Criterios de Riesgo'!$C$8+LEFT(O507,1)*'Criterios de Riesgo'!$C$9),0),Calif_Impacto,2))","v":""},null,"","",{"$f":"IF(OR(Datos!A504=0,Datos!A504=\"\"),P507,IF(ISERROR(VLOOKUP(VLOOKUP(P507,VrImpacto,2,0)-ROUNDDOWN(VLOOKUP(P507,VrImpacto,2,0)*Datos!A504,0),Vr_Impacto,2,1)),\"\",VLOOKUP(VLOOKUP(P507,VrImpacto,2,0)-ROUNDDOWN(VLOOKUP(P507,VrImpacto,2,0)*Datos!A504,0),Vr_Impacto,2,1)))","v":""},{"$f":"IF(Datos!B504=0,Q507,IF(Datos!B504=\"\",Q507,IF(ISERROR(VLOOKUP(VLOOKUP(Q507,Vr_Probabilidad1,2,0)+1-ROUNDDOWN(VLOOKUP(Q507,Vr_Probabilidad1,2,0)*Datos!B504,0),Vr_Probabilidad,2,1)),\"\",VLOOKUP(VLOOKUP(Q507,Vr_Probabilidad1,2,0)-ROUNDDOWN(VLOOKUP(Q507,Vr_Probabilidad1,2,0)*Datos!B504,0),Vr_Probabilidad,2,1))))","v":0},{"$f":"Datos!C504","v":0},"","",""]
["R",null,null,null,null,null,"",null,null,null,null,null,null,null,null,{"$f":"IF(COUNTA(I508:O508)<7,\"\",VLOOKUP(ROUNDUP((LEFT(I508,1)*'Criterios de Riesgo'!$C$3+LEFT(J508,1)*'Criterios de Riesgo'!$C$4+LEFT(K508,1)*'Criterios de Riesgo'!$C$5+LEFT(L508,1)*'Criterios de Riesgo'!$C$6+LEFT(M508,1)*'Criterios de Riesgo'!$C$7+LEFT(N508,1)*'Criterios de Riesgo'!$C$8+LEFT(O508,1)*'Criterios de Riesgo'!$C$9),0),Calif_Impacto,2))","v":""},null,"","",{"$f":"IF(OR(Datos!A505=0,Datos!A505=\"\"),P508,IF(ISERROR(VLOOKUP(VLOOKUP(P508,VrImpacto,2,0)-ROUNDDOWN(VLOOKUP(P508,VrImpacto,2,0)*Datos!A505,0),Vr_Impacto,2,1)),\"\",VLOOKUP(VLOOKUP(P508,VrImpacto,2,0)-ROUNDDOWN(VLOOKUP(P508,VrImpacto,2,0)*Datos!A505,0),Vr_Impacto,2,1)))","v":""},{"$f":"IF(Datos!B505=0,Q508,IF(Datos!B505=\"\",Q508,IF(ISERROR(VLOOKUP(VLOOKUP(Q508,Vr_Probabilidad1,2,0)+1-ROUNDDOWN(VLOOKUP(Q508,Vr_Probabilidad1,2,0)*Datos!B505,0),Vr_Probabilidad,2,1)),\"\",VLOOKUP(VLOOKUP(Q508,Vr_Probabilidad1,2,0)-ROUNDDOWN(VLOOKUP(Q508,Vr_Probabilidad1,2,0)*Datos!B505,0),Vr_Probabilidad,2,1))))","v":0},{"$f":"Datos!C505","v":0},"","",""]
["R",null,null,null,null,null,"",null,null,null,null,null,null,null,null,{"$f":"IF(COUNTA(I509:O509)<7,\"\",VLOOKUP(ROUNDUP((LEFT(I509,1)*'Criterios de Riesgo'!$C$3+LEFT(J509,1)*'Criterios de Riesgo'!$C$4+LEFT(K509,1)*'Criterios de Riesgo'!$C$5+LEFT(L509,1)*'Criterios de Riesgo'!$C$6+LEFT(M509,1)*'Criterios de Riesgo'!$C$7+LEFT(N509,1)*'Criterios de Riesgo'!$C$8+LEFT(O509,1)*'Criterios de Riesgo'!$C$9),0),Calif_Impacto,2))","v":""},null,"","",{"$f":"IF(OR(Datos!A506=0,Datos!A506=\"\"),P509,IF(ISERROR(VLOOKUP(VLOOKUP(P509,VrImpacto,2,0)-ROUNDDOWN(VLOOKUP(P509,VrImpacto,2,0)*Datos!A506,0),Vr_Impacto,2,1)),\"\",VLOOKUP(VLOOKUP(P509,VrImpacto,2,0)-ROUNDDOWN(VLOOKUP(P509,VrImpacto,2,0)*Datos!A506,0),Vr_Impacto,2,1)))","v":""},{"$f":"IF(Datos!B506=0,Q509,IF(Datos!B506=\"\",Q509,IF(ISERROR(VLOOKUP(VLOOKUP(Q509,Vr_Probabilidad1,2,0)+1-ROUNDDOWN(VLOOKUP(Q509,Vr_Probabilidad1,2,0)*Datos!B506,0),Vr_Probabilidad,2,1)),\"\",VLOOKUP(VLOOKUP(Q509,Vr_Probabilidad1,2,0)-ROUNDDOWN(VLOOKUP(Q509,Vr_Probabilidad1,2,0)*Datos!B506,0),Vr_Probabilidad,2,1))))","v":0},{"$f":"Datos!C506","v":0},"","",""]
["R",null,null,null,null,null,"",null,null,null,null,null,null,null,null,{"$f":"IF(COUNTA(I510:O510)<7,\"\",VLOOKUP(ROUNDUP((LEFT(I510,1)*'Criterios de Riesgo'!$C$3+LEFT(J510,1)*'Criterios de Riesgo'!$C$4+LEFT(K510,1)*'Criterios de Riesgo'!$C$5+LEFT(L510,1)*'Criterios de Riesgo'!$C$6+LEFT(M510,1)*'Criterios de Riesgo'!$C$7+LEFT(N510,1)*'Criterios de Riesgo'!$C$8+LEFT(O510,1)*'Criterios de Riesgo'!$C$9),0),Calif_Impacto,2))","v":""},null,"","",{"$f":"IF(OR(Datos!A507=0,Datos!A507=\"\"),P510,IF(ISERROR(VLOOKUP(VLOOKUP(P510,VrImpacto,2,0)-ROUNDDOWN(VLOOKUP(P510,VrImpacto,2,0)*Datos!A507,0),Vr_Impacto,2,1)),\"\",VLOOKUP(VLOOKUP(P510,VrImpacto,2,0)-ROUNDDOWN(VLOOKUP(P510,VrImpacto,2,0)*Datos!A507,0),Vr_Impacto,2,1)))","v":""},{"$f":"IF(Datos!B507=0,Q510,IF(Datos!B507=\"\",Q510,IF(ISERROR(VLOOKUP(VLOOKUP(Q510,Vr_Probabilidad1,2,0)+1-ROUNDDOWN(VLOOKUP(Q510,Vr_Probabilidad1,2,0)*Datos!B507,0),Vr_Probabilidad,2,1)),\"\",VLOOKUP(VLOOKUP(Q510,Vr_Probabilidad1,2,0)-ROUNDDOWN(VLOOKUP(Q510,Vr_Probabilidad1,2,0)*Datos!B507,0),Vr_Probabilidad,2,1))))","v":0},{"$f":"Datos!C507","v":0},"","",""]
["R",null,null,null,null,null,"",null,null,null,null,null,null,null,null,{"$f":"IF(COUNTA(I511:O511)<7,\"\",VLOOKUP(ROUNDUP((LEFT(I511,1)*'Criterios de Riesgo'!$C$3+LEFT(J511,1)*'Criterios de Riesgo'!$C$4+LEFT(K511,1)*'Criterios de Riesgo'!$C$5+LEFT(L511,1)*'Criterios de Riesgo'!$C$6+LEFT(M511,1)*'Criterios de Riesgo'!$C$7+LEFT(N511,1)*'Criterios de Riesgo'!$C$8+LEFT(O511,1)*'Criterios de Riesgo'!$C$9),0),Calif_Impacto,2))","v":""},null,"","",{"$f":"IF(OR(Datos!A508=0,Datos!A508=\"\"),P511,IF(ISERROR(VLOOKUP(VLOOKUP(P511,VrImpacto,2,0)-ROUNDDOWN(VLOOKUP(P511,VrImpacto,2,0)*Datos!A508,0),Vr_Impacto,2,1)),\"\",VLOOKUP(VLOOKUP(P511,VrImpacto,2,0)-ROUNDDOWN(VLOOKUP(P511,VrImpacto,2,0)*Datos!A508,0),Vr_Impacto,2,1)))","v":""},{"$f":"IF(Datos!B508=0,Q511,IF(Datos!B508=\"\",Q511,IF(ISERROR(VLOOKUP(VLOOKUP(Q511,Vr_Probabilidad1,2,0)+1-ROUNDDOWN(VLOOKUP(Q511,Vr_Probabilidad1,2,0)*Datos!B508,0),Vr_Probabilidad,2,1)),\"\",VLOOKUP(VLOOKUP(Q511,Vr_Probabilidad1,2,0)-ROUNDDOWN(VLOOKUP(Q511,Vr_Probabilidad1,2,0)*Datos!B508,0),Vr_Probabilidad,2,1))))","v":0},{"$f":"Datos!C508","v":0},"","",""]
["R",null,null,null,null,null,"",null,null,null,null,null,null,null,null,{"$f":"IF(COUNTA(I512:O512)<7,\"\",VLOOKUP(ROUNDUP((LEFT(I512,1)*'Criterios de Riesgo'!$C$3+LEFT(J512,1)*'Criterios de Riesgo'!$C$4+LEFT(K512,1)*'Criterios de Riesgo'!$C$5+LEFT(L512,1)*'Criterios de Riesgo'!$C$6+LEFT(M512,1)*'Criterios de Riesgo'!$C$7+LEFT(N512,1)*'Criterios de Riesgo'!$C$8+LEFT(O512,1)*'Criterios de Riesgo'!$C$9),0),Calif_Impacto,2))","v":""},null,"","",{"$f":"IF(OR(Datos!A509=0,Datos!A509=\"\"),P512,IF(ISERROR(VLOOKUP(VLOOKUP(P512,VrImpacto,2,0)-ROUNDDOWN(VLOOKUP(P512,VrImpacto,2,0)*Datos!A509,0),Vr_Impacto,2,1)),\"\",VLOOKUP(VLOOKUP(P512,VrImpacto,2,0)-ROUNDDOWN(VLOOKUP(P512,VrImpacto,2,0)*Datos!A509,0),Vr_Impacto,2,1)))","v":""},{"$f":"IF(Datos!B509=0,Q512,IF(Datos!B509=\"\",Q512,IF(ISERROR(VLOOKUP(VLOOKUP(Q512,Vr_Probabilidad1,2,0)+1-ROUNDDOWN(VLOOKUP(Q512,Vr_Probabilidad1,2,0)*Datos!B509,0),Vr_Probabilidad,2,1)),\"\",VLOOKUP(VLOOKUP(Q512,Vr_Probabilidad1,2,0)-ROUNDDOWN(VLOOKUP(Q512,Vr_Probabilidad1,2,0)*Datos!B509,0),Vr_Probabilidad,2,1))))","v":0},{"$f":"Datos!C509","v":0},"","",""]
["R",null,null,null,null,null,"",null,null,null,null,null,null,null,null,{"$f":"IF(COUNTA(I513:O513)<7,\"\",VLOOKUP(ROUNDUP((LEFT(I513,1)*'Criterios de Riesgo'!$C$3+LEFT(J513,1)*'Criterios de Riesgo'!$C$4+LEFT(K513,1)*'Criterios de Riesgo'!$C$5+LEFT(L513,1)*'Criterios de Riesgo'!$C$6+LEFT(M513,1)*'Criterios de Riesgo'!$C$7+LEFT(N513,1)*'Criterios de Riesgo'!$C$8+LEFT(O513,1)*'Criterios de Riesgo'!$C$9),0),Calif_Impacto,2))","v":""},null,"","",{"$f":"IF(OR(Datos!A510=0,Datos!A510=\"\"),P513,IF(ISERROR(VLOOKUP(VLOOKUP(P513,VrImpacto,2,0)-ROUNDDOWN(VLOOKUP(P513,VrImpacto,2,0)*Datos!A510,0),Vr_Impacto,2,1)),\"\",VLOOKUP(VLOOKUP(P513,VrImpacto,2,0)-ROUNDDOWN(VLOOKUP(P513,VrImpacto,2,0)*Datos!A510,0),Vr_Impacto,2,1)))","v":""},{"$f":"IF(Datos!B510=0,Q513,IF(Datos!B510=\"\",Q513,IF(ISERROR(VLOOKUP(VLOOKUP(Q513,Vr_Probabilidad1,2,0)+1-ROUNDDOWN(VLOOKUP(Q513,Vr_Probabilidad1,2,0)*Datos!B510,0),Vr_Probabilidad,2,1)),\"\",VLOOKUP(VLOOKUP(Q513,Vr_Probabilidad1,2,0)-ROUNDDOWN(VLOOKUP(Q513,Vr_Probabilidad1,2,0)*Datos!B510,0),Vr_Probabilidad,2,1))))","v":0},{"$f":"Datos!C510","v":0},"","",""]
["R",null,null,null,null,null,"",null,null,null,null,null,null,null,null,{"$f":"IF(COUNTA(I514:O514)<7,\"\",VLOOKUP(ROUNDUP((LEFT(I514,1)*'Criterios de Riesgo'!$C$3+LEFT(J514,1)*'Criterios de Riesgo'!$C$4+LEFT(K514,1)*'Criterios de Riesgo'!$C$5+LEFT(L514,1)*'Criterios de Riesgo'!$C$6+LEFT(M514,1)*'Criterios de Riesgo'!$C$7+LEFT(N514,1)*'Criterios de Riesgo'!$C$8+LEFT(O514,1)*'Criterios de Riesgo'!$C$9),0),Calif_Impacto,2))","v":""},null,"","",{"$f":"IF(OR(Datos!A511=0,Datos!A511=\"\"),P514,IF(ISERROR(VLOOKUP(VLOOKUP(P514,VrImpacto,2,0)-ROUNDDOWN(VLOOKUP(P514,VrImpacto,2,0)*Datos!A511,0),Vr_Impacto,2,1)),\"\",VLOOKUP(VLOOKUP(P514,VrImpacto,2,0)-ROUNDDOWN(VLOOKUP(P514,VrImpacto,2,0)*Datos!A511,0),Vr_Impacto,2,1)))","v":""},{"$f":"IF(Datos!B511=0,Q514,IF(Datos!B511=\"\",Q514,IF(ISERROR(VLOOKUP(VLOOKUP(Q514,Vr_Probabilidad1,2,0)+1-ROUNDDOWN(VLOOKUP(Q514,Vr_Probabilidad1,2,0)*Datos!B511,0),Vr_Probabilidad,2,1)),\"\",VLOOKUP(VLOOKUP(Q514,Vr_Probabilidad1,2,0)-ROUNDDOWN(VLOOKUP(Q514,Vr_Probabilidad1,2,0)*Datos!B511,0),Vr_Probabilidad,2,1))))","v":0},{"$f":"Datos!C511","v":0},"","",""]

{"sheet":"Evaluación de Controles","index":9,"n_rows":694,"n_cols":241,"rows_kept":694,"cut":false,"hidden":false,"merged":[[234,6,236,6],[234,31,236,31],[234,32,236,32],[234,34,236,34],[244,4,245,4],[244,5,245,5],[244,6,245,6],[244,31,245,31],[244,32,245,32],[244,34,245,34],[294,32,295,32],[294,34,295,34],[254,29,263,29],[444,31,445,31],[444,32,445,32],[224,32,226,32],[364,32,366,32],[364,34,366,34],[374,31,375,31],[374,32,375,32],[374,34,375,34],[224,31,226,31],[104,31,105,31],[104,32,105,32],[104,34,105,34],[114,4,116,4],[114,5,116,5],[114,6,116,6],[144,4,145,4],[144,5,145,5],[144,6,145,6],[134,32,135,32],[134,34,135,34],[134,4,135,4],[134,5,135,5],[4,3,5,3],[4,2,5,2],[4,31,5,31],[4,32,5,32],[4,34,5,34],[444,4,448,4],[674,0,683,0],[674,1,683,1],[674,26,683,26],[674,27,683,27],[674,28,683,28],[674,29,683,29],[634,0,643,0],[634,1,643,1],[634,26,643,26],[634,27,643,27],[634,28,643,28],[634,29,643,29],[644,0,653,0],[644,1,653,1],[644,26,653,26],[644,27,653,27],[644,28,653,28],[644,29,653,29],[684,0,693,0],[684,1,693,1],[684,26,693,26],[684,27,693,27],[684,28,693,28],[684,29,693,29],[654,0,663,0],[654,1,663,1],[654,26,663,26],[654,27,663,27],[654,28,663,28],[654,29,663,29],[664,0,673,0],[664,1,673,1],[664,26,673,26],[664,27,673,27],[664,28,673,28],[664,29,673,29],[614,0,623,0],[614,1,623,1],[614,26,623,26],[614,27,623,27],[614,28,623,28],[614,29,623,29],[624,0,633,0],[624,1,633,1],[624,26,633,26],[624,27,633,27],[624,28,633,28],[624,29,633,29],[594,0,603,0],[594,1,603,1],[594,26,603,26],[594,27,603,27],[594,28,603,28],[594,29,603,29],[604,0,613,0],[604,1,613,1],[604,26,613,26],[604,27,613,27],[604,28,613,28],[604,29,613,29],[574,0,583,0],[574,1,583,1],[574,26,583,26],[574,27,583,27],[574,28,583,28],[574,29,583,29],[584,0,593,0],[584,1,593,1],[584,26,593,26],[584,27,593,27],[584,28,593,28],[584,29,593,29],[554,0,563,0],[554,1,563,1],[554,26,563,26],[554,27,563,27],[554,28,563,28],[554,29,563,29],[564,0,573,0],[564,1,573,1],[564,26,573,26],[564,27,573,27],[564,28,573,28],[564,29,573,29],[534,0,543,0],[534,1,543,1],[534,26,543,26],[534,27,543,27],[534,28,543,28],[534,29,543,29],[544,0,553,0],[544,1,553,1],[544,26,553,26],[544,27,553,27],[544,28,553,28],[544,29,553,29],[514,0,523,0],[514,1,523,1],[514,26,523,26],[514,27,523,27],[514,28,523,28],[514,29,523,29],[524,0,533,0],[524,1,533,1],[524,26,533,26],[524,27,533,27],[524,28,533,28],[524,29,533,29],[394,0,403,0],[394,1,403,1],[394,27,403,27],[394,26,403,26],[374,0,383,0],[374,1,383,1],[384,0,393,0],[384,1,393,1],[384,27,393,27],[384,26,393,26],[374,27,383,27],[374,26,383,26],[385,2,386,2],[385,3,386,3],[374,4,375,4],[374,5,375,5],[374,6,375,6],[354,0,363,0],[354,1,363,1],[354,27,363,27],[354,26,363,26],[374,28,383,28],[374,29,383,29],[364,0,373,0],[364,1,373,1],[364,27,373,27],[364,26,373,26],[364,4,366,4],[364,5,366,5],[364,6,366,6],[344,0,353,0],[344,1,353,1],[344,27,353,27],[344,26,353,26],[334,27,343,27],[334,26,343,26],[314,28,323,28],[314,29,323,29],[324,28,333,28],[324,29,333,29],[314,0,323,0],[314,1,323,1],[314,27,323,27],[314,26,323,26],[334,28,343,28],[334,29,343,29],[324,0,333,0],[324,1,333,1],[324,27,333,27],[324,26,333,26],[334,0,343,0],[334,1,343,1],[304,0,313,0],[304,1,313,1],[304,27,313,27],[304,26,313,26],[294,27,303,27],[294,26,303,26],[274,28,283,28],[274,0,283,0],[274,1,283,1],[274,27,283,27],[274,26,283,26],[294,28,303,28],[284,0,293,0],[284,1,293,1],[284,27,293,27],[284,26,293,26],[294,0,303,0],[294,1,303,1],[294,4,295,4],[294,5,295,5],[294,6,295,6],[284,28,293,28],[224,0,233,0],[224,1,233,1],[204,0,213,0],[204,1,213,1],[184,27,193,27],[184,26,193,26],[234,28,243,28],[234,0,243,0],[234,1,243,1],[234,27,243,27],[234,26,243,26],[184,28,193,28],[194,0,203,0],[194,1,203,1],[204,26,213,26],[194,27,203,27],[194,26,203,26],[214,0,223,0],[214,1,223,1],[224,4,226,4],[224,5,226,5],[224,6,226,6],[234,4,236,4],[234,5,236,5],[74,28,83,28],[74,29,83,29],[164,27,173,27],[164,26,173,26],[164,28,173,28],[164,29,173,29],[144,27,153,27],[144,26,153,26],[144,28,153,28],[144,29,153,29],[154,27,163,27],[154,26,163,26],[154,28,163,28],[154,29,163,29],[104,29,113,29],[54,29,63,29],[64,27,73,27],[64,26,73,26],[64,28,73,28],[64,29,73,29],[54,27,63,27],[54,26,63,26],[124,27,133,27],[124,26,133,26],[124,28,133,28],[124,29,133,29],[74,27,83,27],[74,26,83,26],[114,27,123,27],[114,26,123,26],[84,27,93,27],[84,26,93,26],[94,26,103,26],[94,27,103,27],[114,28,123,28],[114,29,123,29],[104,27,113,27],[104,26,113,26],[104,28,113,28],[114,1,123,1],[124,1,133,1],[94,1,103,1],[14,1,23,1],[24,1,33,1],[34,1,43,1],[44,1,53,1],[54,1,63,1],[64,1,73,1],[14,28,23,28],[14,29,23,29],[24,27,33,27],[24,26,33,26],[24,28,33,28],[24,29,33,29],[74,1,83,1],[84,1,93,1],[104,1,113,1],[14,27,23,27],[14,26,23,26],[34,28,43,28],[34,29,43,29],[44,27,53,27],[44,26,53,26],[44,28,53,28],[44,29,53,29],[34,27,43,27],[34,26,43,26],[84,28,93,28],[84,29,93,29],[94,28,103,28],[94,29,103,29],[54,28,63,28],[134,0,143,0],[144,0,153,0],[154,0,163,0],[164,0,173,0],[174,0,183,0],[184,0,193,0],[134,1,143,1],[144,1,153,1],[154,1,163,1],[164,1,173,1],[4,0,13,0],[4,1,13,1],[4,29,13,29],[4,28,13,28],[4,26,13,26],[4,27,13,27],[214,29,223,29],[214,28,223,28],[214,27,223,27],[214,26,223,26],[74,0,83,0],[84,0,93,0],[104,0,113,0],[114,0,123,0],[124,0,133,0],[94,0,103,0],[14,0,23,0],[24,0,33,0],[34,0,43,0],[44,0,53,0],[54,0,63,0],[64,0,73,0],[174,1,183,1],[184,1,193,1],[404,0,413,0],[404,1,413,1],[404,26,413,26],[404,27,413,27],[404,28,413,28],[404,29,413,29],[234,29,243,29],[244,28,253,28],[244,29,253,29],[244,0,253,0],[244,1,253,1],[244,27,253,27],[244,26,253,26],[264,28,273,28],[264,29,273,29],[254,0,263,0],[254,1,263,1],[264,0,273,0],[264,1,273,1],[264,27,273,27],[264,26,273,26],[254,27,263,27],[254,26,263,26],[254,28,263,28],[414,0,423,0],[414,1,423,1],[414,26,423,26],[414,27,423,27],[414,28,423,28],[414,29,423,29],[424,0,433,0],[424,1,433,1],[424,26,433,26],[424,27,433,27],[424,28,433,28],[424,29,433,29],[434,0,443,0],[434,1,443,1],[434,26,443,26],[434,27,443,27],[434,28,443,28],[434,29,443,29],[444,0,453,0],[444,1,453,1],[444,26,453,26],[444,27,453,27],[444,28,453,28],[444,29,453,29],[444,5,445,5],[444,6,445,6],[484,1,493,1],[484,26,493,26],[484,27,493,27],[484,28,493,28],[484,29,493,29],[454,0,463,0],[454,1,463,1],[454,26,463,26],[454,27,463,27],[454,28,463,28],[454,29,463,29],[464,0,473,0],[464,1,473,1],[464,26,473,26],[464,27,473,27],[464,28,473,28],[464,29,473,29],[474,5,476,5],[474,6,476,6],[474,4,476,4],[74,4,77,4],[74,31,77,31],[74,32,77,32],[74,34,77,34],[96,31,97,31],[504,0,513,0],[504,1,513,1],[504,26,513,26],[504,27,513,27],[504,28,513,28],[504,29,513,29],[494,0,503,0],[494,1,503,1],[474,0,483,0],[474,1,483,1],[474,26,483,26],[474,27,483,27],[474,28,483,28],[474,29,483,29],[494,26,503,26],[494,27,503,27],[494,28,503,28],[494,29,503,29],[484,0,493,0],[474,31,476,31],[474,32,476,32],[474,34,476,34],[224,29,233,29],[224,28,233,28],[224,27,233,27],[224,26,233,26],[134,27,143,27],[134,26,143,26],[134,28,143,28],[134,29,143,29],[184,29,193,29],[204,28,213,28],[204,29,213,29],[194,28,203,28],[194,29,203,29],[204,27,213,27],[174,27,183,27],[174,26,183,26],[174,28,183,28],[174,29,183,29],[384,29,393,29],[394,28,403,28],[394,29,403,29],[115,3,116,3],[144,31,145,31],[144,32,145,32],[144,34,145,34],[115,31,116,31],[115,32,116,32],[134,6,135,6],[134,31,135,31],[384,31,386,31],[384,32,386,32],[384,34,386,34],[254,4,255,4],[254,6,255,6],[254,5,255,5],[254,31,255,31],[254,32,255,32],[254,34,255,34],[264,4,265,4],[264,5,265,5],[264,6,265,6],[264,31,265,31],[264,32,265,32],[264,34,265,34],[294,31,295,31],[0,0,2,0],[0,1,2,1],[0,2,2,37],[494,4,495,4],[494,5,495,5],[494,6,495,6],[214,4,218,4],[214,5,218,5],[214,6,218,6],[214,31,218,31],[214,32,218,32],[214,34,218,34],[304,28,313,28],[304,29,313,29],[294,29,303,29],[274,29,283,29],[284,29,293,29],[344,28,353,28],[344,29,353,29],[354,28,363,28],[354,29,363,29],[364,28,373,28],[364,29,373,29],[384,28,393,28]]}
[null,null,"MATRIZ DE RIESGOS",null,null,null,null,null,null,null,null,null,null,null,null,null,null,null,null,null,null,null,null,null,null,null,null,null,null,null,null,null,null,null,null,null,null,null,"CODIGO: ","FOR-CMC-34"]
[null,null,null,null,null,null,null,null,null,null,null,null,null,null,null,null,null,null,null,null,null,null,null,null,null,null,null,null,null,null,null,null,null,null,null,null,null,null,"VERSION:",7]
[null,null,null,null,null,null,null,null,null,null,null,null,null,null,null,null,null,null,null,null,null,null,null,null,null,null,null,null,null,null,null,null,null,null,null,null,null,null,"FECHA: ","29 de junio de 2023"]
["No. Riesgo","Riesgo","Control","Descripción del Control","Situación Observada\nCausas / Fallas","Área","Responsable","Tipo de Control",{"$f":"'Criterios de Riesgo'!F8*100&\"% \n\" & 'Criterios de Riesgo'!E8","v":"5% \nNaturaleza"},{"$f":"'Criterios de Riesgo'!F9*100&\"% \n\" & 'Criterios de Riesgo'!E9","v":"10% \nComplejidad"},{"$f":"'Criterios de Riesgo'!F10*100&\"% \n\" & 'Criterios de Riesgo'!E10","v":"15% \nProcedimiento"},{"$f":"'Criterios de Riesgo'!F11*100&\"% \n\" & 'Criterios de Riesgo'!E11","v":"10% \nFrecuencia"},{"$f":"'Criterios de Riesgo'!F12*100&\"%\n\" &'Criterios de Riesgo'!E12","v":"25%\nAmbiente del control"},{"$f":"'Criterios de Riesgo'!F13*100&\"% \n\" & 'Criterios de Riesgo'!E13","v":"15% \nFallas del control"},{"$f":"'Criterios de Riesgo'!F14*100&\"% \n\" &'Criterios de Riesgo'!E14","v":"5% \nAutoevaluación"},{"$f":"'Criterios de Riesgo'!F15*100&\"% \n\" & 'Criterios de Riesgo'!E15","v":"15% \nResponsabilidad"},"Efectividad Individual","% Efectividad",{"$f":"'Criterios de Riesgo'!C13*100&\"% \n\" &'Criterios de Riesgo'!B13","v":"20% \nCausas Primarias y/o Secundarias"},{"$f":"'Criterios de Riesgo'!C14*100&\"% \n\" &'Criterios de Riesgo'!B14","v":"75% \n% Cubrimiento"},{"$f":"'Criterios de Riesgo'!C15*100&\"% \n\" &'Criterios de Riesgo'!B15","v":"5% \nBeneficio/Costo"},"¿Se usa el control? ó ¿El control apunta a las causas del riesgo?","Cobertura","% Cobertura","Mitigación por Control","¿Qué mitiga el control?","% Mitigación  Impacto \nConjunto de controles","% Mitigación Probabilidad \nConjunto de Controles","% Mitigación en Conjunto por Riesgo","Mitigación en Conjunto por Riesgo",null,"Observaciones y/o Sugerencias","Plan de Acción ","Fecha del ajuste (dd/mm/aaaa)","Responsable","Tratamiento","Gestión","Registro de Seguimiento Realizado","Responsable del Seguimiento","Fecha de Seguimiento (dd/mm/aaaa)",null,null,null,null,null,null,null,null,null,null,null,null,null,null,null,null,null,null,null,null,null,null,null,null,null,null,null,null,null,null,null,null,null,null,null,null,null,null,null,null,null,null,null,null,null,null,null,null,null,null,null,null,null,null,null,null,null,null,null,null,null,null,null,null,null,null,null,null,null,null,null,null,null,null,null,null,null,null,null,null,null,null,null,null,null,null,null,null,null,null,null,null,null,null,null,null,null,null,null,null,null,null,null,null,null,null,null,null,null,null,null,null,null,null,null,null,null,null,null,null,null,null,null,null,null,null,null,null,null,null,null,null,null,null,null,null,null,null,null,null,null,null,null,null,null,null,null,null,null,null,null,null,null,null,null,null,null,null,null,null,null,null,null,null,null,null,null,null,null,null,null,null,null,null,null,null,null,null,null,null,null,null,null,null,null,null,null,null,null,null,null,null,null,null,null,null,null,null,null,null,1]
["R",null,null,null,null,null,null,null,null,null,null,null,null,null,null,null,{"$f":"IF(COUNTA(I5:P5)<8,\"\",VLOOKUP(ROUND((LEFT(I5,1)*'Criterios de Riesgo'!$F$8+LEFT(J5,1)*'Criterios de Riesgo'!$F$9+LEFT(K5,1)*'Criterios de Riesgo'!$F$10+LEFT(L5,1)*'Criterios de Riesgo'!$F$11+LEFT(M5,1)*'Criterios de Riesgo'!$F$12+LEFT(N5,1)*'Criterios de Riesgo'!$F$13+LEFT(O5,1)*'Criterios de Riesgo'!$F$14+LEFT(P5,1)*'Criterios de Riesgo'!$F$15),2),Calif_Control,2,1))","v":""},{"$f":"IF(COUNTA(I5:P5)<8,\"\",(ROUND((LEFT(I5,1)*'Criterios de Riesgo'!$F$8+LEFT(J5,1)*'Criterios de Riesgo'!$F$9+LEFT(K5,1)*'Criterios de Riesgo'!$F$10+LEFT(L5,1)*'Criterios de Riesgo'!$F$11+LEFT(M5,1)*'Criterios de Riesgo'!$F$12+LEFT(N5,1)*'Criterios de Riesgo'!$F$13+LEFT(O5,1)*'Criterios de Riesgo'!$F$14+LEFT(P5,1)*'Criterios de Riesgo'!$F$15),2))/5)","v":""},null,null,null,null,{"$f":"IF(COUNTA(S5:V5)<4,\"\",IF(V5=\"No\",\"No se usa\",VLOOKUP(ROUND((LEFT(S5,1)*'Criterios de Riesgo'!$C$13+LEFT(T5,1)*'Criterios de Riesgo'!$C$14+LEFT(U5,1)*'Criterios de Riesgo'!$C$15),2),Calif_Covertura,2,1)))","v":""},{"$f":"IF(COUNTA(S5:V5)<4,\"\",IF(V5=\"No\",0,(ROUND((LEFT(S5,1)*'Criterios de Riesgo'!$C$13+LEFT(T5,1)*'Criterios de Riesgo'!$C$14+LEFT(U5,1)*'Criterios de Riesgo'!$C$15),2))/5))","v":""},{"$f":"IF(ISERROR(R5*X5),\"\",R5*X5)","v":""},null,{"$f":"IF(ISERROR((SUMIF(Z5:Z14,\"=impacto\",Y5:Y14)+SUMIF(Z5:Z14,\"=Ambos\",Y5:Y14))/(COUNTIF(Z5:Z14,\"Impacto\")+COUNTIF(Z5:Z14,\"Ambos\"))),\"\",(SUMIF(Z5:Z14,\"=impacto\",Y5:Y14)+SUMIF(Z5:Z14,\"=Ambos\",Y5:Y14))/(COUNTIF(Z5:Z14,\"Impacto\")+COUNTIF(Z5:Z14,\"Ambos\")))","v":""},{"$f":"IF(ISERROR((SUMIF(Z5:Z14,\"=Probabilidad\",Y5:Y14)+SUMIF(Z5:Z14,\"=Ambos\",Y5:Y14))/(COUNTIF(Z5:Z14,\"Probabilidad\")+COUNTIF(Z5:Z14,\"Ambos\"))),\"\",(SUMIF(Z5:Z14,\"=Probabilidad\",Y5:Y14)+SUMIF(Z5:Z14,\"=Ambos\",Y5:Y14))/(COUNTIF(Z5:Z14,\"Probabilidad\")+COUNTIF(Z5:Z14,\"Ambos\")))","v":""},{"$f":"IF(ISERROR(ROUND(IF(AB5=\"\",AA5,IF(AA5=\"\",AB5,IF(AND(AB5=\"\",AA5=\"\"),\"\",AB5*AA5)))*100,0)/100),\"\",ROUND(IF(AB5=\"\",AA5,IF(AA5=\"\",AB5,IF(AND(AB5=\"\",AA5=\"\"),\"\",AB5*AA5)))*100,0)/100)","v":""},{"$f":"IF(OR(AC5=\"\",AC5=0),\"\",VLOOKUP(AC5*5,Calif_Control,2,1))","v":""}]
[null,null,null,null,null,null,null,null,null,null,null,null,null,null,null,null,{"$f":"IF(COUNTA(I6:P6)<8,\"\",VLOOKUP(ROUND((LEFT(I6,1)*'Criterios de Riesgo'!$F$8+LEFT(J6,1)*'Criterios de Riesgo'!$F$9+LEFT(K6,1)*'Criterios de Riesgo'!$F$10+LEFT(L6,1)*'Criterios de Riesgo'!$F$11+LEFT(M6,1)*'Criterios de Riesgo'!$F$12+LEFT(N6,1)*'Criterios de Riesgo'!$F$13+LEFT(O6,1)*'Criterios de Riesgo'!$F$14+LEFT(P6,1)*'Criterios de Riesgo'!$F$15),2),Calif_Control,2,1))","v":""},{"$f":"IF(COUNTA(I6:P6)<8,\"\",(ROUND((LEFT(I6,1)*'Criterios de Riesgo'!$F$8+LEFT(J6,1)*'Criterios de Riesgo'!$F$9+LEFT(K6,1)*'Criterios de Riesgo'!$F$10+LEFT(L6,1)*'Criterios de Riesgo'!$F$11+LEFT(M6,1)*'Criterios de Riesgo'!$F$12+LEFT(N6,1)*'Criterios de Riesgo'!$F$13+LEFT(O6,1)*'Criterios de Riesgo'!$F$14+LEFT(P6,1)*'Criterios de Riesgo'!$F$15),2))/5)","v":""},null,null,null,null,{"$f":"IF(COUNTA(S6:V6)<4,\"\",IF(V6=\"No\",\"No se usa\",VLOOKUP(ROUND((LEFT(S6,1)*'Criterios de Riesgo'!$C$13+LEFT(T6,1)*'Criterios de Riesgo'!$C$14+LEFT(U6,1)*'Criterios de Riesgo'!$C$15),2),Calif_Covertura,2,1)))","v":""},{"$f":"IF(COUNTA(S6:V6)<4,\"\",IF(V6=\"No\",0,(ROUND((LEFT(S6,1)*'Criterios de Riesgo'!$C$13+LEFT(T6,1)*'Criterios de Riesgo'!$C$14+LEFT(U6,1)*'Criterios de Riesgo'!$C$15),2))/5))","v":""},{"$f":"IF(ISERROR(R6*X6),\"\",R6*X6)","v":""}]
[null,null,null,null,null,null,null,null,null,null,null,null,null,null,null,null,{"$f":"IF(COUNTA(I7:P7)<8,\"\",VLOOKUP(ROUND((LEFT(I7,1)*'Criterios de Riesgo'!$F$8+LEFT(J7,1)*'Criterios de Riesgo'!$F$9+LEFT(K7,1)*'Criterios de Riesgo'!$F$10+LEFT(L7,1)*'Criterios de Riesgo'!$F$11+LEFT(M7,1)*'Criterios de Riesgo'!$F$12+LEFT(N7,1)*'Criterios de Riesgo'!$F$13+LEFT(O7,1)*'Criterios de Riesgo'!$F$14+LEFT(P7,1)*'Criterios de Riesgo'!$F$15),2),Calif_Control,2,1))","v":""},{"$f":"IF(COUNTA(I7:P7)<8,\"\",(ROUND((LEFT(I7,1)*'Criterios de Riesgo'!$F$8+LEFT(J7,1)*'Criterios de Riesgo'!$F$9+LEFT(K7,1)*'Criterios de Riesgo'!$F$10+LEFT(L7,1)*'Criterios de Riesgo'!$F$11+LEFT(M7,1)*'Criterios de Riesgo'!$F$12+LEFT(N7,1)*'Criterios de Riesgo'!$F$13+LEFT(O7,1)*'Criterios de Riesgo'!$F$14+LEFT(P7,1)*'Criterios de Riesgo'!$F$15),2))/5)","v":""},null,null,null,null,{"$f":"IF(COUNTA(S7:V7)<4,\"\",IF(V7=\"No\",\"No se usa\",VLOOKUP(ROUND((LEFT(S7,1)*'Criterios de Riesgo'!$C$13+LEFT(T7,1)*'Criterios de Riesgo'!$C$14+LEFT(U7,1)*'Criterios de Riesgo'!$C$15),2),Calif_Covertura,2,1)))","v":""},{"$f":"IF(COUNTA(S7:V7)<4,\"\",IF(V7=\"No\",0,(ROUND((LEFT(S7,1)*'Criterios de Riesgo'!$C$13+LEFT(T7,1)*'Criterios de Riesgo'!$C$14+LEFT(U7,1)*'Criterios de Riesgo'!$C$15),2))/5))","v":""},{"$f":"IF(ISERROR(R7*X7),\"\",R7*X7)","v":""}]
[null,null,null,null,null,null,null,null,null,null,null,null,null,null,null,null,{"$f":"IF(COUNTA(I8:P8)<8,\"\",VLOOKUP(ROUND((LEFT(I8,1)*'Criterios de Riesgo'!$F$8+LEFT(J8,1)*'Criterios de Riesgo'!$F$9+LEFT(K8,1)*'Criterios de Riesgo'!$F$10+LEFT(L8,1)*'Criterios de Riesgo'!$F$11+LEFT(M8,1)*'Criterios de Riesgo'!$F$12+LEFT(N8,1)*'Criterios de Riesgo'!$F$13+LEFT(O8,1)*'Criterios de Riesgo'!$F$14+LEFT(P8,1)*'Criterios de Riesgo'!$F$15),2),Calif_Control,2,1))","v":""},{"$f":"IF(COUNTA(I8:P8)<8,\"\",(ROUND((LEFT(I8,1)*'Criterios de Riesgo'!$F$8+LEFT(J8,1)*'Criterios de Riesgo'!$F$9+LEFT(K8,1)*'Criterios de Riesgo'!$F$10+LEFT(L8,1)*'Criterios de Riesgo'!$F$11+LEFT(M8,1)*'Criterios de Riesgo'!$F$12+LEFT(N8,1)*'Criterios de Riesgo'!$F$13+LEFT(O8,1)*'Criterios de Riesgo'!$F$14+LEFT(P8,1)*'Criterios de Riesgo'!$F$15),2))/5)","v":""},null,null,null,null,{"$f":"IF(COUNTA(S8:V8)<4,\"\",IF(V8=\"No\",\"No se usa\",VLOOKUP(ROUND((LEFT(S8,1)*'Criterios de Riesgo'!$C$13+LEFT(T8,1)*'Criterios de Riesgo'!$C$14+LEFT(U8,1)*'Criterios de Riesgo'!$C$15),2),Calif_Covertura,2,1)))","v":""},{"$f":"IF(COUNTA(S8:V8)<4,\"\",IF(V8=\"No\",0,(ROUND((LEFT(S8,1)*'Criterios de Riesgo'!$C$13+LEFT(T8,1)*'Criterios de Riesgo'!$C$14+LEFT(U8,1)*'Criterios de Riesgo'!$C$15),2))/5))","v":""},{"$f":"IF(ISERROR(R8*X8),\"\",R8*X8)","v":""}]
[null,null,null,null,null,null,null,null,null,null,null,null,null,null,null,null,{"$f":"IF(COUNTA(I9:P9)<8,\"\",VLOOKUP(ROUND((LEFT(I9,1)*'Criterios de Riesgo'!$F$8+LEFT(J9,1)*'Criterios de Riesgo'!$F$9+LEFT(K9,1)*'Criterios de Riesgo'!$F$10+LEFT(L9,1)*'Criterios de Riesgo'!$F$11+LEFT(M9,1)*'Criterios de Riesgo'!$F$12+LEFT(N9,1)*'Criterios de Riesgo'!$F$13+LEFT(O9,1)*'Criterios de Riesgo'!$F$14+LEFT(P9,1)*'Criterios de Riesgo'!$F$15),2),Calif_Control,2,1))","v":""},{"$f":"IF(COUNTA(I9:P9)<8,\"\",(ROUND((LEFT(I9,1)*'Criterios de Riesgo'!$F$8+LEFT(J9,1)*'Criterios de Riesgo'!$F$9+LEFT(K9,1)*'Criterios de Riesgo'!$F$10+LEFT(L9,1)*'Criterios de Riesgo'!$F$11+LEFT(M9,1)*'Criterios de Riesgo'!$F$12+LEFT(N9,1)*'Criterios de Riesgo'!$F$13+LEFT(O9,1)*'Criterios de Riesgo'!$F$14+LEFT(P9,1)*'Criterios de Riesgo'!$F$15),2))/5)","v":""},null,null,null,null,{"$f":"IF(COUNTA(S9:V9)<4,\"\",IF(V9=\"No\",\"No se usa\",VLOOKUP(ROUND((LEFT(S9,1)*'Criterios de Riesgo'!$C$13+LEFT(T9,1)*'Criterios de Riesgo'!$C$14+LEFT(U9,1)*'Criterios de Riesgo'!$C$15),2),Calif_Covertura,2,1)))","v":""},{"$f":"IF(COUNTA(S9:V9)<4,\"\",IF(V9=\"No\",0,(ROUND((LEFT(S9,1)*'Criterios de Riesgo'!$C$13+LEFT(T9,1)*'Criterios de Riesgo'!$C$14+LEFT(U9,1)*'Criterios de Riesgo'!$C$15),2))/5))","v":""},""]
[null,null,null,null,null,null,null,null,null,null,null,null,null,null,null,null,{"$f":"IF(COUNTA(I10:P10)<8,\"\",VLOOKUP(ROUND((LEFT(I10,1)*'Criterios de Riesgo'!$F$8+LEFT(J10,1)*'Criterios de Riesgo'!$F$9+LEFT(K10,1)*'Criterios de Riesgo'!$F$10+LEFT(L10,1)*'Criterios de Riesgo'!$F$11+LEFT(M10,1)*'Criterios de Riesgo'!$F$12+LEFT(N10,1)*'Criterios de Riesgo'!$F$13+LEFT(O10,1)*'Criterios de Riesgo'!$F$14+LEFT(P10,1)*'Criterios de Riesgo'!$F$15),2),Calif_Control,2,1))","v":""},{"$f":"IF(COUNTA(I10:P10)<8,\"\",(ROUND((LEFT(I10,1)*'Criterios de Riesgo'!$F$8+LEFT(J10,1)*'Criterios de Riesgo'!$F$9+LEFT(K10,1)*'Criterios de Riesgo'!$F$10+LEFT(L10,1)*'Criterios de Riesgo'!$F$11+LEFT(M10,1)*'Criterios de Riesgo'!$F$12+LEFT(N10,1)*'Criterios de Riesgo'!$F$13+LEFT(O10,1)*'Criterios de Riesgo'!$F$14+LEFT(P10,1)*'Criterios de Riesgo'!$F$15),2))/5)","v":""},null,null,null,null,{"$f":"IF(COUNTA(S10:V10)<4,\"\",IF(V10=\"No\",\"No se usa\",VLOOKUP(ROUND((LEFT(S10,1)*'Criterios de Riesgo'!$C$13+LEFT(T10,1)*'Criterios de Riesgo'!$C$14+LEFT(U10,1)*'Criterios de Riesgo'!$C$15),2),Calif_Covertura,2,1)))","v":""},{"$f":"IF(COUNTA(S10:V10)<4,\"\",IF(V10=\"No\",0,(ROUND((LEFT(S10,1)*'Criterios de Riesgo'!$C$13+LEFT(T10,1)*'Criterios de Riesgo'!$C$14+LEFT(U10,1)*'Criterios de Riesgo'!$C$15),2))/5))","v":""},""]
[null,null,null,null,null,null,null,null,null,null,null,null,null,null,null,null,{"$f":"IF(COUNTA(I11:P11)<8,\"\",VLOOKUP(ROUND((LEFT(I11,1)*'Criterios de Riesgo'!$F$8+LEFT(J11,1)*'Criterios de Riesgo'!$F$9+LEFT(K11,1)*'Criterios de Riesgo'!$F$10+LEFT(L11,1)*'Criterios de Riesgo'!$F$11+LEFT(M11,1)*'Criterios de Riesgo'!$F$12+LEFT(N11,1)*'Criterios de Riesgo'!$F$13+LEFT(O11,1)*'Criterios de Riesgo'!$F$14+LEFT(P11,1)*'Criterios de Riesgo'!$F$15),2),Calif_Control,2,1))","v":""},{"$f":"IF(COUNTA(I11:P11)<8,\"\",(ROUND((LEFT(I11,1)*'Criterios de Riesgo'!$F$8+LEFT(J11,1)*'Criterios de Riesgo'!$F$9+LEFT(K11,1)*'Criterios de Riesgo'!$F$10+LEFT(L11,1)*'Criterios de Riesgo'!$F$11+LEFT(M11,1)*'Criterios de Riesgo'!$F$12+LEFT(N11,1)*'Criterios de Riesgo'!$F$13+LEFT(O11,1)*'Criterios de Riesgo'!$F$14+LEFT(P11,1)*'Criterios de Riesgo'!$F$15),2))/5)","v":""},null,null,null,null,{"$f":"IF(COUNTA(S11:V11)<4,\"\",IF(V11=\"No\",\"No se usa\",VLOOKUP(ROUND((LEFT(S11,1)*'Criterios de Riesgo'!$C$13+LEFT(T11,1)*'Criterios de Riesgo'!$C$14+LEFT(U11,1)*'Criterios de Riesgo'!$C$15),2),Calif_Covertura,2,1)))","v":""},{"$f":"IF(COUNTA(S11:V11)<4,\"\",IF(V11=\"No\",0,(ROUND((LEFT(S11,1)*'Criterios de Riesgo'!$C$13+LEFT(T11,1)*'Criterios de Riesgo'!$C$14+LEFT(U11,1)*'Criterios de Riesgo'!$C$15),2))/5))","v":""},""]
[null,null,null,null,null,null,null,null,null,null,null,null,null,null,null,null,{"$f":"IF(COUNTA(I12:P12)<8,\"\",VLOOKUP(ROUND((LEFT(I12,1)*'Criterios de Riesgo'!$F$8+LEFT(J12,1)*'Criterios de Riesgo'!$F$9+LEFT(K12,1)*'Criterios de Riesgo'!$F$10+LEFT(L12,1)*'Criterios de Riesgo'!$F$11+LEFT(M12,1)*'Criterios de Riesgo'!$F$12+LEFT(N12,1)*'Criterios de Riesgo'!$F$13+LEFT(O12,1)*'Criterios de Riesgo'!$F$14+LEFT(P12,1)*'Criterios de Riesgo'!$F$15),2),Calif_Control,2,1))","v":""},{"$f":"IF(COUNTA(I12:P12)<8,\"\",(ROUND((LEFT(I12,1)*'Criterios de Riesgo'!$F$8+LEFT(J12,1)*'Criterios de Riesgo'!$F$9+LEFT(K12,1)*'Criterios de Riesgo'!$F$10+LEFT(L12,1)*'Criterios de Riesgo'!$F$11+LEFT(M12,1)*'Criterios de Riesgo'!$F$12+LEFT(N12,1)*'Criterios de Riesgo'!$F$13+LEFT(O12,1)*'Criterios de Riesgo'!$F$14+LEFT(P12,1)*'Criterios de Riesgo'!$F$15),2))/5)","v":""},null,null,null,null,{"$f":"IF(COUNTA(S12:V12)<4,\"\",IF(V12=\"No\",\"No se usa\",VLOOKUP(ROUND((LEFT(S12,1)*'Criterios de Riesgo'!$C$13+LEFT(T12,1)*'Criterios de Riesgo'!$C$14+LEFT(U12,1)*'Criterios de Riesgo'!$C$15),2),Calif_Covertura,2,1)))","v":""},{"$f":"IF(COUNTA(S12:V12)<4,\"\",IF(V12=\"No\",0,(ROUND((LEFT(S12,1)*'Criterios de Riesgo'!$C$13+LEFT(T12,1)*'Criterios de Riesgo'!$C$14+LEFT(U12,1)*'Criterios de Riesgo'!$C$15),2))/5))","v":""},""]
[null,null,null,null,null,null,null,null,null,null,null,null,null,null,null,null,{"$f":"IF(COUNTA(I13:P13)<8,\"\",VLOOKUP(ROUND((LEFT(I13,1)*'Criterios de Riesgo'!$F$8+LEFT(J13,1)*'Criterios de Riesgo'!$F$9+LEFT(K13,1)*'Criterios de Riesgo'!$F$10+LEFT(L13,1)*'Criterios de Riesgo'!$F$11+LEFT(M13,1)*'Criterios de Riesgo'!$F$12+LEFT(N13,1)*'Criterios de Riesgo'!$F$13+LEFT(O13,1)*'Criterios de Riesgo'!$F$14+LEFT(P13,1)*'Criterios de Riesgo'!$F$15),2),Calif_Control,2,1))","v":""},{"$f":"IF(COUNTA(I13:P13)<8,\"\",(ROUND((LEFT(I13,1)*'Criterios de Riesgo'!$F$8+LEFT(J13,1)*'Criterios de Riesgo'!$F$9+LEFT(K13,1)*'Criterios de Riesgo'!$F$10+LEFT(L13,1)*'Criterios de Riesgo'!$F$11+LEFT(M13,1)*'Criterios de Riesgo'!$F$12+LEFT(N13,1)*'Criterios de Riesgo'!$F$13+LEFT(O13,1)*'Criterios de Riesgo'!$F$14+LEFT(P13,1)*'Criterios de Riesgo'!$F$15),2))/5)","v":""},null,null,null,null,{"$f":"IF(COUNTA(S13:V13)<4,\"\",IF(V13=\"No\",\"No se usa\",VLOOKUP(ROUND((LEFT(S13,1)*'Criterios de Riesgo'!$C$13+LEFT(T13,1)*'Criterios de Riesgo'!$C$14+LEFT(U13,1)*'Criterios de Riesgo'!$C$15),2),Calif_Covertura,2,1)))","v":""},{"$f":"IF(COUNTA(S13:V13)<4,\"\",IF(V13=\"No\",0,(ROUND((LEFT(S13,1)*'Criterios de Riesgo'!$C$13+LEFT(T13,1)*'Criterios de Riesgo'!$C$14+LEFT(U13,1)*'Criterios de Riesgo'!$C$15),2))/5))","v":""},""]
[null,null,null,null,null,null,null,null,null,null,null,null,null,null,null,null,{"$f":"IF(COUNTA(I14:P14)<8,\"\",VLOOKUP(ROUND((LEFT(I14,1)*'Criterios de Riesgo'!$F$8+LEFT(J14,1)*'Criterios de Riesgo'!$F$9+LEFT(K14,1)*'Criterios de Riesgo'!$F$10+LEFT(L14,1)*'Criterios de Riesgo'!$F$11+LEFT(M14,1)*'Criterios de Riesgo'!$F$12+LEFT(N14,1)*'Criterios de Riesgo'!$F$13+LEFT(O14,1)*'Criterios de Riesgo'!$F$14+LEFT(P14,1)*'Criterios de Riesgo'!$F$15),2),Calif_Control,2,1))","v":""},{"$f":"IF(COUNTA(I14:P14)<8,\"\",(ROUND((LEFT(I14,1)*'Criterios de Riesgo'!$F$8+LEFT(J14,1)*'Criterios de Riesgo'!$F$9+LEFT(K14,1)*'Criterios de Riesgo'!$F$10+LEFT(L14,1)*'Criterios de Riesgo'!$F$11+LEFT(M14,1)*'Criterios de Riesgo'!$F$12+LEFT(N14,1)*'Criterios de Riesgo'!$F$13+LEFT(O14,1)*'Criterios de Riesgo'!$F$14+LEFT(P14,1)*'Criterios de Riesgo'!$F$15),2))/5)","v":""},null,null,null,null,{"$f":"IF(COUNTA(S14:V14)<4,\"\",IF(V14=\"No\",\"No se usa\",VLOOKUP(ROUND((LEFT(S14,1)*'Criterios de Riesgo'!$C$13+LEFT(T14,1)*'Criterios de Riesgo'!$C$14+LEFT(U14,1)*'Criterios de Riesgo'!$C$15),2),Calif_Covertura,2,1)))","v":""},{"$f":"IF(COUNTA(S14:V14)<4,\"\",IF(V14=\"No\",0,(ROUND((LEFT(S14,1)*'Criterios de Riesgo'!$C$13+LEFT(T14,1)*'Criterios de Riesgo'!$C$14+LEFT(U14,1)*'Criterios de Riesgo'!$C$15),2))/5))","v":""},""]
["R",null,null,null,null,null,null,null,null,null,null,null,null,null,null,null,{"$f":"IF(COUNTA(I15:P15)<8,\"\",VLOOKUP(ROUND((LEFT(I15,1)*'Criterios de Riesgo'!$F$8+LEFT(J15,1)*'Criterios de Riesgo'!$F$9+LEFT(K15,1)*'Criterios de Riesgo'!$F$10+LEFT(L15,1)*'Criterios de Riesgo'!$F$11+LEFT(M15,1)*'Criterios de Riesgo'!$F$12+LEFT(N15,1)*'Criterios de Riesgo'!$F$13+LEFT(O15,1)*'Criterios de Riesgo'!$F$14+LEFT(P15,1)*'Criterios de Riesgo'!$F$15),2),Calif_Control,2,1))","v":""},{"$f":"IF(COUNTA(I15:P15)<8,\"\",(ROUND((LEFT(I15,1)*'Criterios de Riesgo'!$F$8+LEFT(J15,1)*'Criterios de Riesgo'!$F$9+LEFT(K15,1)*'Criterios de Riesgo'!$F$10+LEFT(L15,1)*'Criterios de Riesgo'!$F$11+LEFT(M15,1)*'Criterios de Riesgo'!$F$12+LEFT(N15,1)*'Criterios de Riesgo'!$F$13+LEFT(O15,1)*'Criterios de Riesgo'!$F$14+LEFT(P15,1)*'Criterios de Riesgo'!$F$15),2))/5)","v":""},null,null,null,null,{"$f":"IF(COUNTA(S15:V15)<4,\"\",IF(V15=\"No\",\"No se usa\",VLOOKUP(ROUND((LEFT(S15,1)*'Criterios de Riesgo'!$C$13+LEFT(T15,1)*'Criterios de Riesgo'!$C$14+LEFT(U15,1)*'Criterios de Riesgo'!$C$15),2),Calif_Covertura,2,1)))","v":""},{"$f":"IF(COUNTA(S15:V15)<4,\"\",IF(V15=\"No\",0,(ROUND((LEFT(S15,1)*'Criterios de Riesgo'!$C$13+LEFT(T15,1)*'Criterios de Riesgo'!$C$14+LEFT(U15,1)*'Criterios de Riesgo'!$C$15),2))/5))","v":""},"",null,{"$f":"IF(ISERROR((SUMIF(Z15:Z24,\"=impacto\",Y15:Y24)+SUMIF(Z15:Z24,\"=Ambos\",Y15:Y24))/(COUNTIF(Z15:Z24,\"Impacto\")+COUNTIF(Z15:Z24,\"Ambos\"))),\"\",(SUMIF(Z15:Z24,\"=impacto\",Y15:Y24)+SUMIF(Z15:Z24,\"=Ambos\",Y15:Y24))/(COUNTIF(Z15:Z24,\"Impacto\")+COUNTIF(Z15:Z24,\"Ambos\")))","v":""},{"$f":"IF(ISERROR((SUMIF(Z15:Z24,\"=Probabilidad\",Y15:Y24)+SUMIF(Z15:Z24,\"=Ambos\",Y15:Y24))/(COUNTIF(Z15:Z24,\"Probabilidad\")+COUNTIF(Z15:Z24,\"Ambos\"))),\"\",(SUMIF(Z15:Z24,\"=Probabilidad\",Y15:Y24)+SUMIF(Z15:Z24,\"=Ambos\",Y15:Y24))/(COUNTIF(Z15:Z24,\"Probabilidad\")+COUNTIF(Z15:Z24,\"Ambos\")))","v":""},{"$f":"IF(ISERROR(ROUND(IF(AB15=\"\",AA15,IF(AA15=\"\",AB15,IF(AND(AB15=\"\",AA15=\"\"),\"\",AB15*AA15)))*100,0)/100),\"\",ROUND(IF(AB15=\"\",AA15,IF(AA15=\"\",AB15,IF(AND(AB15=\"\",AA15=\"\"),\"\",AB15*AA15)))*100,0)/100)","v":""},{"$f":"IF(AC15=\"\",\"\",VLOOKUP(AC15*5,Calif_Control,2,1))","v":""}]
[null,null,null,null,null,null,null,null,null,null,null,null,null,null,null,null,{"$f":"IF(COUNTA(I16:P16)<8,\"\",VLOOKUP(ROUND((LEFT(I16,1)*'Criterios de Riesgo'!$F$8+LEFT(J16,1)*'Criterios de Riesgo'!$F$9+LEFT(K16,1)*'Criterios de Riesgo'!$F$10+LEFT(L16,1)*'Criterios de Riesgo'!$F$11+LEFT(M16,1)*'Criterios de Riesgo'!$F$12+LEFT(N16,1)*'Criterios de Riesgo'!$F$13+LEFT(O16,1)*'Criterios de Riesgo'!$F$14+LEFT(P16,1)*'Criterios de Riesgo'!$F$15),2),Calif_Control,2,1))","v":""},{"$f":"IF(COUNTA(I16:P16)<8,\"\",(ROUND((LEFT(I16,1)*'Criterios de Riesgo'!$F$8+LEFT(J16,1)*'Criterios de Riesgo'!$F$9+LEFT(K16,1)*'Criterios de Riesgo'!$F$10+LEFT(L16,1)*'Criterios de Riesgo'!$F$11+LEFT(M16,1)*'Criterios de Riesgo'!$F$12+LEFT(N16,1)*'Criterios de Riesgo'!$F$13+LEFT(O16,1)*'Criterios de Riesgo'!$F$14+LEFT(P16,1)*'Criterios de Riesgo'!$F$15),2))/5)","v":""},null,null,null,null,{"$f":"IF(COUNTA(S16:V16)<4,\"\",IF(V16=\"No\",\"No se usa\",VLOOKUP(ROUND((LEFT(S16,1)*'Criterios de Riesgo'!$C$13+LEFT(T16,1)*'Criterios de Riesgo'!$C$14+LEFT(U16,1)*'Criterios de Riesgo'!$C$15),2),Calif_Covertura,2,1)))","v":""},{"$f":"IF(COUNTA(S16:V16)<4,\"\",IF(V16=\"No\",0,(ROUND((LEFT(S16,1)*'Criterios de Riesgo'!$C$13+LEFT(T16,1)*'Criterios de Riesgo'!$C$14+LEFT(U16,1)*'Criterios de Riesgo'!$C$15),2))/5))","v":""},""]
[null,null,null,null,null,null,null,null,null,null,null,null,null,null,null,null,{"$f":"IF(COUNTA(I17:P17)<8,\"\",VLOOKUP(ROUND((LEFT(I17,1)*'Criterios de Riesgo'!$F$8+LEFT(J17,1)*'Criterios de Riesgo'!$F$9+LEFT(K17,1)*'Criterios de Riesgo'!$F$10+LEFT(L17,1)*'Criterios de Riesgo'!$F$11+LEFT(M17,1)*'Criterios de Riesgo'!$F$12+LEFT(N17,1)*'Criterios de Riesgo'!$F$13+LEFT(O17,1)*'Criterios de Riesgo'!$F$14+LEFT(P17,1)*'Criterios de Riesgo'!$F$15),2),Calif_Control,2,1))","v":""},{"$f":"IF(COUNTA(I17:P17)<8,\"\",(ROUND((LEFT(I17,1)*'Criterios de Riesgo'!$F$8+LEFT(J17,1)*'Criterios de Riesgo'!$F$9+LEFT(K17,1)*'Criterios de Riesgo'!$F$10+LEFT(L17,1)*'Criterios de Riesgo'!$F$11+LEFT(M17,1)*'Criterios de Riesgo'!$F$12+LEFT(N17,1)*'Criterios de Riesgo'!$F$13+LEFT(O17,1)*'Criterios de Riesgo'!$F$14+LEFT(P17,1)*'Criterios de Riesgo'!$F$15),2))/5)","v":""},null,null,null,null,{"$f":"IF(COUNTA(S17:V17)<4,\"\",IF(V17=\"No\",\"No se usa\",VLOOKUP(ROUND((LEFT(S17,1)*'Criterios de Riesgo'!$C$13+LEFT(T17,1)*'Criterios de Riesgo'!$C$14+LEFT(U17,1)*'Criterios de Riesgo'!$C$15),2),Calif_Covertura,2,1)))","v":""},{"$f":"IF(COUNTA(S17:V17)<4,\"\",IF(V17=\"No\",0,(ROUND((LEFT(S17,1)*'Criterios de Riesgo'!$C$13+LEFT(T17,1)*'Criterios de Riesgo'!$C$14+LEFT(U17,1)*'Criterios de Riesgo'!$C$15),2))/5))","v":""},""]
[null,null,null,null,null,null,null,null,null,null,null,null,null,null,null,null,{"$f":"IF(COUNTA(I18:P18)<8,\"\",VLOOKUP(ROUND((LEFT(I18,1)*'Criterios de Riesgo'!$F$8+LEFT(J18,1)*'Criterios de Riesgo'!$F$9+LEFT(K18,1)*'Criterios de Riesgo'!$F$10+LEFT(L18,1)*'Criterios de Riesgo'!$F$11+LEFT(M18,1)*'Criterios de Riesgo'!$F$12+LEFT(N18,1)*'Criterios de Riesgo'!$F$13+LEFT(O18,1)*'Criterios de Riesgo'!$F$14+LEFT(P18,1)*'Criterios de Riesgo'!$F$15),2),Calif_Control,2,1))","v":""},{"$f":"IF(COUNTA(I18:P18)<8,\"\",(ROUND((LEFT(I18,1)*'Criterios de Riesgo'!$F$8+LEFT(J18,1)*'Criterios de Riesgo'!$F$9+LEFT(K18,1)*'Criterios de Riesgo'!$F$10+LEFT(L18,1)*'Criterios de Riesgo'!$F$11+LEFT(M18,1)*'Criterios de Riesgo'!$F$12+LEFT(N18,1)*'Criterios de Riesgo'!$F$13+LEFT(O18,1)*'Criterios de Riesgo'!$F$14+LEFT(P18,1)*'Criterios de Riesgo'!$F$15),2))/5)","v":""},null,null,null,null,{"$f":"IF(COUNTA(S18:V18)<4,\"\",IF(V18=\"No\",\"No se usa\",VLOOKUP(ROUND((LEFT(S18,1)*'Criterios de Riesgo'!$C$13+LEFT(T18,1)*'Criterios de Riesgo'!$C$14+LEFT(U18,1)*'Criterios de Riesgo'!$C$15),2),Calif_Covertura,2,1)))","v":""},{"$f":"IF(COUNTA(S18:V18)<4,\"\",IF(V18=\"No\",0,(ROUND((LEFT(S18,1)*'Criterios de Riesgo'!$C$13+LEFT(T18,1)*'Criterios de Riesgo'!$C$14+LEFT(U18,1)*'Criterios de Riesgo'!$C$15),2))/5))","v":""},""]
[null,null,null,null,null,null,null,null,null,null,null,null,null,null,null,null,{"$f":"IF(COUNTA(I19:P19)<8,\"\",VLOOKUP(ROUND((LEFT(I19,1)*'Criterios de Riesgo'!$F$8+LEFT(J19,1)*'Criterios de Riesgo'!$F$9+LEFT(K19,1)*'Criterios de Riesgo'!$F$10+LEFT(L19,1)*'Criterios de Riesgo'!$F$11+LEFT(M19,1)*'Criterios de Riesgo'!$F$12+LEFT(N19,1)*'Criterios de Riesgo'!$F$13+LEFT(O19,1)*'Criterios de Riesgo'!$F$14+LEFT(P19,1)*'Criterios de Riesgo'!$F$15),2),Calif_Control,2,1))","v":""},{"$f":"IF(COUNTA(I19:P19)<8,\"\",(ROUND((LEFT(I19,1)*'Criterios de Riesgo'!$F$8+LEFT(J19,1)*'Criterios de Riesgo'!$F$9+LEFT(K19,1)*'Criterios de Riesgo'!$F$10+LEFT(L19,1)*'Criterios de Riesgo'!$F$11+LEFT(M19,1)*'Criterios de Riesgo'!$F$12+LEFT(N19,1)*'Criterios de Riesgo'!$F$13+LEFT(O19,1)*'Criterios de Riesgo'!$F$14+LEFT(P19,1)*'Criterios de Riesgo'!$F$15),2))/5)","v":""},null,null,null,null,{"$f":"IF(COUNTA(S19:V19)<4,\"\",IF(V19=\"No\",\"No se usa\",VLOOKUP(ROUND((LEFT(S19,1)*'Criterios de Riesgo'!$C$13+LEFT(T19,1)*'Criterios de Riesgo'!$C$14+LEFT(U19,1)*'Criterios de Riesgo'!$C$15),2),Calif_Covertura,2,1)))","v":""},{"$f":"IF(COUNTA(S19:V19)<4,\"\",IF(V19=\"No\",0,(ROUND((LEFT(S19,1)*'Criterios de Riesgo'!$C$13+LEFT(T19,1)*'Criterios de Riesgo'!$C$14+LEFT(U19,1)*'Criterios de Riesgo'!$C$15),2))/5))","v":""},""]
[null,null,null,null,null,null,null,null,null,null,null,null,null,null,null,null,{"$f":"IF(COUNTA(I20:P20)<8,\"\",VLOOKUP(ROUND((LEFT(I20,1)*'Criterios de Riesgo'!$F$8+LEFT(J20,1)*'Criterios de Riesgo'!$F$9+LEFT(K20,1)*'Criterios de Riesgo'!$F$10+LEFT(L20,1)*'Criterios de Riesgo'!$F$11+LEFT(M20,1)*'Criterios de Riesgo'!$F$12+LEFT(N20,1)*'Criterios de Riesgo'!$F$13+LEFT(O20,1)*'Criterios de Riesgo'!$F$14+LEFT(P20,1)*'Criterios de Riesgo'!$F$15),2),Calif_Control,2,1))","v":""},{"$f":"IF(COUNTA(I20:P20)<8,\"\",(ROUND((LEFT(I20,1)*'Criterios de Riesgo'!$F$8+LEFT(J20,1)*'Criterios de Riesgo'!$F$9+LEFT(K20,1)*'Criterios de Riesgo'!$F$10+LEFT(L20,1)*'Criterios de Riesgo'!$F$11+LEFT(M20,1)*'Criterios de Riesgo'!$F$12+LEFT(N20,1)*'Criterios de Riesgo'!$F$13+LEFT(O20,1)*'Criterios de Riesgo'!$F$14+LEFT(P20,1)*'Criterios de Riesgo'!$F$15),2))/5)","v":""},null,null,null,null,{"$f":"IF(COUNTA(S20:V20)<4,\"\",IF(V20=\"No\",\"No se usa\",VLOOKUP(ROUND((LEFT(S20,1)*'Criterios de Riesgo'!$C$13+LEFT(T20,1)*'Criterios de Riesgo'!$C$14+LEFT(U20,1)*'Criterios de Riesgo'!$C$15),2),Calif_Covertura,2,1)))","v":""},{"$f":"IF(COUNTA(S20:V20)<4,\"\",IF(V20=\"No\",0,(ROUND((LEFT(S20,1)*'Criterios de Riesgo'!$C$13+LEFT(T20,1)*'Criterios de Riesgo'!$C$14+LEFT(U20,1)*'Criterios de Riesgo'!$C$15),2))/5))","v":""},""]
[null,null,null,null,null,null,null,null,null,null,null,null,null,null,null,null,{"$f":"IF(COUNTA(I21:P21)<8,\"\",VLOOKUP(ROUND((LEFT(I21,1)*'Criterios de Riesgo'!$F$8+LEFT(J21,1)*'Criterios de Riesgo'!$F$9+LEFT(K21,1)*'Criterios de Riesgo'!$F$10+LEFT(L21,1)*'Criterios de Riesgo'!$F$11+LEFT(M21,1)*'Criterios de Riesgo'!$F$12+LEFT(N21,1)*'Criterios de Riesgo'!$F$13+LEFT(O21,1)*'Criterios de Riesgo'!$F$14+LEFT(P21,1)*'Criterios de Riesgo'!$F$15),2),Calif_Control,2,1))","v":""},{"$f":"IF(COUNTA(I21:P21)<8,\"\",(ROUND((LEFT(I21,1)*'Criterios de Riesgo'!$F$8+LEFT(J21,1)*'Criterios de Riesgo'!$F$9+LEFT(K21,1)*'Criterios de Riesgo'!$F$10+LEFT(L21,1)*'Criterios de Riesgo'!$F$11+LEFT(M21,1)*'Criterios de Riesgo'!$F$12+LEFT(N21,1)*'Criterios de Riesgo'!$F$13+LEFT(O21,1)*'Criterios de Riesgo'!$F$14+LEFT(P21,1)*'Criterios de Riesgo'!$F$15),2))/5)","v":""},null,null,null,null,{"$f":"IF(COUNTA(S21:V21)<4,\"\",IF(V21=\"No\",\"No se usa\",VLOOKUP(ROUND((LEFT(S21,1)*'Criterios de Riesgo'!$C$13+LEFT(T21,1)*'Criterios de Riesgo'!$C$14+LEFT(U21,1)*'Criterios de Riesgo'!$C$15),2),Calif_Covertura,2,1)))","v":""},{"$f":"IF(COUNTA(S21:V21)<4,\"\",IF(V21=\"No\",0,(ROUND((LEFT(S21,1)*'Criterios de Riesgo'!$C$13+LEFT(T21,1)*'Criterios de Riesgo'!$C$14+LEFT(U21,1)*'Criterios de Riesgo'!$C$15),2))/5))","v":""},""]
[null,null,null,null,null,null,null,null,null,null,null,null,null,null,null,null,{"$f":"IF(COUNTA(I22:P22)<8,\"\",VLOOKUP(ROUND((LEFT(I22,1)*'Criterios de Riesgo'!$F$8+LEFT(J22,1)*'Criterios de Riesgo'!$F$9+LEFT(K22,1)*'Criterios de Riesgo'!$F$10+LEFT(L22,1)*'Criterios de Riesgo'!$F$11+LEFT(M22,1)*'Criterios de Riesgo'!$F$12+LEFT(N22,1)*'Criterios de Riesgo'!$F$13+LEFT(O22,1)*'Criterios de Riesgo'!$F$14+LEFT(P22,1)*'Criterios de Riesgo'!$F$15),2),Calif_Control,2,1))","v":""},{"$f":"IF(COUNTA(I22:P22)<8,\"\",(ROUND((LEFT(I22,1)*'Criterios de Riesgo'!$F$8+LEFT(J22,1)*'Criterios de Riesgo'!$F$9+LEFT(K22,1)*'Criterios de Riesgo'!$F$10+LEFT(L22,1)*'Criterios de Riesgo'!$F$11+LEFT(M22,1)*'Criterios de Riesgo'!$F$12+LEFT(N22,1)*'Criterios de Riesgo'!$F$13+LEFT(O22,1)*'Criterios de Riesgo'!$F$14+LEFT(P22,1)*'Criterios de Riesgo'!$F$15),2))/5)","v":""},null,null,null,null,{"$f":"IF(COUNTA(S22:V22)<4,\"\",IF(V22=\"No\",\"No se usa\",VLOOKUP(ROUND((LEFT(S22,1)*'Criterios de Riesgo'!$C$13+LEFT(T22,1)*'Criterios de Riesgo'!$C$14+LEFT(U22,1)*'Criterios de Riesgo'!$C$15),2),Calif_Covertura,2,1)))","v":""},{"$f":"IF(COUNTA(S22:V22)<4,\"\",IF(V22=\"No\",0,(ROUND((LEFT(S22,1)*'Criterios de Riesgo'!$C$13+LEFT(T22,1)*'Criterios de Riesgo'!$C$14+LEFT(U22,1)*'Criterios de Riesgo'!$C$15),2))/5))","v":""},""]
[null,null,null,null,null,null,null,null,null,null,null,null,null,null,null,null,{"$f":"IF(COUNTA(I23:P23)<8,\"\",VLOOKUP(ROUND((LEFT(I23,1)*'Criterios de Riesgo'!$F$8+LEFT(J23,1)*'Criterios de Riesgo'!$F$9+LEFT(K23,1)*'Criterios de Riesgo'!$F$10+LEFT(L23,1)*'Criterios de Riesgo'!$F$11+LEFT(M23,1)*'Criterios de Riesgo'!$F$12+LEFT(N23,1)*'Criterios de Riesgo'!$F$13+LEFT(O23,1)*'Criterios de Riesgo'!$F$14+LEFT(P23,1)*'Criterios de Riesgo'!$F$15),2),Calif_Control,2,1))","v":""},{"$f":"IF(COUNTA(I23:P23)<8,\"\",(ROUND((LEFT(I23,1)*'Criterios de Riesgo'!$F$8+LEFT(J23,1)*'Criterios de Riesgo'!$F$9+LEFT(K23,1)*'Criterios de Riesgo'!$F$10+LEFT(L23,1)*'Criterios de Riesgo'!$F$11+LEFT(M23,1)*'Criterios de Riesgo'!$F$12+LEFT(N23,1)*'Criterios de Riesgo'!$F$13+LEFT(O23,1)*'Criterios de Riesgo'!$F$14+LEFT(P23,1)*'Criterios de Riesgo'!$F$15),2))/5)","v":""},null,null,null,null,{"$f":"IF(COUNTA(S23:V23)<4,\"\",IF(V23=\"No\",\"No se usa\",VLOOKUP(ROUND((LEFT(S23,1)*'Criterios de Riesgo'!$C$13+LEFT(T23,1)*'Criterios de Riesgo'!$C$14+LEFT(U23,1)*'Criterios de Riesgo'!$C$15),2),Calif_Covertura,2,1)))","v":""},{"$f":"IF(COUNTA(S23:V23)<4,\"\",IF(V23=\"No\",0,(ROUND((LEFT(S23,1)*'Criterios de Riesgo'!$C$13+LEFT(T23,1)*'Criterios de Riesgo'!$C$14+LEFT(U23,1)*'Criterios de Riesgo'!$C$15),2))/5))","v":""},""]
[null,null,null,null,null,null,null,null,null,null,null,null,null,null,null,null,{"$f":"IF(COUNTA(I24:P24)<8,\"\",VLOOKUP(ROUND((LEFT(I24,1)*'Criterios de Riesgo'!$F$8+LEFT(J24,1)*'Criterios de Riesgo'!$F$9+LEFT(K24,1)*'Criterios de Riesgo'!$F$10+LEFT(L24,1)*'Criterios de Riesgo'!$F$11+LEFT(M24,1)*'Criterios de Riesgo'!$F$12+LEFT(N24,1)*'Criterios de Riesgo'!$F$13+LEFT(O24,1)*'Criterios de Riesgo'!$F$14+LEFT(P24,1)*'Criterios de Riesgo'!$F$15),2),Calif_Control,2,1))","v":""},{"$f":"IF(COUNTA(I24:P24)<8,\"\",(ROUND((LEFT(I24,1)*'Criterios de Riesgo'!$F$8+LEFT(J24,1)*'Criterios de Riesgo'!$F$9+LEFT(K24,1)*'Criterios de Riesgo'!$F$10+LEFT(L24,1)*'Criterios de Riesgo'!$F$11+LEFT(M24,1)*'Criterios de Riesgo'!$F$12+LEFT(N24,1)*'Criterios de Riesgo'!$F$13+LEFT(O24,1)*'Criterios de Riesgo'!$F$14+LEFT(P24,1)*'Criterios de Riesgo'!$F$15),2))/5)","v":""},null,null,null,null,{"$f":"IF(COUNTA(S24:V24)<4,\"\",IF(V24=\"No\",\"No se usa\",VLOOKUP(ROUND((LEFT(S24,1)*'Criterios de Riesgo'!$C$13+LEFT(T24,1)*'Criterios de Riesgo'!$C$14+LEFT(U24,1)*'Criterios de Riesgo'!$C$15),2),Calif_Covertura,2,1)))","v":""},{"$f":"IF(COUNTA(S24:V24)<4,\"\",IF(V24=\"No\",0,(ROUND((LEFT(S24,1)*'Criterios de Riesgo'!$C$13+LEFT(T24,1)*'Criterios de Riesgo'!$C$14+LEFT(U24,1)*'Criterios de Riesgo'!$C$15),2))/5))","v":""},""]
["R",null,null,null,null,null,null,null,null,null,null,null,null,null,null,null,{"$f":"IF(COUNTA(I25:P25)<8,\"\",VLOOKUP(ROUND((LEFT(I25,1)*'Criterios de Riesgo'!$F$8+LEFT(J25,1)*'Criterios de Riesgo'!$F$9+LEFT(K25,1)*'Criterios de Riesgo'!$F$10+LEFT(L25,1)*'Criterios de Riesgo'!$F$11+LEFT(M25,1)*'Criterios de Riesgo'!$F$12+LEFT(N25,1)*'Criterios de Riesgo'!$F$13+LEFT(O25,1)*'Criterios de Riesgo'!$F$14+LEFT(P25,1)*'Criterios de Riesgo'!$F$15),2),Calif_Control,2,1))","v":""},{"$f":"IF(COUNTA(I25:P25)<8,\"\",(ROUND((LEFT(I25,1)*'Criterios de Riesgo'!$F$8+LEFT(J25,1)*'Criterios de Riesgo'!$F$9+LEFT(K25,1)*'Criterios de Riesgo'!$F$10+LEFT(L25,1)*'Criterios de Riesgo'!$F$11+LEFT(M25,1)*'Criterios de Riesgo'!$F$12+LEFT(N25,1)*'Criterios de Riesgo'!$F$13+LEFT(O25,1)*'Criterios de Riesgo'!$F$14+LEFT(P25,1)*'Criterios de Riesgo'!$F$15),2))/5)","v":""},null,null,null,null,{"$f":"IF(COUNTA(S25:V25)<4,\"\",IF(V25=\"No\",\"No se usa\",VLOOKUP(ROUND((LEFT(S25,1)*'Criterios de Riesgo'!$C$13+LEFT(T25,1)*'Criterios de Riesgo'!$C$14+LEFT(U25,1)*'Criterios de Riesgo'!$C$15),2),Calif_Covertura,2,1)))","v":""},{"$f":"IF(COUNTA(S25:V25)<4,\"\",IF(V25=\"No\",0,(ROUND((LEFT(S25,1)*'Criterios de Riesgo'!$C$13+LEFT(T25,1)*'Criterios de Riesgo'!$C$14+LEFT(U25,1)*'Criterios de Riesgo'!$C$15),2))/5))","v":""},"",null,{"$f":"IF(ISERROR((SUMIF(Z25:Z34,\"=impacto\",Y25:Y34)+SUMIF(Z25:Z34,\"=Ambos\",Y25:Y34))/(COUNTIF(Z25:Z34,\"Impacto\")+COUNTIF(Z25:Z34,\"Ambos\"))),\"\",(SUMIF(Z25:Z34,\"=impacto\",Y25:Y34)+SUMIF(Z25:Z34,\"=Ambos\",Y25:Y34))/(COUNTIF(Z25:Z34,\"Impacto\")+COUNTIF(Z25:Z34,\"Ambos\")))","v":""},{"$f":"IF(ISERROR((SUMIF(Z25:Z34,\"=Probabilidad\",Y25:Y34)+SUMIF(Z25:Z34,\"=Ambos\",Y25:Y34))/(COUNTIF(Z25:Z34,\"Probabilidad\")+COUNTIF(Z25:Z34,\"Ambos\"))),\"\",(SUMIF(Z25:Z34,\"=Probabilidad\",Y25:Y34)+SUMIF(Z25:Z34,\"=Ambos\",Y25:Y34))/(COUNTIF(Z25:Z34,\"Probabilidad\")+COUNTIF(Z25:Z34,\"Ambos\")))","v":""},{"$f":"IF(ISERROR(ROUND(IF(AB25=\"\",AA25,IF(AA25=\"\",AB25,IF(AND(AB25=\"\",AA25=\"\"),\"\",AB25*AA25)))*100,0)/100),\"\",ROUND(IF(AB25=\"\",AA25,IF(AA25=\"\",AB25,IF(AND(AB25=\"\",AA25=\"\"),\"\",AB25*AA25)))*100,0)/100)","v":""},{"$f":"IF(AC25=\"\",\"\",VLOOKUP(AC25*5,Calif_Control,2,1))","v":""}]
[null,null,null,null,null,null,null,null,null,null,null,null,null,null,null,null,{"$f":"IF(COUNTA(I26:P26)<8,\"\",VLOOKUP(ROUND((LEFT(I26,1)*'Criterios de Riesgo'!$F$8+LEFT(J26,1)*'Criterios de Riesgo'!$F$9+LEFT(K26,1)*'Criterios de Riesgo'!$F$10+LEFT(L26,1)*'Criterios de Riesgo'!$F$11+LEFT(M26,1)*'Criterios de Riesgo'!$F$12+LEFT(N26,1)*'Criterios de Riesgo'!$F$13+LEFT(O26,1)*'Criterios de Riesgo'!$F$14+LEFT(P26,1)*'Criterios de Riesgo'!$F$15),2),Calif_Control,2,1))","v":""},{"$f":"IF(COUNTA(I26:P26)<8,\"\",(ROUND((LEFT(I26,1)*'Criterios de Riesgo'!$F$8+LEFT(J26,1)*'Criterios de Riesgo'!$F$9+LEFT(K26,1)*'Criterios de Riesgo'!$F$10+LEFT(L26,1)*'Criterios de Riesgo'!$F$11+LEFT(M26,1)*'Criterios de Riesgo'!$F$12+LEFT(N26,1)*'Criterios de Riesgo'!$F$13+LEFT(O26,1)*'Criterios de Riesgo'!$F$14+LEFT(P26,1)*'Criterios de Riesgo'!$F$15),2))/5)","v":""},null,null,null,null,{"$f":"IF(COUNTA(S26:V26)<4,\"\",IF(V26=\"No\",\"No se usa\",VLOOKUP(ROUND((LEFT(S26,1)*'Criterios de Riesgo'!$C$13+LEFT(T26,1)*'Criterios de Riesgo'!$C$14+LEFT(U26,1)*'Criterios de Riesgo'!$C$15),2),Calif_Covertura,2,1)))","v":""},{"$f":"IF(COUNTA(S26:V26)<4,\"\",IF(V26=\"No\",0,(ROUND((LEFT(S26,1)*'Criterios de Riesgo'!$C$13+LEFT(T26,1)*'Criterios de Riesgo'!$C$14+LEFT(U26,1)*'Criterios de Riesgo'!$C$15),2))/5))","v":""},""]
[null,null,null,null,null,null,null,null,null,null,null,null,null,null,null,null,{"$f":"IF(COUNTA(I27:P27)<8,\"\",VLOOKUP(ROUND((LEFT(I27,1)*'Criterios de Riesgo'!$F$8+LEFT(J27,1)*'Criterios de Riesgo'!$F$9+LEFT(K27,1)*'Criterios de Riesgo'!$F$10+LEFT(L27,1)*'Criterios de Riesgo'!$F$11+LEFT(M27,1)*'Criterios de Riesgo'!$F$12+LEFT(N27,1)*'Criterios de Riesgo'!$F$13+LEFT(O27,1)*'Criterios de Riesgo'!$F$14+LEFT(P27,1)*'Criterios de Riesgo'!$F$15),2),Calif_Control,2,1))","v":""},{"$f":"IF(COUNTA(I27:P27)<8,\"\",(ROUND((LEFT(I27,1)*'Criterios de Riesgo'!$F$8+LEFT(J27,1)*'Criterios de Riesgo'!$F$9+LEFT(K27,1)*'Criterios de Riesgo'!$F$10+LEFT(L27,1)*'Criterios de Riesgo'!$F$11+LEFT(M27,1)*'Criterios de Riesgo'!$F$12+LEFT(N27,1)*'Criterios de Riesgo'!$F$13+LEFT(O27,1)*'Criterios de Riesgo'!$F$14+LEFT(P27,1)*'Criterios de Riesgo'!$F$15),2))/5)","v":""},null,null,null,null,{"$f":"IF(COUNTA(S27:V27)<4,\"\",IF(V27=\"No\",\"No se usa\",VLOOKUP(ROUND((LEFT(S27,1)*'Criterios de Riesgo'!$C$13+LEFT(T27,1)*'Criterios de Riesgo'!$C$14+LEFT(U27,1)*'Criterios de Riesgo'!$C$15),2),Calif_Covertura,2,1)))","v":""},{"$f":"IF(COUNTA(S27:V27)<4,\"\",IF(V27=\"No\",0,(ROUND((LEFT(S27,1)*'Criterios de Riesgo'!$C$13+LEFT(T27,1)*'Criterios de Riesgo'!$C$14+LEFT(U27,1)*'Criterios de Riesgo'!$C$15),2))/5))","v":""},""]
[null,null,null,null,null,null,null,null,null,null,null,null,null,null,null,null,{"$f":"IF(COUNTA(I28:P28)<8,\"\",VLOOKUP(ROUND((LEFT(I28,1)*'Criterios de Riesgo'!$F$8+LEFT(J28,1)*'Criterios de Riesgo'!$F$9+LEFT(K28,1)*'Criterios de Riesgo'!$F$10+LEFT(L28,1)*'Criterios de Riesgo'!$F$11+LEFT(M28,1)*'Criterios de Riesgo'!$F$12+LEFT(N28,1)*'Criterios de Riesgo'!$F$13+LEFT(O28,1)*'Criterios de Riesgo'!$F$14+LEFT(P28,1)*'Criterios de Riesgo'!$F$15),2),Calif_Control,2,1))","v":""},{"$f":"IF(COUNTA(I28:P28)<8,\"\",(ROUND((LEFT(I28,1)*'Criterios de Riesgo'!$F$8+LEFT(J28,1)*'Criterios de Riesgo'!$F$9+LEFT(K28,1)*'Criterios de Riesgo'!$F$10+LEFT(L28,1)*'Criterios de Riesgo'!$F$11+LEFT(M28,1)*'Criterios de Riesgo'!$F$12+LEFT(N28,1)*'Criterios de Riesgo'!$F$13+LEFT(O28,1)*'Criterios de Riesgo'!$F$14+LEFT(P28,1)*'Criterios de Riesgo'!$F$15),2))/5)","v":""},null,null,null,null,{"$f":"IF(COUNTA(S28:V28)<4,\"\",IF(V28=\"No\",\"No se usa\",VLOOKUP(ROUND((LEFT(S28,1)*'Criterios de Riesgo'!$C$13+LEFT(T28,1)*'Criterios de Riesgo'!$C$14+LEFT(U28,1)*'Criterios de Riesgo'!$C$15),2),Calif_Covertura,2,1)))","v":""},{"$f":"IF(COUNTA(S28:V28)<4,\"\",IF(V28=\"No\",0,(ROUND((LEFT(S28,1)*'Criterios de Riesgo'!$C$13+LEFT(T28,1)*'Criterios de Riesgo'!$C$14+LEFT(U28,1)*'Criterios de Riesgo'!$C$15),2))/5))","v":""},""]
[null,null,null,null,null,null,null,null,null,null,null,null,null,null,null,null,{"$f":"IF(COUNTA(I29:P29)<8,\"\",VLOOKUP(ROUND((LEFT(I29,1)*'Criterios de Riesgo'!$F$8+LEFT(J29,1)*'Criterios de Riesgo'!$F$9+LEFT(K29,1)*'Criterios de Riesgo'!$F$10+LEFT(L29,1)*'Criterios de Riesgo'!$F$11+LEFT(M29,1)*'Criterios de Riesgo'!$F$12+LEFT(N29,1)*'Criterios de Riesgo'!$F$13+LEFT(O29,1)*'Criterios de Riesgo'!$F$14+LEFT(P29,1)*'Criterios de Riesgo'!$F$15),2),Calif_Control,2,1))","v":""},{"$f":"IF(COUNTA(I29:P29)<8,\"\",(ROUND((LEFT(I29,1)*'Criterios de Riesgo'!$F$8+LEFT(J29,1)*'Criterios de Riesgo'!$F$9+LEFT(K29,1)*'Criterios de Riesgo'!$F$10+LEFT(L29,1)*'Criterios de Riesgo'!$F$11+LEFT(M29,1)*'Criterios de Riesgo'!$F$12+LEFT(N29,1)*'Criterios de Riesgo'!$F$13+LEFT(O29,1)*'Criterios de Riesgo'!$F$14+LEFT(P29,1)*'Criterios de Riesgo'!$F$15),2))/5)","v":""},null,null,null,null,{"$f":"IF(COUNTA(S29:V29)<4,\"\",IF(V29=\"No\",\"No se usa\",VLOOKUP(ROUND((LEFT(S29,1)*'Criterios de Riesgo'!$C$13+LEFT(T29,1)*'Criterios de Riesgo'!$C$14+LEFT(U29,1)*'Criterios de Riesgo'!$C$15),2),Calif_Covertura,2,1)))","v":""},{"$f":"IF(COUNTA(S29:V29)<4,\"\",IF(V29=\"No\",0,(ROUND((LEFT(S29,1)*'Criterios de Riesgo'!$C$13+LEFT(T29,1)*'Criterios de Riesgo'!$C$14+LEFT(U29,1)*'Criterios de Riesgo'!$C$15),2))/5))","v":""},""]
[null,null,null,null,null,null,null,null,null,null,null,null,null,null,null,null,{"$f":"IF(COUNTA(I30:P30)<8,\"\",VLOOKUP(ROUND((LEFT(I30,1)*'Criterios de Riesgo'!$F$8+LEFT(J30,1)*'Criterios de Riesgo'!$F$9+LEFT(K30,1)*'Criterios de Riesgo'!$F$10+LEFT(L30,1)*'Criterios de Riesgo'!$F$11+LEFT(M30,1)*'Criterios de Riesgo'!$F$12+LEFT(N30,1)*'Criterios de Riesgo'!$F$13+LEFT(O30,1)*'Criterios de Riesgo'!$F$14+LEFT(P30,1)*'Criterios de Riesgo'!$F$15),2),Calif_Control,2,1))","v":""},{"$f":"IF(COUNTA(I30:P30)<8,\"\",(ROUND((LEFT(I30,1)*'Criterios de Riesgo'!$F$8+LEFT(J30,1)*'Criterios de Riesgo'!$F$9+LEFT(K30,1)*'Criterios de Riesgo'!$F$10+LEFT(L30,1)*'Criterios de Riesgo'!$F$11+LEFT(M30,1)*'Criterios de Riesgo'!$F$12+LEFT(N30,1)*'Criterios de Riesgo'!$F$13+LEFT(O30,1)*'Criterios de Riesgo'!$F$14+LEFT(P30,1)*'Criterios de Riesgo'!$F$15),2))/5)","v":""},null,null,null,null,{"$f":"IF(COUNTA(S30:V30)<4,\"\",IF(V30=\"No\",\"No se usa\",VLOOKUP(ROUND((LEFT(S30,1)*'Criterios de Riesgo'!$C$13+LEFT(T30,1)*'Criterios de Riesgo'!$C$14+LEFT(U30,1)*'Criterios de Riesgo'!$C$15),2),Calif_Covertura,2,1)))","v":""},{"$f":"IF(COUNTA(S30:V30)<4,\"\",IF(V30=\"No\",0,(ROUND((LEFT(S30,1)*'Criterios de Riesgo'!$C$13+LEFT(T30,1)*'Criterios de Riesgo'!$C$14+LEFT(U30,1)*'Criterios de Riesgo'!$C$15),2))/5))","v":""},""]
[null,null,null,null,null,null,null,null,null,null,null,null,null,null,null,null,{"$f":"IF(COUNTA(I31:P31)<8,\"\",VLOOKUP(ROUND((LEFT(I31,1)*'Criterios de Riesgo'!$F$8+LEFT(J31,1)*'Criterios de Riesgo'!$F$9+LEFT(K31,1)*'Criterios de Riesgo'!$F$10+LEFT(L31,1)*'Criterios de Riesgo'!$F$11+LEFT(M31,1)*'Criterios de Riesgo'!$F$12+LEFT(N31,1)*'Criterios de Riesgo'!$F$13+LEFT(O31,1)*'Criterios de Riesgo'!$F$14+LEFT(P31,1)*'Criterios de Riesgo'!$F$15),2),Calif_Control,2,1))","v":""},{"$f":"IF(COUNTA(I31:P31)<8,\"\",(ROUND((LEFT(I31,1)*'Criterios de Riesgo'!$F$8+LEFT(J31,1)*'Criterios de Riesgo'!$F$9+LEFT(K31,1)*'Criterios de Riesgo'!$F$10+LEFT(L31,1)*'Criterios de Riesgo'!$F$11+LEFT(M31,1)*'Criterios de Riesgo'!$F$12+LEFT(N31,1)*'Criterios de Riesgo'!$F$13+LEFT(O31,1)*'Criterios de Riesgo'!$F$14+LEFT(P31,1)*'Criterios de Riesgo'!$F$15),2))/5)","v":""},null,null,null,null,{"$f":"IF(COUNTA(S31:V31)<4,\"\",IF(V31=\"No\",\"No se usa\",VLOOKUP(ROUND((LEFT(S31,1)*'Criterios de Riesgo'!$C$13+LEFT(T31,1)*'Criterios de Riesgo'!$C$14+LEFT(U31,1)*'Criterios de Riesgo'!$C$15),2),Calif_Covertura,2,1)))","v":""},{"$f":"IF(COUNTA(S31:V31)<4,\"\",IF(V31=\"No\",0,(ROUND((LEFT(S31,1)*'Criterios de Riesgo'!$C$13+LEFT(T31,1)*'Criterios de Riesgo'!$C$14+LEFT(U31,1)*'Criterios de Riesgo'!$C$15),2))/5))","v":""},""]
[null,null,null,null,null,null,null,null,null,null,null,null,null,null,null,null,{"$f":"IF(COUNTA(I32:P32)<8,\"\",VLOOKUP(ROUND((LEFT(I32,1)*'Criterios de Riesgo'!$F$8+LEFT(J32,1)*'Criterios de Riesgo'!$F$9+LEFT(K32,1)*'Criterios de Riesgo'!$F$10+LEFT(L32,1)*'Criterios de Riesgo'!$F$11+LEFT(M32,1)*'Criterios de Riesgo'!$F$12+LEFT(N32,1)*'Criterios de Riesgo'!$F$13+LEFT(O32,1)*'Criterios de Riesgo'!$F$14+LEFT(P32,1)*'Criterios de Riesgo'!$F$15),2),Calif_Control,2,1))","v":""},{"$f":"IF(COUNTA(I32:P32)<8,\"\",(ROUND((LEFT(I32,1)*'Criterios de Riesgo'!$F$8+LEFT(J32,1)*'Criterios de Riesgo'!$F$9+LEFT(K32,1)*'Criterios de Riesgo'!$F$10+LEFT(L32,1)*'Criterios de Riesgo'!$F$11+LEFT(M32,1)*'Criterios de Riesgo'!$F$12+LEFT(N32,1)*'Criterios de Riesgo'!$F$13+LEFT(O32,1)*'Criterios de Riesgo'!$F$14+LEFT(P32,1)*'Criterios de Riesgo'!$F$15),2))/5)","v":""},null,null,null,null,{"$f":"IF(COUNTA(S32:V32)<4,\"\",IF(V32=\"No\",\"No se usa\",VLOOKUP(ROUND((LEFT(S32,1)*'Criterios de Riesgo'!$C$13+LEFT(T32,1)*'Criterios de Riesgo'!$C$14+LEFT(U32,1)*'Criterios de Riesgo'!$C$15),2),Calif_Covertura,2,1)))","v":""},{"$f":"IF(COUNTA(S32:V32)<4,\"\",IF(V32=\"No\",0,(ROUND((LEFT(S32,1)*'Criterios de Riesgo'!$C$13+LEFT(T32,1)*'Criterios de Riesgo'!$C$14+LEFT(U32,1)*'Criterios de Riesgo'!$C$15),2))/5))","v":""},""]
[null,null,null,null,null,null,null,null,null,null,null,null,null,null,null,null,{"$f":"IF(COUNTA(I33:P33)<8,\"\",VLOOKUP(ROUND((LEFT(I33,1)*'Criterios de Riesgo'!$F$8+LEFT(J33,1)*'Criterios de Riesgo'!$F$9+LEFT(K33,1)*'Criterios de Riesgo'!$F$10+LEFT(L33,1)*'Criterios de Riesgo'!$F$11+LEFT(M33,1)*'Criterios de Riesgo'!$F$12+LEFT(N33,1)*'Criterios de Riesgo'!$F$13+LEFT(O33,1)*'Criterios de Riesgo'!$F$14+LEFT(P33,1)*'Criterios de Riesgo'!$F$15),2),Calif_Control,2,1))","v":""},{"$f":"IF(COUNTA(I33:P33)<8,\"\",(ROUND((LEFT(I33,1)*'Criterios de Riesgo'!$F$8+LEFT(J33,1)*'Criterios de Riesgo'!$F$9+LEFT(K33,1)*'Criterios de Riesgo'!$F$10+LEFT(L33,1)*'Criterios de Riesgo'!$F$11+LEFT(M33,1)*'Criterios de Riesgo'!$F$12+LEFT(N33,1)*'Criterios de Riesgo'!$F$13+LEFT(O33,1)*'Criterios de Riesgo'!$F$14+LEFT(P33,1)*'Criterios de Riesgo'!$F$15),2))/5)","v":""},null,null,null,null,{"$f":"IF(COUNTA(S33:V33)<4,\"\",IF(V33=\"No\",\"No se usa\",VLOOKUP(ROUND((LEFT(S33,1)*'Criterios de Riesgo'!$C$13+LEFT(T33,1)*'Criterios de Riesgo'!$C$14+LEFT(U33,1)*'Criterios de Riesgo'!$C$15),2),Calif_Covertura,2,1)))","v":""},{"$f":"IF(COUNTA(S33:V33)<4,\"\",IF(V33=\"No\",0,(ROUND((LEFT(S33,1)*'Criterios de Riesgo'!$C$13+LEFT(T33,1)*'Criterios de Riesgo'!$C$14+LEFT(U33,1)*'Criterios de Riesgo'!$C$15),2))/5))","v":""},""]
[null,null,null,null,null,null,null,null,null,null,null,null,null,null,null,null,{"$f":"IF(COUNTA(I34:P34)<8,\"\",VLOOKUP(ROUND((LEFT(I34,1)*'Criterios de Riesgo'!$F$8+LEFT(J34,1)*'Criterios de Riesgo'!$F$9+LEFT(K34,1)*'Criterios de Riesgo'!$F$10+LEFT(L34,1)*'Criterios de Riesgo'!$F$11+LEFT(M34,1)*'Criterios de Riesgo'!$F$12+LEFT(N34,1)*'Criterios de Riesgo'!$F$13+LEFT(O34,1)*'Criterios de Riesgo'!$F$14+LEFT(P34,1)*'Criterios de Riesgo'!$F$15),2),Calif_Control,2,1))","v":""},{"$f":"IF(COUNTA(I34:P34)<8,\"\",(ROUND((LEFT(I34,1)*'Criterios de Riesgo'!$F$8+LEFT(J34,1)*'Criterios de Riesgo'!$F$9+LEFT(K34,1)*'Criterios de Riesgo'!$F$10+LEFT(L34,1)*'Criterios de Riesgo'!$F$11+LEFT(M34,1)*'Criterios de Riesgo'!$F$12+LEFT(N34,1)*'Criterios de Riesgo'!$F$13+LEFT(O34,1)*'Criterios de Riesgo'!$F$14+LEFT(P34,1)*'Criterios de Riesgo'!$F$15),2))/5)","v":""},null,null,null,null,{"$f":"IF(COUNTA(S34:V34)<4,\"\",IF(V34=\"No\",\"No se usa\",VLOOKUP(ROUND((LEFT(S34,1)*'Criterios de Riesgo'!$C$13+LEFT(T34,1)*'Criterios de Riesgo'!$C$14+LEFT(U34,1)*'Criterios de Riesgo'!$C$15),2),Calif_Covertura,2,1)))","v":""},{"$f":"IF(COUNTA(S34:V34)<4,\"\",IF(V34=\"No\",0,(ROUND((LEFT(S34,1)*'Criterios de Riesgo'!$C$13+LEFT(T34,1)*'Criterios de Riesgo'!$C$14+LEFT(U34,1)*'Criterios de Riesgo'!$C$15),2))/5))","v":""},""]
["R",null,null,null,null,null,null,null,null,null,null,null,null,null,null,null,{"$f":"IF(COUNTA(I35:P35)<8,\"\",VLOOKUP(ROUND((LEFT(I35,1)*'Criterios de Riesgo'!$F$8+LEFT(J35,1)*'Criterios de Riesgo'!$F$9+LEFT(K35,1)*'Criterios de Riesgo'!$F$10+LEFT(L35,1)*'Criterios de Riesgo'!$F$11+LEFT(M35,1)*'Criterios de Riesgo'!$F$12+LEFT(N35,1)*'Criterios de Riesgo'!$F$13+LEFT(O35,1)*'Criterios de Riesgo'!$F$14+LEFT(P35,1)*'Criterios de Riesgo'!$F$15),2),Calif_Control,2,1))","v":""},{"$f":"IF(COUNTA(I35:P35)<8,\"\",(ROUND((LEFT(I35,1)*'Criterios de Riesgo'!$F$8+LEFT(J35,1)*'Criterios de Riesgo'!$F$9+LEFT(K35,1)*'Criterios de Riesgo'!$F$10+LEFT(L35,1)*'Criterios de Riesgo'!$F$11+LEFT(M35,1)*'Criterios de Riesgo'!$F$12+LEFT(N35,1)*'Criterios de Riesgo'!$F$13+LEFT(O35,1)*'Criterios de Riesgo'!$F$14+LEFT(P35,1)*'Criterios de Riesgo'!$F$15),2))/5)","v":""},null,null,null,null,{"$f":"IF(COUNTA(S35:V35)<4,\"\",IF(V35=\"No\",\"No se usa\",VLOOKUP(ROUND((LEFT(S35,1)*'Criterios de Riesgo'!$C$13+LEFT(T35,1)*'Criterios de Riesgo'!$C$14+LEFT(U35,1)*'Criterios de Riesgo'!$C$15),2),Calif_Covertura,2,1)))","v":""},{"$f":"IF(COUNTA(S35:V35)<4,\"\",IF(V35=\"No\",0,(ROUND((LEFT(S35,1)*'Criterios de Riesgo'!$C$13+LEFT(T35,1)*'Criterios de Riesgo'!$C$14+LEFT(U35,1)*'Criterios de Riesgo'!$C$15),2))/5))","v":""},"",null,{"$f":"IF(ISERROR((SUMIF(Z35:Z44,\"=impacto\",Y35:Y44)+SUMIF(Z35:Z44,\"=Ambos\",Y35:Y44))/(COUNTIF(Z35:Z44,\"Impacto\")+COUNTIF(Z35:Z44,\"Ambos\"))),\"\",(SUMIF(Z35:Z44,\"=impacto\",Y35:Y44)+SUMIF(Z35:Z44,\"=Ambos\",Y35:Y44))/(COUNTIF(Z35:Z44,\"Impacto\")+COUNTIF(Z35:Z44,\"Ambos\")))","v":""},{"$f":"IF(ISERROR((SUMIF(Z35:Z44,\"=Probabilidad\",Y35:Y44)+SUMIF(Z35:Z44,\"=Ambos\",Y35:Y44))/(COUNTIF(Z35:Z44,\"Probabilidad\")+COUNTIF(Z35:Z44,\"Ambos\"))),\"\",(SUMIF(Z35:Z44,\"=Probabilidad\",Y35:Y44)+SUMIF(Z35:Z44,\"=Ambos\",Y35:Y44))/(COUNTIF(Z35:Z44,\"Probabilidad\")+COUNTIF(Z35:Z44,\"Ambos\")))","v":""},{"$f":"IF(ISERROR(ROUND(IF(AB35=\"\",AA35,IF(AA35=\"\",AB35,IF(AND(AB35=\"\",AA35=\"\"),\"\",AB35*AA35)))*100,0)/100),\"\",ROUND(IF(AB35=\"\",AA35,IF(AA35=\"\",AB35,IF(AND(AB35=\"\",AA35=\"\"),\"\",AB35*AA35)))*100,0)/100)","v":""},{"$f":"IF(AC35=\"\",\"\",VLOOKUP(AC35*5,Calif_Control,2,1))","v":""}]
[null,null,null,null,null,null,null,null,null,null,null,null,null,null,null,null,{"$f":"IF(COUNTA(I36:P36)<8,\"\",VLOOKUP(ROUND((LEFT(I36,1)*'Criterios de Riesgo'!$F$8+LEFT(J36,1)*'Criterios de Riesgo'!$F$9+LEFT(K36,1)*'Criterios de Riesgo'!$F$10+LEFT(L36,1)*'Criterios de Riesgo'!$F$11+LEFT(M36,1)*'Criterios de Riesgo'!$F$12+LEFT(N36,1)*'Criterios de Riesgo'!$F$13+LEFT(O36,1)*'Criterios de Riesgo'!$F$14+LEFT(P36,1)*'Criterios de Riesgo'!$F$15),2),Calif_Control,2,1))","v":""},{"$f":"IF(COUNTA(I36:P36)<8,\"\",(ROUND((LEFT(I36,1)*'Criterios de Riesgo'!$F$8+LEFT(J36,1)*'Criterios de Riesgo'!$F$9+LEFT(K36,1)*'Criterios de Riesgo'!$F$10+LEFT(L36,1)*'Criterios de Riesgo'!$F$11+LEFT(M36,1)*'Criterios de Riesgo'!$F$12+LEFT(N36,1)*'Criterios de Riesgo'!$F$13+LEFT(O36,1)*'Criterios de Riesgo'!$F$14+LEFT(P36,1)*'Criterios de Riesgo'!$F$15),2))/5)","v":""},null,null,null,null,{"$f":"IF(COUNTA(S36:V36)<4,\"\",IF(V36=\"No\",\"No se usa\",VLOOKUP(ROUND((LEFT(S36,1)*'Criterios de Riesgo'!$C$13+LEFT(T36,1)*'Criterios de Riesgo'!$C$14+LEFT(U36,1)*'Criterios de Riesgo'!$C$15),2),Calif_Covertura,2,1)))","v":""},{"$f":"IF(COUNTA(S36:V36)<4,\"\",IF(V36=\"No\",0,(ROUND((LEFT(S36,1)*'Criterios de Riesgo'!$C$13+LEFT(T36,1)*'Criterios de Riesgo'!$C$14+LEFT(U36,1)*'Criterios de Riesgo'!$C$15),2))/5))","v":""},""]
[null,null,null,null,null,null,null,null,null,null,null,null,null,null,null,null,{"$f":"IF(COUNTA(I37:P37)<8,\"\",VLOOKUP(ROUND((LEFT(I37,1)*'Criterios de Riesgo'!$F$8+LEFT(J37,1)*'Criterios de Riesgo'!$F$9+LEFT(K37,1)*'Criterios de Riesgo'!$F$10+LEFT(L37,1)*'Criterios de Riesgo'!$F$11+LEFT(M37,1)*'Criterios de Riesgo'!$F$12+LEFT(N37,1)*'Criterios de Riesgo'!$F$13+LEFT(O37,1)*'Criterios de Riesgo'!$F$14+LEFT(P37,1)*'Criterios de Riesgo'!$F$15),2),Calif_Control,2,1))","v":""},{"$f":"IF(COUNTA(I37:P37)<8,\"\",(ROUND((LEFT(I37,1)*'Criterios de Riesgo'!$F$8+LEFT(J37,1)*'Criterios de Riesgo'!$F$9+LEFT(K37,1)*'Criterios de Riesgo'!$F$10+LEFT(L37,1)*'Criterios de Riesgo'!$F$11+LEFT(M37,1)*'Criterios de Riesgo'!$F$12+LEFT(N37,1)*'Criterios de Riesgo'!$F$13+LEFT(O37,1)*'Criterios de Riesgo'!$F$14+LEFT(P37,1)*'Criterios de Riesgo'!$F$15),2))/5)","v":""},null,null,null,null,{"$f":"IF(COUNTA(S37:V37)<4,\"\",IF(V37=\"No\",\"No se usa\",VLOOKUP(ROUND((LEFT(S37,1)*'Criterios de Riesgo'!$C$13+LEFT(T37,1)*'Criterios de Riesgo'!$C$14+LEFT(U37,1)*'Criterios de Riesgo'!$C$15),2),Calif_Covertura,2,1)))","v":""},{"$f":"IF(COUNTA(S37:V37)<4,\"\",IF(V37=\"No\",0,(ROUND((LEFT(S37,1)*'Criterios de Riesgo'!$C$13+LEFT(T37,1)*'Criterios de Riesgo'!$C$14+LEFT(U37,1)*'Criterios de Riesgo'!$C$15),2))/5))","v":""},""]
[null,null,null,null,null,null,null,null,null,null,null,null,null,null,null,null,{"$f":"IF(COUNTA(I38:P38)<8,\"\",VLOOKUP(ROUND((LEFT(I38,1)*'Criterios de Riesgo'!$F$8+LEFT(J38,1)*'Criterios de Riesgo'!$F$9+LEFT(K38,1)*'Criterios de Riesgo'!$F$10+LEFT(L38,1)*'Criterios de Riesgo'!$F$11+LEFT(M38,1)*'Criterios de Riesgo'!$F$12+LEFT(N38,1)*'Criterios de Riesgo'!$F$13+LEFT(O38,1)*'Criterios de Riesgo'!$F$14+LEFT(P38,1)*'Criterios de Riesgo'!$F$15),2),Calif_Control,2,1))","v":""},{"$f":"IF(COUNTA(I38:P38)<8,\"\",(ROUND((LEFT(I38,1)*'Criterios de Riesgo'!$F$8+LEFT(J38,1)*'Criterios de Riesgo'!$F$9+LEFT(K38,1)*'Criterios de Riesgo'!$F$10+LEFT(L38,1)*'Criterios de Riesgo'!$F$11+LEFT(M38,1)*'Criterios de Riesgo'!$F$12+LEFT(N38,1)*'Criterios de Riesgo'!$F$13+LEFT(O38,1)*'Criterios de Riesgo'!$F$14+LEFT(P38,1)*'Criterios de Riesgo'!$F$15),2))/5)","v":""},null,null,null,null,{"$f":"IF(COUNTA(S38:V38)<4,\"\",IF(V38=\"No\",\"No se usa\",VLOOKUP(ROUND((LEFT(S38,1)*'Criterios de Riesgo'!$C$13+LEFT(T38,1)*'Criterios de Riesgo'!$C$14+LEFT(U38,1)*'Criterios de Riesgo'!$C$15),2),Calif_Covertura,2,1)))","v":""},{"$f":"IF(COUNTA(S38:V38)<4,\"\",IF(V38=\"No\",0,(ROUND((LEFT(S38,1)*'Criterios de Riesgo'!$C$13+LEFT(T38,1)*'Criterios de Riesgo'!$C$14+LEFT(U38,1)*'Criterios de Riesgo'!$C$15),2))/5))","v":""},""]
[null,null,null,null,null,null,null,null,null,null,null,null,null,null,null,null,{"$f":"IF(COUNTA(I39:P39)<8,\"\",VLOOKUP(ROUND((LEFT(I39,1)*'Criterios de Riesgo'!$F$8+LEFT(J39,1)*'Criterios de Riesgo'!$F$9+LEFT(K39,1)*'Criterios de Riesgo'!$F$10+LEFT(L39,1)*'Criterios de Riesgo'!$F$11+LEFT(M39,1)*'Criterios de Riesgo'!$F$12+LEFT(N39,1)*'Criterios de Riesgo'!$F$13+LEFT(O39,1)*'Criterios de Riesgo'!$F$14+LEFT(P39,1)*'Criterios de Riesgo'!$F$15),2),Calif_Control,2,1))","v":""},{"$f":"IF(COUNTA(I39:P39)<8,\"\",(ROUND((LEFT(I39,1)*'Criterios de Riesgo'!$F$8+LEFT(J39,1)*'Criterios de Riesgo'!$F$9+LEFT(K39,1)*'Criterios de Riesgo'!$F$10+LEFT(L39,1)*'Criterios de Riesgo'!$F$11+LEFT(M39,1)*'Criterios de Riesgo'!$F$12+LEFT(N39,1)*'Criterios de Riesgo'!$F$13+LEFT(O39,1)*'Criterios de Riesgo'!$F$14+LEFT(P39,1)*'Criterios de Riesgo'!$F$15),2))/5)","v":""},null,null,null,null,{"$f":"IF(COUNTA(S39:V39)<4,\"\",IF(V39=\"No\",\"No se usa\",VLOOKUP(ROUND((LEFT(S39,1)*'Criterios de Riesgo'!$C$13+LEFT(T39,1)*'Criterios de Riesgo'!$C$14+LEFT(U39,1)*'Criterios de Riesgo'!$C$15),2),Calif_Covertura,2,1)))","v":""},{"$f":"IF(COUNTA(S39:V39)<4,\"\",IF(V39=\"No\",0,(ROUND((LEFT(S39,1)*'Criterios de Riesgo'!$C$13+LEFT(T39,1)*'Criterios de Riesgo'!$C$14+LEFT(U39,1)*'Criterios de Riesgo'!$C$15),2))/5))","v":""},""]
[null,null,null,null,null,null,null,null,null,null,null,null,null,null,null,null,{"$f":"IF(COUNTA(I40:P40)<8,\"\",VLOOKUP(ROUND((LEFT(I40,1)*'Criterios de Riesgo'!$F$8+LEFT(J40,1)*'Criterios de Riesgo'!$F$9+LEFT(K40,1)*'Criterios de Riesgo'!$F$10+LEFT(L40,1)*'Criterios de Riesgo'!$F$11+LEFT(M40,1)*'Criterios de Riesgo'!$F$12+LEFT(N40,1)*'Criterios de Riesgo'!$F$13+LEFT(O40,1)*'Criterios de Riesgo'!$F$14+LEFT(P40,1)*'Criterios de Riesgo'!$F$15),2),Calif_Control,2,1))","v":""},{"$f":"IF(COUNTA(I40:P40)<8,\"\",(ROUND((LEFT(I40,1)*'Criterios de Riesgo'!$F$8+LEFT(J40,1)*'Criterios de Riesgo'!$F$9+LEFT(K40,1)*'Criterios de Riesgo'!$F$10+LEFT(L40,1)*'Criterios de Riesgo'!$F$11+LEFT(M40,1)*'Criterios de Riesgo'!$F$12+LEFT(N40,1)*'Criterios de Riesgo'!$F$13+LEFT(O40,1)*'Criterios de Riesgo'!$F$14+LEFT(P40,1)*'Criterios de Riesgo'!$F$15),2))/5)","v":""},null,null,null,null,{"$f":"IF(COUNTA(S40:V40)<4,\"\",IF(V40=\"No\",\"No se usa\",VLOOKUP(ROUND((LEFT(S40,1)*'Criterios de Riesgo'!$C$13+LEFT(T40,1)*'Criterios de Riesgo'!$C$14+LEFT(U40,1)*'Criterios de Riesgo'!$C$15),2),Calif_Covertura,2,1)))","v":""},{"$f":"IF(COUNTA(S40:V40)<4,\"\",IF(V40=\"No\",0,(ROUND((LEFT(S40,1)*'Criterios de Riesgo'!$C$13+LEFT(T40,1)*'Criterios de Riesgo'!$C$14+LEFT(U40,1)*'Criterios de Riesgo'!$C$15),2))/5))","v":""},""]
[null,null,null,null,null,null,null,null,null,null,null,null,null,null,null,null,{"$f":"IF(COUNTA(I41:P41)<8,\"\",VLOOKUP(ROUND((LEFT(I41,1)*'Criterios de Riesgo'!$F$8+LEFT(J41,1)*'Criterios de Riesgo'!$F$9+LEFT(K41,1)*'Criterios de Riesgo'!$F$10+LEFT(L41,1)*'Criterios de Riesgo'!$F$11+LEFT(M41,1)*'Criterios de Riesgo'!$F$12+LEFT(N41,1)*'Criterios de Riesgo'!$F$13+LEFT(O41,1)*'Criterios de Riesgo'!$F$14+LEFT(P41,1)*'Criterios de Riesgo'!$F$15),2),Calif_Control,2,1))","v":""},{"$f":"IF(COUNTA(I41:P41)<8,\"\",(ROUND((LEFT(I41,1)*'Criterios de Riesgo'!$F$8+LEFT(J41,1)*'Criterios de Riesgo'!$F$9+LEFT(K41,1)*'Criterios de Riesgo'!$F$10+LEFT(L41,1)*'Criterios de Riesgo'!$F$11+LEFT(M41,1)*'Criterios de Riesgo'!$F$12+LEFT(N41,1)*'Criterios de Riesgo'!$F$13+LEFT(O41,1)*'Criterios de Riesgo'!$F$14+LEFT(P41,1)*'Criterios de Riesgo'!$F$15),2))/5)","v":""},null,null,null,null,{"$f":"IF(COUNTA(S41:V41)<4,\"\",IF(V41=\"No\",\"No se usa\",VLOOKUP(ROUND((LEFT(S41,1)*'Criterios de Riesgo'!$C$13+LEFT(T41,1)*'Criterios de Riesgo'!$C$14+LEFT(U41,1)*'Criterios de Riesgo'!$C$15),2),Calif_Covertura,2,1)))","v":""},{"$f":"IF(COUNTA(S41:V41)<4,\"\",IF(V41=\"No\",0,(ROUND((LEFT(S41,1)*'Criterios de Riesgo'!$C$13+LEFT(T41,1)*'Criterios de Riesgo'!$C$14+LEFT(U41,1)*'Criterios de Riesgo'!$C$15),2))/5))","v":""},""]
[null,null,null,null,null,null,null,null,null,null,null,null,null,null,null,null,{"$f":"IF(COUNTA(I42:P42)<8,\"\",VLOOKUP(ROUND((LEFT(I42,1)*'Criterios de Riesgo'!$F$8+LEFT(J42,1)*'Criterios de Riesgo'!$F$9+LEFT(K42,1)*'Criterios de Riesgo'!$F$10+LEFT(L42,1)*'Criterios de Riesgo'!$F$11+LEFT(M42,1)*'Criterios de Riesgo'!$F$12+LEFT(N42,1)*'Criterios de Riesgo'!$F$13+LEFT(O42,1)*'Criterios de Riesgo'!$F$14+LEFT(P42,1)*'Criterios de Riesgo'!$F$15),2),Calif_Control,2,1))","v":""},{"$f":"IF(COUNTA(I42:P42)<8,\"\",(ROUND((LEFT(I42,1)*'Criterios de Riesgo'!$F$8+LEFT(J42,1)*'Criterios de Riesgo'!$F$9+LEFT(K42,1)*'Criterios de Riesgo'!$F$10+LEFT(L42,1)*'Criterios de Riesgo'!$F$11+LEFT(M42,1)*'Criterios de Riesgo'!$F$12+LEFT(N42,1)*'Criterios de Riesgo'!$F$13+LEFT(O42,1)*'Criterios de Riesgo'!$F$14+LEFT(P42,1)*'Criterios de Riesgo'!$F$15),2))/5)","v":""},null,null,null,null,{"$f":"IF(COUNTA(S42:V42)<4,\"\",IF(V42=\"No\",\"No se usa\",VLOOKUP(ROUND((LEFT(S42,1)*'Criterios de Riesgo'!$C$13+LEFT(T42,1)*'Criterios de Riesgo'!$C$14+LEFT(U42,1)*'Criterios de Riesgo'!$C$15),2),Calif_Covertura,2,1)))","v":""},{"$f":"IF(COUNTA(S42:V42)<4,\"\",IF(V42=\"No\",0,(ROUND((LEFT(S42,1)*'Criterios de Riesgo'!$C$13+LEFT(T42,1)*'Criterios de Riesgo'!$C$14+LEFT(U42,1)*'Criterios de Riesgo'!$C$15),2))/5))","v":""},""]
[null,null,null,null,null,null,null,null,null,null,null,null,null,null,null,null,{"$f":"IF(COUNTA(I43:P43)<8,\"\",VLOOKUP(ROUND((LEFT(I43,1)*'Criterios de Riesgo'!$F$8+LEFT(J43,1)*'Criterios de Riesgo'!$F$9+LEFT(K43,1)*'Criterios de Riesgo'!$F$10+LEFT(L43,1)*'Criterios de Riesgo'!$F$11+LEFT(M43,1)*'Criterios de Riesgo'!$F$12+LEFT(N43,1)*'Criterios de Riesgo'!$F$13+LEFT(O43,1)*'Criterios de Riesgo'!$F$14+LEFT(P43,1)*'Criterios de Riesgo'!$F$15),2),Calif_Control,2,1))","v":""},{"$f":"IF(COUNTA(I43:P43)<8,\"\",(ROUND((LEFT(I43,1)*'Criterios de Riesgo'!$F$8+LEFT(J43,1)*'Criterios de Riesgo'!$F$9+LEFT(K43,1)*'Criterios de Riesgo'!$F$10+LEFT(L43,1)*'Criterios de Riesgo'!$F$11+LEFT(M43,1)*'Criterios de Riesgo'!$F$12+LEFT(N43,1)*'Criterios de Riesgo'!$F$13+LEFT(O43,1)*'Criterios de Riesgo'!$F$14+LEFT(P43,1)*'Criterios de Riesgo'!$F$15),2))/5)","v":""},null,null,null,null,{"$f":"IF(COUNTA(S43:V43)<4,\"\",IF(V43=\"No\",\"No se usa\",VLOOKUP(ROUND((LEFT(S43,1)*'Criterios de Riesgo'!$C$13+LEFT(T43,1)*'Criterios de Riesgo'!$C$14+LEFT(U43,1)*'Criterios de Riesgo'!$C$15),2),Calif_Covertura,2,1)))","v":""},{"$f":"IF(COUNTA(S43:V43)<4,\"\",IF(V43=\"No\",0,(ROUND((LEFT(S43,1)*'Criterios de Riesgo'!$C$13+LEFT(T43,1)*'Criterios de Riesgo'!$C$14+LEFT(U43,1)*'Criterios de Riesgo'!$C$15),2))/5))","v":""},""]
[null,null,null,null,null,null,null,null,null,null,null,null,null,null,null,null,{"$f":"IF(COUNTA(I44:P44)<8,\"\",VLOOKUP(ROUND((LEFT(I44,1)*'Criterios de Riesgo'!$F$8+LEFT(J44,1)*'Criterios de Riesgo'!$F$9+LEFT(K44,1)*'Criterios de Riesgo'!$F$10+LEFT(L44,1)*'Criterios de Riesgo'!$F$11+LEFT(M44,1)*'Criterios de Riesgo'!$F$12+LEFT(N44,1)*'Criterios de Riesgo'!$F$13+LEFT(O44,1)*'Criterios de Riesgo'!$F$14+LEFT(P44,1)*'Criterios de Riesgo'!$F$15),2),Calif_Control,2,1))","v":""},{"$f":"IF(COUNTA(I44:P44)<8,\"\",(ROUND((LEFT(I44,1)*'Criterios de Riesgo'!$F$8+LEFT(J44,1)*'Criterios de Riesgo'!$F$9+LEFT(K44,1)*'Criterios de Riesgo'!$F$10+LEFT(L44,1)*'Criterios de Riesgo'!$F$11+LEFT(M44,1)*'Criterios de Riesgo'!$F$12+LEFT(N44,1)*'Criterios de Riesgo'!$F$13+LEFT(O44,1)*'Criterios de Riesgo'!$F$14+LEFT(P44,1)*'Criterios de Riesgo'!$F$15),2))/5)","v":""},null,null,null,null,{"$f":"IF(COUNTA(S44:V44)<4,\"\",IF(V44=\"No\",\"No se usa\",VLOOKUP(ROUND((LEFT(S44,1)*'Criterios de Riesgo'!$C$13+LEFT(T44,1)*'Criterios de Riesgo'!$C$14+LEFT(U44,1)*'Criterios de Riesgo'!$C$15),2),Calif_Covertura,2,1)))","v":""},{"$f":"IF(COUNTA(S44:V44)<4,\"\",IF(V44=\"No\",0,(ROUND((LEFT(S44,1)*'Criterios de Riesgo'!$C$13+LEFT(T44,1)*'Criterios de Riesgo'!$C$14+LEFT(U44,1)*'Criterios de Riesgo'!$C$15),2))/5))","v":""},""]
["R",null,null,null,null,null,null,null,null,null,null,null,null,null,null,null,{"$f":"IF(COUNTA(I45:P45)<8,\"\",VLOOKUP(ROUND((LEFT(I45,1)*'Criterios de Riesgo'!$F$8+LEFT(J45,1)*'Criterios de Riesgo'!$F$9+LEFT(K45,1)*'Criterios de Riesgo'!$F$10+LEFT(L45,1)*'Criterios de Riesgo'!$F$11+LEFT(M45,1)*'Criterios de Riesgo'!$F$12+LEFT(N45,1)*'Criterios de Riesgo'!$F$13+LEFT(O45,1)*'Criterios de Riesgo'!$F$14+LEFT(P45,1)*'Criterios de Riesgo'!$F$15),2),Calif_Control,2,1))","v":""},{"$f":"IF(COUNTA(I45:P45)<8,\"\",(ROUND((LEFT(I45,1)*'Criterios de Riesgo'!$F$8+LEFT(J45,1)*'Criterios de Riesgo'!$F$9+LEFT(K45,1)*'Criterios de Riesgo'!$F$10+LEFT(L45,1)*'Criterios de Riesgo'!$F$11+LEFT(M45,1)*'Criterios de Riesgo'!$F$12+LEFT(N45,1)*'Criterios de Riesgo'!$F$13+LEFT(O45,1)*'Criterios de Riesgo'!$F$14+LEFT(P45,1)*'Criterios de Riesgo'!$F$15),2))/5)","v":""},null,null,null,null,{"$f":"IF(COUNTA(S45:V45)<4,\"\",IF(V45=\"No\",\"No se usa\",VLOOKUP(ROUND((LEFT(S45,1)*'Criterios de Riesgo'!$C$13+LEFT(T45,1)*'Criterios de Riesgo'!$C$14+LEFT(U45,1)*'Criterios de Riesgo'!$C$15),2),Calif_Covertura,2,1)))","v":""},{"$f":"IF(COUNTA(S45:V45)<4,\"\",IF(V45=\"No\",0,(ROUND((LEFT(S45,1)*'Criterios de Riesgo'!$C$13+LEFT(T45,1)*'Criterios de Riesgo'!$C$14+LEFT(U45,1)*'Criterios de Riesgo'!$C$15),2))/5))","v":""},"",null,{"$f":"IF(ISERROR((SUMIF(Z45:Z54,\"=impacto\",Y45:Y54)+SUMIF(Z45:Z54,\"=Ambos\",Y45:Y54))/(COUNTIF(Z45:Z54,\"Impacto\")+COUNTIF(Z45:Z54,\"Ambos\"))),\"\",(SUMIF(Z45:Z54,\"=impacto\",Y45:Y54)+SUMIF(Z45:Z54,\"=Ambos\",Y45:Y54))/(COUNTIF(Z45:Z54,\"Impacto\")+COUNTIF(Z45:Z54,\"Ambos\")))","v":""},{"$f":"IF(ISERROR((SUMIF(Z45:Z54,\"=Probabilidad\",Y45:Y54)+SUMIF(Z45:Z54,\"=Ambos\",Y45:Y54))/(COUNTIF(Z45:Z54,\"Probabilidad\")+COUNTIF(Z45:Z54,\"Ambos\"))),\"\",(SUMIF(Z45:Z54,\"=Probabilidad\",Y45:Y54)+SUMIF(Z45:Z54,\"=Ambos\",Y45:Y54))/(COUNTIF(Z45:Z54,\"Probabilidad\")+COUNTIF(Z45:Z54,\"Ambos\")))","v":""},{"$f":"IF(ISERROR(ROUND(IF(AB45=\"\",AA45,IF(AA45=\"\",AB45,IF(AND(AB45=\"\",AA45=\"\"),\"\",AB45*AA45)))*100,0)/100),\"\",ROUND(IF(AB45=\"\",AA45,IF(AA45=\"\",AB45,IF(AND(AB45=\"\",AA45=\"\"),\"\",AB45*AA45)))*100,0)/100)","v":""},{"$f":"IF(AC45=\"\",\"\",VLOOKUP(AC45*5,Calif_Control,2,1))","v":""}]
[null,null,null,null,null,null,null,null,null,null,null,null,null,null,null,null,{"$f":"IF(COUNTA(I46:P46)<8,\"\",VLOOKUP(ROUND((LEFT(I46,1)*'Criterios de Riesgo'!$F$8+LEFT(J46,1)*'Criterios de Riesgo'!$F$9+LEFT(K46,1)*'Criterios de Riesgo'!$F$10+LEFT(L46,1)*'Criterios de Riesgo'!$F$11+LEFT(M46,1)*'Criterios de Riesgo'!$F$12+LEFT(N46,1)*'Criterios de Riesgo'!$F$13+LEFT(O46,1)*'Criterios de Riesgo'!$F$14+LEFT(P46,1)*'Criterios de Riesgo'!$F$15),2),Calif_Control,2,1))","v":""},{"$f":"IF(COUNTA(I46:P46)<8,\"\",(ROUND((LEFT(I46,1)*'Criterios de Riesgo'!$F$8+LEFT(J46,1)*'Criterios de Riesgo'!$F$9+LEFT(K46,1)*'Criterios de Riesgo'!$F$10+LEFT(L46,1)*'Criterios de Riesgo'!$F$11+LEFT(M46,1)*'Criterios de Riesgo'!$F$12+LEFT(N46,1)*'Criterios de Riesgo'!$F$13+LEFT(O46,1)*'Criterios de Riesgo'!$F$14+LEFT(P46,1)*'Criterios de Riesgo'!$F$15),2))/5)","v":""},null,null,null,null,{"$f":"IF(COUNTA(S46:V46)<4,\"\",IF(V46=\"No\",\"No se usa\",VLOOKUP(ROUND((LEFT(S46,1)*'Criterios de Riesgo'!$C$13+LEFT(T46,1)*'Criterios de Riesgo'!$C$14+LEFT(U46,1)*'Criterios de Riesgo'!$C$15),2),Calif_Covertura,2,1)))","v":""},{"$f":"IF(COUNTA(S46:V46)<4,\"\",IF(V46=\"No\",0,(ROUND((LEFT(S46,1)*'Criterios de Riesgo'!$C$13+LEFT(T46,1)*'Criterios de Riesgo'!$C$14+LEFT(U46,1)*'Criterios de Riesgo'!$C$15),2))/5))","v":""},""]
[null,null,null,null,null,null,null,null,null,null,null,null,null,null,null,null,{"$f":"IF(COUNTA(I47:P47)<8,\"\",VLOOKUP(ROUND((LEFT(I47,1)*'Criterios de Riesgo'!$F$8+LEFT(J47,1)*'Criterios de Riesgo'!$F$9+LEFT(K47,1)*'Criterios de Riesgo'!$F$10+LEFT(L47,1)*'Criterios de Riesgo'!$F$11+LEFT(M47,1)*'Criterios de Riesgo'!$F$12+LEFT(N47,1)*'Criterios de Riesgo'!$F$13+LEFT(O47,1)*'Criterios de Riesgo'!$F$14+LEFT(P47,1)*'Criterios de Riesgo'!$F$15),2),Calif_Control,2,1))","v":""},{"$f":"IF(COUNTA(I47:P47)<8,\"\",(ROUND((LEFT(I47,1)*'Criterios de Riesgo'!$F$8+LEFT(J47,1)*'Criterios de Riesgo'!$F$9+LEFT(K47,1)*'Criterios de Riesgo'!$F$10+LEFT(L47,1)*'Criterios de Riesgo'!$F$11+LEFT(M47,1)*'Criterios de Riesgo'!$F$12+LEFT(N47,1)*'Criterios de Riesgo'!$F$13+LEFT(O47,1)*'Criterios de Riesgo'!$F$14+LEFT(P47,1)*'Criterios de Riesgo'!$F$15),2))/5)","v":""},null,null,null,null,{"$f":"IF(COUNTA(S47:V47)<4,\"\",IF(V47=\"No\",\"No se usa\",VLOOKUP(ROUND((LEFT(S47,1)*'Criterios de Riesgo'!$C$13+LEFT(T47,1)*'Criterios de Riesgo'!$C$14+LEFT(U47,1)*'Criterios de Riesgo'!$C$15),2),Calif_Covertura,2,1)))","v":""},{"$f":"IF(COUNTA(S47:V47)<4,\"\",IF(V47=\"No\",0,(ROUND((LEFT(S47,1)*'Criterios de Riesgo'!$C$13+LEFT(T47,1)*'Criterios de Riesgo'!$C$14+LEFT(U47,1)*'Criterios de Riesgo'!$C$15),2))/5))","v":""},""]
[null,null,null,null,null,null,null,null,null,null,null,null,null,null,null,null,{"$f":"IF(COUNTA(I48:P48)<8,\"\",VLOOKUP(ROUND((LEFT(I48,1)*'Criterios de Riesgo'!$F$8+LEFT(J48,1)*'Criterios de Riesgo'!$F$9+LEFT(K48,1)*'Criterios de Riesgo'!$F$10+LEFT(L48,1)*'Criterios de Riesgo'!$F$11+LEFT(M48,1)*'Criterios de Riesgo'!$F$12+LEFT(N48,1)*'Criterios de Riesgo'!$F$13+LEFT(O48,1)*'Criterios de Riesgo'!$F$14+LEFT(P48,1)*'Criterios de Riesgo'!$F$15),2),Calif_Control,2,1))","v":""},{"$f":"IF(COUNTA(I48:P48)<8,\"\",(ROUND((LEFT(I48,1)*'Criterios de Riesgo'!$F$8+LEFT(J48,1)*'Criterios de Riesgo'!$F$9+LEFT(K48,1)*'Criterios de Riesgo'!$F$10+LEFT(L48,1)*'Criterios de Riesgo'!$F$11+LEFT(M48,1)*'Criterios de Riesgo'!$F$12+LEFT(N48,1)*'Criterios de Riesgo'!$F$13+LEFT(O48,1)*'Criterios de Riesgo'!$F$14+LEFT(P48,1)*'Criterios de Riesgo'!$F$15),2))/5)","v":""},null,null,null,null,{"$f":"IF(COUNTA(S48:V48)<4,\"\",IF(V48=\"No\",\"No se usa\",VLOOKUP(ROUND((LEFT(S48,1)*'Criterios de Riesgo'!$C$13+LEFT(T48,1)*'Criterios de Riesgo'!$C$14+LEFT(U48,1)*'Criterios de Riesgo'!$C$15),2),Calif_Covertura,2,1)))","v":""},{"$f":"IF(COUNTA(S48:V48)<4,\"\",IF(V48=\"No\",0,(ROUND((LEFT(S48,1)*'Criterios de Riesgo'!$C$13+LEFT(T48,1)*'Criterios de Riesgo'!$C$14+LEFT(U48,1)*'Criterios de Riesgo'!$C$15),2))/5))","v":""},""]
[null,null,null,null,null,null,null,null,null,null,null,null,null,null,null,null,{"$f":"IF(COUNTA(I49:P49)<8,\"\",VLOOKUP(ROUND((LEFT(I49,1)*'Criterios de Riesgo'!$F$8+LEFT(J49,1)*'Criterios de Riesgo'!$F$9+LEFT(K49,1)*'Criterios de Riesgo'!$F$10+LEFT(L49,1)*'Criterios de Riesgo'!$F$11+LEFT(M49,1)*'Criterios de Riesgo'!$F$12+LEFT(N49,1)*'Criterios de Riesgo'!$F$13+LEFT(O49,1)*'Criterios de Riesgo'!$F$14+LEFT(P49,1)*'Criterios de Riesgo'!$F$15),2),Calif_Control,2,1))","v":""},{"$f":"IF(COUNTA(I49:P49)<8,\"\",(ROUND((LEFT(I49,1)*'Criterios de Riesgo'!$F$8+LEFT(J49,1)*'Criterios de Riesgo'!$F$9+LEFT(K49,1)*'Criterios de Riesgo'!$F$10+LEFT(L49,1)*'Criterios de Riesgo'!$F$11+LEFT(M49,1)*'Criterios de Riesgo'!$F$12+LEFT(N49,1)*'Criterios de Riesgo'!$F$13+LEFT(O49,1)*'Criterios de Riesgo'!$F$14+LEFT(P49,1)*'Criterios de Riesgo'!$F$15),2))/5)","v":""},null,null,null,null,{"$f":"IF(COUNTA(S49:V49)<4,\"\",IF(V49=\"No\",\"No se usa\",VLOOKUP(ROUND((LEFT(S49,1)*'Criterios de Riesgo'!$C$13+LEFT(T49,1)*'Criterios de Riesgo'!$C$14+LEFT(U49,1)*'Criterios de Riesgo'!$C$15),2),Calif_Covertura,2,1)))","v":""},{"$f":"IF(COUNTA(S49:V49)<4,\"\",IF(V49=\"No\",0,(ROUND((LEFT(S49,1)*'Criterios de Riesgo'!$C$13+LEFT(T49,1)*'Criterios de Riesgo'!$C$14+LEFT(U49,1)*'Criterios de Riesgo'!$C$15),2))/5))","v":""},""]
[null,null,null,null,null,null,null,null,null,null,null,null,null,null,null,null,{"$f":"IF(COUNTA(I50:P50)<8,\"\",VLOOKUP(ROUND((LEFT(I50,1)*'Criterios de Riesgo'!$F$8+LEFT(J50,1)*'Criterios de Riesgo'!$F$9+LEFT(K50,1)*'Criterios de Riesgo'!$F$10+LEFT(L50,1)*'Criterios de Riesgo'!$F$11+LEFT(M50,1)*'Criterios de Riesgo'!$F$12+LEFT(N50,1)*'Criterios de Riesgo'!$F$13+LEFT(O50,1)*'Criterios de Riesgo'!$F$14+LEFT(P50,1)*'Criterios de Riesgo'!$F$15),2),Calif_Control,2,1))","v":""},{"$f":"IF(COUNTA(I50:P50)<8,\"\",(ROUND((LEFT(I50,1)*'Criterios de Riesgo'!$F$8+LEFT(J50,1)*'Criterios de Riesgo'!$F$9+LEFT(K50,1)*'Criterios de Riesgo'!$F$10+LEFT(L50,1)*'Criterios de Riesgo'!$F$11+LEFT(M50,1)*'Criterios de Riesgo'!$F$12+LEFT(N50,1)*'Criterios de Riesgo'!$F$13+LEFT(O50,1)*'Criterios de Riesgo'!$F$14+LEFT(P50,1)*'Criterios de Riesgo'!$F$15),2))/5)","v":""},null,null,null,null,{"$f":"IF(COUNTA(S50:V50)<4,\"\",IF(V50=\"No\",\"No se usa\",VLOOKUP(ROUND((LEFT(S50,1)*'Criterios de Riesgo'!$C$13+LEFT(T50,1)*'Criterios de Riesgo'!$C$14+LEFT(U50,1)*'Criterios de Riesgo'!$C$15),2),Calif_Covertura,2,1)))","v":""},{"$f":"IF(COUNTA(S50:V50)<4,\"\",IF(V50=\"No\",0,(ROUND((LEFT(S50,1)*'Criterios de Riesgo'!$C$13+LEFT(T50,1)*'Criterios de Riesgo'!$C$14+LEFT(U50,1)*'Criterios de Riesgo'!$C$15),2))/5))","v":""},""]
[null,null,null,null,null,null,null,null,null,null,null,null,null,null,null,null,{"$f":"IF(COUNTA(I51:P51)<8,\"\",VLOOKUP(ROUND((LEFT(I51,1)*'Criterios de Riesgo'!$F$8+LEFT(J51,1)*'Criterios de Riesgo'!$F$9+LEFT(K51,1)*'Criterios de Riesgo'!$F$10+LEFT(L51,1)*'Criterios de Riesgo'!$F$11+LEFT(M51,1)*'Criterios de Riesgo'!$F$12+LEFT(N51,1)*'Criterios de Riesgo'!$F$13+LEFT(O51,1)*'Criterios de Riesgo'!$F$14+LEFT(P51,1)*'Criterios de Riesgo'!$F$15),2),Calif_Control,2,1))","v":""},{"$f":"IF(COUNTA(I51:P51)<8,\"\",(ROUND((LEFT(I51,1)*'Criterios de Riesgo'!$F$8+LEFT(J51,1)*'Criterios de Riesgo'!$F$9+LEFT(K51,1)*'Criterios de Riesgo'!$F$10+LEFT(L51,1)*'Criterios de Riesgo'!$F$11+LEFT(M51,1)*'Criterios de Riesgo'!$F$12+LEFT(N51,1)*'Criterios de Riesgo'!$F$13+LEFT(O51,1)*'Criterios de Riesgo'!$F$14+LEFT(P51,1)*'Criterios de Riesgo'!$F$15),2))/5)","v":""},null,null,null,null,{"$f":"IF(COUNTA(S51:V51)<4,\"\",IF(V51=\"No\",\"No se usa\",VLOOKUP(ROUND((LEFT(S51,1)*'Criterios de Riesgo'!$C$13+LEFT(T51,1)*'Criterios de Riesgo'!$C$14+LEFT(U51,1)*'Criterios de Riesgo'!$C$15),2),Calif_Covertura,2,1)))","v":""},{"$f":"IF(COUNTA(S51:V51)<4,\"\",IF(V51=\"No\",0,(ROUND((LEFT(S51,1)*'Criterios de Riesgo'!$C$13+LEFT(T51,1)*'Criterios de Riesgo'!$C$14+LEFT(U51,1)*'Criterios de Riesgo'!$C$15),2))/5))","v":""},""]
[null,null,null,null,null,null,null,null,null,null,null,null,null,null,null,null,{"$f":"IF(COUNTA(I52:P52)<8,\"\",VLOOKUP(ROUND((LEFT(I52,1)*'Criterios de Riesgo'!$F$8+LEFT(J52,1)*'Criterios de Riesgo'!$F$9+LEFT(K52,1)*'Criterios de Riesgo'!$F$10+LEFT(L52,1)*'Criterios de Riesgo'!$F$11+LEFT(M52,1)*'Criterios de Riesgo'!$F$12+LEFT(N52,1)*'Criterios de Riesgo'!$F$13+LEFT(O52,1)*'Criterios de Riesgo'!$F$14+LEFT(P52,1)*'Criterios de Riesgo'!$F$15),2),Calif_Control,2,1))","v":""},{"$f":"IF(COUNTA(I52:P52)<8,\"\",(ROUND((LEFT(I52,1)*'Criterios de Riesgo'!$F$8+LEFT(J52,1)*'Criterios de Riesgo'!$F$9+LEFT(K52,1)*'Criterios de Riesgo'!$F$10+LEFT(L52,1)*'Criterios de Riesgo'!$F$11+LEFT(M52,1)*'Criterios de Riesgo'!$F$12+LEFT(N52,1)*'Criterios de Riesgo'!$F$13+LEFT(O52,1)*'Criterios de Riesgo'!$F$14+LEFT(P52,1)*'Criterios de Riesgo'!$F$15),2))/5)","v":""},null,null,null,null,{"$f":"IF(COUNTA(S52:V52)<4,\"\",IF(V52=\"No\",\"No se usa\",VLOOKUP(ROUND((LEFT(S52,1)*'Criterios de Riesgo'!$C$13+LEFT(T52,1)*'Criterios de Riesgo'!$C$14+LEFT(U52,1)*'Criterios de Riesgo'!$C$15),2),Calif_Covertura,2,1)))","v":""},{"$f":"IF(COUNTA(S52:V52)<4,\"\",IF(V52=\"No\",0,(ROUND((LEFT(S52,1)*'Criterios de Riesgo'!$C$13+LEFT(T52,1)*'Criterios de Riesgo'!$C$14+LEFT(U52,1)*'Criterios de Riesgo'!$C$15),2))/5))","v":""},""]
[null,null,null,null,null,null,null,null,null,null,null,null,null,null,null,null,{"$f":"IF(COUNTA(I53:P53)<8,\"\",VLOOKUP(ROUND((LEFT(I53,1)*'Criterios de Riesgo'!$F$8+LEFT(J53,1)*'Criterios de Riesgo'!$F$9+LEFT(K53,1)*'Criterios de Riesgo'!$F$10+LEFT(L53,1)*'Criterios de Riesgo'!$F$11+LEFT(M53,1)*'Criterios de Riesgo'!$F$12+LEFT(N53,1)*'Criterios de Riesgo'!$F$13+LEFT(O53,1)*'Criterios de Riesgo'!$F$14+LEFT(P53,1)*'Criterios de Riesgo'!$F$15),2),Calif_Control,2,1))","v":""},{"$f":"IF(COUNTA(I53:P53)<8,\"\",(ROUND((LEFT(I53,1)*'Criterios de Riesgo'!$F$8+LEFT(J53,1)*'Criterios de Riesgo'!$F$9+LEFT(K53,1)*'Criterios de Riesgo'!$F$10+LEFT(L53,1)*'Criterios de Riesgo'!$F$11+LEFT(M53,1)*'Criterios de Riesgo'!$F$12+LEFT(N53,1)*'Criterios de Riesgo'!$F$13+LEFT(O53,1)*'Criterios de Riesgo'!$F$14+LEFT(P53,1)*'Criterios de Riesgo'!$F$15),2))/5)","v":""},null,null,null,null,{"$f":"IF(COUNTA(S53:V53)<4,\"\",IF(V53=\"No\",\"No se usa\",VLOOKUP(ROUND((LEFT(S53,1)*'Criterios de Riesgo'!$C$13+LEFT(T53,1)*'Criterios de Riesgo'!$C$14+LEFT(U53,1)*'Criterios de Riesgo'!$C$15),2),Calif_Covertura,2,1)))","v":""},{"$f":"IF(COUNTA(S53:V53)<4,\"\",IF(V53=\"No\",0,(ROUND((LEFT(S53,1)*'Criterios de Riesgo'!$C$13+LEFT(T53,1)*'Criterios de Riesgo'!$C$14+LEFT(U53,1)*'Criterios de Riesgo'!$C$15),2))/5))","v":""},""]
[null,null,null,null,null,null,null,null,null,null,null,null,null,null,null,null,{"$f":"IF(COUNTA(I54:P54)<8,\"\",VLOOKUP(ROUND((LEFT(I54,1)*'Criterios de Riesgo'!$F$8+LEFT(J54,1)*'Criterios de Riesgo'!$F$9+LEFT(K54,1)*'Criterios de Riesgo'!$F$10+LEFT(L54,1)*'Criterios de Riesgo'!$F$11+LEFT(M54,1)*'Criterios de Riesgo'!$F$12+LEFT(N54,1)*'Criterios de Riesgo'!$F$13+LEFT(O54,1)*'Criterios de Riesgo'!$F$14+LEFT(P54,1)*'Criterios de Riesgo'!$F$15),2),Calif_Control,2,1))","v":""},{"$f":"IF(COUNTA(I54:P54)<8,\"\",(ROUND((LEFT(I54,1)*'Criterios de Riesgo'!$F$8+LEFT(J54,1)*'Criterios de Riesgo'!$F$9+LEFT(K54,1)*'Criterios de Riesgo'!$F$10+LEFT(L54,1)*'Criterios de Riesgo'!$F$11+LEFT(M54,1)*'Criterios de Riesgo'!$F$12+LEFT(N54,1)*'Criterios de Riesgo'!$F$13+LEFT(O54,1)*'Criterios de Riesgo'!$F$14+LEFT(P54,1)*'Criterios de Riesgo'!$F$15),2))/5)","v":""},null,null,null,null,{"$f":"IF(COUNTA(S54:V54)<4,\"\",IF(V54=\"No\",\"No se usa\",VLOOKUP(ROUND((LEFT(S54,1)*'Criterios de Riesgo'!$C$13+LEFT(T54,1)*'Criterios de Riesgo'!$C$14+LEFT(U54,1)*'Criterios de Riesgo'!$C$15),2),Calif_Covertura,2,1)))","v":""},{"$f":"IF(COUNTA(S54:V54)<4,\"\",IF(V54=\"No\",0,(ROUND((LEFT(S54,1)*'Criterios de Riesgo'!$C$13+LEFT(T54,1)*'Criterios de Riesgo'!$C$14+LEFT(U54,1)*'Criterios de Riesgo'!$C$15),2))/5))","v":""},""]
["R",null,null,null,null,null,null,null,null,null,null,null,null,null,null,null,{"$f":"IF(COUNTA(I55:P55)<8,\"\",VLOOKUP(ROUND((LEFT(I55,1)*'Criterios de Riesgo'!$F$8+LEFT(J55,1)*'Criterios de Riesgo'!$F$9+LEFT(K55,1)*'Criterios de Riesgo'!$F$10+LEFT(L55,1)*'Criterios de Riesgo'!$F$11+LEFT(M55,1)*'Criterios de Riesgo'!$F$12+LEFT(N55,1)*'Criterios de Riesgo'!$F$13+LEFT(O55,1)*'Criterios de Riesgo'!$F$14+LEFT(P55,1)*'Criterios de Riesgo'!$F$15),2),Calif_Control,2,1))","v":""},{"$f":"IF(COUNTA(I55:P55)<8,\"\",(ROUND((LEFT(I55,1)*'Criterios de Riesgo'!$F$8+LEFT(J55,1)*'Criterios de Riesgo'!$F$9+LEFT(K55,1)*'Criterios de Riesgo'!$F$10+LEFT(L55,1)*'Criterios de Riesgo'!$F$11+LEFT(M55,1)*'Criterios de Riesgo'!$F$12+LEFT(N55,1)*'Criterios de Riesgo'!$F$13+LEFT(O55,1)*'Criterios de Riesgo'!$F$14+LEFT(P55,1)*'Criterios de Riesgo'!$F$15),2))/5)","v":""},null,null,null,null,{"$f":"IF(COUNTA(S55:V55)<4,\"\",IF(V55=\"No\",\"No se usa\",VLOOKUP(ROUND((LEFT(S55,1)*'Criterios de Riesgo'!$C$13+LEFT(T55,1)*'Criterios de Riesgo'!$C$14+LEFT(U55,1)*'Criterios de Riesgo'!$C$15),2),Calif_Covertura,2,1)))","v":""},{"$f":"IF(COUNTA(S55:V55)<4,\"\",IF(V55=\"No\",0,(ROUND((LEFT(S55,1)*'Criterios de Riesgo'!$C$13+LEFT(T55,1)*'Criterios de Riesgo'!$C$14+LEFT(U55,1)*'Criterios de Riesgo'!$C$15),2))/5))","v":""},"",null,{"$f":"IF(ISERROR((SUMIF(Z55:Z64,\"=impacto\",Y55:Y64)+SUMIF(Z55:Z64,\"=Ambos\",Y55:Y64))/(COUNTIF(Z55:Z64,\"Impacto\")+COUNTIF(Z55:Z64,\"Ambos\"))),\"\",(SUMIF(Z55:Z64,\"=impacto\",Y55:Y64)+SUMIF(Z55:Z64,\"=Ambos\",Y55:Y64))/(COUNTIF(Z55:Z64,\"Impacto\")+COUNTIF(Z55:Z64,\"Ambos\")))","v":""},{"$f":"IF(ISERROR((SUMIF(Z55:Z64,\"=Probabilidad\",Y55:Y64)+SUMIF(Z55:Z64,\"=Ambos\",Y55:Y64))/(COUNTIF(Z55:Z64,\"Probabilidad\")+COUNTIF(Z55:Z64,\"Ambos\"))),\"\",(SUMIF(Z55:Z64,\"=Probabilidad\",Y55:Y64)+SUMIF(Z55:Z64,\"=Ambos\",Y55:Y64))/(COUNTIF(Z55:Z64,\"Probabilidad\")+COUNTIF(Z55:Z64,\"Ambos\")))","v":""},{"$f":"IF(ISERROR(ROUND(IF(AB55=\"\",AA55,IF(AA55=\"\",AB55,IF(AND(AB55=\"\",AA55=\"\"),\"\",AB55*AA55)))*100,0)/100),\"\",ROUND(IF(AB55=\"\",AA55,IF(AA55=\"\",AB55,IF(AND(AB55=\"\",AA55=\"\"),\"\",AB55*AA55)))*100,0)/100)","v":""},{"$f":"IF(AC55=\"\",\"\",VLOOKUP(AC55*5,Calif_Control,2,1))","v":""}]
[null,null,null,null,null,null,null,null,null,null,null,null,null,null,null,null,{"$f":"IF(COUNTA(I56:P56)<8,\"\",VLOOKUP(ROUND((LEFT(I56,1)*'Criterios de Riesgo'!$F$8+LEFT(J56,1)*'Criterios de Riesgo'!$F$9+LEFT(K56,1)*'Criterios de Riesgo'!$F$10+LEFT(L56,1)*'Criterios de Riesgo'!$F$11+LEFT(M56,1)*'Criterios de Riesgo'!$F$12+LEFT(N56,1)*'Criterios de Riesgo'!$F$13+LEFT(O56,1)*'Criterios de Riesgo'!$F$14+LEFT(P56,1)*'Criterios de Riesgo'!$F$15),2),Calif_Control,2,1))","v":""},{"$f":"IF(COUNTA(I56:P56)<8,\"\",(ROUND((LEFT(I56,1)*'Criterios de Riesgo'!$F$8+LEFT(J56,1)*'Criterios de Riesgo'!$F$9+LEFT(K56,1)*'Criterios de Riesgo'!$F$10+LEFT(L56,1)*'Criterios de Riesgo'!$F$11+LEFT(M56,1)*'Criterios de Riesgo'!$F$12+LEFT(N56,1)*'Criterios de Riesgo'!$F$13+LEFT(O56,1)*'Criterios de Riesgo'!$F$14+LEFT(P56,1)*'Criterios de Riesgo'!$F$15),2))/5)","v":""},null,null,null,null,{"$f":"IF(COUNTA(S56:V56)<4,\"\",IF(V56=\"No\",\"No se usa\",VLOOKUP(ROUND((LEFT(S56,1)*'Criterios de Riesgo'!$C$13+LEFT(T56,1)*'Criterios de Riesgo'!$C$14+LEFT(U56,1)*'Criterios de Riesgo'!$C$15),2),Calif_Covertura,2,1)))","v":""},{"$f":"IF(COUNTA(S56:V56)<4,\"\",IF(V56=\"No\",0,(ROUND((LEFT(S56,1)*'Criterios de Riesgo'!$C$13+LEFT(T56,1)*'Criterios de Riesgo'!$C$14+LEFT(U56,1)*'Criterios de Riesgo'!$C$15),2))/5))","v":""},""]
[null,null,null,null,null,null,null,null,null,null,null,null,null,null,null,null,{"$f":"IF(COUNTA(I57:P57)<8,\"\",VLOOKUP(ROUND((LEFT(I57,1)*'Criterios de Riesgo'!$F$8+LEFT(J57,1)*'Criterios de Riesgo'!$F$9+LEFT(K57,1)*'Criterios de Riesgo'!$F$10+LEFT(L57,1)*'Criterios de Riesgo'!$F$11+LEFT(M57,1)*'Criterios de Riesgo'!$F$12+LEFT(N57,1)*'Criterios de Riesgo'!$F$13+LEFT(O57,1)*'Criterios de Riesgo'!$F$14+LEFT(P57,1)*'Criterios de Riesgo'!$F$15),2),Calif_Control,2,1))","v":""},{"$f":"IF(COUNTA(I57:P57)<8,\"\",(ROUND((LEFT(I57,1)*'Criterios de Riesgo'!$F$8+LEFT(J57,1)*'Criterios de Riesgo'!$F$9+LEFT(K57,1)*'Criterios de Riesgo'!$F$10+LEFT(L57,1)*'Criterios de Riesgo'!$F$11+LEFT(M57,1)*'Criterios de Riesgo'!$F$12+LEFT(N57,1)*'Criterios de Riesgo'!$F$13+LEFT(O57,1)*'Criterios de Riesgo'!$F$14+LEFT(P57,1)*'Criterios de Riesgo'!$F$15),2))/5)","v":""},null,null,null,null,{"$f":"IF(COUNTA(S57:V57)<4,\"\",IF(V57=\"No\",\"No se usa\",VLOOKUP(ROUND((LEFT(S57,1)*'Criterios de Riesgo'!$C$13+LEFT(T57,1)*'Criterios de Riesgo'!$C$14+LEFT(U57,1)*'Criterios de Riesgo'!$C$15),2),Calif_Covertura,2,1)))","v":""},{"$f":"IF(COUNTA(S57:V57)<4,\"\",IF(V57=\"No\",0,(ROUND((LEFT(S57,1)*'Criterios de Riesgo'!$C$13+LEFT(T57,1)*'Criterios de Riesgo'!$C$14+LEFT(U57,1)*'Criterios de Riesgo'!$C$15),2))/5))","v":""},""]
[null,null,null,null,null,null,null,null,null,null,null,null,null,null,null,null,{"$f":"IF(COUNTA(I58:P58)<8,\"\",VLOOKUP(ROUND((LEFT(I58,1)*'Criterios de Riesgo'!$F$8+LEFT(J58,1)*'Criterios de Riesgo'!$F$9+LEFT(K58,1)*'Criterios de Riesgo'!$F$10+LEFT(L58,1)*'Criterios de Riesgo'!$F$11+LEFT(M58,1)*'Criterios de Riesgo'!$F$12+LEFT(N58,1)*'Criterios de Riesgo'!$F$13+LEFT(O58,1)*'Criterios de Riesgo'!$F$14+LEFT(P58,1)*'Criterios de Riesgo'!$F$15),2),Calif_Control,2,1))","v":""},{"$f":"IF(COUNTA(I58:P58)<8,\"\",(ROUND((LEFT(I58,1)*'Criterios de Riesgo'!$F$8+LEFT(J58,1)*'Criterios de Riesgo'!$F$9+LEFT(K58,1)*'Criterios de Riesgo'!$F$10+LEFT(L58,1)*'Criterios de Riesgo'!$F$11+LEFT(M58,1)*'Criterios de Riesgo'!$F$12+LEFT(N58,1)*'Criterios de Riesgo'!$F$13+LEFT(O58,1)*'Criterios de Riesgo'!$F$14+LEFT(P58,1)*'Criterios de Riesgo'!$F$15),2))/5)","v":""},null,null,null,null,{"$f":"IF(COUNTA(S58:V58)<4,\"\",IF(V58=\"No\",\"No se usa\",VLOOKUP(ROUND((LEFT(S58,1)*'Criterios de Riesgo'!$C$13+LEFT(T58,1)*'Criterios de Riesgo'!$C$14+LEFT(U58,1)*'Criterios de Riesgo'!$C$15),2),Calif_Covertura,2,1)))","v":""},{"$f":"IF(COUNTA(S58:V58)<4,\"\",IF(V58=\"No\",0,(ROUND((LEFT(S58,1)*'Criterios de Riesgo'!$C$13+LEFT(T58,1)*'Criterios de Riesgo'!$C$14+LEFT(U58,1)*'Criterios de Riesgo'!$C$15),2))/5))","v":""},""]
[null,null,null,null,null,null,null,null,null,null,null,null,null,null,null,null,{"$f":"IF(COUNTA(I59:P59)<8,\"\",VLOOKUP(ROUND((LEFT(I59,1)*'Criterios de Riesgo'!$F$8+LEFT(J59,1)*'Criterios de Riesgo'!$F$9+LEFT(K59,1)*'Criterios de Riesgo'!$F$10+LEFT(L59,1)*'Criterios de Riesgo'!$F$11+LEFT(M59,1)*'Criterios de Riesgo'!$F$12+LEFT(N59,1)*'Criterios de Riesgo'!$F$13+LEFT(O59,1)*'Criterios de Riesgo'!$F$14+LEFT(P59,1)*'Criterios de Riesgo'!$F$15),2),Calif_Control,2,1))","v":""},{"$f":"IF(COUNTA(I59:P59)<8,\"\",(ROUND((LEFT(I59,1)*'Criterios de Riesgo'!$F$8+LEFT(J59,1)*'Criterios de Riesgo'!$F$9+LEFT(K59,1)*'Criterios de Riesgo'!$F$10+LEFT(L59,1)*'Criterios de Riesgo'!$F$11+LEFT(M59,1)*'Criterios de Riesgo'!$F$12+LEFT(N59,1)*'Criterios de Riesgo'!$F$13+LEFT(O59,1)*'Criterios de Riesgo'!$F$14+LEFT(P59,1)*'Criterios de Riesgo'!$F$15),2))/5)","v":""},null,null,null,null,{"$f":"IF(COUNTA(S59:V59)<4,\"\",IF(V59=\"No\",\"No se usa\",VLOOKUP(ROUND((LEFT(S59,1)*'Criterios de Riesgo'!$C$13+LEFT(T59,1)*'Criterios de Riesgo'!$C$14+LEFT(U59,1)*'Criterios de Riesgo'!$C$15),2),Calif_Covertura,2,1)))","v":""},{"$f":"IF(COUNTA(S59:V59)<4,\"\",IF(V59=\"No\",0,(ROUND((LEFT(S59,1)*'Criterios de Riesgo'!$C$13+LEFT(T59,1)*'Criterios de Riesgo'!$C$14+LEFT(U59,1)*'Criterios de Riesgo'!$C$15),2))/5))","v":""},""]
[null,null,null,null,null,null,null,null,null,null,null,null,null,null,null,null,{"$f":"IF(COUNTA(I60:P60)<8,\"\",VLOOKUP(ROUND((LEFT(I60,1)*'Criterios de Riesgo'!$F$8+LEFT(J60,1)*'Criterios de Riesgo'!$F$9+LEFT(K60,1)*'Criterios de Riesgo'!$F$10+LEFT(L60,1)*'Criterios de Riesgo'!$F$11+LEFT(M60,1)*'Criterios de Riesgo'!$F$12+LEFT(N60,1)*'Criterios de Riesgo'!$F$13+LEFT(O60,1)*'Criterios de Riesgo'!$F$14+LEFT(P60,1)*'Criterios de Riesgo'!$F$15),2),Calif_Control,2,1))","v":""},{"$f":"IF(COUNTA(I60:P60)<8,\"\",(ROUND((LEFT(I60,1)*'Criterios de Riesgo'!$F$8+LEFT(J60,1)*'Criterios de Riesgo'!$F$9+LEFT(K60,1)*'Criterios de Riesgo'!$F$10+LEFT(L60,1)*'Criterios de Riesgo'!$F$11+LEFT(M60,1)*'Criterios de Riesgo'!$F$12+LEFT(N60,1)*'Criterios de Riesgo'!$F$13+LEFT(O60,1)*'Criterios de Riesgo'!$F$14+LEFT(P60,1)*'Criterios de Riesgo'!$F$15),2))/5)","v":""},null,null,null,null,{"$f":"IF(COUNTA(S60:V60)<4,\"\",IF(V60=\"No\",\"No se usa\",VLOOKUP(ROUND((LEFT(S60,1)*'Criterios de Riesgo'!$C$13+LEFT(T60,1)*'Criterios de Riesgo'!$C$14+LEFT(U60,1)*'Criterios de Riesgo'!$C$15),2),Calif_Covertura,2,1)))","v":""},{"$f":"IF(COUNTA(S60:V60)<4,\"\",IF(V60=\"No\",0,(ROUND((LEFT(S60,1)*'Criterios de Riesgo'!$C$13+LEFT(T60,1)*'Criterios de Riesgo'!$C$14+LEFT(U60,1)*'Criterios de Riesgo'!$C$15),2))/5))","v":""},""]
[null,null,null,null,null,null,null,null,null,null,null,null,null,null,null,null,{"$f":"IF(COUNTA(I61:P61)<8,\"\",VLOOKUP(ROUND((LEFT(I61,1)*'Criterios de Riesgo'!$F$8+LEFT(J61,1)*'Criterios de Riesgo'!$F$9+LEFT(K61,1)*'Criterios de Riesgo'!$F$10+LEFT(L61,1)*'Criterios de Riesgo'!$F$11+LEFT(M61,1)*'Criterios de Riesgo'!$F$12+LEFT(N61,1)*'Criterios de Riesgo'!$F$13+LEFT(O61,1)*'Criterios de Riesgo'!$F$14+LEFT(P61,1)*'Criterios de Riesgo'!$F$15),2),Calif_Control,2,1))","v":""},{"$f":"IF(COUNTA(I61:P61)<8,\"\",(ROUND((LEFT(I61,1)*'Criterios de Riesgo'!$F$8+LEFT(J61,1)*'Criterios de Riesgo'!$F$9+LEFT(K61,1)*'Criterios de Riesgo'!$F$10+LEFT(L61,1)*'Criterios de Riesgo'!$F$11+LEFT(M61,1)*'Criterios de Riesgo'!$F$12+LEFT(N61,1)*'Criterios de Riesgo'!$F$13+LEFT(O61,1)*'Criterios de Riesgo'!$F$14+LEFT(P61,1)*'Criterios de Riesgo'!$F$15),2))/5)","v":""},null,null,null,null,{"$f":"IF(COUNTA(S61:V61)<4,\"\",IF(V61=\"No\",\"No se usa\",VLOOKUP(ROUND((LEFT(S61,1)*'Criterios de Riesgo'!$C$13+LEFT(T61,1)*'Criterios de Riesgo'!$C$14+LEFT(U61,1)*'Criterios de Riesgo'!$C$15),2),Calif_Covertura,2,1)))","v":""},{"$f":"IF(COUNTA(S61:V61)<4,\"\",IF(V61=\"No\",0,(ROUND((LEFT(S61,1)*'Criterios de Riesgo'!$C$13+LEFT(T61,1)*'Criterios de Riesgo'!$C$14+LEFT(U61,1)*'Criterios de Riesgo'!$C$15),2))/5))","v":""},""]
[null,null,null,null,null,null,null,null,null,null,null,null,null,null,null,null,{"$f":"IF(COUNTA(I62:P62)<8,\"\",VLOOKUP(ROUND((LEFT(I62,1)*'Criterios de Riesgo'!$F$8+LEFT(J62,1)*'Criterios de Riesgo'!$F$9+LEFT(K62,1)*'Criterios de Riesgo'!$F$10+LEFT(L62,1)*'Criterios de Riesgo'!$F$11+LEFT(M62,1)*'Criterios de Riesgo'!$F$12+LEFT(N62,1)*'Criterios de Riesgo'!$F$13+LEFT(O62,1)*'Criterios de Riesgo'!$F$14+LEFT(P62,1)*'Criterios de Riesgo'!$F$15),2),Calif_Control,2,1))","v":""},{"$f":"IF(COUNTA(I62:P62)<8,\"\",(ROUND((LEFT(I62,1)*'Criterios de Riesgo'!$F$8+LEFT(J62,1)*'Criterios de Riesgo'!$F$9+LEFT(K62,1)*'Criterios de Riesgo'!$F$10+LEFT(L62,1)*'Criterios de Riesgo'!$F$11+LEFT(M62,1)*'Criterios de Riesgo'!$F$12+LEFT(N62,1)*'Criterios de Riesgo'!$F$13+LEFT(O62,1)*'Criterios de Riesgo'!$F$14+LEFT(P62,1)*'Criterios de Riesgo'!$F$15),2))/5)","v":""},null,null,null,null,{"$f":"IF(COUNTA(S62:V62)<4,\"\",IF(V62=\"No\",\"No se usa\",VLOOKUP(ROUND((LEFT(S62,1)*'Criterios de Riesgo'!$C$13+LEFT(T62,1)*'Criterios de Riesgo'!$C$14+LEFT(U62,1)*'Criterios de Riesgo'!$C$15),2),Calif_Covertura,2,1)))","v":""},{"$f":"IF(COUNTA(S62:V62)<4,\"\",IF(V62=\"No\",0,(ROUND((LEFT(S62,1)*'Criterios de Riesgo'!$C$13+LEFT(T62,1)*'Criterios de Riesgo'!$C$14+LEFT(U62,1)*'Criterios de Riesgo'!$C$15),2))/5))","v":""},""]
[null,null,null,null,null,null,null,null,null,null,null,null,null,null,null,null,{"$f":"IF(COUNTA(I63:P63)<8,\"\",VLOOKUP(ROUND((LEFT(I63,1)*'Criterios de Riesgo'!$F$8+LEFT(J63,1)*'Criterios de Riesgo'!$F$9+LEFT(K63,1)*'Criterios de Riesgo'!$F$10+LEFT(L63,1)*'Criterios de Riesgo'!$F$11+LEFT(M63,1)*'Criterios de Riesgo'!$F$12+LEFT(N63,1)*'Criterios de Riesgo'!$F$13+LEFT(O63,1)*'Criterios de Riesgo'!$F$14+LEFT(P63,1)*'Criterios de Riesgo'!$F$15),2),Calif_Control,2,1))","v":""},{"$f":"IF(COUNTA(I63:P63)<8,\"\",(ROUND((LEFT(I63,1)*'Criterios de Riesgo'!$F$8+LEFT(J63,1)*'Criterios de Riesgo'!$F$9+LEFT(K63,1)*'Criterios de Riesgo'!$F$10+LEFT(L63,1)*'Criterios de Riesgo'!$F$11+LEFT(M63,1)*'Criterios de Riesgo'!$F$12+LEFT(N63,1)*'Criterios de Riesgo'!$F$13+LEFT(O63,1)*'Criterios de Riesgo'!$F$14+LEFT(P63,1)*'Criterios de Riesgo'!$F$15),2))/5)","v":""},null,null,null,null,{"$f":"IF(COUNTA(S63:V63)<4,\"\",IF(V63=\"No\",\"No se usa\",VLOOKUP(ROUND((LEFT(S63,1)*'Criterios de Riesgo'!$C$13+LEFT(T63,1)*'Criterios de Riesgo'!$C$14+LEFT(U63,1)*'Criterios de Riesgo'!$C$15),2),Calif_Covertura,2,1)))","v":""},{"$f":"IF(COUNTA(S63:V63)<4,\"\",IF(V63=\"No\",0,(ROUND((LEFT(S63,1)*'Criterios de Riesgo'!$C$13+LEFT(T63,1)*'Criterios de Riesgo'!$C$14+LEFT(U63,1)*'Criterios de Riesgo'!$C$15),2))/5))","v":""},""]
[null,null,null,null,null,null,null,null,null,null,null,null,null,null,null,null,{"$f":"IF(COUNTA(I64:P64)<8,\"\",VLOOKUP(ROUND((LEFT(I64,1)*'Criterios de Riesgo'!$F$8+LEFT(J64,1)*'Criterios de Riesgo'!$F$9+LEFT(K64,1)*'Criterios de Riesgo'!$F$10+LEFT(L64,1)*'Criterios de Riesgo'!$F$11+LEFT(M64,1)*'Criterios de Riesgo'!$F$12+LEFT(N64,1)*'Criterios de Riesgo'!$F$13+LEFT(O64,1)*'Criterios de Riesgo'!$F$14+LEFT(P64,1)*'Criterios de Riesgo'!$F$15),2),Calif_Control,2,1))","v":""},{"$f":"IF(COUNTA(I64:P64)<8,\"\",(ROUND((LEFT(I64,1)*'Criterios de Riesgo'!$F$8+LEFT(J64,1)*'Criterios de Riesgo'!$F$9+LEFT(K64,1)*'Criterios de Riesgo'!$F$10+LEFT(L64,1)*'Criterios de Riesgo'!$F$11+LEFT(M64,1)*'Criterios de Riesgo'!$F$12+LEFT(N64,1)*'Criterios de Riesgo'!$F$13+LEFT(O64,1)*'Criterios de Riesgo'!$F$14+LEFT(P64,1)*'Criterios de Riesgo'!$F$15),2))/5)","v":""},null,null,null,null,{"$f":"IF(COUNTA(S64:V64)<4,\"\",IF(V64=\"No\",\"No se usa\",VLOOKUP(ROUND((LEFT(S64,1)*'Criterios de Riesgo'!$C$13+LEFT(T64,1)*'Criterios de Riesgo'!$C$14+LEFT(U64,1)*'Criterios de Riesgo'!$C$15),2),Calif_Covertura,2,1)))","v":""},{"$f":"IF(COUNTA(S64:V64)<4,\"\",IF(V64=\"No\",0,(ROUND((LEFT(S64,1)*'Criterios de Riesgo'!$C$13+LEFT(T64,1)*'Criterios de Riesgo'!$C$14+LEFT(U64,1)*'Criterios de Riesgo'!$C$15),2))/5))","v":""},""]
["R",null,null,null,null,null,null,null,null,null,null,null,null,null,null,null,{"$f":"IF(COUNTA(I65:P65)<8,\"\",VLOOKUP(ROUND((LEFT(I65,1)*'Criterios de Riesgo'!$F$8+LEFT(J65,1)*'Criterios de Riesgo'!$F$9+LEFT(K65,1)*'Criterios de Riesgo'!$F$10+LEFT(L65,1)*'Criterios de Riesgo'!$F$11+LEFT(M65,1)*'Criterios de Riesgo'!$F$12+LEFT(N65,1)*'Criterios de Riesgo'!$F$13+LEFT(O65,1)*'Criterios de Riesgo'!$F$14+LEFT(P65,1)*'Criterios de Riesgo'!$F$15),2),Calif_Control,2,1))","v":""},{"$f":"IF(COUNTA(I65:P65)<8,\"\",(ROUND((LEFT(I65,1)*'Criterios de Riesgo'!$F$8+LEFT(J65,1)*'Criterios de Riesgo'!$F$9+LEFT(K65,1)*'Criterios de Riesgo'!$F$10+LEFT(L65,1)*'Criterios de Riesgo'!$F$11+LEFT(M65,1)*'Criterios de Riesgo'!$F$12+LEFT(N65,1)*'Criterios de Riesgo'!$F$13+LEFT(O65,1)*'Criterios de Riesgo'!$F$14+LEFT(P65,1)*'Criterios de Riesgo'!$F$15),2))/5)","v":""},null,null,null,null,{"$f":"IF(COUNTA(S65:V65)<4,\"\",IF(V65=\"No\",\"No se usa\",VLOOKUP(ROUND((LEFT(S65,1)*'Criterios de Riesgo'!$C$13+LEFT(T65,1)*'Criterios de Riesgo'!$C$14+LEFT(U65,1)*'Criterios de Riesgo'!$C$15),2),Calif_Covertura,2,1)))","v":""},{"$f":"IF(COUNTA(S65:V65)<4,\"\",IF(V65=\"No\",0,(ROUND((LEFT(S65,1)*'Criterios de Riesgo'!$C$13+LEFT(T65,1)*'Criterios de Riesgo'!$C$14+LEFT(U65,1)*'Criterios de Riesgo'!$C$15),2))/5))","v":""},"",null,{"$f":"IF(ISERROR((SUMIF(Z65:Z74,\"=impacto\",Y65:Y74)+SUMIF(Z65:Z74,\"=Ambos\",Y65:Y74))/(COUNTIF(Z65:Z74,\"Impacto\")+COUNTIF(Z65:Z74,\"Ambos\"))),\"\",(SUMIF(Z65:Z74,\"=impacto\",Y65:Y74)+SUMIF(Z65:Z74,\"=Ambos\",Y65:Y74))/(COUNTIF(Z65:Z74,\"Impacto\")+COUNTIF(Z65:Z74,\"Ambos\")))","v":""},{"$f":"IF(ISERROR((SUMIF(Z65:Z74,\"=Probabilidad\",Y65:Y74)+SUMIF(Z65:Z74,\"=Ambos\",Y65:Y74))/(COUNTIF(Z65:Z74,\"Probabilidad\")+COUNTIF(Z65:Z74,\"Ambos\"))),\"\",(SUMIF(Z65:Z74,\"=Probabilidad\",Y65:Y74)+SUMIF(Z65:Z74,\"=Ambos\",Y65:Y74))/(COUNTIF(Z65:Z74,\"Probabilidad\")+COUNTIF(Z65:Z74,\"Ambos\")))","v":""},{"$f":"IF(ISERROR(ROUND(IF(AB65=\"\",AA65,IF(AA65=\"\",AB65,IF(AND(AB65=\"\",AA65=\"\"),\"\",AB65*AA65)))*100,0)/100),\"\",ROUND(IF(AB65=\"\",AA65,IF(AA65=\"\",AB65,IF(AND(AB65=\"\",AA65=\"\"),\"\",AB65*AA65)))*100,0)/100)","v":""},{"$f":"IF(AC65=\"\",\"\",VLOOKUP(AC65*5,Calif_Control,2,1))","v":""}]
[null,null,null,null,null,null,null,null,null,null,null,null,null,null,null,null,{"$f":"IF(COUNTA(I66:P66)<8,\"\",VLOOKUP(ROUND((LEFT(I66,1)*'Criterios de Riesgo'!$F$8+LEFT(J66,1)*'Criterios de Riesgo'!$F$9+LEFT(K66,1)*'Criterios de Riesgo'!$F$10+LEFT(L66,1)*'Criterios de Riesgo'!$F$11+LEFT(M66,1)*'Criterios de Riesgo'!$F$12+LEFT(N66,1)*'Criterios de Riesgo'!$F$13+LEFT(O66,1)*'Criterios de Riesgo'!$F$14+LEFT(P66,1)*'Criterios de Riesgo'!$F$15),2),Calif_Control,2,1))","v":""},{"$f":"IF(COUNTA(I66:P66)<8,\"\",(ROUND((LEFT(I66,1)*'Criterios de Riesgo'!$F$8+LEFT(J66,1)*'Criterios de Riesgo'!$F$9+LEFT(K66,1)*'Criterios de Riesgo'!$F$10+LEFT(L66,1)*'Criterios de Riesgo'!$F$11+LEFT(M66,1)*'Criterios de Riesgo'!$F$12+LEFT(N66,1)*'Criterios de Riesgo'!$F$13+LEFT(O66,1)*'Criterios de Riesgo'!$F$14+LEFT(P66,1)*'Criterios de Riesgo'!$F$15),2))/5)","v":""},null,null,null,null,{"$f":"IF(COUNTA(S66:V66)<4,\"\",IF(V66=\"No\",\"No se usa\",VLOOKUP(ROUND((LEFT(S66,1)*'Criterios de Riesgo'!$C$13+LEFT(T66,1)*'Criterios de Riesgo'!$C$14+LEFT(U66,1)*'Criterios de Riesgo'!$C$15),2),Calif_Covertura,2,1)))","v":""},{"$f":"IF(COUNTA(S66:V66)<4,\"\",IF(V66=\"No\",0,(ROUND((LEFT(S66,1)*'Criterios de Riesgo'!$C$13+LEFT(T66,1)*'Criterios de Riesgo'!$C$14+LEFT(U66,1)*'Criterios de Riesgo'!$C$15),2))/5))","v":""},""]
[null,null,null,null,null,null,null,null,null,null,null,null,null,null,null,null,{"$f":"IF(COUNTA(I67:P67)<8,\"\",VLOOKUP(ROUND((LEFT(I67,1)*'Criterios de Riesgo'!$F$8+LEFT(J67,1)*'Criterios de Riesgo'!$F$9+LEFT(K67,1)*'Criterios de Riesgo'!$F$10+LEFT(L67,1)*'Criterios de Riesgo'!$F$11+LEFT(M67,1)*'Criterios de Riesgo'!$F$12+LEFT(N67,1)*'Criterios de Riesgo'!$F$13+LEFT(O67,1)*'Criterios de Riesgo'!$F$14+LEFT(P67,1)*'Criterios de Riesgo'!$F$15),2),Calif_Control,2,1))","v":""},{"$f":"IF(COUNTA(I67:P67)<8,\"\",(ROUND((LEFT(I67,1)*'Criterios de Riesgo'!$F$8+LEFT(J67,1)*'Criterios de Riesgo'!$F$9+LEFT(K67,1)*'Criterios de Riesgo'!$F$10+LEFT(L67,1)*'Criterios de Riesgo'!$F$11+LEFT(M67,1)*'Criterios de Riesgo'!$F$12+LEFT(N67,1)*'Criterios de Riesgo'!$F$13+LEFT(O67,1)*'Criterios de Riesgo'!$F$14+LEFT(P67,1)*'Criterios de Riesgo'!$F$15),2))/5)","v":""},null,null,null,null,{"$f":"IF(COUNTA(S67:V67)<4,\"\",IF(V67=\"No\",\"No se usa\",VLOOKUP(ROUND((LEFT(S67,1)*'Criterios de Riesgo'!$C$13+LEFT(T67,1)*'Criterios de Riesgo'!$C$14+LEFT(U67,1)*'Criterios de Riesgo'!$C$15),2),Calif_Covertura,2,1)))","v":""},{"$f":"IF(COUNTA(S67:V67)<4,\"\",IF(V67=\"No\",0,(ROUND((LEFT(S67,1)*'Criterios de Riesgo'!$C$13+LEFT(T67,1)*'Criterios de Riesgo'!$C$14+LEFT(U67,1)*'Criterios de Riesgo'!$C$15),2))/5))","v":""},""]
[null,null,null,null,null,null,null,null,null,null,null,null,null,null,null,null,{"$f":"IF(COUNTA(I68:P68)<8,\"\",VLOOKUP(ROUND((LEFT(I68,1)*'Criterios de Riesgo'!$F$8+LEFT(J68,1)*'Criterios de Riesgo'!$F$9+LEFT(K68,1)*'Criterios de Riesgo'!$F$10+LEFT(L68,1)*'Criterios de Riesgo'!$F$11+LEFT(M68,1)*'Criterios de Riesgo'!$F$12+LEFT(N68,1)*'Criterios de Riesgo'!$F$13+LEFT(O68,1)*'Criterios de Riesgo'!$F$14+LEFT(P68,1)*'Criterios de Riesgo'!$F$15),2),Calif_Control,2,1))","v":""},{"$f":"IF(COUNTA(I68:P68)<8,\"\",(ROUND((LEFT(I68,1)*'Criterios de Riesgo'!$F$8+LEFT(J68,1)*'Criterios de Riesgo'!$F$9+LEFT(K68,1)*'Criterios de Riesgo'!$F$10+LEFT(L68,1)*'Criterios de Riesgo'!$F$11+LEFT(M68,1)*'Criterios de Riesgo'!$F$12+LEFT(N68,1)*'Criterios de Riesgo'!$F$13+LEFT(O68,1)*'Criterios de Riesgo'!$F$14+LEFT(P68,1)*'Criterios de Riesgo'!$F$15),2))/5)","v":""},null,null,null,null,{"$f":"IF(COUNTA(S68:V68)<4,\"\",IF(V68=\"No\",\"No se usa\",VLOOKUP(ROUND((LEFT(S68,1)*'Criterios de Riesgo'!$C$13+LEFT(T68,1)*'Criterios de Riesgo'!$C$14+LEFT(U68,1)*'Criterios de Riesgo'!$C$15),2),Calif_Covertura,2,1)))","v":""},{"$f":"IF(COUNTA(S68:V68)<4,\"\",IF(V68=\"No\",0,(ROUND((LEFT(S68,1)*'Criterios de Riesgo'!$C$13+LEFT(T68,1)*'Criterios de Riesgo'!$C$14+LEFT(U68,1)*'Criterios de Riesgo'!$C$15),2))/5))","v":""},""]
[null,null,null,null,null,null,null,null,null,null,null,null,null,null,null,null,{"$f":"IF(COUNTA(I69:P69)<8,\"\",VLOOKUP(ROUND((LEFT(I69,1)*'Criterios de Riesgo'!$F$8+LEFT(J69,1)*'Criterios de Riesgo'!$F$9+LEFT(K69,1)*'Criterios de Riesgo'!$F$10+LEFT(L69,1)*'Criterios de Riesgo'!$F$11+LEFT(M69,1)*'Criterios de Riesgo'!$F$12+LEFT(N69,1)*'Criterios de Riesgo'!$F$13+LEFT(O69,1)*'Criterios de Riesgo'!$F$14+LEFT(P69,1)*'Criterios de Riesgo'!$F$15),2),Calif_Control,2,1))","v":""},{"$f":"IF(COUNTA(I69:P69)<8,\"\",(ROUND((LEFT(I69,1)*'Criterios de Riesgo'!$F$8+LEFT(J69,1)*'Criterios de Riesgo'!$F$9+LEFT(K69,1)*'Criterios de Riesgo'!$F$10+LEFT(L69,1)*'Criterios de Riesgo'!$F$11+LEFT(M69,1)*'Criterios de Riesgo'!$F$12+LEFT(N69,1)*'Criterios de Riesgo'!$F$13+LEFT(O69,1)*'Criterios de Riesgo'!$F$14+LEFT(P69,1)*'Criterios de Riesgo'!$F$15),2))/5)","v":""},null,null,null,null,{"$f":"IF(COUNTA(S69:V69)<4,\"\",IF(V69=\"No\",\"No se usa\",VLOOKUP(ROUND((LEFT(S69,1)*'Criterios de Riesgo'!$C$13+LEFT(T69,1)*'Criterios de Riesgo'!$C$14+LEFT(U69,1)*'Criterios de Riesgo'!$C$15),2),Calif_Covertura,2,1)))","v":""},{"$f":"IF(COUNTA(S69:V69)<4,\"\",IF(V69=\"No\",0,(ROUND((LEFT(S69,1)*'Criterios de Riesgo'!$C$13+LEFT(T69,1)*'Criterios de Riesgo'!$C$14+LEFT(U69,1)*'Criterios de Riesgo'!$C$15),2))/5))","v":""},""]
[null,null,null,null,null,null,null,null,null,null,null,null,null,null,null,null,{"$f":"IF(COUNTA(I70:P70)<8,\"\",VLOOKUP(ROUND((LEFT(I70,1)*'Criterios de Riesgo'!$F$8+LEFT(J70,1)*'Criterios de Riesgo'!$F$9+LEFT(K70,1)*'Criterios de Riesgo'!$F$10+LEFT(L70,1)*'Criterios de Riesgo'!$F$11+LEFT(M70,1)*'Criterios de Riesgo'!$F$12+LEFT(N70,1)*'Criterios de Riesgo'!$F$13+LEFT(O70,1)*'Criterios de Riesgo'!$F$14+LEFT(P70,1)*'Criterios de Riesgo'!$F$15),2),Calif_Control,2,1))","v":""},{"$f":"IF(COUNTA(I70:P70)<8,\"\",(ROUND((LEFT(I70,1)*'Criterios de Riesgo'!$F$8+LEFT(J70,1)*'Criterios de Riesgo'!$F$9+LEFT(K70,1)*'Criterios de Riesgo'!$F$10+LEFT(L70,1)*'Criterios de Riesgo'!$F$11+LEFT(M70,1)*'Criterios de Riesgo'!$F$12+LEFT(N70,1)*'Criterios de Riesgo'!$F$13+LEFT(O70,1)*'Criterios de Riesgo'!$F$14+LEFT(P70,1)*'Criterios de Riesgo'!$F$15),2))/5)","v":""},null,null,null,null,{"$f":"IF(COUNTA(S70:V70)<4,\"\",IF(V70=\"No\",\"No se usa\",VLOOKUP(ROUND((LEFT(S70,1)*'Criterios de Riesgo'!$C$13+LEFT(T70,1)*'Criterios de Riesgo'!$C$14+LEFT(U70,1)*'Criterios de Riesgo'!$C$15),2),Calif_Covertura,2,1)))","v":""},{"$f":"IF(COUNTA(S70:V70)<4,\"\",IF(V70=\"No\",0,(ROUND((LEFT(S70,1)*'Criterios de Riesgo'!$C$13+LEFT(T70,1)*'Criterios de Riesgo'!$C$14+LEFT(U70,1)*'Criterios de Riesgo'!$C$15),2))/5))","v":""},{"$f":"IF(ISERROR(R70*X70),\"\",R70*X70)","v":""}]
[null,null,null,null,null,null,null,null,null,null,null,null,null,null,null,null,{"$f":"IF(COUNTA(I71:P71)<8,\"\",VLOOKUP(ROUND((LEFT(I71,1)*'Criterios de Riesgo'!$F$8+LEFT(J71,1)*'Criterios de Riesgo'!$F$9+LEFT(K71,1)*'Criterios de Riesgo'!$F$10+LEFT(L71,1)*'Criterios de Riesgo'!$F$11+LEFT(M71,1)*'Criterios de Riesgo'!$F$12+LEFT(N71,1)*'Criterios de Riesgo'!$F$13+LEFT(O71,1)*'Criterios de Riesgo'!$F$14+LEFT(P71,1)*'Criterios de Riesgo'!$F$15),2),Calif_Control,2,1))","v":""},{"$f":"IF(COUNTA(I71:P71)<8,\"\",(ROUND((LEFT(I71,1)*'Criterios de Riesgo'!$F$8+LEFT(J71,1)*'Criterios de Riesgo'!$F$9+LEFT(K71,1)*'Criterios de Riesgo'!$F$10+LEFT(L71,1)*'Criterios de Riesgo'!$F$11+LEFT(M71,1)*'Criterios de Riesgo'!$F$12+LEFT(N71,1)*'Criterios de Riesgo'!$F$13+LEFT(O71,1)*'Criterios de Riesgo'!$F$14+LEFT(P71,1)*'Criterios de Riesgo'!$F$15),2))/5)","v":""},null,null,null,null,{"$f":"IF(COUNTA(S71:V71)<4,\"\",IF(V71=\"No\",\"No se usa\",VLOOKUP(ROUND((LEFT(S71,1)*'Criterios de Riesgo'!$C$13+LEFT(T71,1)*'Criterios de Riesgo'!$C$14+LEFT(U71,1)*'Criterios de Riesgo'!$C$15),2),Calif_Covertura,2,1)))","v":""},{"$f":"IF(COUNTA(S71:V71)<4,\"\",IF(V71=\"No\",0,(ROUND((LEFT(S71,1)*'Criterios de Riesgo'!$C$13+LEFT(T71,1)*'Criterios de Riesgo'!$C$14+LEFT(U71,1)*'Criterios de Riesgo'!$C$15),2))/5))","v":""},""]
[null,null,null,null,null,null,null,null,null,null,null,null,null,null,null,null,{"$f":"IF(COUNTA(I72:P72)<8,\"\",VLOOKUP(ROUND((LEFT(I72,1)*'Criterios de Riesgo'!$F$8+LEFT(J72,1)*'Criterios de Riesgo'!$F$9+LEFT(K72,1)*'Criterios de Riesgo'!$F$10+LEFT(L72,1)*'Criterios de Riesgo'!$F$11+LEFT(M72,1)*'Criterios de Riesgo'!$F$12+LEFT(N72,1)*'Criterios de Riesgo'!$F$13+LEFT(O72,1)*'Criterios de Riesgo'!$F$14+LEFT(P72,1)*'Criterios de Riesgo'!$F$15),2),Calif_Control,2,1))","v":""},{"$f":"IF(COUNTA(I72:P72)<8,\"\",(ROUND((LEFT(I72,1)*'Criterios de Riesgo'!$F$8+LEFT(J72,1)*'Criterios de Riesgo'!$F$9+LEFT(K72,1)*'Criterios de Riesgo'!$F$10+LEFT(L72,1)*'Criterios de Riesgo'!$F$11+LEFT(M72,1)*'Criterios de Riesgo'!$F$12+LEFT(N72,1)*'Criterios de Riesgo'!$F$13+LEFT(O72,1)*'Criterios de Riesgo'!$F$14+LEFT(P72,1)*'Criterios de Riesgo'!$F$15),2))/5)","v":""},null,null,null,null,{"$f":"IF(COUNTA(S72:V72)<4,\"\",IF(V72=\"No\",\"No se usa\",VLOOKUP(ROUND((LEFT(S72,1)*'Criterios de Riesgo'!$C$13+LEFT(T72,1)*'Criterios de Riesgo'!$C$14+LEFT(U72,1)*'Criterios de Riesgo'!$C$15),2),Calif_Covertura,2,1)))","v":""},{"$f":"IF(COUNTA(S72:V72)<4,\"\",IF(V72=\"No\",0,(ROUND((LEFT(S72,1)*'Criterios de Riesgo'!$C$13+LEFT(T72,1)*'Criterios de Riesgo'!$C$14+LEFT(U72,1)*'Criterios de Riesgo'!$C$15),2))/5))","v":""},""]
[null,null,null,null,null,null,null,null,null,null,null,null,null,null,null,null,{"$f":"IF(COUNTA(I73:P73)<8,\"\",VLOOKUP(ROUND((LEFT(I73,1)*'Criterios de Riesgo'!$F$8+LEFT(J73,1)*'Criterios de Riesgo'!$F$9+LEFT(K73,1)*'Criterios de Riesgo'!$F$10+LEFT(L73,1)*'Criterios de Riesgo'!$F$11+LEFT(M73,1)*'Criterios de Riesgo'!$F$12+LEFT(N73,1)*'Criterios de Riesgo'!$F$13+LEFT(O73,1)*'Criterios de Riesgo'!$F$14+LEFT(P73,1)*'Criterios de Riesgo'!$F$15),2),Calif_Control,2,1))","v":""},{"$f":"IF(COUNTA(I73:P73)<8,\"\",(ROUND((LEFT(I73,1)*'Criterios de Riesgo'!$F$8+LEFT(J73,1)*'Criterios de Riesgo'!$F$9+LEFT(K73,1)*'Criterios de Riesgo'!$F$10+LEFT(L73,1)*'Criterios de Riesgo'!$F$11+LEFT(M73,1)*'Criterios de Riesgo'!$F$12+LEFT(N73,1)*'Criterios de Riesgo'!$F$13+LEFT(O73,1)*'Criterios de Riesgo'!$F$14+LEFT(P73,1)*'Criterios de Riesgo'!$F$15),2))/5)","v":""},null,null,null,null,{"$f":"IF(COUNTA(S73:V73)<4,\"\",IF(V73=\"No\",\"No se usa\",VLOOKUP(ROUND((LEFT(S73,1)*'Criterios de Riesgo'!$C$13+LEFT(T73,1)*'Criterios de Riesgo'!$C$14+LEFT(U73,1)*'Criterios de Riesgo'!$C$15),2),Calif_Covertura,2,1)))","v":""},{"$f":"IF(COUNTA(S73:V73)<4,\"\",IF(V73=\"No\",0,(ROUND((LEFT(S73,1)*'Criterios de Riesgo'!$C$13+LEFT(T73,1)*'Criterios de Riesgo'!$C$14+LEFT(U73,1)*'Criterios de Riesgo'!$C$15),2))/5))","v":""},""]
[null,null,null,null,null,null,null,null,null,null,null,null,null,null,null,null,{"$f":"IF(COUNTA(I74:P74)<8,\"\",VLOOKUP(ROUND((LEFT(I74,1)*'Criterios de Riesgo'!$F$8+LEFT(J74,1)*'Criterios de Riesgo'!$F$9+LEFT(K74,1)*'Criterios de Riesgo'!$F$10+LEFT(L74,1)*'Criterios de Riesgo'!$F$11+LEFT(M74,1)*'Criterios de Riesgo'!$F$12+LEFT(N74,1)*'Criterios de Riesgo'!$F$13+LEFT(O74,1)*'Criterios de Riesgo'!$F$14+LEFT(P74,1)*'Criterios de Riesgo'!$F$15),2),Calif_Control,2,1))","v":""},{"$f":"IF(COUNTA(I74:P74)<8,\"\",(ROUND((LEFT(I74,1)*'Criterios de Riesgo'!$F$8+LEFT(J74,1)*'Criterios de Riesgo'!$F$9+LEFT(K74,1)*'Criterios de Riesgo'!$F$10+LEFT(L74,1)*'Criterios de Riesgo'!$F$11+LEFT(M74,1)*'Criterios de Riesgo'!$F$12+LEFT(N74,1)*'Criterios de Riesgo'!$F$13+LEFT(O74,1)*'Criterios de Riesgo'!$F$14+LEFT(P74,1)*'Criterios de Riesgo'!$F$15),2))/5)","v":""},null,null,null,null,{"$f":"IF(COUNTA(S74:V74)<4,\"\",IF(V74=\"No\",\"No se usa\",VLOOKUP(ROUND((LEFT(S74,1)*'Criterios de Riesgo'!$C$13+LEFT(T74,1)*'Criterios de Riesgo'!$C$14+LEFT(U74,1)*'Criterios de Riesgo'!$C$15),2),Calif_Covertura,2,1)))","v":""},{"$f":"IF(COUNTA(S74:V74)<4,\"\",IF(V74=\"No\",0,(ROUND((LEFT(S74,1)*'Criterios de Riesgo'!$C$13+LEFT(T74,1)*'Criterios de Riesgo'!$C$14+LEFT(U74,1)*'Criterios de Riesgo'!$C$15),2))/5))","v":""},""]
["R",null,null,null,null,null,null,null,null,null,null,null,null,null,null,null,{"$f":"IF(COUNTA(I75:P75)<8,\"\",VLOOKUP(ROUND((LEFT(I75,1)*'Criterios de Riesgo'!$F$8+LEFT(J75,1)*'Criterios de Riesgo'!$F$9+LEFT(K75,1)*'Criterios de Riesgo'!$F$10+LEFT(L75,1)*'Criterios de Riesgo'!$F$11+LEFT(M75,1)*'Criterios de Riesgo'!$F$12+LEFT(N75,1)*'Criterios de Riesgo'!$F$13+LEFT(O75,1)*'Criterios de Riesgo'!$F$14+LEFT(P75,1)*'Criterios de Riesgo'!$F$15),2),Calif_Control,2,1))","v":""},{"$f":"IF(COUNTA(I75:P75)<8,\"\",(ROUND((LEFT(I75,1)*'Criterios de Riesgo'!$F$8+LEFT(J75,1)*'Criterios de Riesgo'!$F$9+LEFT(K75,1)*'Criterios de Riesgo'!$F$10+LEFT(L75,1)*'Criterios de Riesgo'!$F$11+LEFT(M75,1)*'Criterios de Riesgo'!$F$12+LEFT(N75,1)*'Criterios de Riesgo'!$F$13+LEFT(O75,1)*'Criterios de Riesgo'!$F$14+LEFT(P75,1)*'Criterios de Riesgo'!$F$15),2))/5)","v":""},null,null,null,null,{"$f":"IF(COUNTA(S75:V75)<4,\"\",IF(V75=\"No\",\"No se usa\",VLOOKUP(ROUND((LEFT(S75,1)*'Criterios de Riesgo'!$C$13+LEFT(T75,1)*'Criterios de Riesgo'!$C$14+LEFT(U75,1)*'Criterios de Riesgo'!$C$15),2),Calif_Covertura,2,1)))","v":""},{"$f":"IF(COUNTA(S75:V75)<4,\"\",IF(V75=\"No\",0,(ROUND((LEFT(S75,1)*'Criterios de Riesgo'!$C$13+LEFT(T75,1)*'Criterios de Riesgo'!$C$14+LEFT(U75,1)*'Criterios de Riesgo'!$C$15),2))/5))","v":""},"",null,{"$f":"IF(ISERROR((SUMIF(Z75:Z84,\"=impacto\",Y75:Y84)+SUMIF(Z75:Z84,\"=Ambos\",Y75:Y84))/(COUNTIF(Z75:Z84,\"Impacto\")+COUNTIF(Z75:Z84,\"Ambos\"))),\"\",(SUMIF(Z75:Z84,\"=impacto\",Y75:Y84)+SUMIF(Z75:Z84,\"=Ambos\",Y75:Y84))/(COUNTIF(Z75:Z84,\"Impacto\")+COUNTIF(Z75:Z84,\"Ambos\")))","v":""},{"$f":"IF(ISERROR((SUMIF(Z75:Z84,\"=Probabilidad\",Y75:Y84)+SUMIF(Z75:Z84,\"=Ambos\",Y75:Y84))/(COUNTIF(Z75:Z84,\"Probabilidad\")+COUNTIF(Z75:Z84,\"Ambos\"))),\"\",(SUMIF(Z75:Z84,\"=Probabilidad\",Y75:Y84)+SUMIF(Z75:Z84,\"=Ambos\",Y75:Y84))/(COUNTIF(Z75:Z84,\"Probabilidad\")+COUNTIF(Z75:Z84,\"Ambos\")))","v":""},{"$f":"IF(ISERROR(ROUND(IF(AB75=\"\",AA75,IF(AA75=\"\",AB75,IF(AND(AB75=\"\",AA75=\"\"),\"\",AB75*AA75)))*100,0)/100),\"\",ROUND(IF(AB75=\"\",AA75,IF(AA75=\"\",AB75,IF(AND(AB75=\"\",AA75=\"\"),\"\",AB75*AA75)))*100,0)/100)","v":""},{"$f":"IF(AC75=\"\",\"\",VLOOKUP(AC75*5,Calif_Control,2,1))","v":""}]
[null,null,null,null,null,null,null,null,null,null,null,null,null,null,null,null,{"$f":"IF(COUNTA(I76:P76)<8,\"\",VLOOKUP(ROUND((LEFT(I76,1)*'Criterios de Riesgo'!$F$8+LEFT(J76,1)*'Criterios de Riesgo'!$F$9+LEFT(K76,1)*'Criterios de Riesgo'!$F$10+LEFT(L76,1)*'Criterios de Riesgo'!$F$11+LEFT(M76,1)*'Criterios de Riesgo'!$F$12+LEFT(N76,1)*'Criterios de Riesgo'!$F$13+LEFT(O76,1)*'Criterios de Riesgo'!$F$14+LEFT(P76,1)*'Criterios de Riesgo'!$F$15),2),Calif_Control,2,1))","v":""},{"$f":"IF(COUNTA(I76:P76)<8,\"\",(ROUND((LEFT(I76,1)*'Criterios de Riesgo'!$F$8+LEFT(J76,1)*'Criterios de Riesgo'!$F$9+LEFT(K76,1)*'Criterios de Riesgo'!$F$10+LEFT(L76,1)*'Criterios de Riesgo'!$F$11+LEFT(M76,1)*'Criterios de Riesgo'!$F$12+LEFT(N76,1)*'Criterios de Riesgo'!$F$13+LEFT(O76,1)*'Criterios de Riesgo'!$F$14+LEFT(P76,1)*'Criterios de Riesgo'!$F$15),2))/5)","v":""},null,null,null,null,{"$f":"IF(COUNTA(S76:V76)<4,\"\",IF(V76=\"No\",\"No se usa\",VLOOKUP(ROUND((LEFT(S76,1)*'Criterios de Riesgo'!$C$13+LEFT(T76,1)*'Criterios de Riesgo'!$C$14+LEFT(U76,1)*'Criterios de Riesgo'!$C$15),2),Calif_Covertura,2,1)))","v":""},{"$f":"IF(COUNTA(S76:V76)<4,\"\",IF(V76=\"No\",0,(ROUND((LEFT(S76,1)*'Criterios de Riesgo'!$C$13+LEFT(T76,1)*'Criterios de Riesgo'!$C$14+LEFT(U76,1)*'Criterios de Riesgo'!$C$15),2))/5))","v":""},""]
[null,null,null,null,null,null,null,null,null,null,null,null,null,null,null,null,{"$f":"IF(COUNTA(I77:P77)<8,\"\",VLOOKUP(ROUND((LEFT(I77,1)*'Criterios de Riesgo'!$F$8+LEFT(J77,1)*'Criterios de Riesgo'!$F$9+LEFT(K77,1)*'Criterios de Riesgo'!$F$10+LEFT(L77,1)*'Criterios de Riesgo'!$F$11+LEFT(M77,1)*'Criterios de Riesgo'!$F$12+LEFT(N77,1)*'Criterios de Riesgo'!$F$13+LEFT(O77,1)*'Criterios de Riesgo'!$F$14+LEFT(P77,1)*'Criterios de Riesgo'!$F$15),2),Calif_Control,2,1))","v":""},{"$f":"IF(COUNTA(I77:P77)<8,\"\",(ROUND((LEFT(I77,1)*'Criterios de Riesgo'!$F$8+LEFT(J77,1)*'Criterios de Riesgo'!$F$9+LEFT(K77,1)*'Criterios de Riesgo'!$F$10+LEFT(L77,1)*'Criterios de Riesgo'!$F$11+LEFT(M77,1)*'Criterios de Riesgo'!$F$12+LEFT(N77,1)*'Criterios de Riesgo'!$F$13+LEFT(O77,1)*'Criterios de Riesgo'!$F$14+LEFT(P77,1)*'Criterios de Riesgo'!$F$15),2))/5)","v":""},null,null,null,null,{"$f":"IF(COUNTA(S77:V77)<4,\"\",IF(V77=\"No\",\"No se usa\",VLOOKUP(ROUND((LEFT(S77,1)*'Criterios de Riesgo'!$C$13+LEFT(T77,1)*'Criterios de Riesgo'!$C$14+LEFT(U77,1)*'Criterios de Riesgo'!$C$15),2),Calif_Covertura,2,1)))","v":""},{"$f":"IF(COUNTA(S77:V77)<4,\"\",IF(V77=\"No\",0,(ROUND((LEFT(S77,1)*'Criterios de Riesgo'!$C$13+LEFT(T77,1)*'Criterios de Riesgo'!$C$14+LEFT(U77,1)*'Criterios de Riesgo'!$C$15),2))/5))","v":""},""]
[null,null,null,null,null,null,null,null,null,null,null,null,null,null,null,null,{"$f":"IF(COUNTA(I78:P78)<8,\"\",VLOOKUP(ROUND((LEFT(I78,1)*'Criterios de Riesgo'!$F$8+LEFT(J78,1)*'Criterios de Riesgo'!$F$9+LEFT(K78,1)*'Criterios de Riesgo'!$F$10+LEFT(L78,1)*'Criterios de Riesgo'!$F$11+LEFT(M78,1)*'Criterios de Riesgo'!$F$12+LEFT(N78,1)*'Criterios de Riesgo'!$F$13+LEFT(O78,1)*'Criterios de Riesgo'!$F$14+LEFT(P78,1)*'Criterios de Riesgo'!$F$15),2),Calif_Control,2,1))","v":""},{"$f":"IF(COUNTA(I78:P78)<8,\"\",(ROUND((LEFT(I78,1)*'Criterios de Riesgo'!$F$8+LEFT(J78,1)*'Criterios de Riesgo'!$F$9+LEFT(K78,1)*'Criterios de Riesgo'!$F$10+LEFT(L78,1)*'Criterios de Riesgo'!$F$11+LEFT(M78,1)*'Criterios de Riesgo'!$F$12+LEFT(N78,1)*'Criterios de Riesgo'!$F$13+LEFT(O78,1)*'Criterios de Riesgo'!$F$14+LEFT(P78,1)*'Criterios de Riesgo'!$F$15),2))/5)","v":""},null,null,null,null,{"$f":"IF(COUNTA(S78:V78)<4,\"\",IF(V78=\"No\",\"No se usa\",VLOOKUP(ROUND((LEFT(S78,1)*'Criterios de Riesgo'!$C$13+LEFT(T78,1)*'Criterios de Riesgo'!$C$14+LEFT(U78,1)*'Criterios de Riesgo'!$C$15),2),Calif_Covertura,2,1)))","v":""},{"$f":"IF(COUNTA(S78:V78)<4,\"\",IF(V78=\"No\",0,(ROUND((LEFT(S78,1)*'Criterios de Riesgo'!$C$13+LEFT(T78,1)*'Criterios de Riesgo'!$C$14+LEFT(U78,1)*'Criterios de Riesgo'!$C$15),2))/5))","v":""},""]
[null,null,null,null,null,null,null,null,null,null,null,null,null,null,null,null,{"$f":"IF(COUNTA(I79:P79)<8,\"\",VLOOKUP(ROUND((LEFT(I79,1)*'Criterios de Riesgo'!$F$8+LEFT(J79,1)*'Criterios de Riesgo'!$F$9+LEFT(K79,1)*'Criterios de Riesgo'!$F$10+LEFT(L79,1)*'Criterios de Riesgo'!$F$11+LEFT(M79,1)*'Criterios de Riesgo'!$F$12+LEFT(N79,1)*'Criterios de Riesgo'!$F$13+LEFT(O79,1)*'Criterios de Riesgo'!$F$14+LEFT(P79,1)*'Criterios de Riesgo'!$F$15),2),Calif_Control,2,1))","v":""},{"$f":"IF(COUNTA(I79:P79)<8,\"\",(ROUND((LEFT(I79,1)*'Criterios de Riesgo'!$F$8+LEFT(J79,1)*'Criterios de Riesgo'!$F$9+LEFT(K79,1)*'Criterios de Riesgo'!$F$10+LEFT(L79,1)*'Criterios de Riesgo'!$F$11+LEFT(M79,1)*'Criterios de Riesgo'!$F$12+LEFT(N79,1)*'Criterios de Riesgo'!$F$13+LEFT(O79,1)*'Criterios de Riesgo'!$F$14+LEFT(P79,1)*'Criterios de Riesgo'!$F$15),2))/5)","v":""},null,null,null,null,{"$f":"IF(COUNTA(S79:V79)<4,\"\",IF(V79=\"No\",\"No se usa\",VLOOKUP(ROUND((LEFT(S79,1)*'Criterios de Riesgo'!$C$13+LEFT(T79,1)*'Criterios de Riesgo'!$C$14+LEFT(U79,1)*'Criterios de Riesgo'!$C$15),2),Calif_Covertura,2,1)))","v":""},{"$f":"IF(COUNTA(S79:V79)<4,\"\",IF(V79=\"No\",0,(ROUND((LEFT(S79,1)*'Criterios de Riesgo'!$C$13+LEFT(T79,1)*'Criterios de Riesgo'!$C$14+LEFT(U79,1)*'Criterios de Riesgo'!$C$15),2))/5))","v":""},""]
[null,null,null,null,null,null,null,null,null,null,null,null,null,null,null,null,{"$f":"IF(COUNTA(I80:P80)<8,\"\",VLOOKUP(ROUND((LEFT(I80,1)*'Criterios de Riesgo'!$F$8+LEFT(J80,1)*'Criterios de Riesgo'!$F$9+LEFT(K80,1)*'Criterios de Riesgo'!$F$10+LEFT(L80,1)*'Criterios de Riesgo'!$F$11+LEFT(M80,1)*'Criterios de Riesgo'!$F$12+LEFT(N80,1)*'Criterios de Riesgo'!$F$13+LEFT(O80,1)*'Criterios de Riesgo'!$F$14+LEFT(P80,1)*'Criterios de Riesgo'!$F$15),2),Calif_Control,2,1))","v":""},{"$f":"IF(COUNTA(I80:P80)<8,\"\",(ROUND((LEFT(I80,1)*'Criterios de Riesgo'!$F$8+LEFT(J80,1)*'Criterios de Riesgo'!$F$9+LEFT(K80,1)*'Criterios de Riesgo'!$F$10+LEFT(L80,1)*'Criterios de Riesgo'!$F$11+LEFT(M80,1)*'Criterios de Riesgo'!$F$12+LEFT(N80,1)*'Criterios de Riesgo'!$F$13+LEFT(O80,1)*'Criterios de Riesgo'!$F$14+LEFT(P80,1)*'Criterios de Riesgo'!$F$15),2))/5)","v":""},null,null,null,null,{"$f":"IF(COUNTA(S80:V80)<4,\"\",IF(V80=\"No\",\"No se usa\",VLOOKUP(ROUND((LEFT(S80,1)*'Criterios de Riesgo'!$C$13+LEFT(T80,1)*'Criterios de Riesgo'!$C$14+LEFT(U80,1)*'Criterios de Riesgo'!$C$15),2),Calif_Covertura,2,1)))","v":""},{"$f":"IF(COUNTA(S80:V80)<4,\"\",IF(V80=\"No\",0,(ROUND((LEFT(S80,1)*'Criterios de Riesgo'!$C$13+LEFT(T80,1)*'Criterios de Riesgo'!$C$14+LEFT(U80,1)*'Criterios de Riesgo'!$C$15),2))/5))","v":""},""]
[null,null,null,null,null,null,null,null,null,null,null,null,null,null,null,null,{"$f":"IF(COUNTA(I81:P81)<8,\"\",VLOOKUP(ROUND((LEFT(I81,1)*'Criterios de Riesgo'!$F$8+LEFT(J81,1)*'Criterios de Riesgo'!$F$9+LEFT(K81,1)*'Criterios de Riesgo'!$F$10+LEFT(L81,1)*'Criterios de Riesgo'!$F$11+LEFT(M81,1)*'Criterios de Riesgo'!$F$12+LEFT(N81,1)*'Criterios de Riesgo'!$F$13+LEFT(O81,1)*'Criterios de Riesgo'!$F$14+LEFT(P81,1)*'Criterios de Riesgo'!$F$15),2),Calif_Control,2,1))","v":""},{"$f":"IF(COUNTA(I81:P81)<8,\"\",(ROUND((LEFT(I81,1)*'Criterios de Riesgo'!$F$8+LEFT(J81,1)*'Criterios de Riesgo'!$F$9+LEFT(K81,1)*'Criterios de Riesgo'!$F$10+LEFT(L81,1)*'Criterios de Riesgo'!$F$11+LEFT(M81,1)*'Criterios de Riesgo'!$F$12+LEFT(N81,1)*'Criterios de Riesgo'!$F$13+LEFT(O81,1)*'Criterios de Riesgo'!$F$14+LEFT(P81,1)*'Criterios de Riesgo'!$F$15),2))/5)","v":""},null,null,null,null,{"$f":"IF(COUNTA(S81:V81)<4,\"\",IF(V81=\"No\",\"No se usa\",VLOOKUP(ROUND((LEFT(S81,1)*'Criterios de Riesgo'!$C$13+LEFT(T81,1)*'Criterios de Riesgo'!$C$14+LEFT(U81,1)*'Criterios de Riesgo'!$C$15),2),Calif_Covertura,2,1)))","v":""},{"$f":"IF(COUNTA(S81:V81)<4,\"\",IF(V81=\"No\",0,(ROUND((LEFT(S81,1)*'Criterios de Riesgo'!$C$13+LEFT(T81,1)*'Criterios de Riesgo'!$C$14+LEFT(U81,1)*'Criterios de Riesgo'!$C$15),2))/5))","v":""},""]
[null,null,null,null,null,null,null,null,null,null,null,null,null,null,null,null,{"$f":"IF(COUNTA(I82:P82)<8,\"\",VLOOKUP(ROUND((LEFT(I82,1)*'Criterios de Riesgo'!$F$8+LEFT(J82,1)*'Criterios de Riesgo'!$F$9+LEFT(K82,1)*'Criterios de Riesgo'!$F$10+LEFT(L82,1)*'Criterios de Riesgo'!$F$11+LEFT(M82,1)*'Criterios de Riesgo'!$F$12+LEFT(N82,1)*'Criterios de Riesgo'!$F$13+LEFT(O82,1)*'Criterios de Riesgo'!$F$14+LEFT(P82,1)*'Criterios de Riesgo'!$F$15),2),Calif_Control,2,1))","v":""},{"$f":"IF(COUNTA(I82:P82)<8,\"\",(ROUND((LEFT(I82,1)*'Criterios de Riesgo'!$F$8+LEFT(J82,1)*'Criterios de Riesgo'!$F$9+LEFT(K82,1)*'Criterios de Riesgo'!$F$10+LEFT(L82,1)*'Criterios de Riesgo'!$F$11+LEFT(M82,1)*'Criterios de Riesgo'!$F$12+LEFT(N82,1)*'Criterios de Riesgo'!$F$13+LEFT(O82,1)*'Criterios de Riesgo'!$F$14+LEFT(P82,1)*'Criterios de Riesgo'!$F$15),2))/5)","v":""},null,null,null,null,{"$f":"IF(COUNTA(S82:V82)<4,\"\",IF(V82=\"No\",\"No se usa\",VLOOKUP(ROUND((LEFT(S82,1)*'Criterios de Riesgo'!$C$13+LEFT(T82,1)*'Criterios de Riesgo'!$C$14+LEFT(U82,1)*'Criterios de Riesgo'!$C$15),2),Calif_Covertura,2,1)))","v":""},{"$f":"IF(COUNTA(S82:V82)<4,\"\",IF(V82=\"No\",0,(ROUND((LEFT(S82,1)*'Criterios de Riesgo'!$C$13+LEFT(T82,1)*'Criterios de Riesgo'!$C$14+LEFT(U82,1)*'Criterios de Riesgo'!$C$15),2))/5))","v":""},""]
[null,null,null,null,null,null,null,null,null,null,null,null,null,null,null,null,{"$f":"IF(COUNTA(I83:P83)<8,\"\",VLOOKUP(ROUND((LEFT(I83,1)*'Criterios de Riesgo'!$F$8+LEFT(J83,1)*'Criterios de Riesgo'!$F$9+LEFT(K83,1)*'Criterios de Riesgo'!$F$10+LEFT(L83,1)*'Criterios de Riesgo'!$F$11+LEFT(M83,1)*'Criterios de Riesgo'!$F$12+LEFT(N83,1)*'Criterios de Riesgo'!$F$13+LEFT(O83,1)*'Criterios de Riesgo'!$F$14+LEFT(P83,1)*'Criterios de Riesgo'!$F$15),2),Calif_Control,2,1))","v":""},{"$f":"IF(COUNTA(I83:P83)<8,\"\",(ROUND((LEFT(I83,1)*'Criterios de Riesgo'!$F$8+LEFT(J83,1)*'Criterios de Riesgo'!$F$9+LEFT(K83,1)*'Criterios de Riesgo'!$F$10+LEFT(L83,1)*'Criterios de Riesgo'!$F$11+LEFT(M83,1)*'Criterios de Riesgo'!$F$12+LEFT(N83,1)*'Criterios de Riesgo'!$F$13+LEFT(O83,1)*'Criterios de Riesgo'!$F$14+LEFT(P83,1)*'Criterios de Riesgo'!$F$15),2))/5)","v":""},null,null,null,null,{"$f":"IF(COUNTA(S83:V83)<4,\"\",IF(V83=\"No\",\"No se usa\",VLOOKUP(ROUND((LEFT(S83,1)*'Criterios de Riesgo'!$C$13+LEFT(T83,1)*'Criterios de Riesgo'!$C$14+LEFT(U83,1)*'Criterios de Riesgo'!$C$15),2),Calif_Covertura,2,1)))","v":""},{"$f":"IF(COUNTA(S83:V83)<4,\"\",IF(V83=\"No\",0,(ROUND((LEFT(S83,1)*'Criterios de Riesgo'!$C$13+LEFT(T83,1)*'Criterios de Riesgo'!$C$14+LEFT(U83,1)*'Criterios de Riesgo'!$C$15),2))/5))","v":""},""]
[null,null,null,null,null,null,null,null,null,null,null,null,null,null,null,null,{"$f":"IF(COUNTA(I84:P84)<8,\"\",VLOOKUP(ROUND((LEFT(I84,1)*'Criterios de Riesgo'!$F$8+LEFT(J84,1)*'Criterios de Riesgo'!$F$9+LEFT(K84,1)*'Criterios de Riesgo'!$F$10+LEFT(L84,1)*'Criterios de Riesgo'!$F$11+LEFT(M84,1)*'Criterios de Riesgo'!$F$12+LEFT(N84,1)*'Criterios de Riesgo'!$F$13+LEFT(O84,1)*'Criterios de Riesgo'!$F$14+LEFT(P84,1)*'Criterios de Riesgo'!$F$15),2),Calif_Control,2,1))","v":""},{"$f":"IF(COUNTA(I84:P84)<8,\"\",(ROUND((LEFT(I84,1)*'Criterios de Riesgo'!$F$8+LEFT(J84,1)*'Criterios de Riesgo'!$F$9+LEFT(K84,1)*'Criterios de Riesgo'!$F$10+LEFT(L84,1)*'Criterios de Riesgo'!$F$11+LEFT(M84,1)*'Criterios de Riesgo'!$F$12+LEFT(N84,1)*'Criterios de Riesgo'!$F$13+LEFT(O84,1)*'Criterios de Riesgo'!$F$14+LEFT(P84,1)*'Criterios de Riesgo'!$F$15),2))/5)","v":""},null,null,null,null,{"$f":"IF(COUNTA(S84:V84)<4,\"\",IF(V84=\"No\",\"No se usa\",VLOOKUP(ROUND((LEFT(S84,1)*'Criterios de Riesgo'!$C$13+LEFT(T84,1)*'Criterios de Riesgo'!$C$14+LEFT(U84,1)*'Criterios de Riesgo'!$C$15),2),Calif_Covertura,2,1)))","v":""},{"$f":"IF(COUNTA(S84:V84)<4,\"\",IF(V84=\"No\",0,(ROUND((LEFT(S84,1)*'Criterios de Riesgo'!$C$13+LEFT(T84,1)*'Criterios de Riesgo'!$C$14+LEFT(U84,1)*'Criterios de Riesgo'!$C$15),2))/5))","v":""},""]
["R",null,null,null,null,null,null,null,null,null,null,null,null,null,null,null,{"$f":"IF(COUNTA(I85:P85)<8,\"\",VLOOKUP(ROUND((LEFT(I85,1)*'Criterios de Riesgo'!$F$8+LEFT(J85,1)*'Criterios de Riesgo'!$F$9+LEFT(K85,1)*'Criterios de Riesgo'!$F$10+LEFT(L85,1)*'Criterios de Riesgo'!$F$11+LEFT(M85,1)*'Criterios de Riesgo'!$F$12+LEFT(N85,1)*'Criterios de Riesgo'!$F$13+LEFT(O85,1)*'Criterios de Riesgo'!$F$14+LEFT(P85,1)*'Criterios de Riesgo'!$F$15),2),Calif_Control,2,1))","v":""},{"$f":"IF(COUNTA(I85:P85)<8,\"\",(ROUND((LEFT(I85,1)*'Criterios de Riesgo'!$F$8+LEFT(J85,1)*'Criterios de Riesgo'!$F$9+LEFT(K85,1)*'Criterios de Riesgo'!$F$10+LEFT(L85,1)*'Criterios de Riesgo'!$F$11+LEFT(M85,1)*'Criterios de Riesgo'!$F$12+LEFT(N85,1)*'Criterios de Riesgo'!$F$13+LEFT(O85,1)*'Criterios de Riesgo'!$F$14+LEFT(P85,1)*'Criterios de Riesgo'!$F$15),2))/5)","v":""},null,null,null,null,{"$f":"IF(COUNTA(S85:V85)<4,\"\",IF(V85=\"No\",\"No se usa\",VLOOKUP(ROUND((LEFT(S85,1)*'Criterios de Riesgo'!$C$13+LEFT(T85,1)*'Criterios de Riesgo'!$C$14+LEFT(U85,1)*'Criterios de Riesgo'!$C$15),2),Calif_Covertura,2,1)))","v":""},{"$f":"IF(COUNTA(S85:V85)<4,\"\",IF(V85=\"No\",0,(ROUND((LEFT(S85,1)*'Criterios de Riesgo'!$C$13+LEFT(T85,1)*'Criterios de Riesgo'!$C$14+LEFT(U85,1)*'Criterios de Riesgo'!$C$15),2))/5))","v":""},"",null,{"$f":"IF(ISERROR((SUMIF(Z85:Z94,\"=impacto\",Y85:Y94)+SUMIF(Z85:Z94,\"=Ambos\",Y85:Y94))/(COUNTIF(Z85:Z94,\"Impacto\")+COUNTIF(Z85:Z94,\"Ambos\"))),\"\",(SUMIF(Z85:Z94,\"=impacto\",Y85:Y94)+SUMIF(Z85:Z94,\"=Ambos\",Y85:Y94))/(COUNTIF(Z85:Z94,\"Impacto\")+COUNTIF(Z85:Z94,\"Ambos\")))","v":""},{"$f":"IF(ISERROR((SUMIF(Z85:Z94,\"=Probabilidad\",Y85:Y94)+SUMIF(Z85:Z94,\"=Ambos\",Y85:Y94))/(COUNTIF(Z85:Z94,\"Probabilidad\")+COUNTIF(Z85:Z94,\"Ambos\"))),\"\",(SUMIF(Z85:Z94,\"=Probabilidad\",Y85:Y94)+SUMIF(Z85:Z94,\"=Ambos\",Y85:Y94))/(COUNTIF(Z85:Z94,\"Probabilidad\")+COUNTIF(Z85:Z94,\"Ambos\")))","v":""},{"$f":"IF(ISERROR(ROUND(IF(AB85=\"\",AA85,IF(AA85=\"\",AB85,IF(AND(AB85=\"\",AA85=\"\"),\"\",AB85*AA85)))*100,0)/100),\"\",ROUND(IF(AB85=\"\",AA85,IF(AA85=\"\",AB85,IF(AND(AB85=\"\",AA85=\"\"),\"\",AB85*AA85)))*100,0)/100)","v":""},{"$f":"IF(AC85=\"\",\"\",VLOOKUP(AC85*5,Calif_Control,2,1))","v":""}]
[null,null,null,null,null,null,null,null,null,null,null,null,null,null,null,null,{"$f":"IF(COUNTA(I86:P86)<8,\"\",VLOOKUP(ROUND((LEFT(I86,1)*'Criterios de Riesgo'!$F$8+LEFT(J86,1)*'Criterios de Riesgo'!$F$9+LEFT(K86,1)*'Criterios de Riesgo'!$F$10+LEFT(L86,1)*'Criterios de Riesgo'!$F$11+LEFT(M86,1)*'Criterios de Riesgo'!$F$12+LEFT(N86,1)*'Criterios de Riesgo'!$F$13+LEFT(O86,1)*'Criterios de Riesgo'!$F$14+LEFT(P86,1)*'Criterios de Riesgo'!$F$15),2),Calif_Control,2,1))","v":""},{"$f":"IF(COUNTA(I86:P86)<8,\"\",(ROUND((LEFT(I86,1)*'Criterios de Riesgo'!$F$8+LEFT(J86,1)*'Criterios de Riesgo'!$F$9+LEFT(K86,1)*'Criterios de Riesgo'!$F$10+LEFT(L86,1)*'Criterios de Riesgo'!$F$11+LEFT(M86,1)*'Criterios de Riesgo'!$F$12+LEFT(N86,1)*'Criterios de Riesgo'!$F$13+LEFT(O86,1)*'Criterios de Riesgo'!$F$14+LEFT(P86,1)*'Criterios de Riesgo'!$F$15),2))/5)","v":""},null,null,null,null,{"$f":"IF(COUNTA(S86:V86)<4,\"\",IF(V86=\"No\",\"No se usa\",VLOOKUP(ROUND((LEFT(S86,1)*'Criterios de Riesgo'!$C$13+LEFT(T86,1)*'Criterios de Riesgo'!$C$14+LEFT(U86,1)*'Criterios de Riesgo'!$C$15),2),Calif_Covertura,2,1)))","v":""},{"$f":"IF(COUNTA(S86:V86)<4,\"\",IF(V86=\"No\",0,(ROUND((LEFT(S86,1)*'Criterios de Riesgo'!$C$13+LEFT(T86,1)*'Criterios de Riesgo'!$C$14+LEFT(U86,1)*'Criterios de Riesgo'!$C$15),2))/5))","v":""},""]
[null,null,null,null,null,null,null,null,null,null,null,null,null,null,null,null,{"$f":"IF(COUNTA(I87:P87)<8,\"\",VLOOKUP(ROUND((LEFT(I87,1)*'Criterios de Riesgo'!$F$8+LEFT(J87,1)*'Criterios de Riesgo'!$F$9+LEFT(K87,1)*'Criterios de Riesgo'!$F$10+LEFT(L87,1)*'Criterios de Riesgo'!$F$11+LEFT(M87,1)*'Criterios de Riesgo'!$F$12+LEFT(N87,1)*'Criterios de Riesgo'!$F$13+LEFT(O87,1)*'Criterios de Riesgo'!$F$14+LEFT(P87,1)*'Criterios de Riesgo'!$F$15),2),Calif_Control,2,1))","v":""},{"$f":"IF(COUNTA(I87:P87)<8,\"\",(ROUND((LEFT(I87,1)*'Criterios de Riesgo'!$F$8+LEFT(J87,1)*'Criterios de Riesgo'!$F$9+LEFT(K87,1)*'Criterios de Riesgo'!$F$10+LEFT(L87,1)*'Criterios de Riesgo'!$F$11+LEFT(M87,1)*'Criterios de Riesgo'!$F$12+LEFT(N87,1)*'Criterios de Riesgo'!$F$13+LEFT(O87,1)*'Criterios de Riesgo'!$F$14+LEFT(P87,1)*'Criterios de Riesgo'!$F$15),2))/5)","v":""},null,null,null,null,{"$f":"IF(COUNTA(S87:V87)<4,\"\",IF(V87=\"No\",\"No se usa\",VLOOKUP(ROUND((LEFT(S87,1)*'Criterios de Riesgo'!$C$13+LEFT(T87,1)*'Criterios de Riesgo'!$C$14+LEFT(U87,1)*'Criterios de Riesgo'!$C$15),2),Calif_Covertura,2,1)))","v":""},{"$f":"IF(COUNTA(S87:V87)<4,\"\",IF(V87=\"No\",0,(ROUND((LEFT(S87,1)*'Criterios de Riesgo'!$C$13+LEFT(T87,1)*'Criterios de Riesgo'!$C$14+LEFT(U87,1)*'Criterios de Riesgo'!$C$15),2))/5))","v":""},""]
[null,null,null,null,null,null,null,null,null,null,null,null,null,null,null,null,{"$f":"IF(COUNTA(I88:P88)<8,\"\",VLOOKUP(ROUND((LEFT(I88,1)*'Criterios de Riesgo'!$F$8+LEFT(J88,1)*'Criterios de Riesgo'!$F$9+LEFT(K88,1)*'Criterios de Riesgo'!$F$10+LEFT(L88,1)*'Criterios de Riesgo'!$F$11+LEFT(M88,1)*'Criterios de Riesgo'!$F$12+LEFT(N88,1)*'Criterios de Riesgo'!$F$13+LEFT(O88,1)*'Criterios de Riesgo'!$F$14+LEFT(P88,1)*'Criterios de Riesgo'!$F$15),2),Calif_Control,2,1))","v":""},{"$f":"IF(COUNTA(I88:P88)<8,\"\",(ROUND((LEFT(I88,1)*'Criterios de Riesgo'!$F$8+LEFT(J88,1)*'Criterios de Riesgo'!$F$9+LEFT(K88,1)*'Criterios de Riesgo'!$F$10+LEFT(L88,1)*'Criterios de Riesgo'!$F$11+LEFT(M88,1)*'Criterios de Riesgo'!$F$12+LEFT(N88,1)*'Criterios de Riesgo'!$F$13+LEFT(O88,1)*'Criterios de Riesgo'!$F$14+LEFT(P88,1)*'Criterios de Riesgo'!$F$15),2))/5)","v":""},null,null,null,null,{"$f":"IF(COUNTA(S88:V88)<4,\"\",IF(V88=\"No\",\"No se usa\",VLOOKUP(ROUND((LEFT(S88,1)*'Criterios de Riesgo'!$C$13+LEFT(T88,1)*'Criterios de Riesgo'!$C$14+LEFT(U88,1)*'Criterios de Riesgo'!$C$15),2),Calif_Covertura,2,1)))","v":""},{"$f":"IF(COUNTA(S88:V88)<4,\"\",IF(V88=\"No\",0,(ROUND((LEFT(S88,1)*'Criterios de Riesgo'!$C$13+LEFT(T88,1)*'Criterios de Riesgo'!$C$14+LEFT(U88,1)*'Criterios de Riesgo'!$C$15),2))/5))","v":""},""]
[null,null,null,null,null,null,null,null,null,null,null,null,null,null,null,null,{"$f":"IF(COUNTA(I89:P89)<8,\"\",VLOOKUP(ROUND((LEFT(I89,1)*'Criterios de Riesgo'!$F$8+LEFT(J89,1)*'Criterios de Riesgo'!$F$9+LEFT(K89,1)*'Criterios de Riesgo'!$F$10+LEFT(L89,1)*'Criterios de Riesgo'!$F$11+LEFT(M89,1)*'Criterios de Riesgo'!$F$12+LEFT(N89,1)*'Criterios de Riesgo'!$F$13+LEFT(O89,1)*'Criterios de Riesgo'!$F$14+LEFT(P89,1)*'Criterios de Riesgo'!$F$15),2),Calif_Control,2,1))","v":""},{"$f":"IF(COUNTA(I89:P89)<8,\"\",(ROUND((LEFT(I89,1)*'Criterios de Riesgo'!$F$8+LEFT(J89,1)*'Criterios de Riesgo'!$F$9+LEFT(K89,1)*'Criterios de Riesgo'!$F$10+LEFT(L89,1)*'Criterios de Riesgo'!$F$11+LEFT(M89,1)*'Criterios de Riesgo'!$F$12+LEFT(N89,1)*'Criterios de Riesgo'!$F$13+LEFT(O89,1)*'Criterios de Riesgo'!$F$14+LEFT(P89,1)*'Criterios de Riesgo'!$F$15),2))/5)","v":""},null,null,null,null,{"$f":"IF(COUNTA(S89:V89)<4,\"\",IF(V89=\"No\",\"No se usa\",VLOOKUP(ROUND((LEFT(S89,1)*'Criterios de Riesgo'!$C$13+LEFT(T89,1)*'Criterios de Riesgo'!$C$14+LEFT(U89,1)*'Criterios de Riesgo'!$C$15),2),Calif_Covertura,2,1)))","v":""},{"$f":"IF(COUNTA(S89:V89)<4,\"\",IF(V89=\"No\",0,(ROUND((LEFT(S89,1)*'Criterios de Riesgo'!$C$13+LEFT(T89,1)*'Criterios de Riesgo'!$C$14+LEFT(U89,1)*'Criterios de Riesgo'!$C$15),2))/5))","v":""},""]
[null,null,null,null,null,null,null,null,null,null,null,null,null,null,null,null,{"$f":"IF(COUNTA(I90:P90)<8,\"\",VLOOKUP(ROUND((LEFT(I90,1)*'Criterios de Riesgo'!$F$8+LEFT(J90,1)*'Criterios de Riesgo'!$F$9+LEFT(K90,1)*'Criterios de Riesgo'!$F$10+LEFT(L90,1)*'Criterios de Riesgo'!$F$11+LEFT(M90,1)*'Criterios de Riesgo'!$F$12+LEFT(N90,1)*'Criterios de Riesgo'!$F$13+LEFT(O90,1)*'Criterios de Riesgo'!$F$14+LEFT(P90,1)*'Criterios de Riesgo'!$F$15),2),Calif_Control,2,1))","v":""},{"$f":"IF(COUNTA(I90:P90)<8,\"\",(ROUND((LEFT(I90,1)*'Criterios de Riesgo'!$F$8+LEFT(J90,1)*'Criterios de Riesgo'!$F$9+LEFT(K90,1)*'Criterios de Riesgo'!$F$10+LEFT(L90,1)*'Criterios de Riesgo'!$F$11+LEFT(M90,1)*'Criterios de Riesgo'!$F$12+LEFT(N90,1)*'Criterios de Riesgo'!$F$13+LEFT(O90,1)*'Criterios de Riesgo'!$F$14+LEFT(P90,1)*'Criterios de Riesgo'!$F$15),2))/5)","v":""},null,null,null,null,{"$f":"IF(COUNTA(S90:V90)<4,\"\",IF(V90=\"No\",\"No se usa\",VLOOKUP(ROUND((LEFT(S90,1)*'Criterios de Riesgo'!$C$13+LEFT(T90,1)*'Criterios de Riesgo'!$C$14+LEFT(U90,1)*'Criterios de Riesgo'!$C$15),2),Calif_Covertura,2,1)))","v":""},{"$f":"IF(COUNTA(S90:V90)<4,\"\",IF(V90=\"No\",0,(ROUND((LEFT(S90,1)*'Criterios de Riesgo'!$C$13+LEFT(T90,1)*'Criterios de Riesgo'!$C$14+LEFT(U90,1)*'Criterios de Riesgo'!$C$15),2))/5))","v":""},""]
[null,null,null,null,null,null,null,null,null,null,null,null,null,null,null,null,{"$f":"IF(COUNTA(I91:P91)<8,\"\",VLOOKUP(ROUND((LEFT(I91,1)*'Criterios de Riesgo'!$F$8+LEFT(J91,1)*'Criterios de Riesgo'!$F$9+LEFT(K91,1)*'Criterios de Riesgo'!$F$10+LEFT(L91,1)*'Criterios de Riesgo'!$F$11+LEFT(M91,1)*'Criterios de Riesgo'!$F$12+LEFT(N91,1)*'Criterios de Riesgo'!$F$13+LEFT(O91,1)*'Criterios de Riesgo'!$F$14+LEFT(P91,1)*'Criterios de Riesgo'!$F$15),2),Calif_Control,2,1))","v":""},{"$f":"IF(COUNTA(I91:P91)<8,\"\",(ROUND((LEFT(I91,1)*'Criterios de Riesgo'!$F$8+LEFT(J91,1)*'Criterios de Riesgo'!$F$9+LEFT(K91,1)*'Criterios de Riesgo'!$F$10+LEFT(L91,1)*'Criterios de Riesgo'!$F$11+LEFT(M91,1)*'Criterios de Riesgo'!$F$12+LEFT(N91,1)*'Criterios de Riesgo'!$F$13+LEFT(O91,1)*'Criterios de Riesgo'!$F$14+LEFT(P91,1)*'Criterios de Riesgo'!$F$15),2))/5)","v":""},null,null,null,null,{"$f":"IF(COUNTA(S91:V91)<4,\"\",IF(V91=\"No\",\"No se usa\",VLOOKUP(ROUND((LEFT(S91,1)*'Criterios de Riesgo'!$C$13+LEFT(T91,1)*'Criterios de Riesgo'!$C$14+LEFT(U91,1)*'Criterios de Riesgo'!$C$15),2),Calif_Covertura,2,1)))","v":""},{"$f":"IF(COUNTA(S91:V91)<4,\"\",IF(V91=\"No\",0,(ROUND((LEFT(S91,1)*'Criterios de Riesgo'!$C$13+LEFT(T91,1)*'Criterios de Riesgo'!$C$14+LEFT(U91,1)*'Criterios de Riesgo'!$C$15),2))/5))","v":""},""]
[null,null,null,null,null,null,null,null,null,null,null,null,null,null,null,null,{"$f":"IF(COUNTA(I92:P92)<8,\"\",VLOOKUP(ROUND((LEFT(I92,1)*'Criterios de Riesgo'!$F$8+LEFT(J92,1)*'Criterios de Riesgo'!$F$9+LEFT(K92,1)*'Criterios de Riesgo'!$F$10+LEFT(L92,1)*'Criterios de Riesgo'!$F$11+LEFT(M92,1)*'Criterios de Riesgo'!$F$12+LEFT(N92,1)*'Criterios de Riesgo'!$F$13+LEFT(O92,1)*'Criterios de Riesgo'!$F$14+LEFT(P92,1)*'Criterios de Riesgo'!$F$15),2),Calif_Control,2,1))","v":""},{"$f":"IF(COUNTA(I92:P92)<8,\"\",(ROUND((LEFT(I92,1)*'Criterios de Riesgo'!$F$8+LEFT(J92,1)*'Criterios de Riesgo'!$F$9+LEFT(K92,1)*'Criterios de Riesgo'!$F$10+LEFT(L92,1)*'Criterios de Riesgo'!$F$11+LEFT(M92,1)*'Criterios de Riesgo'!$F$12+LEFT(N92,1)*'Criterios de Riesgo'!$F$13+LEFT(O92,1)*'Criterios de Riesgo'!$F$14+LEFT(P92,1)*'Criterios de Riesgo'!$F$15),2))/5)","v":""},null,null,null,null,{"$f":"IF(COUNTA(S92:V92)<4,\"\",IF(V92=\"No\",\"No se usa\",VLOOKUP(ROUND((LEFT(S92,1)*'Criterios de Riesgo'!$C$13+LEFT(T92,1)*'Criterios de Riesgo'!$C$14+LEFT(U92,1)*'Criterios de Riesgo'!$C$15),2),Calif_Covertura,2,1)))","v":""},{"$f":"IF(COUNTA(S92:V92)<4,\"\",IF(V92=\"No\",0,(ROUND((LEFT(S92,1)*'Criterios de Riesgo'!$C$13+LEFT(T92,1)*'Criterios de Riesgo'!$C$14+LEFT(U92,1)*'Criterios de Riesgo'!$C$15),2))/5))","v":""},""]
[null,null,null,null,null,null,null,null,null,null,null,null,null,null,null,null,{"$f":"IF(COUNTA(I93:P93)<8,\"\",VLOOKUP(ROUND((LEFT(I93,1)*'Criterios de Riesgo'!$F$8+LEFT(J93,1)*'Criterios de Riesgo'!$F$9+LEFT(K93,1)*'Criterios de Riesgo'!$F$10+LEFT(L93,1)*'Criterios de Riesgo'!$F$11+LEFT(M93,1)*'Criterios de Riesgo'!$F$12+LEFT(N93,1)*'Criterios de Riesgo'!$F$13+LEFT(O93,1)*'Criterios de Riesgo'!$F$14+LEFT(P93,1)*'Criterios de Riesgo'!$F$15),2),Calif_Control,2,1))","v":""},{"$f":"IF(COUNTA(I93:P93)<8,\"\",(ROUND((LEFT(I93,1)*'Criterios de Riesgo'!$F$8+LEFT(J93,1)*'Criterios de Riesgo'!$F$9+LEFT(K93,1)*'Criterios de Riesgo'!$F$10+LEFT(L93,1)*'Criterios de Riesgo'!$F$11+LEFT(M93,1)*'Criterios de Riesgo'!$F$12+LEFT(N93,1)*'Criterios de Riesgo'!$F$13+LEFT(O93,1)*'Criterios de Riesgo'!$F$14+LEFT(P93,1)*'Criterios de Riesgo'!$F$15),2))/5)","v":""},null,null,null,null,{"$f":"IF(COUNTA(S93:V93)<4,\"\",IF(V93=\"No\",\"No se usa\",VLOOKUP(ROUND((LEFT(S93,1)*'Criterios de Riesgo'!$C$13+LEFT(T93,1)*'Criterios de Riesgo'!$C$14+LEFT(U93,1)*'Criterios de Riesgo'!$C$15),2),Calif_Covertura,2,1)))","v":""},{"$f":"IF(COUNTA(S93:V93)<4,\"\",IF(V93=\"No\",0,(ROUND((LEFT(S93,1)*'Criterios de Riesgo'!$C$13+LEFT(T93,1)*'Criterios de Riesgo'!$C$14+LEFT(U93,1)*'Criterios de Riesgo'!$C$15),2))/5))","v":""},""]
[null,null,null,null,null,null,null,null,null,null,null,null,null,null,null,null,{"$f":"IF(COUNTA(I94:P94)<8,\"\",VLOOKUP(ROUND((LEFT(I94,1)*'Criterios de Riesgo'!$F$8+LEFT(J94,1)*'Criterios de Riesgo'!$F$9+LEFT(K94,1)*'Criterios de Riesgo'!$F$10+LEFT(L94,1)*'Criterios de Riesgo'!$F$11+LEFT(M94,1)*'Criterios de Riesgo'!$F$12+LEFT(N94,1)*'Criterios de Riesgo'!$F$13+LEFT(O94,1)*'Criterios de Riesgo'!$F$14+LEFT(P94,1)*'Criterios de Riesgo'!$F$15),2),Calif_Control,2,1))","v":""},{"$f":"IF(COUNTA(I94:P94)<8,\"\",(ROUND((LEFT(I94,1)*'Criterios de Riesgo'!$F$8+LEFT(J94,1)*'Criterios de Riesgo'!$F$9+LEFT(K94,1)*'Criterios de Riesgo'!$F$10+LEFT(L94,1)*'Criterios de Riesgo'!$F$11+LEFT(M94,1)*'Criterios de Riesgo'!$F$12+LEFT(N94,1)*'Criterios de Riesgo'!$F$13+LEFT(O94,1)*'Criterios de Riesgo'!$F$14+LEFT(P94,1)*'Criterios de Riesgo'!$F$15),2))/5)","v":""},null,null,null,null,{"$f":"IF(COUNTA(S94:V94)<4,\"\",IF(V94=\"No\",\"No se usa\",VLOOKUP(ROUND((LEFT(S94,1)*'Criterios de Riesgo'!$C$13+LEFT(T94,1)*'Criterios de Riesgo'!$C$14+LEFT(U94,1)*'Criterios de Riesgo'!$C$15),2),Calif_Covertura,2,1)))","v":""},{"$f":"IF(COUNTA(S94:V94)<4,\"\",IF(V94=\"No\",0,(ROUND((LEFT(S94,1)*'Criterios de Riesgo'!$C$13+LEFT(T94,1)*'Criterios de Riesgo'!$C$14+LEFT(U94,1)*'Criterios de Riesgo'!$C$15),2))/5))","v":""},""]
["R",null,null,null,null,null,null,null,null,null,null,null,null,null,null,null,{"$f":"IF(COUNTA(I95:P95)<8,\"\",VLOOKUP(ROUND((LEFT(I95,1)*'Criterios de Riesgo'!$F$8+LEFT(J95,1)*'Criterios de Riesgo'!$F$9+LEFT(K95,1)*'Criterios de Riesgo'!$F$10+LEFT(L95,1)*'Criterios de Riesgo'!$F$11+LEFT(M95,1)*'Criterios de Riesgo'!$F$12+LEFT(N95,1)*'Criterios de Riesgo'!$F$13+LEFT(O95,1)*'Criterios de Riesgo'!$F$14+LEFT(P95,1)*'Criterios de Riesgo'!$F$15),2),Calif_Control,2,1))","v":""},{"$f":"IF(COUNTA(I95:P95)<8,\"\",(ROUND((LEFT(I95,1)*'Criterios de Riesgo'!$F$8+LEFT(J95,1)*'Criterios de Riesgo'!$F$9+LEFT(K95,1)*'Criterios de Riesgo'!$F$10+LEFT(L95,1)*'Criterios de Riesgo'!$F$11+LEFT(M95,1)*'Criterios de Riesgo'!$F$12+LEFT(N95,1)*'Criterios de Riesgo'!$F$13+LEFT(O95,1)*'Criterios de Riesgo'!$F$14+LEFT(P95,1)*'Criterios de Riesgo'!$F$15),2))/5)","v":""},null,null,null,null,{"$f":"IF(COUNTA(S95:V95)<4,\"\",IF(V95=\"No\",\"No se usa\",VLOOKUP(ROUND((LEFT(S95,1)*'Criterios de Riesgo'!$C$13+LEFT(T95,1)*'Criterios de Riesgo'!$C$14+LEFT(U95,1)*'Criterios de Riesgo'!$C$15),2),Calif_Covertura,2,1)))","v":""},{"$f":"IF(COUNTA(S95:V95)<4,\"\",IF(V95=\"No\",0,(ROUND((LEFT(S95,1)*'Criterios de Riesgo'!$C$13+LEFT(T95,1)*'Criterios de Riesgo'!$C$14+LEFT(U95,1)*'Criterios de Riesgo'!$C$15),2))/5))","v":""},"",null,{"$f":"IF(ISERROR((SUMIF(Z95:Z104,\"=impacto\",Y95:Y104)+SUMIF(Z95:Z104,\"=Ambos\",Y95:Y104))/(COUNTIF(Z95:Z104,\"Impacto\")+COUNTIF(Z95:Z104,\"Ambos\"))),\"\",(SUMIF(Z95:Z104,\"=impacto\",Y95:Y104)+SUMIF(Z95:Z104,\"=Ambos\",Y95:Y104))/(COUNTIF(Z95:Z104,\"Impacto\")+COUNTIF(Z95:Z104,\"Ambos\")))","v":""},{"$f":"IF(ISERROR((SUMIF(Z95:Z104,\"=Probabilidad\",Y95:Y104)+SUMIF(Z95:Z104,\"=Ambos\",Y95:Y104))/(COUNTIF(Z95:Z104,\"Probabilidad\")+COUNTIF(Z95:Z104,\"Ambos\"))),\"\",(SUMIF(Z95:Z104,\"=Probabilidad\",Y95:Y104)+SUMIF(Z95:Z104,\"=Ambos\",Y95:Y104))/(COUNTIF(Z95:Z104,\"Probabilidad\")+COUNTIF(Z95:Z104,\"Ambos\")))","v":""},{"$f":"IF(ISERROR(ROUND(IF(AB95=\"\",AA95,IF(AA95=\"\",AB95,IF(AND(AB95=\"\",AA95=\"\"),\"\",AB95*AA95)))*100,0)/100),\"\",ROUND(IF(AB95=\"\",AA95,IF(AA95=\"\",AB95,IF(AND(AB95=\"\",AA95=\"\"),\"\",AB95*AA95)))*100,0)/100)","v":""},{"$f":"IF(AC95=\"\",\"\",VLOOKUP(AC95*5,Calif_Control,2,1))","v":""}]
[null,null,null,null,null,null,null,null,null,null,null,null,null,null,null,null,{"$f":"IF(COUNTA(I96:P96)<8,\"\",VLOOKUP(ROUND((LEFT(I96,1)*'Criterios de Riesgo'!$F$8+LEFT(J96,1)*'Criterios de Riesgo'!$F$9+LEFT(K96,1)*'Criterios de Riesgo'!$F$10+LEFT(L96,1)*'Criterios de Riesgo'!$F$11+LEFT(M96,1)*'Criterios de Riesgo'!$F$12+LEFT(N96,1)*'Criterios de Riesgo'!$F$13+LEFT(O96,1)*'Criterios de Riesgo'!$F$14+LEFT(P96,1)*'Criterios de Riesgo'!$F$15),2),Calif_Control,2,1))","v":""},{"$f":"IF(COUNTA(I96:P96)<8,\"\",(ROUND((LEFT(I96,1)*'Criterios de Riesgo'!$F$8+LEFT(J96,1)*'Criterios de Riesgo'!$F$9+LEFT(K96,1)*'Criterios de Riesgo'!$F$10+LEFT(L96,1)*'Criterios de Riesgo'!$F$11+LEFT(M96,1)*'Criterios de Riesgo'!$F$12+LEFT(N96,1)*'Criterios de Riesgo'!$F$13+LEFT(O96,1)*'Criterios de Riesgo'!$F$14+LEFT(P96,1)*'Criterios de Riesgo'!$F$15),2))/5)","v":""},null,null,null,null,{"$f":"IF(COUNTA(S96:V96)<4,\"\",IF(V96=\"No\",\"No se usa\",VLOOKUP(ROUND((LEFT(S96,1)*'Criterios de Riesgo'!$C$13+LEFT(T96,1)*'Criterios de Riesgo'!$C$14+LEFT(U96,1)*'Criterios de Riesgo'!$C$15),2),Calif_Covertura,2,1)))","v":""},{"$f":"IF(COUNTA(S96:V96)<4,\"\",IF(V96=\"No\",0,(ROUND((LEFT(S96,1)*'Criterios de Riesgo'!$C$13+LEFT(T96,1)*'Criterios de Riesgo'!$C$14+LEFT(U96,1)*'Criterios de Riesgo'!$C$15),2))/5))","v":""},""]
[null,null,null,null,null,null,null,null,null,null,null,null,null,null,null,null,{"$f":"IF(COUNTA(I97:P97)<8,\"\",VLOOKUP(ROUND((LEFT(I97,1)*'Criterios de Riesgo'!$F$8+LEFT(J97,1)*'Criterios de Riesgo'!$F$9+LEFT(K97,1)*'Criterios de Riesgo'!$F$10+LEFT(L97,1)*'Criterios de Riesgo'!$F$11+LEFT(M97,1)*'Criterios de Riesgo'!$F$12+LEFT(N97,1)*'Criterios de Riesgo'!$F$13+LEFT(O97,1)*'Criterios de Riesgo'!$F$14+LEFT(P97,1)*'Criterios de Riesgo'!$F$15),2),Calif_Control,2,1))","v":""},{"$f":"IF(COUNTA(I97:P97)<8,\"\",(ROUND((LEFT(I97,1)*'Criterios de Riesgo'!$F$8+LEFT(J97,1)*'Criterios de Riesgo'!$F$9+LEFT(K97,1)*'Criterios de Riesgo'!$F$10+LEFT(L97,1)*'Criterios de Riesgo'!$F$11+LEFT(M97,1)*'Criterios de Riesgo'!$F$12+LEFT(N97,1)*'Criterios de Riesgo'!$F$13+LEFT(O97,1)*'Criterios de Riesgo'!$F$14+LEFT(P97,1)*'Criterios de Riesgo'!$F$15),2))/5)","v":""},null,null,null,null,{"$f":"IF(COUNTA(S97:V97)<4,\"\",IF(V97=\"No\",\"No se usa\",VLOOKUP(ROUND((LEFT(S97,1)*'Criterios de Riesgo'!$C$13+LEFT(T97,1)*'Criterios de Riesgo'!$C$14+LEFT(U97,1)*'Criterios de Riesgo'!$C$15),2),Calif_Covertura,2,1)))","v":""},{"$f":"IF(COUNTA(S97:V97)<4,\"\",IF(V97=\"No\",0,(ROUND((LEFT(S97,1)*'Criterios de Riesgo'!$C$13+LEFT(T97,1)*'Criterios de Riesgo'!$C$14+LEFT(U97,1)*'Criterios de Riesgo'!$C$15),2))/5))","v":""},""]
[null,null,null,null,null,null,null,null,null,null,null,null,null,null,null,null,{"$f":"IF(COUNTA(I98:P98)<8,\"\",VLOOKUP(ROUND((LEFT(I98,1)*'Criterios de Riesgo'!$F$8+LEFT(J98,1)*'Criterios de Riesgo'!$F$9+LEFT(K98,1)*'Criterios de Riesgo'!$F$10+LEFT(L98,1)*'Criterios de Riesgo'!$F$11+LEFT(M98,1)*'Criterios de Riesgo'!$F$12+LEFT(N98,1)*'Criterios de Riesgo'!$F$13+LEFT(O98,1)*'Criterios de Riesgo'!$F$14+LEFT(P98,1)*'Criterios de Riesgo'!$F$15),2),Calif_Control,2,1))","v":""},{"$f":"IF(COUNTA(I98:P98)<8,\"\",(ROUND((LEFT(I98,1)*'Criterios de Riesgo'!$F$8+LEFT(J98,1)*'Criterios de Riesgo'!$F$9+LEFT(K98,1)*'Criterios de Riesgo'!$F$10+LEFT(L98,1)*'Criterios de Riesgo'!$F$11+LEFT(M98,1)*'Criterios de Riesgo'!$F$12+LEFT(N98,1)*'Criterios de Riesgo'!$F$13+LEFT(O98,1)*'Criterios de Riesgo'!$F$14+LEFT(P98,1)*'Criterios de Riesgo'!$F$15),2))/5)","v":""},null,null,null,null,{"$f":"IF(COUNTA(S98:V98)<4,\"\",IF(V98=\"No\",\"No se usa\",VLOOKUP(ROUND((LEFT(S98,1)*'Criterios de Riesgo'!$C$13+LEFT(T98,1)*'Criterios de Riesgo'!$C$14+LEFT(U98,1)*'Criterios de Riesgo'!$C$15),2),Calif_Covertura,2,1)))","v":""},{"$f":"IF(COUNTA(S98:V98)<4,\"\",IF(V98=\"No\",0,(ROUND((LEFT(S98,1)*'Criterios de Riesgo'!$C$13+LEFT(T98,1)*'Criterios de Riesgo'!$C$14+LEFT(U98,1)*'Criterios de Riesgo'!$C$15),2))/5))","v":""},""]
[null,null,null,null,null,null,null,null,null,null,null,null,null,null,null,null,{"$f":"IF(COUNTA(I99:P99)<8,\"\",VLOOKUP(ROUND((LEFT(I99,1)*'Criterios de Riesgo'!$F$8+LEFT(J99,1)*'Criterios de Riesgo'!$F$9+LEFT(K99,1)*'Criterios de Riesgo'!$F$10+LEFT(L99,1)*'Criterios de Riesgo'!$F$11+LEFT(M99,1)*'Criterios de Riesgo'!$F$12+LEFT(N99,1)*'Criterios de Riesgo'!$F$13+LEFT(O99,1)*'Criterios de Riesgo'!$F$14+LEFT(P99,1)*'Criterios de Riesgo'!$F$15),2),Calif_Control,2,1))","v":""},{"$f":"IF(COUNTA(I99:P99)<8,\"\",(ROUND((LEFT(I99,1)*'Criterios de Riesgo'!$F$8+LEFT(J99,1)*'Criterios de Riesgo'!$F$9+LEFT(K99,1)*'Criterios de Riesgo'!$F$10+LEFT(L99,1)*'Criterios de Riesgo'!$F$11+LEFT(M99,1)*'Criterios de Riesgo'!$F$12+LEFT(N99,1)*'Criterios de Riesgo'!$F$13+LEFT(O99,1)*'Criterios de Riesgo'!$F$14+LEFT(P99,1)*'Criterios de Riesgo'!$F$15),2))/5)","v":""},null,null,null,null,{"$f":"IF(COUNTA(S99:V99)<4,\"\",IF(V99=\"No\",\"No se usa\",VLOOKUP(ROUND((LEFT(S99,1)*'Criterios de Riesgo'!$C$13+LEFT(T99,1)*'Criterios de Riesgo'!$C$14+LEFT(U99,1)*'Criterios de Riesgo'!$C$15),2),Calif_Covertura,2,1)))","v":""},{"$f":"IF(COUNTA(S99:V99)<4,\"\",IF(V99=\"No\",0,(ROUND((LEFT(S99,1)*'Criterios de Riesgo'!$C$13+LEFT(T99,1)*'Criterios de Riesgo'!$C$14+LEFT(U99,1)*'Criterios de Riesgo'!$C$15),2))/5))","v":""},""]
[null,null,null,null,null,null,null,null,null,null,null,null,null,null,null,null,{"$f":"IF(COUNTA(I100:P100)<8,\"\",VLOOKUP(ROUND((LEFT(I100,1)*'Criterios de Riesgo'!$F$8+LEFT(J100,1)*'Criterios de Riesgo'!$F$9+LEFT(K100,1)*'Criterios de Riesgo'!$F$10+LEFT(L100,1)*'Criterios de Riesgo'!$F$11+LEFT(M100,1)*'Criterios de Riesgo'!$F$12+LEFT(N100,1)*'Criterios de Riesgo'!$F$13+LEFT(O100,1)*'Criterios de Riesgo'!$F$14+LEFT(P100,1)*'Criterios de Riesgo'!$F$15),2),Calif_Control,2,1))","v":""},{"$f":"IF(COUNTA(I100:P100)<8,\"\",(ROUND((LEFT(I100,1)*'Criterios de Riesgo'!$F$8+LEFT(J100,1)*'Criterios de Riesgo'!$F$9+LEFT(K100,1)*'Criterios de Riesgo'!$F$10+LEFT(L100,1)*'Criterios de Riesgo'!$F$11+LEFT(M100,1)*'Criterios de Riesgo'!$F$12+LEFT(N100,1)*'Criterios de Riesgo'!$F$13+LEFT(O100,1)*'Criterios de Riesgo'!$F$14+LEFT(P100,1)*'Criterios de Riesgo'!$F$15),2))/5)","v":""},null,null,null,null,{"$f":"IF(COUNTA(S100:V100)<4,\"\",IF(V100=\"No\",\"No se usa\",VLOOKUP(ROUND((LEFT(S100,1)*'Criterios de Riesgo'!$C$13+LEFT(T100,1)*'Criterios de Riesgo'!$C$14+LEFT(U100,1)*'Criterios de Riesgo'!$C$15),2),Calif_Covertura,2,1)))","v":""},{"$f":"IF(COUNTA(S100:V100)<4,\"\",IF(V100=\"No\",0,(ROUND((LEFT(S100,1)*'Criterios de Riesgo'!$C$13+LEFT(T100,1)*'Criterios de Riesgo'!$C$14+LEFT(U100,1)*'Criterios de Riesgo'!$C$15),2))/5))","v":""},""]
[null,null,null,null,null,null,null,null,null,null,null,null,null,null,null,null,{"$f":"IF(COUNTA(I101:P101)<8,\"\",VLOOKUP(ROUND((LEFT(I101,1)*'Criterios de Riesgo'!$F$8+LEFT(J101,1)*'Criterios de Riesgo'!$F$9+LEFT(K101,1)*'Criterios de Riesgo'!$F$10+LEFT(L101,1)*'Criterios de Riesgo'!$F$11+LEFT(M101,1)*'Criterios de Riesgo'!$F$12+LEFT(N101,1)*'Criterios de Riesgo'!$F$13+LEFT(O101,1)*'Criterios de Riesgo'!$F$14+LEFT(P101,1)*'Criterios de Riesgo'!$F$15),2),Calif_Control,2,1))","v":""},{"$f":"IF(COUNTA(I101:P101)<8,\"\",(ROUND((LEFT(I101,1)*'Criterios de Riesgo'!$F$8+LEFT(J101,1)*'Criterios de Riesgo'!$F$9+LEFT(K101,1)*'Criterios de Riesgo'!$F$10+LEFT(L101,1)*'Criterios de Riesgo'!$F$11+LEFT(M101,1)*'Criterios de Riesgo'!$F$12+LEFT(N101,1)*'Criterios de Riesgo'!$F$13+LEFT(O101,1)*'Criterios de Riesgo'!$F$14+LEFT(P101,1)*'Criterios de Riesgo'!$F$15),2))/5)","v":""},null,null,null,null,{"$f":"IF(COUNTA(S101:V101)<4,\"\",IF(V101=\"No\",\"No se usa\",VLOOKUP(ROUND((LEFT(S101,1)*'Criterios de Riesgo'!$C$13+LEFT(T101,1)*'Criterios de Riesgo'!$C$14+LEFT(U101,1)*'Criterios de Riesgo'!$C$15),2),Calif_Covertura,2,1)))","v":""},{"$f":"IF(COUNTA(S101:V101)<4,\"\",IF(V101=\"No\",0,(ROUND((LEFT(S101,1)*'Criterios de Riesgo'!$C$13+LEFT(T101,1)*'Criterios de Riesgo'!$C$14+LEFT(U101,1)*'Criterios de Riesgo'!$C$15),2))/5))","v":""},""]
[null,null,null,null,null,null,null,null,null,null,null,null,null,null,null,null,{"$f":"IF(COUNTA(I102:P102)<8,\"\",VLOOKUP(ROUND((LEFT(I102,1)*'Criterios de Riesgo'!$F$8+LEFT(J102,1)*'Criterios de Riesgo'!$F$9+LEFT(K102,1)*'Criterios de Riesgo'!$F$10+LEFT(L102,1)*'Criterios de Riesgo'!$F$11+LEFT(M102,1)*'Criterios de Riesgo'!$F$12+LEFT(N102,1)*'Criterios de Riesgo'!$F$13+LEFT(O102,1)*'Criterios de Riesgo'!$F$14+LEFT(P102,1)*'Criterios de Riesgo'!$F$15),2),Calif_Control,2,1))","v":""},{"$f":"IF(COUNTA(I102:P102)<8,\"\",(ROUND((LEFT(I102,1)*'Criterios de Riesgo'!$F$8+LEFT(J102,1)*'Criterios de Riesgo'!$F$9+LEFT(K102,1)*'Criterios de Riesgo'!$F$10+LEFT(L102,1)*'Criterios de Riesgo'!$F$11+LEFT(M102,1)*'Criterios de Riesgo'!$F$12+LEFT(N102,1)*'Criterios de Riesgo'!$F$13+LEFT(O102,1)*'Criterios de Riesgo'!$F$14+LEFT(P102,1)*'Criterios de Riesgo'!$F$15),2))/5)","v":""},null,null,null,null,{"$f":"IF(COUNTA(S102:V102)<4,\"\",IF(V102=\"No\",\"No se usa\",VLOOKUP(ROUND((LEFT(S102,1)*'Criterios de Riesgo'!$C$13+LEFT(T102,1)*'Criterios de Riesgo'!$C$14+LEFT(U102,1)*'Criterios de Riesgo'!$C$15),2),Calif_Covertura,2,1)))","v":""},{"$f":"IF(COUNTA(S102:V102)<4,\"\",IF(V102=\"No\",0,(ROUND((LEFT(S102,1)*'Criterios de Riesgo'!$C$13+LEFT(T102,1)*'Criterios de Riesgo'!$C$14+LEFT(U102,1)*'Criterios de Riesgo'!$C$15),2))/5))","v":""},""]
[null,null,null,null,null,null,null,null,null,null,null,null,null,null,null,null,{"$f":"IF(COUNTA(I103:P103)<8,\"\",VLOOKUP(ROUND((LEFT(I103,1)*'Criterios de Riesgo'!$F$8+LEFT(J103,1)*'Criterios de Riesgo'!$F$9+LEFT(K103,1)*'Criterios de Riesgo'!$F$10+LEFT(L103,1)*'Criterios de Riesgo'!$F$11+LEFT(M103,1)*'Criterios de Riesgo'!$F$12+LEFT(N103,1)*'Criterios de Riesgo'!$F$13+LEFT(O103,1)*'Criterios de Riesgo'!$F$14+LEFT(P103,1)*'Criterios de Riesgo'!$F$15),2),Calif_Control,2,1))","v":""},{"$f":"IF(COUNTA(I103:P103)<8,\"\",(ROUND((LEFT(I103,1)*'Criterios de Riesgo'!$F$8+LEFT(J103,1)*'Criterios de Riesgo'!$F$9+LEFT(K103,1)*'Criterios de Riesgo'!$F$10+LEFT(L103,1)*'Criterios de Riesgo'!$F$11+LEFT(M103,1)*'Criterios de Riesgo'!$F$12+LEFT(N103,1)*'Criterios de Riesgo'!$F$13+LEFT(O103,1)*'Criterios de Riesgo'!$F$14+LEFT(P103,1)*'Criterios de Riesgo'!$F$15),2))/5)","v":""},null,null,null,null,{"$f":"IF(COUNTA(S103:V103)<4,\"\",IF(V103=\"No\",\"No se usa\",VLOOKUP(ROUND((LEFT(S103,1)*'Criterios de Riesgo'!$C$13+LEFT(T103,1)*'Criterios de Riesgo'!$C$14+LEFT(U103,1)*'Criterios de Riesgo'!$C$15),2),Calif_Covertura,2,1)))","v":""},{"$f":"IF(COUNTA(S103:V103)<4,\"\",IF(V103=\"No\",0,(ROUND((LEFT(S103,1)*'Criterios de Riesgo'!$C$13+LEFT(T103,1)*'Criterios de Riesgo'!$C$14+LEFT(U103,1)*'Criterios de Riesgo'!$C$15),2))/5))","v":""},""]
[null,null,null,null,null,null,null,null,null,null,null,null,null,null,null,null,{"$f":"IF(COUNTA(I104:P104)<8,\"\",VLOOKUP(ROUND((LEFT(I104,1)*'Criterios de Riesgo'!$F$8+LEFT(J104,1)*'Criterios de Riesgo'!$F$9+LEFT(K104,1)*'Criterios de Riesgo'!$F$10+LEFT(L104,1)*'Criterios de Riesgo'!$F$11+LEFT(M104,1)*'Criterios de Riesgo'!$F$12+LEFT(N104,1)*'Criterios de Riesgo'!$F$13+LEFT(O104,1)*'Criterios de Riesgo'!$F$14+LEFT(P104,1)*'Criterios de Riesgo'!$F$15),2),Calif_Control,2,1))","v":""},{"$f":"IF(COUNTA(I104:P104)<8,\"\",(ROUND((LEFT(I104,1)*'Criterios de Riesgo'!$F$8+LEFT(J104,1)*'Criterios de Riesgo'!$F$9+LEFT(K104,1)*'Criterios de Riesgo'!$F$10+LEFT(L104,1)*'Criterios de Riesgo'!$F$11+LEFT(M104,1)*'Criterios de Riesgo'!$F$12+LEFT(N104,1)*'Criterios de Riesgo'!$F$13+LEFT(O104,1)*'Criterios de Riesgo'!$F$14+LEFT(P104,1)*'Criterios de Riesgo'!$F$15),2))/5)","v":""},null,null,null,null,{"$f":"IF(COUNTA(S104:V104)<4,\"\",IF(V104=\"No\",\"No se usa\",VLOOKUP(ROUND((LEFT(S104,1)*'Criterios de Riesgo'!$C$13+LEFT(T104,1)*'Criterios de Riesgo'!$C$14+LEFT(U104,1)*'Criterios de Riesgo'!$C$15),2),Calif_Covertura,2,1)))","v":""},{"$f":"IF(COUNTA(S104:V104)<4,\"\",IF(V104=\"No\",0,(ROUND((LEFT(S104,1)*'Criterios de Riesgo'!$C$13+LEFT(T104,1)*'Criterios de Riesgo'!$C$14+LEFT(U104,1)*'Criterios de Riesgo'!$C$15),2))/5))","v":""},""]
["R",null,null,null,null,null,null,null,null,null,null,null,null,null,null,null,{"$f":"IF(COUNTA(I105:P105)<8,\"\",VLOOKUP(ROUND((LEFT(I105,1)*'Criterios de Riesgo'!$F$8+LEFT(J105,1)*'Criterios de Riesgo'!$F$9+LEFT(K105,1)*'Criterios de Riesgo'!$F$10+LEFT(L105,1)*'Criterios de Riesgo'!$F$11+LEFT(M105,1)*'Criterios de Riesgo'!$F$12+LEFT(N105,1)*'Criterios de Riesgo'!$F$13+LEFT(O105,1)*'Criterios de Riesgo'!$F$14+LEFT(P105,1)*'Criterios de Riesgo'!$F$15),2),Calif_Control,2,1))","v":""},{"$f":"IF(COUNTA(I105:P105)<8,\"\",(ROUND((LEFT(I105,1)*'Criterios de Riesgo'!$F$8+LEFT(J105,1)*'Criterios de Riesgo'!$F$9+LEFT(K105,1)*'Criterios de Riesgo'!$F$10+LEFT(L105,1)*'Criterios de Riesgo'!$F$11+LEFT(M105,1)*'Criterios de Riesgo'!$F$12+LEFT(N105,1)*'Criterios de Riesgo'!$F$13+LEFT(O105,1)*'Criterios de Riesgo'!$F$14+LEFT(P105,1)*'Criterios de Riesgo'!$F$15),2))/5)","v":""},null,null,null,null,{"$f":"IF(COUNTA(S105:V105)<4,\"\",IF(V105=\"No\",\"No se usa\",VLOOKUP(ROUND((LEFT(S105,1)*'Criterios de Riesgo'!$C$13+LEFT(T105,1)*'Criterios de Riesgo'!$C$14+LEFT(U105,1)*'Criterios de Riesgo'!$C$15),2),Calif_Covertura,2,1)))","v":""},{"$f":"IF(COUNTA(S105:V105)<4,\"\",IF(V105=\"No\",0,(ROUND((LEFT(S105,1)*'Criterios de Riesgo'!$C$13+LEFT(T105,1)*'Criterios de Riesgo'!$C$14+LEFT(U105,1)*'Criterios de Riesgo'!$C$15),2))/5))","v":""},"",null,{"$f":"IF(ISERROR((SUMIF(Z105:Z114,\"=impacto\",Y105:Y114)+SUMIF(Z105:Z114,\"=Ambos\",Y105:Y114))/(COUNTIF(Z105:Z114,\"Impacto\")+COUNTIF(Z105:Z114,\"Ambos\"))),\"\",(SUMIF(Z105:Z114,\"=impacto\",Y105:Y114)+SUMIF(Z105:Z114,\"=Ambos\",Y105:Y114))/(COUNTIF(Z105:Z114,\"Impacto\")+COUNTIF(Z105:Z114,\"Ambos\")))","v":""},{"$f":"IF(ISERROR((SUMIF(Z105:Z114,\"=Probabilidad\",Y105:Y114)+SUMIF(Z105:Z114,\"=Ambos\",Y105:Y114))/(COUNTIF(Z105:Z114,\"Probabilidad\")+COUNTIF(Z105:Z114,\"Ambos\"))),\"\",(SUMIF(Z105:Z114,\"=Probabilidad\",Y105:Y114)+SUMIF(Z105:Z114,\"=Ambos\",Y105:Y114))/(COUNTIF(Z105:Z114,\"Probabilidad\")+COUNTIF(Z105:Z114,\"Ambos\")))","v":""},{"$f":"IF(ISERROR(ROUND(IF(AB105=\"\",AA105,IF(AA105=\"\",AB105,IF(AND(AB105=\"\",AA105=\"\"),\"\",AB105*AA105)))*100,0)/100),\"\",ROUND(IF(AB105=\"\",AA105,IF(AA105=\"\",AB105,IF(AND(AB105=\"\",AA105=\"\"),\"\",AB105*AA105)))*100,0)/100)","v":""},{"$f":"IF(AC105=\"\",\"\",VLOOKUP(AC105*5,Calif_Control,2,1))","v":""}]
[null,null,null,null,null,null,null,null,null,null,null,null,null,null,null,null,{"$f":"IF(COUNTA(I106:P106)<8,\"\",VLOOKUP(ROUND((LEFT(I106,1)*'Criterios de Riesgo'!$F$8+LEFT(J106,1)*'Criterios de Riesgo'!$F$9+LEFT(K106,1)*'Criterios de Riesgo'!$F$10+LEFT(L106,1)*'Criterios de Riesgo'!$F$11+LEFT(M106,1)*'Criterios de Riesgo'!$F$12+LEFT(N106,1)*'Criterios de Riesgo'!$F$13+LEFT(O106,1)*'Criterios de Riesgo'!$F$14+LEFT(P106,1)*'Criterios de Riesgo'!$F$15),2),Calif_Control,2,1))","v":""},{"$f":"IF(COUNTA(I106:P106)<8,\"\",(ROUND((LEFT(I106,1)*'Criterios de Riesgo'!$F$8+LEFT(J106,1)*'Criterios de Riesgo'!$F$9+LEFT(K106,1)*'Criterios de Riesgo'!$F$10+LEFT(L106,1)*'Criterios de Riesgo'!$F$11+LEFT(M106,1)*'Criterios de Riesgo'!$F$12+LEFT(N106,1)*'Criterios de Riesgo'!$F$13+LEFT(O106,1)*'Criterios de Riesgo'!$F$14+LEFT(P106,1)*'Criterios de Riesgo'!$F$15),2))/5)","v":""},null,null,null,null,{"$f":"IF(COUNTA(S106:V106)<4,\"\",IF(V106=\"No\",\"No se usa\",VLOOKUP(ROUND((LEFT(S106,1)*'Criterios de Riesgo'!$C$13+LEFT(T106,1)*'Criterios de Riesgo'!$C$14+LEFT(U106,1)*'Criterios de Riesgo'!$C$15),2),Calif_Covertura,2,1)))","v":""},{"$f":"IF(COUNTA(S106:V106)<4,\"\",IF(V106=\"No\",0,(ROUND((LEFT(S106,1)*'Criterios de Riesgo'!$C$13+LEFT(T106,1)*'Criterios de Riesgo'!$C$14+LEFT(U106,1)*'Criterios de Riesgo'!$C$15),2))/5))","v":""},""]
[null,null,null,null,null,null,null,null,null,null,null,null,null,null,null,null,{"$f":"IF(COUNTA(I107:P107)<8,\"\",VLOOKUP(ROUND((LEFT(I107,1)*'Criterios de Riesgo'!$F$8+LEFT(J107,1)*'Criterios de Riesgo'!$F$9+LEFT(K107,1)*'Criterios de Riesgo'!$F$10+LEFT(L107,1)*'Criterios de Riesgo'!$F$11+LEFT(M107,1)*'Criterios de Riesgo'!$F$12+LEFT(N107,1)*'Criterios de Riesgo'!$F$13+LEFT(O107,1)*'Criterios de Riesgo'!$F$14+LEFT(P107,1)*'Criterios de Riesgo'!$F$15),2),Calif_Control,2,1))","v":""},{"$f":"IF(COUNTA(I107:P107)<8,\"\",(ROUND((LEFT(I107,1)*'Criterios de Riesgo'!$F$8+LEFT(J107,1)*'Criterios de Riesgo'!$F$9+LEFT(K107,1)*'Criterios de Riesgo'!$F$10+LEFT(L107,1)*'Criterios de Riesgo'!$F$11+LEFT(M107,1)*'Criterios de Riesgo'!$F$12+LEFT(N107,1)*'Criterios de Riesgo'!$F$13+LEFT(O107,1)*'Criterios de Riesgo'!$F$14+LEFT(P107,1)*'Criterios de Riesgo'!$F$15),2))/5)","v":""},null,null,null,null,{"$f":"IF(COUNTA(S107:V107)<4,\"\",IF(V107=\"No\",\"No se usa\",VLOOKUP(ROUND((LEFT(S107,1)*'Criterios de Riesgo'!$C$13+LEFT(T107,1)*'Criterios de Riesgo'!$C$14+LEFT(U107,1)*'Criterios de Riesgo'!$C$15),2),Calif_Covertura,2,1)))","v":""},{"$f":"IF(COUNTA(S107:V107)<4,\"\",IF(V107=\"No\",0,(ROUND((LEFT(S107,1)*'Criterios de Riesgo'!$C$13+LEFT(T107,1)*'Criterios de Riesgo'!$C$14+LEFT(U107,1)*'Criterios de Riesgo'!$C$15),2))/5))","v":""},""]
[null,null,null,null,null,null,null,null,null,null,null,null,null,null,null,null,{"$f":"IF(COUNTA(I108:P108)<8,\"\",VLOOKUP(ROUND((LEFT(I108,1)*'Criterios de Riesgo'!$F$8+LEFT(J108,1)*'Criterios de Riesgo'!$F$9+LEFT(K108,1)*'Criterios de Riesgo'!$F$10+LEFT(L108,1)*'Criterios de Riesgo'!$F$11+LEFT(M108,1)*'Criterios de Riesgo'!$F$12+LEFT(N108,1)*'Criterios de Riesgo'!$F$13+LEFT(O108,1)*'Criterios de Riesgo'!$F$14+LEFT(P108,1)*'Criterios de Riesgo'!$F$15),2),Calif_Control,2,1))","v":""},{"$f":"IF(COUNTA(I108:P108)<8,\"\",(ROUND((LEFT(I108,1)*'Criterios de Riesgo'!$F$8+LEFT(J108,1)*'Criterios de Riesgo'!$F$9+LEFT(K108,1)*'Criterios de Riesgo'!$F$10+LEFT(L108,1)*'Criterios de Riesgo'!$F$11+LEFT(M108,1)*'Criterios de Riesgo'!$F$12+LEFT(N108,1)*'Criterios de Riesgo'!$F$13+LEFT(O108,1)*'Criterios de Riesgo'!$F$14+LEFT(P108,1)*'Criterios de Riesgo'!$F$15),2))/5)","v":""},null,null,null,null,{"$f":"IF(COUNTA(S108:V108)<4,\"\",IF(V108=\"No\",\"No se usa\",VLOOKUP(ROUND((LEFT(S108,1)*'Criterios de Riesgo'!$C$13+LEFT(T108,1)*'Criterios de Riesgo'!$C$14+LEFT(U108,1)*'Criterios de Riesgo'!$C$15),2),Calif_Covertura,2,1)))","v":""},{"$f":"IF(COUNTA(S108:V108)<4,\"\",IF(V108=\"No\",0,(ROUND((LEFT(S108,1)*'Criterios de Riesgo'!$C$13+LEFT(T108,1)*'Criterios de Riesgo'!$C$14+LEFT(U108,1)*'Criterios de Riesgo'!$C$15),2))/5))","v":""},""]
[null,null,null,null,null,null,null,null,null,null,null,null,null,null,null,null,{"$f":"IF(COUNTA(I109:P109)<8,\"\",VLOOKUP(ROUND((LEFT(I109,1)*'Criterios de Riesgo'!$F$8+LEFT(J109,1)*'Criterios de Riesgo'!$F$9+LEFT(K109,1)*'Criterios de Riesgo'!$F$10+LEFT(L109,1)*'Criterios de Riesgo'!$F$11+LEFT(M109,1)*'Criterios de Riesgo'!$F$12+LEFT(N109,1)*'Criterios de Riesgo'!$F$13+LEFT(O109,1)*'Criterios de Riesgo'!$F$14+LEFT(P109,1)*'Criterios de Riesgo'!$F$15),2),Calif_Control,2,1))","v":""},{"$f":"IF(COUNTA(I109:P109)<8,\"\",(ROUND((LEFT(I109,1)*'Criterios de Riesgo'!$F$8+LEFT(J109,1)*'Criterios de Riesgo'!$F$9+LEFT(K109,1)*'Criterios de Riesgo'!$F$10+LEFT(L109,1)*'Criterios de Riesgo'!$F$11+LEFT(M109,1)*'Criterios de Riesgo'!$F$12+LEFT(N109,1)*'Criterios de Riesgo'!$F$13+LEFT(O109,1)*'Criterios de Riesgo'!$F$14+LEFT(P109,1)*'Criterios de Riesgo'!$F$15),2))/5)","v":""},null,null,null,null,{"$f":"IF(COUNTA(S109:V109)<4,\"\",IF(V109=\"No\",\"No se usa\",VLOOKUP(ROUND((LEFT(S109,1)*'Criterios de Riesgo'!$C$13+LEFT(T109,1)*'Criterios de Riesgo'!$C$14+LEFT(U109,1)*'Criterios de Riesgo'!$C$15),2),Calif_Covertura,2,1)))","v":""},{"$f":"IF(COUNTA(S109:V109)<4,\"\",IF(V109=\"No\",0,(ROUND((LEFT(S109,1)*'Criterios de Riesgo'!$C$13+LEFT(T109,1)*'Criterios de Riesgo'!$C$14+LEFT(U109,1)*'Criterios de Riesgo'!$C$15),2))/5))","v":""},""]
[null,null,null,null,null,null,null,null,null,null,null,null,null,null,null,null,{"$f":"IF(COUNTA(I110:P110)<8,\"\",VLOOKUP(ROUND((LEFT(I110,1)*'Criterios de Riesgo'!$F$8+LEFT(J110,1)*'Criterios de Riesgo'!$F$9+LEFT(K110,1)*'Criterios de Riesgo'!$F$10+LEFT(L110,1)*'Criterios de Riesgo'!$F$11+LEFT(M110,1)*'Criterios de Riesgo'!$F$12+LEFT(N110,1)*'Criterios de Riesgo'!$F$13+LEFT(O110,1)*'Criterios de Riesgo'!$F$14+LEFT(P110,1)*'Criterios de Riesgo'!$F$15),2),Calif_Control,2,1))","v":""},{"$f":"IF(COUNTA(I110:P110)<8,\"\",(ROUND((LEFT(I110,1)*'Criterios de Riesgo'!$F$8+LEFT(J110,1)*'Criterios de Riesgo'!$F$9+LEFT(K110,1)*'Criterios de Riesgo'!$F$10+LEFT(L110,1)*'Criterios de Riesgo'!$F$11+LEFT(M110,1)*'Criterios de Riesgo'!$F$12+LEFT(N110,1)*'Criterios de Riesgo'!$F$13+LEFT(O110,1)*'Criterios de Riesgo'!$F$14+LEFT(P110,1)*'Criterios de Riesgo'!$F$15),2))/5)","v":""},null,null,null,null,{"$f":"IF(COUNTA(S110:V110)<4,\"\",IF(V110=\"No\",\"No se usa\",VLOOKUP(ROUND((LEFT(S110,1)*'Criterios de Riesgo'!$C$13+LEFT(T110,1)*'Criterios de Riesgo'!$C$14+LEFT(U110,1)*'Criterios de Riesgo'!$C$15),2),Calif_Covertura,2,1)))","v":""},{"$f":"IF(COUNTA(S110:V110)<4,\"\",IF(V110=\"No\",0,(ROUND((LEFT(S110,1)*'Criterios de Riesgo'!$C$13+LEFT(T110,1)*'Criterios de Riesgo'!$C$14+LEFT(U110,1)*'Criterios de Riesgo'!$C$15),2))/5))","v":""},""]
[null,null,null,null,null,null,null,null,null,null,null,null,null,null,null,null,{"$f":"IF(COUNTA(I111:P111)<8,\"\",VLOOKUP(ROUND((LEFT(I111,1)*'Criterios de Riesgo'!$F$8+LEFT(J111,1)*'Criterios de Riesgo'!$F$9+LEFT(K111,1)*'Criterios de Riesgo'!$F$10+LEFT(L111,1)*'Criterios de Riesgo'!$F$11+LEFT(M111,1)*'Criterios de Riesgo'!$F$12+LEFT(N111,1)*'Criterios de Riesgo'!$F$13+LEFT(O111,1)*'Criterios de Riesgo'!$F$14+LEFT(P111,1)*'Criterios de Riesgo'!$F$15),2),Calif_Control,2,1))","v":""},{"$f":"IF(COUNTA(I111:P111)<8,\"\",(ROUND((LEFT(I111,1)*'Criterios de Riesgo'!$F$8+LEFT(J111,1)*'Criterios de Riesgo'!$F$9+LEFT(K111,1)*'Criterios de Riesgo'!$F$10+LEFT(L111,1)*'Criterios de Riesgo'!$F$11+LEFT(M111,1)*'Criterios de Riesgo'!$F$12+LEFT(N111,1)*'Criterios de Riesgo'!$F$13+LEFT(O111,1)*'Criterios de Riesgo'!$F$14+LEFT(P111,1)*'Criterios de Riesgo'!$F$15),2))/5)","v":""},null,null,null,null,{"$f":"IF(COUNTA(S111:V111)<4,\"\",IF(V111=\"No\",\"No se usa\",VLOOKUP(ROUND((LEFT(S111,1)*'Criterios de Riesgo'!$C$13+LEFT(T111,1)*'Criterios de Riesgo'!$C$14+LEFT(U111,1)*'Criterios de Riesgo'!$C$15),2),Calif_Covertura,2,1)))","v":""},{"$f":"IF(COUNTA(S111:V111)<4,\"\",IF(V111=\"No\",0,(ROUND((LEFT(S111,1)*'Criterios de Riesgo'!$C$13+LEFT(T111,1)*'Criterios de Riesgo'!$C$14+LEFT(U111,1)*'Criterios de Riesgo'!$C$15),2))/5))","v":""},""]
[null,null,null,null,null,null,null,null,null,null,null,null,null,null,null,null,{"$f":"IF(COUNTA(I112:P112)<8,\"\",VLOOKUP(ROUND((LEFT(I112,1)*'Criterios de Riesgo'!$F$8+LEFT(J112,1)*'Criterios de Riesgo'!$F$9+LEFT(K112,1)*'Criterios de Riesgo'!$F$10+LEFT(L112,1)*'Criterios de Riesgo'!$F$11+LEFT(M112,1)*'Criterios de Riesgo'!$F$12+LEFT(N112,1)*'Criterios de Riesgo'!$F$13+LEFT(O112,1)*'Criterios de Riesgo'!$F$14+LEFT(P112,1)*'Criterios de Riesgo'!$F$15),2),Calif_Control,2,1))","v":""},{"$f":"IF(COUNTA(I112:P112)<8,\"\",(ROUND((LEFT(I112,1)*'Criterios de Riesgo'!$F$8+LEFT(J112,1)*'Criterios de Riesgo'!$F$9+LEFT(K112,1)*'Criterios de Riesgo'!$F$10+LEFT(L112,1)*'Criterios de Riesgo'!$F$11+LEFT(M112,1)*'Criterios de Riesgo'!$F$12+LEFT(N112,1)*'Criterios de Riesgo'!$F$13+LEFT(O112,1)*'Criterios de Riesgo'!$F$14+LEFT(P112,1)*'Criterios de Riesgo'!$F$15),2))/5)","v":""},null,null,null,null,{"$f":"IF(COUNTA(S112:V112)<4,\"\",IF(V112=\"No\",\"No se usa\",VLOOKUP(ROUND((LEFT(S112,1)*'Criterios de Riesgo'!$C$13+LEFT(T112,1)*'Criterios de Riesgo'!$C$14+LEFT(U112,1)*'Criterios de Riesgo'!$C$15),2),Calif_Covertura,2,1)))","v":""},{"$f":"IF(COUNTA(S112:V112)<4,\"\",IF(V112=\"No\",0,(ROUND((LEFT(S112,1)*'Criterios de Riesgo'!$C$13+LEFT(T112,1)*'Criterios de Riesgo'!$C$14+LEFT(U112,1)*'Criterios de Riesgo'!$C$15),2))/5))","v":""},""]
[null,null,null,null,null,null,null,null,null,null,null,null,null,null,null,null,{"$f":"IF(COUNTA(I113:P113)<8,\"\",VLOOKUP(ROUND((LEFT(I113,1)*'Criterios de Riesgo'!$F$8+LEFT(J113,1)*'Criterios de Riesgo'!$F$9+LEFT(K113,1)*'Criterios de Riesgo'!$F$10+LEFT(L113,1)*'Criterios de Riesgo'!$F$11+LEFT(M113,1)*'Criterios de Riesgo'!$F$12+LEFT(N113,1)*'Criterios de Riesgo'!$F$13+LEFT(O113,1)*'Criterios de Riesgo'!$F$14+LEFT(P113,1)*'Criterios de Riesgo'!$F$15),2),Calif_Control,2,1))","v":""},{"$f":"IF(COUNTA(I113:P113)<8,\"\",(ROUND((LEFT(I113,1)*'Criterios de Riesgo'!$F$8+LEFT(J113,1)*'Criterios de Riesgo'!$F$9+LEFT(K113,1)*'Criterios de Riesgo'!$F$10+LEFT(L113,1)*'Criterios de Riesgo'!$F$11+LEFT(M113,1)*'Criterios de Riesgo'!$F$12+LEFT(N113,1)*'Criterios de Riesgo'!$F$13+LEFT(O113,1)*'Criterios de Riesgo'!$F$14+LEFT(P113,1)*'Criterios de Riesgo'!$F$15),2))/5)","v":""},null,null,null,null,{"$f":"IF(COUNTA(S113:V113)<4,\"\",IF(V113=\"No\",\"No se usa\",VLOOKUP(ROUND((LEFT(S113,1)*'Criterios de Riesgo'!$C$13+LEFT(T113,1)*'Criterios de Riesgo'!$C$14+LEFT(U113,1)*'Criterios de Riesgo'!$C$15),2),Calif_Covertura,2,1)))","v":""},{"$f":"IF(COUNTA(S113:V113)<4,\"\",IF(V113=\"No\",0,(ROUND((LEFT(S113,1)*'Criterios de Riesgo'!$C$13+LEFT(T113,1)*'Criterios de Riesgo'!$C$14+LEFT(U113,1)*'Criterios de Riesgo'!$C$15),2))/5))","v":""},""]
[null,null,null,null,null,null,null,null,null,null,null,null,null,null,null,null,{"$f":"IF(COUNTA(I114:P114)<8,\"\",VLOOKUP(ROUND((LEFT(I114,1)*'Criterios de Riesgo'!$F$8+LEFT(J114,1)*'Criterios de Riesgo'!$F$9+LEFT(K114,1)*'Criterios de Riesgo'!$F$10+LEFT(L114,1)*'Criterios de Riesgo'!$F$11+LEFT(M114,1)*'Criterios de Riesgo'!$F$12+LEFT(N114,1)*'Criterios de Riesgo'!$F$13+LEFT(O114,1)*'Criterios de Riesgo'!$F$14+LEFT(P114,1)*'Criterios de Riesgo'!$F$15),2),Calif_Control,2,1))","v":""},{"$f":"IF(COUNTA(I114:P114)<8,\"\",(ROUND((LEFT(I114,1)*'Criterios de Riesgo'!$F$8+LEFT(J114,1)*'Criterios de Riesgo'!$F$9+LEFT(K114,1)*'Criterios de Riesgo'!$F$10+LEFT(L114,1)*'Criterios de Riesgo'!$F$11+LEFT(M114,1)*'Criterios de Riesgo'!$F$12+LEFT(N114,1)*'Criterios de Riesgo'!$F$13+LEFT(O114,1)*'Criterios de Riesgo'!$F$14+LEFT(P114,1)*'Criterios de Riesgo'!$F$15),2))/5)","v":""},null,null,null,null,{"$f":"IF(COUNTA(S114:V114)<4,\"\",IF(V114=\"No\",\"No se usa\",VLOOKUP(ROUND((LEFT(S114,1)*'Criterios de Riesgo'!$C$13+LEFT(T114,1)*'Criterios de Riesgo'!$C$14+LEFT(U114,1)*'Criterios de Riesgo'!$C$15),2),Calif_Covertura,2,1)))","v":""},{"$f":"IF(COUNTA(S114:V114)<4,\"\",IF(V114=\"No\",0,(ROUND((LEFT(S114,1)*'Criterios de Riesgo'!$C$13+LEFT(T114,1)*'Criterios de Riesgo'!$C$14+LEFT(U114,1)*'Criterios de Riesgo'!$C$15),2))/5))","v":""},""]
["R",null,null,null,null,null,null,null,null,null,null,null,null,null,null,null,{"$f":"IF(COUNTA(I115:P115)<8,\"\",VLOOKUP(ROUND((LEFT(I115,1)*'Criterios de Riesgo'!$F$8+LEFT(J115,1)*'Criterios de Riesgo'!$F$9+LEFT(K115,1)*'Criterios de Riesgo'!$F$10+LEFT(L115,1)*'Criterios de Riesgo'!$F$11+LEFT(M115,1)*'Criterios de Riesgo'!$F$12+LEFT(N115,1)*'Criterios de Riesgo'!$F$13+LEFT(O115,1)*'Criterios de Riesgo'!$F$14+LEFT(P115,1)*'Criterios de Riesgo'!$F$15),2),Calif_Control,2,1))","v":""},{"$f":"IF(COUNTA(I115:P115)<8,\"\",(ROUND((LEFT(I115,1)*'Criterios de Riesgo'!$F$8+LEFT(J115,1)*'Criterios de Riesgo'!$F$9+LEFT(K115,1)*'Criterios de Riesgo'!$F$10+LEFT(L115,1)*'Criterios de Riesgo'!$F$11+LEFT(M115,1)*'Criterios de Riesgo'!$F$12+LEFT(N115,1)*'Criterios de Riesgo'!$F$13+LEFT(O115,1)*'Criterios de Riesgo'!$F$14+LEFT(P115,1)*'Criterios de Riesgo'!$F$15),2))/5)","v":""},null,null,null,null,{"$f":"IF(COUNTA(S115:V115)<4,\"\",IF(V115=\"No\",\"No se usa\",VLOOKUP(ROUND((LEFT(S115,1)*'Criterios de Riesgo'!$C$13+LEFT(T115,1)*'Criterios de Riesgo'!$C$14+LEFT(U115,1)*'Criterios de Riesgo'!$C$15),2),Calif_Covertura,2,1)))","v":""},{"$f":"IF(COUNTA(S115:V115)<4,\"\",IF(V115=\"No\",0,(ROUND((LEFT(S115,1)*'Criterios de Riesgo'!$C$13+LEFT(T115,1)*'Criterios de Riesgo'!$C$14+LEFT(U115,1)*'Criterios de Riesgo'!$C$15),2))/5))","v":""},"",null,{"$f":"IF(ISERROR((SUMIF(Z115:Z124,\"=impacto\",Y115:Y124)+SUMIF(Z115:Z124,\"=Ambos\",Y115:Y124))/(COUNTIF(Z115:Z124,\"Impacto\")+COUNTIF(Z115:Z124,\"Ambos\"))),\"\",(SUMIF(Z115:Z124,\"=impacto\",Y115:Y124)+SUMIF(Z115:Z124,\"=Ambos\",Y115:Y124))/(COUNTIF(Z115:Z124,\"Impacto\")+COUNTIF(Z115:Z124,\"Ambos\")))","v":""},{"$f":"IF(ISERROR((SUMIF(Z115:Z124,\"=Probabilidad\",Y115:Y124)+SUMIF(Z115:Z124,\"=Ambos\",Y115:Y124))/(COUNTIF(Z115:Z124,\"Probabilidad\")+COUNTIF(Z115:Z124,\"Ambos\"))),\"\",(SUMIF(Z115:Z124,\"=Probabilidad\",Y115:Y124)+SUMIF(Z115:Z124,\"=Ambos\",Y115:Y124))/(COUNTIF(Z115:Z124,\"Probabilidad\")+COUNTIF(Z115:Z124,\"Ambos\")))","v":""},{"$f":"IF(ISERROR(ROUND(IF(AB115=\"\",AA115,IF(AA115=\"\",AB115,IF(AND(AB115=\"\",AA115=\"\"),\"\",AB115*AA115)))*100,0)/100),\"\",ROUND(IF(AB115=\"\",AA115,IF(AA115=\"\",AB115,IF(AND(AB115=\"\",AA115=\"\"),\"\",AB115*AA115)))*100,0)/100)","v":""},{"$f":"IF(AC115=\"\",\"\",VLOOKUP(AC115*5,Calif_Control,2,1))","v":""}]
[null,null,null,null,null,null,null,null,null,null,null,null,null,null,null,null,{"$f":"IF(COUNTA(I116:P116)<8,\"\",VLOOKUP(ROUND((LEFT(I116,1)*'Criterios de Riesgo'!$F$8+LEFT(J116,1)*'Criterios de Riesgo'!$F$9+LEFT(K116,1)*'Criterios de Riesgo'!$F$10+LEFT(L116,1)*'Criterios de Riesgo'!$F$11+LEFT(M116,1)*'Criterios de Riesgo'!$F$12+LEFT(N116,1)*'Criterios de Riesgo'!$F$13+LEFT(O116,1)*'Criterios de Riesgo'!$F$14+LEFT(P116,1)*'Criterios de Riesgo'!$F$15),2),Calif_Control,2,1))","v":""},{"$f":"IF(COUNTA(I116:P116)<8,\"\",(ROUND((LEFT(I116,1)*'Criterios de Riesgo'!$F$8+LEFT(J116,1)*'Criterios de Riesgo'!$F$9+LEFT(K116,1)*'Criterios de Riesgo'!$F$10+LEFT(L116,1)*'Criterios de Riesgo'!$F$11+LEFT(M116,1)*'Criterios de Riesgo'!$F$12+LEFT(N116,1)*'Criterios de Riesgo'!$F$13+LEFT(O116,1)*'Criterios de Riesgo'!$F$14+LEFT(P116,1)*'Criterios de Riesgo'!$F$15),2))/5)","v":""},null,null,null,null,{"$f":"IF(COUNTA(S116:V116)<4,\"\",IF(V116=\"No\",\"No se usa\",VLOOKUP(ROUND((LEFT(S116,1)*'Criterios de Riesgo'!$C$13+LEFT(T116,1)*'Criterios de Riesgo'!$C$14+LEFT(U116,1)*'Criterios de Riesgo'!$C$15),2),Calif_Covertura,2,1)))","v":""},{"$f":"IF(COUNTA(S116:V116)<4,\"\",IF(V116=\"No\",0,(ROUND((LEFT(S116,1)*'Criterios de Riesgo'!$C$13+LEFT(T116,1)*'Criterios de Riesgo'!$C$14+LEFT(U116,1)*'Criterios de Riesgo'!$C$15),2))/5))","v":""},""]
[null,null,null,null,null,null,null,null,null,null,null,null,null,null,null,null,{"$f":"IF(COUNTA(I117:P117)<8,\"\",VLOOKUP(ROUND((LEFT(I117,1)*'Criterios de Riesgo'!$F$8+LEFT(J117,1)*'Criterios de Riesgo'!$F$9+LEFT(K117,1)*'Criterios de Riesgo'!$F$10+LEFT(L117,1)*'Criterios de Riesgo'!$F$11+LEFT(M117,1)*'Criterios de Riesgo'!$F$12+LEFT(N117,1)*'Criterios de Riesgo'!$F$13+LEFT(O117,1)*'Criterios de Riesgo'!$F$14+LEFT(P117,1)*'Criterios de Riesgo'!$F$15),2),Calif_Control,2,1))","v":""},{"$f":"IF(COUNTA(I117:P117)<8,\"\",(ROUND((LEFT(I117,1)*'Criterios de Riesgo'!$F$8+LEFT(J117,1)*'Criterios de Riesgo'!$F$9+LEFT(K117,1)*'Criterios de Riesgo'!$F$10+LEFT(L117,1)*'Criterios de Riesgo'!$F$11+LEFT(M117,1)*'Criterios de Riesgo'!$F$12+LEFT(N117,1)*'Criterios de Riesgo'!$F$13+LEFT(O117,1)*'Criterios de Riesgo'!$F$14+LEFT(P117,1)*'Criterios de Riesgo'!$F$15),2))/5)","v":""},null,null,null,null,{"$f":"IF(COUNTA(S117:V117)<4,\"\",IF(V117=\"No\",\"No se usa\",VLOOKUP(ROUND((LEFT(S117,1)*'Criterios de Riesgo'!$C$13+LEFT(T117,1)*'Criterios de Riesgo'!$C$14+LEFT(U117,1)*'Criterios de Riesgo'!$C$15),2),Calif_Covertura,2,1)))","v":""},{"$f":"IF(COUNTA(S117:V117)<4,\"\",IF(V117=\"No\",0,(ROUND((LEFT(S117,1)*'Criterios de Riesgo'!$C$13+LEFT(T117,1)*'Criterios de Riesgo'!$C$14+LEFT(U117,1)*'Criterios de Riesgo'!$C$15),2))/5))","v":""},""]
[null,null,null,null,null,null,null,null,null,null,null,null,null,null,null,null,{"$f":"IF(COUNTA(I118:P118)<8,\"\",VLOOKUP(ROUND((LEFT(I118,1)*'Criterios de Riesgo'!$F$8+LEFT(J118,1)*'Criterios de Riesgo'!$F$9+LEFT(K118,1)*'Criterios de Riesgo'!$F$10+LEFT(L118,1)*'Criterios de Riesgo'!$F$11+LEFT(M118,1)*'Criterios de Riesgo'!$F$12+LEFT(N118,1)*'Criterios de Riesgo'!$F$13+LEFT(O118,1)*'Criterios de Riesgo'!$F$14+LEFT(P118,1)*'Criterios de Riesgo'!$F$15),2),Calif_Control,2,1))","v":""},{"$f":"IF(COUNTA(I118:P118)<8,\"\",(ROUND((LEFT(I118,1)*'Criterios de Riesgo'!$F$8+LEFT(J118,1)*'Criterios de Riesgo'!$F$9+LEFT(K118,1)*'Criterios de Riesgo'!$F$10+LEFT(L118,1)*'Criterios de Riesgo'!$F$11+LEFT(M118,1)*'Criterios de Riesgo'!$F$12+LEFT(N118,1)*'Criterios de Riesgo'!$F$13+LEFT(O118,1)*'Criterios de Riesgo'!$F$14+LEFT(P118,1)*'Criterios de Riesgo'!$F$15),2))/5)","v":""},null,null,null,null,{"$f":"IF(COUNTA(S118:V118)<4,\"\",IF(V118=\"No\",\"No se usa\",VLOOKUP(ROUND((LEFT(S118,1)*'Criterios de Riesgo'!$C$13+LEFT(T118,1)*'Criterios de Riesgo'!$C$14+LEFT(U118,1)*'Criterios de Riesgo'!$C$15),2),Calif_Covertura,2,1)))","v":""},{"$f":"IF(COUNTA(S118:V118)<4,\"\",IF(V118=\"No\",0,(ROUND((LEFT(S118,1)*'Criterios de Riesgo'!$C$13+LEFT(T118,1)*'Criterios de Riesgo'!$C$14+LEFT(U118,1)*'Criterios de Riesgo'!$C$15),2))/5))","v":""},""]
[null,null,null,null,null,null,null,null,null,null,null,null,null,null,null,null,{"$f":"IF(COUNTA(I119:P119)<8,\"\",VLOOKUP(ROUND((LEFT(I119,1)*'Criterios de Riesgo'!$F$8+LEFT(J119,1)*'Criterios de Riesgo'!$F$9+LEFT(K119,1)*'Criterios de Riesgo'!$F$10+LEFT(L119,1)*'Criterios de Riesgo'!$F$11+LEFT(M119,1)*'Criterios de Riesgo'!$F$12+LEFT(N119,1)*'Criterios de Riesgo'!$F$13+LEFT(O119,1)*'Criterios de Riesgo'!$F$14+LEFT(P119,1)*'Criterios de Riesgo'!$F$15),2),Calif_Control,2,1))","v":""},{"$f":"IF(COUNTA(I119:P119)<8,\"\",(ROUND((LEFT(I119,1)*'Criterios de Riesgo'!$F$8+LEFT(J119,1)*'Criterios de Riesgo'!$F$9+LEFT(K119,1)*'Criterios de Riesgo'!$F$10+LEFT(L119,1)*'Criterios de Riesgo'!$F$11+LEFT(M119,1)*'Criterios de Riesgo'!$F$12+LEFT(N119,1)*'Criterios de Riesgo'!$F$13+LEFT(O119,1)*'Criterios de Riesgo'!$F$14+LEFT(P119,1)*'Criterios de Riesgo'!$F$15),2))/5)","v":""},null,null,null,null,{"$f":"IF(COUNTA(S119:V119)<4,\"\",IF(V119=\"No\",\"No se usa\",VLOOKUP(ROUND((LEFT(S119,1)*'Criterios de Riesgo'!$C$13+LEFT(T119,1)*'Criterios de Riesgo'!$C$14+LEFT(U119,1)*'Criterios de Riesgo'!$C$15),2),Calif_Covertura,2,1)))","v":""},{"$f":"IF(COUNTA(S119:V119)<4,\"\",IF(V119=\"No\",0,(ROUND((LEFT(S119,1)*'Criterios de Riesgo'!$C$13+LEFT(T119,1)*'Criterios de Riesgo'!$C$14+LEFT(U119,1)*'Criterios de Riesgo'!$C$15),2))/5))","v":""},""]
[null,null,null,null,null,null,null,null,null,null,null,null,null,null,null,null,{"$f":"IF(COUNTA(I120:P120)<8,\"\",VLOOKUP(ROUND((LEFT(I120,1)*'Criterios de Riesgo'!$F$8+LEFT(J120,1)*'Criterios de Riesgo'!$F$9+LEFT(K120,1)*'Criterios de Riesgo'!$F$10+LEFT(L120,1)*'Criterios de Riesgo'!$F$11+LEFT(M120,1)*'Criterios de Riesgo'!$F$12+LEFT(N120,1)*'Criterios de Riesgo'!$F$13+LEFT(O120,1)*'Criterios de Riesgo'!$F$14+LEFT(P120,1)*'Criterios de Riesgo'!$F$15),2),Calif_Control,2,1))","v":""},{"$f":"IF(COUNTA(I120:P120)<8,\"\",(ROUND((LEFT(I120,1)*'Criterios de Riesgo'!$F$8+LEFT(J120,1)*'Criterios de Riesgo'!$F$9+LEFT(K120,1)*'Criterios de Riesgo'!$F$10+LEFT(L120,1)*'Criterios de Riesgo'!$F$11+LEFT(M120,1)*'Criterios de Riesgo'!$F$12+LEFT(N120,1)*'Criterios de Riesgo'!$F$13+LEFT(O120,1)*'Criterios de Riesgo'!$F$14+LEFT(P120,1)*'Criterios de Riesgo'!$F$15),2))/5)","v":""},null,null,null,null,{"$f":"IF(COUNTA(S120:V120)<4,\"\",IF(V120=\"No\",\"No se usa\",VLOOKUP(ROUND((LEFT(S120,1)*'Criterios de Riesgo'!$C$13+LEFT(T120,1)*'Criterios de Riesgo'!$C$14+LEFT(U120,1)*'Criterios de Riesgo'!$C$15),2),Calif_Covertura,2,1)))","v":""},{"$f":"IF(COUNTA(S120:V120)<4,\"\",IF(V120=\"No\",0,(ROUND((LEFT(S120,1)*'Criterios de Riesgo'!$C$13+LEFT(T120,1)*'Criterios de Riesgo'!$C$14+LEFT(U120,1)*'Criterios de Riesgo'!$C$15),2))/5))","v":""},""]
[null,null,null,null,null,null,null,null,null,null,null,null,null,null,null,null,{"$f":"IF(COUNTA(I121:P121)<8,\"\",VLOOKUP(ROUND((LEFT(I121,1)*'Criterios de Riesgo'!$F$8+LEFT(J121,1)*'Criterios de Riesgo'!$F$9+LEFT(K121,1)*'Criterios de Riesgo'!$F$10+LEFT(L121,1)*'Criterios de Riesgo'!$F$11+LEFT(M121,1)*'Criterios de Riesgo'!$F$12+LEFT(N121,1)*'Criterios de Riesgo'!$F$13+LEFT(O121,1)*'Criterios de Riesgo'!$F$14+LEFT(P121,1)*'Criterios de Riesgo'!$F$15),2),Calif_Control,2,1))","v":""},{"$f":"IF(COUNTA(I121:P121)<8,\"\",(ROUND((LEFT(I121,1)*'Criterios de Riesgo'!$F$8+LEFT(J121,1)*'Criterios de Riesgo'!$F$9+LEFT(K121,1)*'Criterios de Riesgo'!$F$10+LEFT(L121,1)*'Criterios de Riesgo'!$F$11+LEFT(M121,1)*'Criterios de Riesgo'!$F$12+LEFT(N121,1)*'Criterios de Riesgo'!$F$13+LEFT(O121,1)*'Criterios de Riesgo'!$F$14+LEFT(P121,1)*'Criterios de Riesgo'!$F$15),2))/5)","v":""},null,null,null,null,{"$f":"IF(COUNTA(S121:V121)<4,\"\",IF(V121=\"No\",\"No se usa\",VLOOKUP(ROUND((LEFT(S121,1)*'Criterios de Riesgo'!$C$13+LEFT(T121,1)*'Criterios de Riesgo'!$C$14+LEFT(U121,1)*'Criterios de Riesgo'!$C$15),2),Calif_Covertura,2,1)))","v":""},{"$f":"IF(COUNTA(S121:V121)<4,\"\",IF(V121=\"No\",0,(ROUND((LEFT(S121,1)*'Criterios de Riesgo'!$C$13+LEFT(T121,1)*'Criterios de Riesgo'!$C$14+LEFT(U121,1)*'Criterios de Riesgo'!$C$15),2))/5))","v":""},""]
[null,null,null,null,null,null,null,null,null,null,null,null,null,null,null,null,{"$f":"IF(COUNTA(I122:P122)<8,\"\",VLOOKUP(ROUND((LEFT(I122,1)*'Criterios de Riesgo'!$F$8+LEFT(J122,1)*'Criterios de Riesgo'!$F$9+LEFT(K122,1)*'Criterios de Riesgo'!$F$10+LEFT(L122,1)*'Criterios de Riesgo'!$F$11+LEFT(M122,1)*'Criterios de Riesgo'!$F$12+LEFT(N122,1)*'Criterios de Riesgo'!$F$13+LEFT(O122,1)*'Criterios de Riesgo'!$F$14+LEFT(P122,1)*'Criterios de Riesgo'!$F$15),2),Calif_Control,2,1))","v":""},{"$f":"IF(COUNTA(I122:P122)<8,\"\",(ROUND((LEFT(I122,1)*'Criterios de Riesgo'!$F$8+LEFT(J122,1)*'Criterios de Riesgo'!$F$9+LEFT(K122,1)*'Criterios de Riesgo'!$F$10+LEFT(L122,1)*'Criterios de Riesgo'!$F$11+LEFT(M122,1)*'Criterios de Riesgo'!$F$12+LEFT(N122,1)*'Criterios de Riesgo'!$F$13+LEFT(O122,1)*'Criterios de Riesgo'!$F$14+LEFT(P122,1)*'Criterios de Riesgo'!$F$15),2))/5)","v":""},null,null,null,null,{"$f":"IF(COUNTA(S122:V122)<4,\"\",IF(V122=\"No\",\"No se usa\",VLOOKUP(ROUND((LEFT(S122,1)*'Criterios de Riesgo'!$C$13+LEFT(T122,1)*'Criterios de Riesgo'!$C$14+LEFT(U122,1)*'Criterios de Riesgo'!$C$15),2),Calif_Covertura,2,1)))","v":""},{"$f":"IF(COUNTA(S122:V122)<4,\"\",IF(V122=\"No\",0,(ROUND((LEFT(S122,1)*'Criterios de Riesgo'!$C$13+LEFT(T122,1)*'Criterios de Riesgo'!$C$14+LEFT(U122,1)*'Criterios de Riesgo'!$C$15),2))/5))","v":""},""]
[null,null,null,null,null,null,null,null,null,null,null,null,null,null,null,null,{"$f":"IF(COUNTA(I123:P123)<8,\"\",VLOOKUP(ROUND((LEFT(I123,1)*'Criterios de Riesgo'!$F$8+LEFT(J123,1)*'Criterios de Riesgo'!$F$9+LEFT(K123,1)*'Criterios de Riesgo'!$F$10+LEFT(L123,1)*'Criterios de Riesgo'!$F$11+LEFT(M123,1)*'Criterios de Riesgo'!$F$12+LEFT(N123,1)*'Criterios de Riesgo'!$F$13+LEFT(O123,1)*'Criterios de Riesgo'!$F$14+LEFT(P123,1)*'Criterios de Riesgo'!$F$15),2),Calif_Control,2,1))","v":""},{"$f":"IF(COUNTA(I123:P123)<8,\"\",(ROUND((LEFT(I123,1)*'Criterios de Riesgo'!$F$8+LEFT(J123,1)*'Criterios de Riesgo'!$F$9+LEFT(K123,1)*'Criterios de Riesgo'!$F$10+LEFT(L123,1)*'Criterios de Riesgo'!$F$11+LEFT(M123,1)*'Criterios de Riesgo'!$F$12+LEFT(N123,1)*'Criterios de Riesgo'!$F$13+LEFT(O123,1)*'Criterios de Riesgo'!$F$14+LEFT(P123,1)*'Criterios de Riesgo'!$F$15),2))/5)","v":""},null,null,null,null,{"$f":"IF(COUNTA(S123:V123)<4,\"\",IF(V123=\"No\",\"No se usa\",VLOOKUP(ROUND((LEFT(S123,1)*'Criterios de Riesgo'!$C$13+LEFT(T123,1)*'Criterios de Riesgo'!$C$14+LEFT(U123,1)*'Criterios de Riesgo'!$C$15),2),Calif_Covertura,2,1)))","v":""},{"$f":"IF(COUNTA(S123:V123)<4,\"\",IF(V123=\"No\",0,(ROUND((LEFT(S123,1)*'Criterios de Riesgo'!$C$13+LEFT(T123,1)*'Criterios de Riesgo'!$C$14+LEFT(U123,1)*'Criterios de Riesgo'!$C$15),2))/5))","v":""},""]
[null,null,null,null,null,null,null,null,null,null,null,null,null,null,null,null,{"$f":"IF(COUNTA(I124:P124)<8,\"\",VLOOKUP(ROUND((LEFT(I124,1)*'Criterios de Riesgo'!$F$8+LEFT(J124,1)*'Criterios de Riesgo'!$F$9+LEFT(K124,1)*'Criterios de Riesgo'!$F$10+LEFT(L124,1)*'Criterios de Riesgo'!$F$11+LEFT(M124,1)*'Criterios de Riesgo'!$F$12+LEFT(N124,1)*'Criterios de Riesgo'!$F$13+LEFT(O124,1)*'Criterios de Riesgo'!$F$14+LEFT(P124,1)*'Criterios de Riesgo'!$F$15),2),Calif_Control,2,1))","v":""},{"$f":"IF(COUNTA(I124:P124)<8,\"\",(ROUND((LEFT(I124,1)*'Criterios de Riesgo'!$F$8+LEFT(J124,1)*'Criterios de Riesgo'!$F$9+LEFT(K124,1)*'Criterios de Riesgo'!$F$10+LEFT(L124,1)*'Criterios de Riesgo'!$F$11+LEFT(M124,1)*'Criterios de Riesgo'!$F$12+LEFT(N124,1)*'Criterios de Riesgo'!$F$13+LEFT(O124,1)*'Criterios de Riesgo'!$F$14+LEFT(P124,1)*'Criterios de Riesgo'!$F$15),2))/5)","v":""},null,null,null,null,{"$f":"IF(COUNTA(S124:V124)<4,\"\",IF(V124=\"No\",\"No se usa\",VLOOKUP(ROUND((LEFT(S124,1)*'Criterios de Riesgo'!$C$13+LEFT(T124,1)*'Criterios de Riesgo'!$C$14+LEFT(U124,1)*'Criterios de Riesgo'!$C$15),2),Calif_Covertura,2,1)))","v":""},{"$f":"IF(COUNTA(S124:V124)<4,\"\",IF(V124=\"No\",0,(ROUND((LEFT(S124,1)*'Criterios de Riesgo'!$C$13+LEFT(T124,1)*'Criterios de Riesgo'!$C$14+LEFT(U124,1)*'Criterios de Riesgo'!$C$15),2))/5))","v":""},""]
["R",null,null,null,null,null,null,null,null,null,null,null,null,null,null,null,{"$f":"IF(COUNTA(I125:P125)<8,\"\",VLOOKUP(ROUND((LEFT(I125,1)*'Criterios de Riesgo'!$F$8+LEFT(J125,1)*'Criterios de Riesgo'!$F$9+LEFT(K125,1)*'Criterios de Riesgo'!$F$10+LEFT(L125,1)*'Criterios de Riesgo'!$F$11+LEFT(M125,1)*'Criterios de Riesgo'!$F$12+LEFT(N125,1)*'Criterios de Riesgo'!$F$13+LEFT(O125,1)*'Criterios de Riesgo'!$F$14+LEFT(P125,1)*'Criterios de Riesgo'!$F$15),2),Calif_Control,2,1))","v":""},{"$f":"IF(COUNTA(I125:P125)<8,\"\",(ROUND((LEFT(I125,1)*'Criterios de Riesgo'!$F$8+LEFT(J125,1)*'Criterios de Riesgo'!$F$9+LEFT(K125,1)*'Criterios de Riesgo'!$F$10+LEFT(L125,1)*'Criterios de Riesgo'!$F$11+LEFT(M125,1)*'Criterios de Riesgo'!$F$12+LEFT(N125,1)*'Criterios de Riesgo'!$F$13+LEFT(O125,1)*'Criterios de Riesgo'!$F$14+LEFT(P125,1)*'Criterios de Riesgo'!$F$15),2))/5)","v":""},null,null,null,null,{"$f":"IF(COUNTA(S125:V125)<4,\"\",IF(V125=\"No\",\"No se usa\",VLOOKUP(ROUND((LEFT(S125,1)*'Criterios de Riesgo'!$C$13+LEFT(T125,1)*'Criterios de Riesgo'!$C$14+LEFT(U125,1)*'Criterios de Riesgo'!$C$15),2),Calif_Covertura,2,1)))","v":""},{"$f":"IF(COUNTA(S125:V125)<4,\"\",IF(V125=\"No\",0,(ROUND((LEFT(S125,1)*'Criterios de Riesgo'!$C$13+LEFT(T125,1)*'Criterios de Riesgo'!$C$14+LEFT(U125,1)*'Criterios de Riesgo'!$C$15),2))/5))","v":""},"",null,{"$f":"IF(ISERROR((SUMIF(Z125:Z134,\"=impacto\",Y125:Y134)+SUMIF(Z125:Z134,\"=Ambos\",Y125:Y134))/(COUNTIF(Z125:Z134,\"Impacto\")+COUNTIF(Z125:Z134,\"Ambos\"))),\"\",(SUMIF(Z125:Z134,\"=impacto\",Y125:Y134)+SUMIF(Z125:Z134,\"=Ambos\",Y125:Y134))/(COUNTIF(Z125:Z134,\"Impacto\")+COUNTIF(Z125:Z134,\"Ambos\")))","v":""},{"$f":"IF(ISERROR((SUMIF(Z125:Z134,\"=Probabilidad\",Y125:Y134)+SUMIF(Z125:Z134,\"=Ambos\",Y125:Y134))/(COUNTIF(Z125:Z134,\"Probabilidad\")+COUNTIF(Z125:Z134,\"Ambos\"))),\"\",(SUMIF(Z125:Z134,\"=Probabilidad\",Y125:Y134)+SUMIF(Z125:Z134,\"=Ambos\",Y125:Y134))/(COUNTIF(Z125:Z134,\"Probabilidad\")+COUNTIF(Z125:Z134,\"Ambos\")))","v":""},{"$f":"IF(ISERROR(ROUND(IF(AB125=\"\",AA125,IF(AA125=\"\",AB125,IF(AND(AB125=\"\",AA125=\"\"),\"\",AB125*AA125)))*100,0)/100),\"\",ROUND(IF(AB125=\"\",AA125,IF(AA125=\"\",AB125,IF(AND(AB125=\"\",AA125=\"\"),\"\",AB125*AA125)))*100,0)/100)","v":""},{"$f":"IF(AC125=\"\",\"\",VLOOKUP(AC125*5,Calif_Control,2,1))","v":""}]
[null,null,null,null,null,null,null,null,null,null,null,null,null,null,null,null,{"$f":"IF(COUNTA(I126:P126)<8,\"\",VLOOKUP(ROUND((LEFT(I126,1)*'Criterios de Riesgo'!$F$8+LEFT(J126,1)*'Criterios de Riesgo'!$F$9+LEFT(K126,1)*'Criterios de Riesgo'!$F$10+LEFT(L126,1)*'Criterios de Riesgo'!$F$11+LEFT(M126,1)*'Criterios de Riesgo'!$F$12+LEFT(N126,1)*'Criterios de Riesgo'!$F$13+LEFT(O126,1)*'Criterios de Riesgo'!$F$14+LEFT(P126,1)*'Criterios de Riesgo'!$F$15),2),Calif_Control,2,1))","v":""},{"$f":"IF(COUNTA(I126:P126)<8,\"\",(ROUND((LEFT(I126,1)*'Criterios de Riesgo'!$F$8+LEFT(J126,1)*'Criterios de Riesgo'!$F$9+LEFT(K126,1)*'Criterios de Riesgo'!$F$10+LEFT(L126,1)*'Criterios de Riesgo'!$F$11+LEFT(M126,1)*'Criterios de Riesgo'!$F$12+LEFT(N126,1)*'Criterios de Riesgo'!$F$13+LEFT(O126,1)*'Criterios de Riesgo'!$F$14+LEFT(P126,1)*'Criterios de Riesgo'!$F$15),2))/5)","v":""},null,null,null,null,{"$f":"IF(COUNTA(S126:V126)<4,\"\",IF(V126=\"No\",\"No se usa\",VLOOKUP(ROUND((LEFT(S126,1)*'Criterios de Riesgo'!$C$13+LEFT(T126,1)*'Criterios de Riesgo'!$C$14+LEFT(U126,1)*'Criterios de Riesgo'!$C$15),2),Calif_Covertura,2,1)))","v":""},{"$f":"IF(COUNTA(S126:V126)<4,\"\",IF(V126=\"No\",0,(ROUND((LEFT(S126,1)*'Criterios de Riesgo'!$C$13+LEFT(T126,1)*'Criterios de Riesgo'!$C$14+LEFT(U126,1)*'Criterios de Riesgo'!$C$15),2))/5))","v":""},""]
[null,null,null,null,null,null,null,null,null,null,null,null,null,null,null,null,{"$f":"IF(COUNTA(I127:P127)<8,\"\",VLOOKUP(ROUND((LEFT(I127,1)*'Criterios de Riesgo'!$F$8+LEFT(J127,1)*'Criterios de Riesgo'!$F$9+LEFT(K127,1)*'Criterios de Riesgo'!$F$10+LEFT(L127,1)*'Criterios de Riesgo'!$F$11+LEFT(M127,1)*'Criterios de Riesgo'!$F$12+LEFT(N127,1)*'Criterios de Riesgo'!$F$13+LEFT(O127,1)*'Criterios de Riesgo'!$F$14+LEFT(P127,1)*'Criterios de Riesgo'!$F$15),2),Calif_Control,2,1))","v":""},{"$f":"IF(COUNTA(I127:P127)<8,\"\",(ROUND((LEFT(I127,1)*'Criterios de Riesgo'!$F$8+LEFT(J127,1)*'Criterios de Riesgo'!$F$9+LEFT(K127,1)*'Criterios de Riesgo'!$F$10+LEFT(L127,1)*'Criterios de Riesgo'!$F$11+LEFT(M127,1)*'Criterios de Riesgo'!$F$12+LEFT(N127,1)*'Criterios de Riesgo'!$F$13+LEFT(O127,1)*'Criterios de Riesgo'!$F$14+LEFT(P127,1)*'Criterios de Riesgo'!$F$15),2))/5)","v":""},null,null,null,null,{"$f":"IF(COUNTA(S127:V127)<4,\"\",IF(V127=\"No\",\"No se usa\",VLOOKUP(ROUND((LEFT(S127,1)*'Criterios de Riesgo'!$C$13+LEFT(T127,1)*'Criterios de Riesgo'!$C$14+LEFT(U127,1)*'Criterios de Riesgo'!$C$15),2),Calif_Covertura,2,1)))","v":""},{"$f":"IF(COUNTA(S127:V127)<4,\"\",IF(V127=\"No\",0,(ROUND((LEFT(S127,1)*'Criterios de Riesgo'!$C$13+LEFT(T127,1)*'Criterios de Riesgo'!$C$14+LEFT(U127,1)*'Criterios de Riesgo'!$C$15),2))/5))","v":""},""]
[null,null,null,null,null,null,null,null,null,null,null,null,null,null,null,null,{"$f":"IF(COUNTA(I128:P128)<8,\"\",VLOOKUP(ROUND((LEFT(I128,1)*'Criterios de Riesgo'!$F$8+LEFT(J128,1)*'Criterios de Riesgo'!$F$9+LEFT(K128,1)*'Criterios de Riesgo'!$F$10+LEFT(L128,1)*'Criterios de Riesgo'!$F$11+LEFT(M128,1)*'Criterios de Riesgo'!$F$12+LEFT(N128,1)*'Criterios de Riesgo'!$F$13+LEFT(O128,1)*'Criterios de Riesgo'!$F$14+LEFT(P128,1)*'Criterios de Riesgo'!$F$15),2),Calif_Control,2,1))","v":""},{"$f":"IF(COUNTA(I128:P128)<8,\"\",(ROUND((LEFT(I128,1)*'Criterios de Riesgo'!$F$8+LEFT(J128,1)*'Criterios de Riesgo'!$F$9+LEFT(K128,1)*'Criterios de Riesgo'!$F$10+LEFT(L128,1)*'Criterios de Riesgo'!$F$11+LEFT(M128,1)*'Criterios de Riesgo'!$F$12+LEFT(N128,1)*'Criterios de Riesgo'!$F$13+LEFT(O128,1)*'Criterios de Riesgo'!$F$14+LEFT(P128,1)*'Criterios de Riesgo'!$F$15),2))/5)","v":""},null,null,null,null,{"$f":"IF(COUNTA(S128:V128)<4,\"\",IF(V128=\"No\",\"No se usa\",VLOOKUP(ROUND((LEFT(S128,1)*'Criterios de Riesgo'!$C$13+LEFT(T128,1)*'Criterios de Riesgo'!$C$14+LEFT(U128,1)*'Criterios de Riesgo'!$C$15),2),Calif_Covertura,2,1)))","v":""},{"$f":"IF(COUNTA(S128:V128)<4,\"\",IF(V128=\"No\",0,(ROUND((LEFT(S128,1)*'Criterios de Riesgo'!$C$13+LEFT(T128,1)*'Criterios de Riesgo'!$C$14+LEFT(U128,1)*'Criterios de Riesgo'!$C$15),2))/5))","v":""},""]
[null,null,null,null,null,null,null,null,null,null,null,null,null,null,null,null,{"$f":"IF(COUNTA(I129:P129)<8,\"\",VLOOKUP(ROUND((LEFT(I129,1)*'Criterios de Riesgo'!$F$8+LEFT(J129,1)*'Criterios de Riesgo'!$F$9+LEFT(K129,1)*'Criterios de Riesgo'!$F$10+LEFT(L129,1)*'Criterios de Riesgo'!$F$11+LEFT(M129,1)*'Criterios de Riesgo'!$F$12+LEFT(N129,1)*'Criterios de Riesgo'!$F$13+LEFT(O129,1)*'Criterios de Riesgo'!$F$14+LEFT(P129,1)*'Criterios de Riesgo'!$F$15),2),Calif_Control,2,1))","v":""},{"$f":"IF(COUNTA(I129:P129)<8,\"\",(ROUND((LEFT(I129,1)*'Criterios de Riesgo'!$F$8+LEFT(J129,1)*'Criterios de Riesgo'!$F$9+LEFT(K129,1)*'Criterios de Riesgo'!$F$10+LEFT(L129,1)*'Criterios de Riesgo'!$F$11+LEFT(M129,1)*'Criterios de Riesgo'!$F$12+LEFT(N129,1)*'Criterios de Riesgo'!$F$13+LEFT(O129,1)*'Criterios de Riesgo'!$F$14+LEFT(P129,1)*'Criterios de Riesgo'!$F$15),2))/5)","v":""},null,null,null,null,{"$f":"IF(COUNTA(S129:V129)<4,\"\",IF(V129=\"No\",\"No se usa\",VLOOKUP(ROUND((LEFT(S129,1)*'Criterios de Riesgo'!$C$13+LEFT(T129,1)*'Criterios de Riesgo'!$C$14+LEFT(U129,1)*'Criterios de Riesgo'!$C$15),2),Calif_Covertura,2,1)))","v":""},{"$f":"IF(COUNTA(S129:V129)<4,\"\",IF(V129=\"No\",0,(ROUND((LEFT(S129,1)*'Criterios de Riesgo'!$C$13+LEFT(T129,1)*'Criterios de Riesgo'!$C$14+LEFT(U129,1)*'Criterios de Riesgo'!$C$15),2))/5))","v":""},""]
[null,null,null,null,null,null,null,null,null,null,null,null,null,null,null,null,{"$f":"IF(COUNTA(I130:P130)<8,\"\",VLOOKUP(ROUND((LEFT(I130,1)*'Criterios de Riesgo'!$F$8+LEFT(J130,1)*'Criterios de Riesgo'!$F$9+LEFT(K130,1)*'Criterios de Riesgo'!$F$10+LEFT(L130,1)*'Criterios de Riesgo'!$F$11+LEFT(M130,1)*'Criterios de Riesgo'!$F$12+LEFT(N130,1)*'Criterios de Riesgo'!$F$13+LEFT(O130,1)*'Criterios de Riesgo'!$F$14+LEFT(P130,1)*'Criterios de Riesgo'!$F$15),2),Calif_Control,2,1))","v":""},{"$f":"IF(COUNTA(I130:P130)<8,\"\",(ROUND((LEFT(I130,1)*'Criterios de Riesgo'!$F$8+LEFT(J130,1)*'Criterios de Riesgo'!$F$9+LEFT(K130,1)*'Criterios de Riesgo'!$F$10+LEFT(L130,1)*'Criterios de Riesgo'!$F$11+LEFT(M130,1)*'Criterios de Riesgo'!$F$12+LEFT(N130,1)*'Criterios de Riesgo'!$F$13+LEFT(O130,1)*'Criterios de Riesgo'!$F$14+LEFT(P130,1)*'Criterios de Riesgo'!$F$15),2))/5)","v":""},null,null,null,null,{"$f":"IF(COUNTA(S130:V130)<4,\"\",IF(V130=\"No\",\"No se usa\",VLOOKUP(ROUND((LEFT(S130,1)*'Criterios de Riesgo'!$C$13+LEFT(T130,1)*'Criterios de Riesgo'!$C$14+LEFT(U130,1)*'Criterios de Riesgo'!$C$15),2),Calif_Covertura,2,1)))","v":""},{"$f":"IF(COUNTA(S130:V130)<4,\"\",IF(V130=\"No\",0,(ROUND((LEFT(S130,1)*'Criterios de Riesgo'!$C$13+LEFT(T130,1)*'Criterios de Riesgo'!$C$14+LEFT(U130,1)*'Criterios de Riesgo'!$C$15),2))/5))","v":""},""]
[null,null,null,null,null,null,null,null,null,null,null,null,null,null,null,null,{"$f":"IF(COUNTA(I131:P131)<8,\"\",VLOOKUP(ROUND((LEFT(I131,1)*'Criterios de Riesgo'!$F$8+LEFT(J131,1)*'Criterios de Riesgo'!$F$9+LEFT(K131,1)*'Criterios de Riesgo'!$F$10+LEFT(L131,1)*'Criterios de Riesgo'!$F$11+LEFT(M131,1)*'Criterios de Riesgo'!$F$12+LEFT(N131,1)*'Criterios de Riesgo'!$F$13+LEFT(O131,1)*'Criterios de Riesgo'!$F$14+LEFT(P131,1)*'Criterios de Riesgo'!$F$15),2),Calif_Control,2,1))","v":""},{"$f":"IF(COUNTA(I131:P131)<8,\"\",(ROUND((LEFT(I131,1)*'Criterios de Riesgo'!$F$8+LEFT(J131,1)*'Criterios de Riesgo'!$F$9+LEFT(K131,1)*'Criterios de Riesgo'!$F$10+LEFT(L131,1)*'Criterios de Riesgo'!$F$11+LEFT(M131,1)*'Criterios de Riesgo'!$F$12+LEFT(N131,1)*'Criterios de Riesgo'!$F$13+LEFT(O131,1)*'Criterios de Riesgo'!$F$14+LEFT(P131,1)*'Criterios de Riesgo'!$F$15),2))/5)","v":""},null,null,null,null,{"$f":"IF(COUNTA(S131:V131)<4,\"\",IF(V131=\"No\",\"No se usa\",VLOOKUP(ROUND((LEFT(S131,1)*'Criterios de Riesgo'!$C$13+LEFT(T131,1)*'Criterios de Riesgo'!$C$14+LEFT(U131,1)*'Criterios de Riesgo'!$C$15),2),Calif_Covertura,2,1)))","v":""},{"$f":"IF(COUNTA(S131:V131)<4,\"\",IF(V131=\"No\",0,(ROUND((LEFT(S131,1)*'Criterios de Riesgo'!$C$13+LEFT(T131,1)*'Criterios de Riesgo'!$C$14+LEFT(U131,1)*'Criterios de Riesgo'!$C$15),2))/5))","v":""},""]
[null,null,null,null,null,null,null,null,null,null,null,null,null,null,null,null,{"$f":"IF(COUNTA(I132:P132)<8,\"\",VLOOKUP(ROUND((LEFT(I132,1)*'Criterios de Riesgo'!$F$8+LEFT(J132,1)*'Criterios de Riesgo'!$F$9+LEFT(K132,1)*'Criterios de Riesgo'!$F$10+LEFT(L132,1)*'Criterios de Riesgo'!$F$11+LEFT(M132,1)*'Criterios de Riesgo'!$F$12+LEFT(N132,1)*'Criterios de Riesgo'!$F$13+LEFT(O132,1)*'Criterios de Riesgo'!$F$14+LEFT(P132,1)*'Criterios de Riesgo'!$F$15),2),Calif_Control,2,1))","v":""},{"$f":"IF(COUNTA(I132:P132)<8,\"\",(ROUND((LEFT(I132,1)*'Criterios de Riesgo'!$F$8+LEFT(J132,1)*'Criterios de Riesgo'!$F$9+LEFT(K132,1)*'Criterios de Riesgo'!$F$10+LEFT(L132,1)*'Criterios de Riesgo'!$F$11+LEFT(M132,1)*'Criterios de Riesgo'!$F$12+LEFT(N132,1)*'Criterios de Riesgo'!$F$13+LEFT(O132,1)*'Criterios de Riesgo'!$F$14+LEFT(P132,1)*'Criterios de Riesgo'!$F$15),2))/5)","v":""},null,null,null,null,{"$f":"IF(COUNTA(S132:V132)<4,\"\",IF(V132=\"No\",\"No se usa\",VLOOKUP(ROUND((LEFT(S132,1)*'Criterios de Riesgo'!$C$13+LEFT(T132,1)*'Criterios de Riesgo'!$C$14+LEFT(U132,1)*'Criterios de Riesgo'!$C$15),2),Calif_Covertura,2,1)))","v":""},{"$f":"IF(COUNTA(S132:V132)<4,\"\",IF(V132=\"No\",0,(ROUND((LEFT(S132,1)*'Criterios de Riesgo'!$C$13+LEFT(T132,1)*'Criterios de Riesgo'!$C$14+LEFT(U132,1)*'Criterios de Riesgo'!$C$15),2))/5))","v":""},""]
[null,null,null,null,null,null,null,null,null,null,null,null,null,null,null,null,{"$f":"IF(COUNTA(I133:P133)<8,\"\",VLOOKUP(ROUND((LEFT(I133,1)*'Criterios de Riesgo'!$F$8+LEFT(J133,1)*'Criterios de Riesgo'!$F$9+LEFT(K133,1)*'Criterios de Riesgo'!$F$10+LEFT(L133,1)*'Criterios de Riesgo'!$F$11+LEFT(M133,1)*'Criterios de Riesgo'!$F$12+LEFT(N133,1)*'Criterios de Riesgo'!$F$13+LEFT(O133,1)*'Criterios de Riesgo'!$F$14+LEFT(P133,1)*'Criterios de Riesgo'!$F$15),2),Calif_Control,2,1))","v":""},{"$f":"IF(COUNTA(I133:P133)<8,\"\",(ROUND((LEFT(I133,1)*'Criterios de Riesgo'!$F$8+LEFT(J133,1)*'Criterios de Riesgo'!$F$9+LEFT(K133,1)*'Criterios de Riesgo'!$F$10+LEFT(L133,1)*'Criterios de Riesgo'!$F$11+LEFT(M133,1)*'Criterios de Riesgo'!$F$12+LEFT(N133,1)*'Criterios de Riesgo'!$F$13+LEFT(O133,1)*'Criterios de Riesgo'!$F$14+LEFT(P133,1)*'Criterios de Riesgo'!$F$15),2))/5)","v":""},null,null,null,null,{"$f":"IF(COUNTA(S133:V133)<4,\"\",IF(V133=\"No\",\"No se usa\",VLOOKUP(ROUND((LEFT(S133,1)*'Criterios de Riesgo'!$C$13+LEFT(T133,1)*'Criterios de Riesgo'!$C$14+LEFT(U133,1)*'Criterios de Riesgo'!$C$15),2),Calif_Covertura,2,1)))","v":""},{"$f":"IF(COUNTA(S133:V133)<4,\"\",IF(V133=\"No\",0,(ROUND((LEFT(S133,1)*'Criterios de Riesgo'!$C$13+LEFT(T133,1)*'Criterios de Riesgo'!$C$14+LEFT(U133,1)*'Criterios de Riesgo'!$C$15),2))/5))","v":""},""]
[null,null,null,null,null,null,null,null,null,null,null,null,null,null,null,null,{"$f":"IF(COUNTA(I134:P134)<8,\"\",VLOOKUP(ROUND((LEFT(I134,1)*'Criterios de Riesgo'!$F$8+LEFT(J134,1)*'Criterios de Riesgo'!$F$9+LEFT(K134,1)*'Criterios de Riesgo'!$F$10+LEFT(L134,1)*'Criterios de Riesgo'!$F$11+LEFT(M134,1)*'Criterios de Riesgo'!$F$12+LEFT(N134,1)*'Criterios de Riesgo'!$F$13+LEFT(O134,1)*'Criterios de Riesgo'!$F$14+LEFT(P134,1)*'Criterios de Riesgo'!$F$15),2),Calif_Control,2,1))","v":""},{"$f":"IF(COUNTA(I134:P134)<8,\"\",(ROUND((LEFT(I134,1)*'Criterios de Riesgo'!$F$8+LEFT(J134,1)*'Criterios de Riesgo'!$F$9+LEFT(K134,1)*'Criterios de Riesgo'!$F$10+LEFT(L134,1)*'Criterios de Riesgo'!$F$11+LEFT(M134,1)*'Criterios de Riesgo'!$F$12+LEFT(N134,1)*'Criterios de Riesgo'!$F$13+LEFT(O134,1)*'Criterios de Riesgo'!$F$14+LEFT(P134,1)*'Criterios de Riesgo'!$F$15),2))/5)","v":""},null,null,null,null,{"$f":"IF(COUNTA(S134:V134)<4,\"\",IF(V134=\"No\",\"No se usa\",VLOOKUP(ROUND((LEFT(S134,1)*'Criterios de Riesgo'!$C$13+LEFT(T134,1)*'Criterios de Riesgo'!$C$14+LEFT(U134,1)*'Criterios de Riesgo'!$C$15),2),Calif_Covertura,2,1)))","v":""},{"$f":"IF(COUNTA(S134:V134)<4,\"\",IF(V134=\"No\",0,(ROUND((LEFT(S134,1)*'Criterios de Riesgo'!$C$13+LEFT(T134,1)*'Criterios de Riesgo'!$C$14+LEFT(U134,1)*'Criterios de Riesgo'!$C$15),2))/5))","v":""},{"$f":"IF(ISERROR(R134*X134),\"\",R134*X134)","v":""}]
["R",null,null,null,null,null,null,null,null,null,null,null,null,null,null,null,{"$f":"IF(COUNTA(I135:P135)<8,\"\",VLOOKUP(ROUND((LEFT(I135,1)*'Criterios de Riesgo'!$F$8+LEFT(J135,1)*'Criterios de Riesgo'!$F$9+LEFT(K135,1)*'Criterios de Riesgo'!$F$10+LEFT(L135,1)*'Criterios de Riesgo'!$F$11+LEFT(M135,1)*'Criterios de Riesgo'!$F$12+LEFT(N135,1)*'Criterios de Riesgo'!$F$13+LEFT(O135,1)*'Criterios de Riesgo'!$F$14+LEFT(P135,1)*'Criterios de Riesgo'!$F$15),2),Calif_Control,2,1))","v":""},{"$f":"IF(COUNTA(I135:P135)<8,\"\",(ROUND((LEFT(I135,1)*'Criterios de Riesgo'!$F$8+LEFT(J135,1)*'Criterios de Riesgo'!$F$9+LEFT(K135,1)*'Criterios de Riesgo'!$F$10+LEFT(L135,1)*'Criterios de Riesgo'!$F$11+LEFT(M135,1)*'Criterios de Riesgo'!$F$12+LEFT(N135,1)*'Criterios de Riesgo'!$F$13+LEFT(O135,1)*'Criterios de Riesgo'!$F$14+LEFT(P135,1)*'Criterios de Riesgo'!$F$15),2))/5)","v":""},null,null,null,null,{"$f":"IF(COUNTA(S135:V135)<4,\"\",IF(V135=\"No\",\"No se usa\",VLOOKUP(ROUND((LEFT(S135,1)*'Criterios de Riesgo'!$C$13+LEFT(T135,1)*'Criterios de Riesgo'!$C$14+LEFT(U135,1)*'Criterios de Riesgo'!$C$15),2),Calif_Covertura,2,1)))","v":""},{"$f":"IF(COUNTA(S135:V135)<4,\"\",IF(V135=\"No\",0,(ROUND((LEFT(S135,1)*'Criterios de Riesgo'!$C$13+LEFT(T135,1)*'Criterios de Riesgo'!$C$14+LEFT(U135,1)*'Criterios de Riesgo'!$C$15),2))/5))","v":""},"",null,{"$f":"IF(ISERROR((SUMIF(Z135:Z144,\"=impacto\",Y135:Y144)+SUMIF(Z135:Z144,\"=Ambos\",Y135:Y144))/(COUNTIF(Z135:Z144,\"Impacto\")+COUNTIF(Z135:Z144,\"Ambos\"))),\"\",(SUMIF(Z135:Z144,\"=impacto\",Y135:Y144)+SUMIF(Z135:Z144,\"=Ambos\",Y135:Y144))/(COUNTIF(Z135:Z144,\"Impacto\")+COUNTIF(Z135:Z144,\"Ambos\")))","v":""},{"$f":"IF(ISERROR((SUMIF(Z135:Z144,\"=Probabilidad\",Y135:Y144)+SUMIF(Z135:Z144,\"=Ambos\",Y135:Y144))/(COUNTIF(Z135:Z144,\"Probabilidad\")+COUNTIF(Z135:Z144,\"Ambos\"))),\"\",(SUMIF(Z135:Z144,\"=Probabilidad\",Y135:Y144)+SUMIF(Z135:Z144,\"=Ambos\",Y135:Y144))/(COUNTIF(Z135:Z144,\"Probabilidad\")+COUNTIF(Z135:Z144,\"Ambos\")))","v":""},{"$f":"IF(ISERROR(ROUND(IF(AB135=\"\",AA135,IF(AA135=\"\",AB135,IF(AND(AB135=\"\",AA135=\"\"),\"\",AB135*AA135)))*100,0)/100),\"\",ROUND(IF(AB135=\"\",AA135,IF(AA135=\"\",AB135,IF(AND(AB135=\"\",AA135=\"\"),\"\",AB135*AA135)))*100,0)/100)","v":""},{"$f":"IF(AC135=\"\",\"\",VLOOKUP(AC135*5,Calif_Control,2,1))","v":""}]
[null,null,null,null,null,null,null,null,null,null,null,null,null,null,null,null,{"$f":"IF(COUNTA(I136:P136)<8,\"\",VLOOKUP(ROUND((LEFT(I136,1)*'Criterios de Riesgo'!$F$8+LEFT(J136,1)*'Criterios de Riesgo'!$F$9+LEFT(K136,1)*'Criterios de Riesgo'!$F$10+LEFT(L136,1)*'Criterios de Riesgo'!$F$11+LEFT(M136,1)*'Criterios de Riesgo'!$F$12+LEFT(N136,1)*'Criterios de Riesgo'!$F$13+LEFT(O136,1)*'Criterios de Riesgo'!$F$14+LEFT(P136,1)*'Criterios de Riesgo'!$F$15),2),Calif_Control,2,1))","v":""},{"$f":"IF(COUNTA(I136:P136)<8,\"\",(ROUND((LEFT(I136,1)*'Criterios de Riesgo'!$F$8+LEFT(J136,1)*'Criterios de Riesgo'!$F$9+LEFT(K136,1)*'Criterios de Riesgo'!$F$10+LEFT(L136,1)*'Criterios de Riesgo'!$F$11+LEFT(M136,1)*'Criterios de Riesgo'!$F$12+LEFT(N136,1)*'Criterios de Riesgo'!$F$13+LEFT(O136,1)*'Criterios de Riesgo'!$F$14+LEFT(P136,1)*'Criterios de Riesgo'!$F$15),2))/5)","v":""},null,null,null,null,{"$f":"IF(COUNTA(S136:V136)<4,\"\",IF(V136=\"No\",\"No se usa\",VLOOKUP(ROUND((LEFT(S136,1)*'Criterios de Riesgo'!$C$13+LEFT(T136,1)*'Criterios de Riesgo'!$C$14+LEFT(U136,1)*'Criterios de Riesgo'!$C$15),2),Calif_Covertura,2,1)))","v":""},{"$f":"IF(COUNTA(S136:V136)<4,\"\",IF(V136=\"No\",0,(ROUND((LEFT(S136,1)*'Criterios de Riesgo'!$C$13+LEFT(T136,1)*'Criterios de Riesgo'!$C$14+LEFT(U136,1)*'Criterios de Riesgo'!$C$15),2))/5))","v":""},""]
[null,null,null,null,null,null,null,null,null,null,null,null,null,null,null,null,{"$f":"IF(COUNTA(I137:P137)<8,\"\",VLOOKUP(ROUND((LEFT(I137,1)*'Criterios de Riesgo'!$F$8+LEFT(J137,1)*'Criterios de Riesgo'!$F$9+LEFT(K137,1)*'Criterios de Riesgo'!$F$10+LEFT(L137,1)*'Criterios de Riesgo'!$F$11+LEFT(M137,1)*'Criterios de Riesgo'!$F$12+LEFT(N137,1)*'Criterios de Riesgo'!$F$13+LEFT(O137,1)*'Criterios de Riesgo'!$F$14+LEFT(P137,1)*'Criterios de Riesgo'!$F$15),2),Calif_Control,2,1))","v":""},{"$f":"IF(COUNTA(I137:P137)<8,\"\",(ROUND((LEFT(I137,1)*'Criterios de Riesgo'!$F$8+LEFT(J137,1)*'Criterios de Riesgo'!$F$9+LEFT(K137,1)*'Criterios de Riesgo'!$F$10+LEFT(L137,1)*'Criterios de Riesgo'!$F$11+LEFT(M137,1)*'Criterios de Riesgo'!$F$12+LEFT(N137,1)*'Criterios de Riesgo'!$F$13+LEFT(O137,1)*'Criterios de Riesgo'!$F$14+LEFT(P137,1)*'Criterios de Riesgo'!$F$15),2))/5)","v":""},null,null,null,null,{"$f":"IF(COUNTA(S137:V137)<4,\"\",IF(V137=\"No\",\"No se usa\",VLOOKUP(ROUND((LEFT(S137,1)*'Criterios de Riesgo'!$C$13+LEFT(T137,1)*'Criterios de Riesgo'!$C$14+LEFT(U137,1)*'Criterios de Riesgo'!$C$15),2),Calif_Covertura,2,1)))","v":""},{"$f":"IF(COUNTA(S137:V137)<4,\"\",IF(V137=\"No\",0,(ROUND((LEFT(S137,1)*'Criterios de Riesgo'!$C$13+LEFT(T137,1)*'Criterios de Riesgo'!$C$14+LEFT(U137,1)*'Criterios de Riesgo'!$C$15),2))/5))","v":""},{"$f":"IF(ISERROR(R137*X137),\"\",R137*X137)","v":""}]
[null,null,null,null,null,null,null,null,null,null,null,null,null,null,null,null,{"$f":"IF(COUNTA(I138:P138)<8,\"\",VLOOKUP(ROUND((LEFT(I138,1)*'Criterios de Riesgo'!$F$8+LEFT(J138,1)*'Criterios de Riesgo'!$F$9+LEFT(K138,1)*'Criterios de Riesgo'!$F$10+LEFT(L138,1)*'Criterios de Riesgo'!$F$11+LEFT(M138,1)*'Criterios de Riesgo'!$F$12+LEFT(N138,1)*'Criterios de Riesgo'!$F$13+LEFT(O138,1)*'Criterios de Riesgo'!$F$14+LEFT(P138,1)*'Criterios de Riesgo'!$F$15),2),Calif_Control,2,1))","v":""},{"$f":"IF(COUNTA(I138:P138)<8,\"\",(ROUND((LEFT(I138,1)*'Criterios de Riesgo'!$F$8+LEFT(J138,1)*'Criterios de Riesgo'!$F$9+LEFT(K138,1)*'Criterios de Riesgo'!$F$10+LEFT(L138,1)*'Criterios de Riesgo'!$F$11+LEFT(M138,1)*'Criterios de Riesgo'!$F$12+LEFT(N138,1)*'Criterios de Riesgo'!$F$13+LEFT(O138,1)*'Criterios de Riesgo'!$F$14+LEFT(P138,1)*'Criterios de Riesgo'!$F$15),2))/5)","v":""},null,null,null,null,{"$f":"IF(COUNTA(S138:V138)<4,\"\",IF(V138=\"No\",\"No se usa\",VLOOKUP(ROUND((LEFT(S138,1)*'Criterios de Riesgo'!$C$13+LEFT(T138,1)*'Criterios de Riesgo'!$C$14+LEFT(U138,1)*'Criterios de Riesgo'!$C$15),2),Calif_Covertura,2,1)))","v":""},{"$f":"IF(COUNTA(S138:V138)<4,\"\",IF(V138=\"No\",0,(ROUND((LEFT(S138,1)*'Criterios de Riesgo'!$C$13+LEFT(T138,1)*'Criterios de Riesgo'!$C$14+LEFT(U138,1)*'Criterios de Riesgo'!$C$15),2))/5))","v":""},""]
[null,null,null,null,null,null,null,null,null,null,null,null,null,null,null,null,{"$f":"IF(COUNTA(I139:P139)<8,\"\",VLOOKUP(ROUND((LEFT(I139,1)*'Criterios de Riesgo'!$F$8+LEFT(J139,1)*'Criterios de Riesgo'!$F$9+LEFT(K139,1)*'Criterios de Riesgo'!$F$10+LEFT(L139,1)*'Criterios de Riesgo'!$F$11+LEFT(M139,1)*'Criterios de Riesgo'!$F$12+LEFT(N139,1)*'Criterios de Riesgo'!$F$13+LEFT(O139,1)*'Criterios de Riesgo'!$F$14+LEFT(P139,1)*'Criterios de Riesgo'!$F$15),2),Calif_Control,2,1))","v":""},{"$f":"IF(COUNTA(I139:P139)<8,\"\",(ROUND((LEFT(I139,1)*'Criterios de Riesgo'!$F$8+LEFT(J139,1)*'Criterios de Riesgo'!$F$9+LEFT(K139,1)*'Criterios de Riesgo'!$F$10+LEFT(L139,1)*'Criterios de Riesgo'!$F$11+LEFT(M139,1)*'Criterios de Riesgo'!$F$12+LEFT(N139,1)*'Criterios de Riesgo'!$F$13+LEFT(O139,1)*'Criterios de Riesgo'!$F$14+LEFT(P139,1)*'Criterios de Riesgo'!$F$15),2))/5)","v":""},null,null,null,null,{"$f":"IF(COUNTA(S139:V139)<4,\"\",IF(V139=\"No\",\"No se usa\",VLOOKUP(ROUND((LEFT(S139,1)*'Criterios de Riesgo'!$C$13+LEFT(T139,1)*'Criterios de Riesgo'!$C$14+LEFT(U139,1)*'Criterios de Riesgo'!$C$15),2),Calif_Covertura,2,1)))","v":""},{"$f":"IF(COUNTA(S139:V139)<4,\"\",IF(V139=\"No\",0,(ROUND((LEFT(S139,1)*'Criterios de Riesgo'!$C$13+LEFT(T139,1)*'Criterios de Riesgo'!$C$14+LEFT(U139,1)*'Criterios de Riesgo'!$C$15),2))/5))","v":""},""]
[null,null,null,null,null,null,null,null,null,null,null,null,null,null,null,null,{"$f":"IF(COUNTA(I140:P140)<8,\"\",VLOOKUP(ROUND((LEFT(I140,1)*'Criterios de Riesgo'!$F$8+LEFT(J140,1)*'Criterios de Riesgo'!$F$9+LEFT(K140,1)*'Criterios de Riesgo'!$F$10+LEFT(L140,1)*'Criterios de Riesgo'!$F$11+LEFT(M140,1)*'Criterios de Riesgo'!$F$12+LEFT(N140,1)*'Criterios de Riesgo'!$F$13+LEFT(O140,1)*'Criterios de Riesgo'!$F$14+LEFT(P140,1)*'Criterios de Riesgo'!$F$15),2),Calif_Control,2,1))","v":""},{"$f":"IF(COUNTA(I140:P140)<8,\"\",(ROUND((LEFT(I140,1)*'Criterios de Riesgo'!$F$8+LEFT(J140,1)*'Criterios de Riesgo'!$F$9+LEFT(K140,1)*'Criterios de Riesgo'!$F$10+LEFT(L140,1)*'Criterios de Riesgo'!$F$11+LEFT(M140,1)*'Criterios de Riesgo'!$F$12+LEFT(N140,1)*'Criterios de Riesgo'!$F$13+LEFT(O140,1)*'Criterios de Riesgo'!$F$14+LEFT(P140,1)*'Criterios de Riesgo'!$F$15),2))/5)","v":""},null,null,null,null,{"$f":"IF(COUNTA(S140:V140)<4,\"\",IF(V140=\"No\",\"No se usa\",VLOOKUP(ROUND((LEFT(S140,1)*'Criterios de Riesgo'!$C$13+LEFT(T140,1)*'Criterios de Riesgo'!$C$14+LEFT(U140,1)*'Criterios de Riesgo'!$C$15),2),Calif_Covertura,2,1)))","v":""},{"$f":"IF(COUNTA(S140:V140)<4,\"\",IF(V140=\"No\",0,(ROUND((LEFT(S140,1)*'Criterios de Riesgo'!$C$13+LEFT(T140,1)*'Criterios de Riesgo'!$C$14+LEFT(U140,1)*'Criterios de Riesgo'!$C$15),2))/5))","v":""},""]
[null,null,null,null,null,null,null,null,null,null,null,null,null,null,null,null,{"$f":"IF(COUNTA(I141:P141)<8,\"\",VLOOKUP(ROUND((LEFT(I141,1)*'Criterios de Riesgo'!$F$8+LEFT(J141,1)*'Criterios de Riesgo'!$F$9+LEFT(K141,1)*'Criterios de Riesgo'!$F$10+LEFT(L141,1)*'Criterios de Riesgo'!$F$11+LEFT(M141,1)*'Criterios de Riesgo'!$F$12+LEFT(N141,1)*'Criterios de Riesgo'!$F$13+LEFT(O141,1)*'Criterios de Riesgo'!$F$14+LEFT(P141,1)*'Criterios de Riesgo'!$F$15),2),Calif_Control,2,1))","v":""},{"$f":"IF(COUNTA(I141:P141)<8,\"\",(ROUND((LEFT(I141,1)*'Criterios de Riesgo'!$F$8+LEFT(J141,1)*'Criterios de Riesgo'!$F$9+LEFT(K141,1)*'Criterios de Riesgo'!$F$10+LEFT(L141,1)*'Criterios de Riesgo'!$F$11+LEFT(M141,1)*'Criterios de Riesgo'!$F$12+LEFT(N141,1)*'Criterios de Riesgo'!$F$13+LEFT(O141,1)*'Criterios de Riesgo'!$F$14+LEFT(P141,1)*'Criterios de Riesgo'!$F$15),2))/5)","v":""},null,null,null,null,{"$f":"IF(COUNTA(S141:V141)<4,\"\",IF(V141=\"No\",\"No se usa\",VLOOKUP(ROUND((LEFT(S141,1)*'Criterios de Riesgo'!$C$13+LEFT(T141,1)*'Criterios de Riesgo'!$C$14+LEFT(U141,1)*'Criterios de Riesgo'!$C$15),2),Calif_Covertura,2,1)))","v":""},{"$f":"IF(COUNTA(S141:V141)<4,\"\",IF(V141=\"No\",0,(ROUND((LEFT(S141,1)*'Criterios de Riesgo'!$C$13+LEFT(T141,1)*'Criterios de Riesgo'!$C$14+LEFT(U141,1)*'Criterios de Riesgo'!$C$15),2))/5))","v":""},""]
[null,null,null,null,null,null,null,null,null,null,null,null,null,null,null,null,{"$f":"IF(COUNTA(I142:P142)<8,\"\",VLOOKUP(ROUND((LEFT(I142,1)*'Criterios de Riesgo'!$F$8+LEFT(J142,1)*'Criterios de Riesgo'!$F$9+LEFT(K142,1)*'Criterios de Riesgo'!$F$10+LEFT(L142,1)*'Criterios de Riesgo'!$F$11+LEFT(M142,1)*'Criterios de Riesgo'!$F$12+LEFT(N142,1)*'Criterios de Riesgo'!$F$13+LEFT(O142,1)*'Criterios de Riesgo'!$F$14+LEFT(P142,1)*'Criterios de Riesgo'!$F$15),2),Calif_Control,2,1))","v":""},{"$f":"IF(COUNTA(I142:P142)<8,\"\",(ROUND((LEFT(I142,1)*'Criterios de Riesgo'!$F$8+LEFT(J142,1)*'Criterios de Riesgo'!$F$9+LEFT(K142,1)*'Criterios de Riesgo'!$F$10+LEFT(L142,1)*'Criterios de Riesgo'!$F$11+LEFT(M142,1)*'Criterios de Riesgo'!$F$12+LEFT(N142,1)*'Criterios de Riesgo'!$F$13+LEFT(O142,1)*'Criterios de Riesgo'!$F$14+LEFT(P142,1)*'Criterios de Riesgo'!$F$15),2))/5)","v":""},null,null,null,null,{"$f":"IF(COUNTA(S142:V142)<4,\"\",IF(V142=\"No\",\"No se usa\",VLOOKUP(ROUND((LEFT(S142,1)*'Criterios de Riesgo'!$C$13+LEFT(T142,1)*'Criterios de Riesgo'!$C$14+LEFT(U142,1)*'Criterios de Riesgo'!$C$15),2),Calif_Covertura,2,1)))","v":""},{"$f":"IF(COUNTA(S142:V142)<4,\"\",IF(V142=\"No\",0,(ROUND((LEFT(S142,1)*'Criterios de Riesgo'!$C$13+LEFT(T142,1)*'Criterios de Riesgo'!$C$14+LEFT(U142,1)*'Criterios de Riesgo'!$C$15),2))/5))","v":""},""]
[null,null,null,null,null,null,null,null,null,null,null,null,null,null,null,null,{"$f":"IF(COUNTA(I143:P143)<8,\"\",VLOOKUP(ROUND((LEFT(I143,1)*'Criterios de Riesgo'!$F$8+LEFT(J143,1)*'Criterios de Riesgo'!$F$9+LEFT(K143,1)*'Criterios de Riesgo'!$F$10+LEFT(L143,1)*'Criterios de Riesgo'!$F$11+LEFT(M143,1)*'Criterios de Riesgo'!$F$12+LEFT(N143,1)*'Criterios de Riesgo'!$F$13+LEFT(O143,1)*'Criterios de Riesgo'!$F$14+LEFT(P143,1)*'Criterios de Riesgo'!$F$15),2),Calif_Control,2,1))","v":""},{"$f":"IF(COUNTA(I143:P143)<8,\"\",(ROUND((LEFT(I143,1)*'Criterios de Riesgo'!$F$8+LEFT(J143,1)*'Criterios de Riesgo'!$F$9+LEFT(K143,1)*'Criterios de Riesgo'!$F$10+LEFT(L143,1)*'Criterios de Riesgo'!$F$11+LEFT(M143,1)*'Criterios de Riesgo'!$F$12+LEFT(N143,1)*'Criterios de Riesgo'!$F$13+LEFT(O143,1)*'Criterios de Riesgo'!$F$14+LEFT(P143,1)*'Criterios de Riesgo'!$F$15),2))/5)","v":""},null,null,null,null,{"$f":"IF(COUNTA(S143:V143)<4,\"\",IF(V143=\"No\",\"No se usa\",VLOOKUP(ROUND((LEFT(S143,1)*'Criterios de Riesgo'!$C$13+LEFT(T143,1)*'Criterios de Riesgo'!$C$14+LEFT(U143,1)*'Criterios de Riesgo'!$C$15),2),Calif_Covertura,2,1)))","v":""},{"$f":"IF(COUNTA(S143:V143)<4,\"\",IF(V143=\"No\",0,(ROUND((LEFT(S143,1)*'Criterios de Riesgo'!$C$13+LEFT(T143,1)*'Criterios de Riesgo'!$C$14+LEFT(U143,1)*'Criterios de Riesgo'!$C$15),2))/5))","v":""},""]
[null,null,null,null,null,null,null,null,null,null,null,null,null,null,null,null,{"$f":"IF(COUNTA(I144:P144)<8,\"\",VLOOKUP(ROUND((LEFT(I144,1)*'Criterios de Riesgo'!$F$8+LEFT(J144,1)*'Criterios de Riesgo'!$F$9+LEFT(K144,1)*'Criterios de Riesgo'!$F$10+LEFT(L144,1)*'Criterios de Riesgo'!$F$11+LEFT(M144,1)*'Criterios de Riesgo'!$F$12+LEFT(N144,1)*'Criterios de Riesgo'!$F$13+LEFT(O144,1)*'Criterios de Riesgo'!$F$14+LEFT(P144,1)*'Criterios de Riesgo'!$F$15),2),Calif_Control,2,1))","v":""},{"$f":"IF(COUNTA(I144:P144)<8,\"\",(ROUND((LEFT(I144,1)*'Criterios de Riesgo'!$F$8+LEFT(J144,1)*'Criterios de Riesgo'!$F$9+LEFT(K144,1)*'Criterios de Riesgo'!$F$10+LEFT(L144,1)*'Criterios de Riesgo'!$F$11+LEFT(M144,1)*'Criterios de Riesgo'!$F$12+LEFT(N144,1)*'Criterios de Riesgo'!$F$13+LEFT(O144,1)*'Criterios de Riesgo'!$F$14+LEFT(P144,1)*'Criterios de Riesgo'!$F$15),2))/5)","v":""},null,null,null,null,{"$f":"IF(COUNTA(S144:V144)<4,\"\",IF(V144=\"No\",\"No se usa\",VLOOKUP(ROUND((LEFT(S144,1)*'Criterios de Riesgo'!$C$13+LEFT(T144,1)*'Criterios de Riesgo'!$C$14+LEFT(U144,1)*'Criterios de Riesgo'!$C$15),2),Calif_Covertura,2,1)))","v":""},{"$f":"IF(COUNTA(S144:V144)<4,\"\",IF(V144=\"No\",0,(ROUND((LEFT(S144,1)*'Criterios de Riesgo'!$C$13+LEFT(T144,1)*'Criterios de Riesgo'!$C$14+LEFT(U144,1)*'Criterios de Riesgo'!$C$15),2))/5))","v":""},""]
["R",null,null,null,null,null,null,null,null,null,null,null,null,null,null,null,{"$f":"IF(COUNTA(I145:P145)<8,\"\",VLOOKUP(ROUND((LEFT(I145,1)*'Criterios de Riesgo'!$F$8+LEFT(J145,1)*'Criterios de Riesgo'!$F$9+LEFT(K145,1)*'Criterios de Riesgo'!$F$10+LEFT(L145,1)*'Criterios de Riesgo'!$F$11+LEFT(M145,1)*'Criterios de Riesgo'!$F$12+LEFT(N145,1)*'Criterios de Riesgo'!$F$13+LEFT(O145,1)*'Criterios de Riesgo'!$F$14+LEFT(P145,1)*'Criterios de Riesgo'!$F$15),2),Calif_Control,2,1))","v":""},{"$f":"IF(COUNTA(I145:P145)<8,\"\",(ROUND((LEFT(I145,1)*'Criterios de Riesgo'!$F$8+LEFT(J145,1)*'Criterios de Riesgo'!$F$9+LEFT(K145,1)*'Criterios de Riesgo'!$F$10+LEFT(L145,1)*'Criterios de Riesgo'!$F$11+LEFT(M145,1)*'Criterios de Riesgo'!$F$12+LEFT(N145,1)*'Criterios de Riesgo'!$F$13+LEFT(O145,1)*'Criterios de Riesgo'!$F$14+LEFT(P145,1)*'Criterios de Riesgo'!$F$15),2))/5)","v":""},null,null,null,null,{"$f":"IF(COUNTA(S145:V145)<4,\"\",IF(V145=\"No\",\"No se usa\",VLOOKUP(ROUND((LEFT(S145,1)*'Criterios de Riesgo'!$C$13+LEFT(T145,1)*'Criterios de Riesgo'!$C$14+LEFT(U145,1)*'Criterios de Riesgo'!$C$15),2),Calif_Covertura,2,1)))","v":""},{"$f":"IF(COUNTA(S145:V145)<4,\"\",IF(V145=\"No\",0,(ROUND((LEFT(S145,1)*'Criterios de Riesgo'!$C$13+LEFT(T145,1)*'Criterios de Riesgo'!$C$14+LEFT(U145,1)*'Criterios de Riesgo'!$C$15),2))/5))","v":""},{"$f":"IF(ISERROR(R145*X145),\"\",R145*X145)","v":""},null,{"$f":"IF(ISERROR((SUMIF(Z145:Z154,\"=impacto\",Y145:Y154)+SUMIF(Z145:Z154,\"=Ambos\",Y145:Y154))/(COUNTIF(Z145:Z154,\"Impacto\")+COUNTIF(Z145:Z154,\"Ambos\"))),\"\",(SUMIF(Z145:Z154,\"=impacto\",Y145:Y154)+SUMIF(Z145:Z154,\"=Ambos\",Y145:Y154))/(COUNTIF(Z145:Z154,\"Impacto\")+COUNTIF(Z145:Z154,\"Ambos\")))","v":""},{"$f":"IF(ISERROR((SUMIF(Z145:Z154,\"=Probabilidad\",Y145:Y154)+SUMIF(Z145:Z154,\"=Ambos\",Y145:Y154))/(COUNTIF(Z145:Z154,\"Probabilidad\")+COUNTIF(Z145:Z154,\"Ambos\"))),\"\",(SUMIF(Z145:Z154,\"=Probabilidad\",Y145:Y154)+SUMIF(Z145:Z154,\"=Ambos\",Y145:Y154))/(COUNTIF(Z145:Z154,\"Probabilidad\")+COUNTIF(Z145:Z154,\"Ambos\")))","v":""},{"$f":"IF(ISERROR(ROUND(IF(AB145=\"\",AA145,IF(AA145=\"\",AB145,IF(AND(AB145=\"\",AA145=\"\"),\"\",AB145*AA145)))*100,0)/100),\"\",ROUND(IF(AB145=\"\",AA145,IF(AA145=\"\",AB145,IF(AND(AB145=\"\",AA145=\"\"),\"\",AB145*AA145)))*100,0)/100)","v":""},{"$f":"IF(AC145=\"\",\"\",VLOOKUP(AC145*5,Calif_Control,2,1))","v":""}]
[null,null,null,null,null,null,null,null,null,null,null,null,null,null,null,null,{"$f":"IF(COUNTA(I146:P146)<8,\"\",VLOOKUP(ROUND((LEFT(I146,1)*'Criterios de Riesgo'!$F$8+LEFT(J146,1)*'Criterios de Riesgo'!$F$9+LEFT(K146,1)*'Criterios de Riesgo'!$F$10+LEFT(L146,1)*'Criterios de Riesgo'!$F$11+LEFT(M146,1)*'Criterios de Riesgo'!$F$12+LEFT(N146,1)*'Criterios de Riesgo'!$F$13+LEFT(O146,1)*'Criterios de Riesgo'!$F$14+LEFT(P146,1)*'Criterios de Riesgo'!$F$15),2),Calif_Control,2,1))","v":""},{"$f":"IF(COUNTA(I146:P146)<8,\"\",(ROUND((LEFT(I146,1)*'Criterios de Riesgo'!$F$8+LEFT(J146,1)*'Criterios de Riesgo'!$F$9+LEFT(K146,1)*'Criterios de Riesgo'!$F$10+LEFT(L146,1)*'Criterios de Riesgo'!$F$11+LEFT(M146,1)*'Criterios de Riesgo'!$F$12+LEFT(N146,1)*'Criterios de Riesgo'!$F$13+LEFT(O146,1)*'Criterios de Riesgo'!$F$14+LEFT(P146,1)*'Criterios de Riesgo'!$F$15),2))/5)","v":""},null,null,null,null,{"$f":"IF(COUNTA(S146:V146)<4,\"\",IF(V146=\"No\",\"No se usa\",VLOOKUP(ROUND((LEFT(S146,1)*'Criterios de Riesgo'!$C$13+LEFT(T146,1)*'Criterios de Riesgo'!$C$14+LEFT(U146,1)*'Criterios de Riesgo'!$C$15),2),Calif_Covertura,2,1)))","v":""},{"$f":"IF(COUNTA(S146:V146)<4,\"\",IF(V146=\"No\",0,(ROUND((LEFT(S146,1)*'Criterios de Riesgo'!$C$13+LEFT(T146,1)*'Criterios de Riesgo'!$C$14+LEFT(U146,1)*'Criterios de Riesgo'!$C$15),2))/5))","v":""},""]
[null,null,null,null,null,null,null,null,null,null,null,null,null,null,null,null,{"$f":"IF(COUNTA(I147:P147)<8,\"\",VLOOKUP(ROUND((LEFT(I147,1)*'Criterios de Riesgo'!$F$8+LEFT(J147,1)*'Criterios de Riesgo'!$F$9+LEFT(K147,1)*'Criterios de Riesgo'!$F$10+LEFT(L147,1)*'Criterios de Riesgo'!$F$11+LEFT(M147,1)*'Criterios de Riesgo'!$F$12+LEFT(N147,1)*'Criterios de Riesgo'!$F$13+LEFT(O147,1)*'Criterios de Riesgo'!$F$14+LEFT(P147,1)*'Criterios de Riesgo'!$F$15),2),Calif_Control,2,1))","v":""},{"$f":"IF(COUNTA(I147:P147)<8,\"\",(ROUND((LEFT(I147,1)*'Criterios de Riesgo'!$F$8+LEFT(J147,1)*'Criterios de Riesgo'!$F$9+LEFT(K147,1)*'Criterios de Riesgo'!$F$10+LEFT(L147,1)*'Criterios de Riesgo'!$F$11+LEFT(M147,1)*'Criterios de Riesgo'!$F$12+LEFT(N147,1)*'Criterios de Riesgo'!$F$13+LEFT(O147,1)*'Criterios de Riesgo'!$F$14+LEFT(P147,1)*'Criterios de Riesgo'!$F$15),2))/5)","v":""},null,null,null,null,{"$f":"IF(COUNTA(S147:V147)<4,\"\",IF(V147=\"No\",\"No se usa\",VLOOKUP(ROUND((LEFT(S147,1)*'Criterios de Riesgo'!$C$13+LEFT(T147,1)*'Criterios de Riesgo'!$C$14+LEFT(U147,1)*'Criterios de Riesgo'!$C$15),2),Calif_Covertura,2,1)))","v":""},{"$f":"IF(COUNTA(S147:V147)<4,\"\",IF(V147=\"No\",0,(ROUND((LEFT(S147,1)*'Criterios de Riesgo'!$C$13+LEFT(T147,1)*'Criterios de Riesgo'!$C$14+LEFT(U147,1)*'Criterios de Riesgo'!$C$15),2))/5))","v":""},""]
[null,null,null,null,null,null,null,null,null,null,null,null,null,null,null,null,{"$f":"IF(COUNTA(I148:P148)<8,\"\",VLOOKUP(ROUND((LEFT(I148,1)*'Criterios de Riesgo'!$F$8+LEFT(J148,1)*'Criterios de Riesgo'!$F$9+LEFT(K148,1)*'Criterios de Riesgo'!$F$10+LEFT(L148,1)*'Criterios de Riesgo'!$F$11+LEFT(M148,1)*'Criterios de Riesgo'!$F$12+LEFT(N148,1)*'Criterios de Riesgo'!$F$13+LEFT(O148,1)*'Criterios de Riesgo'!$F$14+LEFT(P148,1)*'Criterios de Riesgo'!$F$15),2),Calif_Control,2,1))","v":""},{"$f":"IF(COUNTA(I148:P148)<8,\"\",(ROUND((LEFT(I148,1)*'Criterios de Riesgo'!$F$8+LEFT(J148,1)*'Criterios de Riesgo'!$F$9+LEFT(K148,1)*'Criterios de Riesgo'!$F$10+LEFT(L148,1)*'Criterios de Riesgo'!$F$11+LEFT(M148,1)*'Criterios de Riesgo'!$F$12+LEFT(N148,1)*'Criterios de Riesgo'!$F$13+LEFT(O148,1)*'Criterios de Riesgo'!$F$14+LEFT(P148,1)*'Criterios de Riesgo'!$F$15),2))/5)","v":""},null,null,null,null,{"$f":"IF(COUNTA(S148:V148)<4,\"\",IF(V148=\"No\",\"No se usa\",VLOOKUP(ROUND((LEFT(S148,1)*'Criterios de Riesgo'!$C$13+LEFT(T148,1)*'Criterios de Riesgo'!$C$14+LEFT(U148,1)*'Criterios de Riesgo'!$C$15),2),Calif_Covertura,2,1)))","v":""},{"$f":"IF(COUNTA(S148:V148)<4,\"\",IF(V148=\"No\",0,(ROUND((LEFT(S148,1)*'Criterios de Riesgo'!$C$13+LEFT(T148,1)*'Criterios de Riesgo'!$C$14+LEFT(U148,1)*'Criterios de Riesgo'!$C$15),2))/5))","v":""},""]
[null,null,null,null,null,null,null,null,null,null,null,null,null,null,null,null,{"$f":"IF(COUNTA(I149:P149)<8,\"\",VLOOKUP(ROUND((LEFT(I149,1)*'Criterios de Riesgo'!$F$8+LEFT(J149,1)*'Criterios de Riesgo'!$F$9+LEFT(K149,1)*'Criterios de Riesgo'!$F$10+LEFT(L149,1)*'Criterios de Riesgo'!$F$11+LEFT(M149,1)*'Criterios de Riesgo'!$F$12+LEFT(N149,1)*'Criterios de Riesgo'!$F$13+LEFT(O149,1)*'Criterios de Riesgo'!$F$14+LEFT(P149,1)*'Criterios de Riesgo'!$F$15),2),Calif_Control,2,1))","v":""},{"$f":"IF(COUNTA(I149:P149)<8,\"\",(ROUND((LEFT(I149,1)*'Criterios de Riesgo'!$F$8+LEFT(J149,1)*'Criterios de Riesgo'!$F$9+LEFT(K149,1)*'Criterios de Riesgo'!$F$10+LEFT(L149,1)*'Criterios de Riesgo'!$F$11+LEFT(M149,1)*'Criterios de Riesgo'!$F$12+LEFT(N149,1)*'Criterios de Riesgo'!$F$13+LEFT(O149,1)*'Criterios de Riesgo'!$F$14+LEFT(P149,1)*'Criterios de Riesgo'!$F$15),2))/5)","v":""},null,null,null,null,{"$f":"IF(COUNTA(S149:V149)<4,\"\",IF(V149=\"No\",\"No se usa\",VLOOKUP(ROUND((LEFT(S149,1)*'Criterios de Riesgo'!$C$13+LEFT(T149,1)*'Criterios de Riesgo'!$C$14+LEFT(U149,1)*'Criterios de Riesgo'!$C$15),2),Calif_Covertura,2,1)))","v":""},{"$f":"IF(COUNTA(S149:V149)<4,\"\",IF(V149=\"No\",0,(ROUND((LEFT(S149,1)*'Criterios de Riesgo'!$C$13+LEFT(T149,1)*'Criterios de Riesgo'!$C$14+LEFT(U149,1)*'Criterios de Riesgo'!$C$15),2))/5))","v":""},""]
[null,null,null,null,null,null,null,null,null,null,null,null,null,null,null,null,{"$f":"IF(COUNTA(I150:P150)<8,\"\",VLOOKUP(ROUND((LEFT(I150,1)*'Criterios de Riesgo'!$F$8+LEFT(J150,1)*'Criterios de Riesgo'!$F$9+LEFT(K150,1)*'Criterios de Riesgo'!$F$10+LEFT(L150,1)*'Criterios de Riesgo'!$F$11+LEFT(M150,1)*'Criterios de Riesgo'!$F$12+LEFT(N150,1)*'Criterios de Riesgo'!$F$13+LEFT(O150,1)*'Criterios de Riesgo'!$F$14+LEFT(P150,1)*'Criterios de Riesgo'!$F$15),2),Calif_Control,2,1))","v":""},{"$f":"IF(COUNTA(I150:P150)<8,\"\",(ROUND((LEFT(I150,1)*'Criterios de Riesgo'!$F$8+LEFT(J150,1)*'Criterios de Riesgo'!$F$9+LEFT(K150,1)*'Criterios de Riesgo'!$F$10+LEFT(L150,1)*'Criterios de Riesgo'!$F$11+LEFT(M150,1)*'Criterios de Riesgo'!$F$12+LEFT(N150,1)*'Criterios de Riesgo'!$F$13+LEFT(O150,1)*'Criterios de Riesgo'!$F$14+LEFT(P150,1)*'Criterios de Riesgo'!$F$15),2))/5)","v":""},null,null,null,null,{"$f":"IF(COUNTA(S150:V150)<4,\"\",IF(V150=\"No\",\"No se usa\",VLOOKUP(ROUND((LEFT(S150,1)*'Criterios de Riesgo'!$C$13+LEFT(T150,1)*'Criterios de Riesgo'!$C$14+LEFT(U150,1)*'Criterios de Riesgo'!$C$15),2),Calif_Covertura,2,1)))","v":""},{"$f":"IF(COUNTA(S150:V150)<4,\"\",IF(V150=\"No\",0,(ROUND((LEFT(S150,1)*'Criterios de Riesgo'!$C$13+LEFT(T150,1)*'Criterios de Riesgo'!$C$14+LEFT(U150,1)*'Criterios de Riesgo'!$C$15),2))/5))","v":""},""]
[null,null,null,null,null,null,null,null,null,null,null,null,null,null,null,null,{"$f":"IF(COUNTA(I151:P151)<8,\"\",VLOOKUP(ROUND((LEFT(I151,1)*'Criterios de Riesgo'!$F$8+LEFT(J151,1)*'Criterios de Riesgo'!$F$9+LEFT(K151,1)*'Criterios de Riesgo'!$F$10+LEFT(L151,1)*'Criterios de Riesgo'!$F$11+LEFT(M151,1)*'Criterios de Riesgo'!$F$12+LEFT(N151,1)*'Criterios de Riesgo'!$F$13+LEFT(O151,1)*'Criterios de Riesgo'!$F$14+LEFT(P151,1)*'Criterios de Riesgo'!$F$15),2),Calif_Control,2,1))","v":""},{"$f":"IF(COUNTA(I151:P151)<8,\"\",(ROUND((LEFT(I151,1)*'Criterios de Riesgo'!$F$8+LEFT(J151,1)*'Criterios de Riesgo'!$F$9+LEFT(K151,1)*'Criterios de Riesgo'!$F$10+LEFT(L151,1)*'Criterios de Riesgo'!$F$11+LEFT(M151,1)*'Criterios de Riesgo'!$F$12+LEFT(N151,1)*'Criterios de Riesgo'!$F$13+LEFT(O151,1)*'Criterios de Riesgo'!$F$14+LEFT(P151,1)*'Criterios de Riesgo'!$F$15),2))/5)","v":""},null,null,null,null,{"$f":"IF(COUNTA(S151:V151)<4,\"\",IF(V151=\"No\",\"No se usa\",VLOOKUP(ROUND((LEFT(S151,1)*'Criterios de Riesgo'!$C$13+LEFT(T151,1)*'Criterios de Riesgo'!$C$14+LEFT(U151,1)*'Criterios de Riesgo'!$C$15),2),Calif_Covertura,2,1)))","v":""},{"$f":"IF(COUNTA(S151:V151)<4,\"\",IF(V151=\"No\",0,(ROUND((LEFT(S151,1)*'Criterios de Riesgo'!$C$13+LEFT(T151,1)*'Criterios de Riesgo'!$C$14+LEFT(U151,1)*'Criterios de Riesgo'!$C$15),2))/5))","v":""},""]
[null,null,null,null,null,null,null,null,null,null,null,null,null,null,null,null,{"$f":"IF(COUNTA(I152:P152)<8,\"\",VLOOKUP(ROUND((LEFT(I152,1)*'Criterios de Riesgo'!$F$8+LEFT(J152,1)*'Criterios de Riesgo'!$F$9+LEFT(K152,1)*'Criterios de Riesgo'!$F$10+LEFT(L152,1)*'Criterios de Riesgo'!$F$11+LEFT(M152,1)*'Criterios de Riesgo'!$F$12+LEFT(N152,1)*'Criterios de Riesgo'!$F$13+LEFT(O152,1)*'Criterios de Riesgo'!$F$14+LEFT(P152,1)*'Criterios de Riesgo'!$F$15),2),Calif_Control,2,1))","v":""},{"$f":"IF(COUNTA(I152:P152)<8,\"\",(ROUND((LEFT(I152,1)*'Criterios de Riesgo'!$F$8+LEFT(J152,1)*'Criterios de Riesgo'!$F$9+LEFT(K152,1)*'Criterios de Riesgo'!$F$10+LEFT(L152,1)*'Criterios de Riesgo'!$F$11+LEFT(M152,1)*'Criterios de Riesgo'!$F$12+LEFT(N152,1)*'Criterios de Riesgo'!$F$13+LEFT(O152,1)*'Criterios de Riesgo'!$F$14+LEFT(P152,1)*'Criterios de Riesgo'!$F$15),2))/5)","v":""},null,null,null,null,{"$f":"IF(COUNTA(S152:V152)<4,\"\",IF(V152=\"No\",\"No se usa\",VLOOKUP(ROUND((LEFT(S152,1)*'Criterios de Riesgo'!$C$13+LEFT(T152,1)*'Criterios de Riesgo'!$C$14+LEFT(U152,1)*'Criterios de Riesgo'!$C$15),2),Calif_Covertura,2,1)))","v":""},{"$f":"IF(COUNTA(S152:V152)<4,\"\",IF(V152=\"No\",0,(ROUND((LEFT(S152,1)*'Criterios de Riesgo'!$C$13+LEFT(T152,1)*'Criterios de Riesgo'!$C$14+LEFT(U152,1)*'Criterios de Riesgo'!$C$15),2))/5))","v":""},""]
[null,null,null,null,null,null,null,null,null,null,null,null,null,null,null,null,{"$f":"IF(COUNTA(I153:P153)<8,\"\",VLOOKUP(ROUND((LEFT(I153,1)*'Criterios de Riesgo'!$F$8+LEFT(J153,1)*'Criterios de Riesgo'!$F$9+LEFT(K153,1)*'Criterios de Riesgo'!$F$10+LEFT(L153,1)*'Criterios de Riesgo'!$F$11+LEFT(M153,1)*'Criterios de Riesgo'!$F$12+LEFT(N153,1)*'Criterios de Riesgo'!$F$13+LEFT(O153,1)*'Criterios de Riesgo'!$F$14+LEFT(P153,1)*'Criterios de Riesgo'!$F$15),2),Calif_Control,2,1))","v":""},{"$f":"IF(COUNTA(I153:P153)<8,\"\",(ROUND((LEFT(I153,1)*'Criterios de Riesgo'!$F$8+LEFT(J153,1)*'Criterios de Riesgo'!$F$9+LEFT(K153,1)*'Criterios de Riesgo'!$F$10+LEFT(L153,1)*'Criterios de Riesgo'!$F$11+LEFT(M153,1)*'Criterios de Riesgo'!$F$12+LEFT(N153,1)*'Criterios de Riesgo'!$F$13+LEFT(O153,1)*'Criterios de Riesgo'!$F$14+LEFT(P153,1)*'Criterios de Riesgo'!$F$15),2))/5)","v":""},null,null,null,null,{"$f":"IF(COUNTA(S153:V153)<4,\"\",IF(V153=\"No\",\"No se usa\",VLOOKUP(ROUND((LEFT(S153,1)*'Criterios de Riesgo'!$C$13+LEFT(T153,1)*'Criterios de Riesgo'!$C$14+LEFT(U153,1)*'Criterios de Riesgo'!$C$15),2),Calif_Covertura,2,1)))","v":""},{"$f":"IF(COUNTA(S153:V153)<4,\"\",IF(V153=\"No\",0,(ROUND((LEFT(S153,1)*'Criterios de Riesgo'!$C$13+LEFT(T153,1)*'Criterios de Riesgo'!$C$14+LEFT(U153,1)*'Criterios de Riesgo'!$C$15),2))/5))","v":""},""]
[null,null,null,null,null,null,null,null,null,null,null,null,null,null,null,null,{"$f":"IF(COUNTA(I154:P154)<8,\"\",VLOOKUP(ROUND((LEFT(I154,1)*'Criterios de Riesgo'!$F$8+LEFT(J154,1)*'Criterios de Riesgo'!$F$9+LEFT(K154,1)*'Criterios de Riesgo'!$F$10+LEFT(L154,1)*'Criterios de Riesgo'!$F$11+LEFT(M154,1)*'Criterios de Riesgo'!$F$12+LEFT(N154,1)*'Criterios de Riesgo'!$F$13+LEFT(O154,1)*'Criterios de Riesgo'!$F$14+LEFT(P154,1)*'Criterios de Riesgo'!$F$15),2),Calif_Control,2,1))","v":""},{"$f":"IF(COUNTA(I154:P154)<8,\"\",(ROUND((LEFT(I154,1)*'Criterios de Riesgo'!$F$8+LEFT(J154,1)*'Criterios de Riesgo'!$F$9+LEFT(K154,1)*'Criterios de Riesgo'!$F$10+LEFT(L154,1)*'Criterios de Riesgo'!$F$11+LEFT(M154,1)*'Criterios de Riesgo'!$F$12+LEFT(N154,1)*'Criterios de Riesgo'!$F$13+LEFT(O154,1)*'Criterios de Riesgo'!$F$14+LEFT(P154,1)*'Criterios de Riesgo'!$F$15),2))/5)","v":""},null,null,null,null,{"$f":"IF(COUNTA(S154:V154)<4,\"\",IF(V154=\"No\",\"No se usa\",VLOOKUP(ROUND((LEFT(S154,1)*'Criterios de Riesgo'!$C$13+LEFT(T154,1)*'Criterios de Riesgo'!$C$14+LEFT(U154,1)*'Criterios de Riesgo'!$C$15),2),Calif_Covertura,2,1)))","v":""},{"$f":"IF(COUNTA(S154:V154)<4,\"\",IF(V154=\"No\",0,(ROUND((LEFT(S154,1)*'Criterios de Riesgo'!$C$13+LEFT(T154,1)*'Criterios de Riesgo'!$C$14+LEFT(U154,1)*'Criterios de Riesgo'!$C$15),2))/5))","v":""},""]
["R",null,null,null,null,null,null,null,null,null,null,null,null,null,null,null,{"$f":"IF(COUNTA(I155:P155)<8,\"\",VLOOKUP(ROUND((LEFT(I155,1)*'Criterios de Riesgo'!$F$8+LEFT(J155,1)*'Criterios de Riesgo'!$F$9+LEFT(K155,1)*'Criterios de Riesgo'!$F$10+LEFT(L155,1)*'Criterios de Riesgo'!$F$11+LEFT(M155,1)*'Criterios de Riesgo'!$F$12+LEFT(N155,1)*'Criterios de Riesgo'!$F$13+LEFT(O155,1)*'Criterios de Riesgo'!$F$14+LEFT(P155,1)*'Criterios de Riesgo'!$F$15),2),Calif_Control,2,1))","v":""},{"$f":"IF(COUNTA(I155:P155)<8,\"\",(ROUND((LEFT(I155,1)*'Criterios de Riesgo'!$F$8+LEFT(J155,1)*'Criterios de Riesgo'!$F$9+LEFT(K155,1)*'Criterios de Riesgo'!$F$10+LEFT(L155,1)*'Criterios de Riesgo'!$F$11+LEFT(M155,1)*'Criterios de Riesgo'!$F$12+LEFT(N155,1)*'Criterios de Riesgo'!$F$13+LEFT(O155,1)*'Criterios de Riesgo'!$F$14+LEFT(P155,1)*'Criterios de Riesgo'!$F$15),2))/5)","v":""},null,null,null,null,{"$f":"IF(COUNTA(S155:V155)<4,\"\",IF(V155=\"No\",\"No se usa\",VLOOKUP(ROUND((LEFT(S155,1)*'Criterios de Riesgo'!$C$13+LEFT(T155,1)*'Criterios de Riesgo'!$C$14+LEFT(U155,1)*'Criterios de Riesgo'!$C$15),2),Calif_Covertura,2,1)))","v":""},{"$f":"IF(COUNTA(S155:V155)<4,\"\",IF(V155=\"No\",0,(ROUND((LEFT(S155,1)*'Criterios de Riesgo'!$C$13+LEFT(T155,1)*'Criterios de Riesgo'!$C$14+LEFT(U155,1)*'Criterios de Riesgo'!$C$15),2))/5))","v":""},"",null,{"$f":"IF(ISERROR((SUMIF(Z155:Z164,\"=impacto\",Y155:Y164)+SUMIF(Z155:Z164,\"=Ambos\",Y155:Y164))/(COUNTIF(Z155:Z164,\"Impacto\")+COUNTIF(Z155:Z164,\"Ambos\"))),\"\",(SUMIF(Z155:Z164,\"=impacto\",Y155:Y164)+SUMIF(Z155:Z164,\"=Ambos\",Y155:Y164))/(COUNTIF(Z155:Z164,\"Impacto\")+COUNTIF(Z155:Z164,\"Ambos\")))","v":""},{"$f":"IF(ISERROR((SUMIF(Z155:Z164,\"=Probabilidad\",Y155:Y164)+SUMIF(Z155:Z164,\"=Ambos\",Y155:Y164))/(COUNTIF(Z155:Z164,\"Probabilidad\")+COUNTIF(Z155:Z164,\"Ambos\"))),\"\",(SUMIF(Z155:Z164,\"=Probabilidad\",Y155:Y164)+SUMIF(Z155:Z164,\"=Ambos\",Y155:Y164))/(COUNTIF(Z155:Z164,\"Probabilidad\")+COUNTIF(Z155:Z164,\"Ambos\")))","v":""},{"$f":"IF(ISERROR(ROUND(IF(AB155=\"\",AA155,IF(AA155=\"\",AB155,IF(AND(AB155=\"\",AA155=\"\"),\"\",AB155*AA155)))*100,0)/100),\"\",ROUND(IF(AB155=\"\",AA155,IF(AA155=\"\",AB155,IF(AND(AB155=\"\",AA155=\"\"),\"\",AB155*AA155)))*100,0)/100)","v":""},{"$f":"IF(AC155=\"\",\"\",VLOOKUP(AC155*5,Calif_Control,2,1))","v":""}]
[null,null,null,null,null,null,null,null,null,null,null,null,null,null,null,null,{"$f":"IF(COUNTA(I156:P156)<8,\"\",VLOOKUP(ROUND((LEFT(I156,1)*'Criterios de Riesgo'!$F$8+LEFT(J156,1)*'Criterios de Riesgo'!$F$9+LEFT(K156,1)*'Criterios de Riesgo'!$F$10+LEFT(L156,1)*'Criterios de Riesgo'!$F$11+LEFT(M156,1)*'Criterios de Riesgo'!$F$12+LEFT(N156,1)*'Criterios de Riesgo'!$F$13+LEFT(O156,1)*'Criterios de Riesgo'!$F$14+LEFT(P156,1)*'Criterios de Riesgo'!$F$15),2),Calif_Control,2,1))","v":""},{"$f":"IF(COUNTA(I156:P156)<8,\"\",(ROUND((LEFT(I156,1)*'Criterios de Riesgo'!$F$8+LEFT(J156,1)*'Criterios de Riesgo'!$F$9+LEFT(K156,1)*'Criterios de Riesgo'!$F$10+LEFT(L156,1)*'Criterios de Riesgo'!$F$11+LEFT(M156,1)*'Criterios de Riesgo'!$F$12+LEFT(N156,1)*'Criterios de Riesgo'!$F$13+LEFT(O156,1)*'Criterios de Riesgo'!$F$14+LEFT(P156,1)*'Criterios de Riesgo'!$F$15),2))/5)","v":""},null,null,null,null,{"$f":"IF(COUNTA(S156:V156)<4,\"\",IF(V156=\"No\",\"No se usa\",VLOOKUP(ROUND((LEFT(S156,1)*'Criterios de Riesgo'!$C$13+LEFT(T156,1)*'Criterios de Riesgo'!$C$14+LEFT(U156,1)*'Criterios de Riesgo'!$C$15),2),Calif_Covertura,2,1)))","v":""},{"$f":"IF(COUNTA(S156:V156)<4,\"\",IF(V156=\"No\",0,(ROUND((LEFT(S156,1)*'Criterios de Riesgo'!$C$13+LEFT(T156,1)*'Criterios de Riesgo'!$C$14+LEFT(U156,1)*'Criterios de Riesgo'!$C$15),2))/5))","v":""},""]
[null,null,null,null,null,null,null,null,null,null,null,null,null,null,null,null,{"$f":"IF(COUNTA(I157:P157)<8,\"\",VLOOKUP(ROUND((LEFT(I157,1)*'Criterios de Riesgo'!$F$8+LEFT(J157,1)*'Criterios de Riesgo'!$F$9+LEFT(K157,1)*'Criterios de Riesgo'!$F$10+LEFT(L157,1)*'Criterios de Riesgo'!$F$11+LEFT(M157,1)*'Criterios de Riesgo'!$F$12+LEFT(N157,1)*'Criterios de Riesgo'!$F$13+LEFT(O157,1)*'Criterios de Riesgo'!$F$14+LEFT(P157,1)*'Criterios de Riesgo'!$F$15),2),Calif_Control,2,1))","v":""},{"$f":"IF(COUNTA(I157:P157)<8,\"\",(ROUND((LEFT(I157,1)*'Criterios de Riesgo'!$F$8+LEFT(J157,1)*'Criterios de Riesgo'!$F$9+LEFT(K157,1)*'Criterios de Riesgo'!$F$10+LEFT(L157,1)*'Criterios de Riesgo'!$F$11+LEFT(M157,1)*'Criterios de Riesgo'!$F$12+LEFT(N157,1)*'Criterios de Riesgo'!$F$13+LEFT(O157,1)*'Criterios de Riesgo'!$F$14+LEFT(P157,1)*'Criterios de Riesgo'!$F$15),2))/5)","v":""},null,null,null,null,{"$f":"IF(COUNTA(S157:V157)<4,\"\",IF(V157=\"No\",\"No se usa\",VLOOKUP(ROUND((LEFT(S157,1)*'Criterios de Riesgo'!$C$13+LEFT(T157,1)*'Criterios de Riesgo'!$C$14+LEFT(U157,1)*'Criterios de Riesgo'!$C$15),2),Calif_Covertura,2,1)))","v":""},{"$f":"IF(COUNTA(S157:V157)<4,\"\",IF(V157=\"No\",0,(ROUND((LEFT(S157,1)*'Criterios de Riesgo'!$C$13+LEFT(T157,1)*'Criterios de Riesgo'!$C$14+LEFT(U157,1)*'Criterios de Riesgo'!$C$15),2))/5))","v":""},""]
[null,null,null,null,null,null,null,null,null,null,null,null,null,null,null,null,{"$f":"IF(COUNTA(I158:P158)<8,\"\",VLOOKUP(ROUND((LEFT(I158,1)*'Criterios de Riesgo'!$F$8+LEFT(J158,1)*'Criterios de Riesgo'!$F$9+LEFT(K158,1)*'Criterios de Riesgo'!$F$10+LEFT(L158,1)*'Criterios de Riesgo'!$F$11+LEFT(M158,1)*'Criterios de Riesgo'!$F$12+LEFT(N158,1)*'Criterios de Riesgo'!$F$13+LEFT(O158,1)*'Criterios de Riesgo'!$F$14+LEFT(P158,1)*'Criterios de Riesgo'!$F$15),2),Calif_Control,2,1))","v":""},{"$f":"IF(COUNTA(I158:P158)<8,\"\",(ROUND((LEFT(I158,1)*'Criterios de Riesgo'!$F$8+LEFT(J158,1)*'Criterios de Riesgo'!$F$9+LEFT(K158,1)*'Criterios de Riesgo'!$F$10+LEFT(L158,1)*'Criterios de Riesgo'!$F$11+LEFT(M158,1)*'Criterios de Riesgo'!$F$12+LEFT(N158,1)*'Criterios de Riesgo'!$F$13+LEFT(O158,1)*'Criterios de Riesgo'!$F$14+LEFT(P158,1)*'Criterios de Riesgo'!$F$15),2))/5)","v":""},null,null,null,null,{"$f":"IF(COUNTA(S158:V158)<4,\"\",IF(V158=\"No\",\"No se usa\",VLOOKUP(ROUND((LEFT(S158,1)*'Criterios de Riesgo'!$C$13+LEFT(T158,1)*'Criterios de Riesgo'!$C$14+LEFT(U158,1)*'Criterios de Riesgo'!$C$15),2),Calif_Covertura,2,1)))","v":""},{"$f":"IF(COUNTA(S158:V158)<4,\"\",IF(V158=\"No\",0,(ROUND((LEFT(S158,1)*'Criterios de Riesgo'!$C$13+LEFT(T158,1)*'Criterios de Riesgo'!$C$14+LEFT(U158,1)*'Criterios de Riesgo'!$C$15),2))/5))","v":""},""]
[null,null,null,null,null,null,null,null,null,null,null,null,null,null,null,null,{"$f":"IF(COUNTA(I159:P159)<8,\"\",VLOOKUP(ROUND((LEFT(I159,1)*'Criterios de Riesgo'!$F$8+LEFT(J159,1)*'Criterios de Riesgo'!$F$9+LEFT(K159,1)*'Criterios de Riesgo'!$F$10+LEFT(L159,1)*'Criterios de Riesgo'!$F$11+LEFT(M159,1)*'Criterios de Riesgo'!$F$12+LEFT(N159,1)*'Criterios de Riesgo'!$F$13+LEFT(O159,1)*'Criterios de Riesgo'!$F$14+LEFT(P159,1)*'Criterios de Riesgo'!$F$15),2),Calif_Control,2,1))","v":""},{"$f":"IF(COUNTA(I159:P159)<8,\"\",(ROUND((LEFT(I159,1)*'Criterios de Riesgo'!$F$8+LEFT(J159,1)*'Criterios de Riesgo'!$F$9+LEFT(K159,1)*'Criterios de Riesgo'!$F$10+LEFT(L159,1)*'Criterios de Riesgo'!$F$11+LEFT(M159,1)*'Criterios de Riesgo'!$F$12+LEFT(N159,1)*'Criterios de Riesgo'!$F$13+LEFT(O159,1)*'Criterios de Riesgo'!$F$14+LEFT(P159,1)*'Criterios de Riesgo'!$F$15),2))/5)","v":""},null,null,null,null,{"$f":"IF(COUNTA(S159:V159)<4,\"\",IF(V159=\"No\",\"No se usa\",VLOOKUP(ROUND((LEFT(S159,1)*'Criterios de Riesgo'!$C$13+LEFT(T159,1)*'Criterios de Riesgo'!$C$14+LEFT(U159,1)*'Criterios de Riesgo'!$C$15),2),Calif_Covertura,2,1)))","v":""},{"$f":"IF(COUNTA(S159:V159)<4,\"\",IF(V159=\"No\",0,(ROUND((LEFT(S159,1)*'Criterios de Riesgo'!$C$13+LEFT(T159,1)*'Criterios de Riesgo'!$C$14+LEFT(U159,1)*'Criterios de Riesgo'!$C$15),2))/5))","v":""},""]
[null,null,null,null,null,null,null,null,null,null,null,null,null,null,null,null,{"$f":"IF(COUNTA(I160:P160)<8,\"\",VLOOKUP(ROUND((LEFT(I160,1)*'Criterios de Riesgo'!$F$8+LEFT(J160,1)*'Criterios de Riesgo'!$F$9+LEFT(K160,1)*'Criterios de Riesgo'!$F$10+LEFT(L160,1)*'Criterios de Riesgo'!$F$11+LEFT(M160,1)*'Criterios de Riesgo'!$F$12+LEFT(N160,1)*'Criterios de Riesgo'!$F$13+LEFT(O160,1)*'Criterios de Riesgo'!$F$14+LEFT(P160,1)*'Criterios de Riesgo'!$F$15),2),Calif_Control,2,1))","v":""},{"$f":"IF(COUNTA(I160:P160)<8,\"\",(ROUND((LEFT(I160,1)*'Criterios de Riesgo'!$F$8+LEFT(J160,1)*'Criterios de Riesgo'!$F$9+LEFT(K160,1)*'Criterios de Riesgo'!$F$10+LEFT(L160,1)*'Criterios de Riesgo'!$F$11+LEFT(M160,1)*'Criterios de Riesgo'!$F$12+LEFT(N160,1)*'Criterios de Riesgo'!$F$13+LEFT(O160,1)*'Criterios de Riesgo'!$F$14+LEFT(P160,1)*'Criterios de Riesgo'!$F$15),2))/5)","v":""},null,null,null,null,{"$f":"IF(COUNTA(S160:V160)<4,\"\",IF(V160=\"No\",\"No se usa\",VLOOKUP(ROUND((LEFT(S160,1)*'Criterios de Riesgo'!$C$13+LEFT(T160,1)*'Criterios de Riesgo'!$C$14+LEFT(U160,1)*'Criterios de Riesgo'!$C$15),2),Calif_Covertura,2,1)))","v":""},{"$f":"IF(COUNTA(S160:V160)<4,\"\",IF(V160=\"No\",0,(ROUND((LEFT(S160,1)*'Criterios de Riesgo'!$C$13+LEFT(T160,1)*'Criterios de Riesgo'!$C$14+LEFT(U160,1)*'Criterios de Riesgo'!$C$15),2))/5))","v":""},""]
[null,null,null,null,null,null,null,null,null,null,null,null,null,null,null,null,{"$f":"IF(COUNTA(I161:P161)<8,\"\",VLOOKUP(ROUND((LEFT(I161,1)*'Criterios de Riesgo'!$F$8+LEFT(J161,1)*'Criterios de Riesgo'!$F$9+LEFT(K161,1)*'Criterios de Riesgo'!$F$10+LEFT(L161,1)*'Criterios de Riesgo'!$F$11+LEFT(M161,1)*'Criterios de Riesgo'!$F$12+LEFT(N161,1)*'Criterios de Riesgo'!$F$13+LEFT(O161,1)*'Criterios de Riesgo'!$F$14+LEFT(P161,1)*'Criterios de Riesgo'!$F$15),2),Calif_Control,2,1))","v":""},{"$f":"IF(COUNTA(I161:P161)<8,\"\",(ROUND((LEFT(I161,1)*'Criterios de Riesgo'!$F$8+LEFT(J161,1)*'Criterios de Riesgo'!$F$9+LEFT(K161,1)*'Criterios de Riesgo'!$F$10+LEFT(L161,1)*'Criterios de Riesgo'!$F$11+LEFT(M161,1)*'Criterios de Riesgo'!$F$12+LEFT(N161,1)*'Criterios de Riesgo'!$F$13+LEFT(O161,1)*'Criterios de Riesgo'!$F$14+LEFT(P161,1)*'Criterios de Riesgo'!$F$15),2))/5)","v":""},null,null,null,null,{"$f":"IF(COUNTA(S161:V161)<4,\"\",IF(V161=\"No\",\"No se usa\",VLOOKUP(ROUND((LEFT(S161,1)*'Criterios de Riesgo'!$C$13+LEFT(T161,1)*'Criterios de Riesgo'!$C$14+LEFT(U161,1)*'Criterios de Riesgo'!$C$15),2),Calif_Covertura,2,1)))","v":""},{"$f":"IF(COUNTA(S161:V161)<4,\"\",IF(V161=\"No\",0,(ROUND((LEFT(S161,1)*'Criterios de Riesgo'!$C$13+LEFT(T161,1)*'Criterios de Riesgo'!$C$14+LEFT(U161,1)*'Criterios de Riesgo'!$C$15),2))/5))","v":""},""]
[null,null,null,null,null,null,null,null,null,null,null,null,null,null,null,null,{"$f":"IF(COUNTA(I162:P162)<8,\"\",VLOOKUP(ROUND((LEFT(I162,1)*'Criterios de Riesgo'!$F$8+LEFT(J162,1)*'Criterios de Riesgo'!$F$9+LEFT(K162,1)*'Criterios de Riesgo'!$F$10+LEFT(L162,1)*'Criterios de Riesgo'!$F$11+LEFT(M162,1)*'Criterios de Riesgo'!$F$12+LEFT(N162,1)*'Criterios de Riesgo'!$F$13+LEFT(O162,1)*'Criterios de Riesgo'!$F$14+LEFT(P162,1)*'Criterios de Riesgo'!$F$15),2),Calif_Control,2,1))","v":""},{"$f":"IF(COUNTA(I162:P162)<8,\"\",(ROUND((LEFT(I162,1)*'Criterios de Riesgo'!$F$8+LEFT(J162,1)*'Criterios de Riesgo'!$F$9+LEFT(K162,1)*'Criterios de Riesgo'!$F$10+LEFT(L162,1)*'Criterios de Riesgo'!$F$11+LEFT(M162,1)*'Criterios de Riesgo'!$F$12+LEFT(N162,1)*'Criterios de Riesgo'!$F$13+LEFT(O162,1)*'Criterios de Riesgo'!$F$14+LEFT(P162,1)*'Criterios de Riesgo'!$F$15),2))/5)","v":""},null,null,null,null,{"$f":"IF(COUNTA(S162:V162)<4,\"\",IF(V162=\"No\",\"No se usa\",VLOOKUP(ROUND((LEFT(S162,1)*'Criterios de Riesgo'!$C$13+LEFT(T162,1)*'Criterios de Riesgo'!$C$14+LEFT(U162,1)*'Criterios de Riesgo'!$C$15),2),Calif_Covertura,2,1)))","v":""},{"$f":"IF(COUNTA(S162:V162)<4,\"\",IF(V162=\"No\",0,(ROUND((LEFT(S162,1)*'Criterios de Riesgo'!$C$13+LEFT(T162,1)*'Criterios de Riesgo'!$C$14+LEFT(U162,1)*'Criterios de Riesgo'!$C$15),2))/5))","v":""},""]
[null,null,null,null,null,null,null,null,null,null,null,null,null,null,null,null,{"$f":"IF(COUNTA(I163:P163)<8,\"\",VLOOKUP(ROUND((LEFT(I163,1)*'Criterios de Riesgo'!$F$8+LEFT(J163,1)*'Criterios de Riesgo'!$F$9+LEFT(K163,1)*'Criterios de Riesgo'!$F$10+LEFT(L163,1)*'Criterios de Riesgo'!$F$11+LEFT(M163,1)*'Criterios de Riesgo'!$F$12+LEFT(N163,1)*'Criterios de Riesgo'!$F$13+LEFT(O163,1)*'Criterios de Riesgo'!$F$14+LEFT(P163,1)*'Criterios de Riesgo'!$F$15),2),Calif_Control,2,1))","v":""},{"$f":"IF(COUNTA(I163:P163)<8,\"\",(ROUND((LEFT(I163,1)*'Criterios de Riesgo'!$F$8+LEFT(J163,1)*'Criterios de Riesgo'!$F$9+LEFT(K163,1)*'Criterios de Riesgo'!$F$10+LEFT(L163,1)*'Criterios de Riesgo'!$F$11+LEFT(M163,1)*'Criterios de Riesgo'!$F$12+LEFT(N163,1)*'Criterios de Riesgo'!$F$13+LEFT(O163,1)*'Criterios de Riesgo'!$F$14+LEFT(P163,1)*'Criterios de Riesgo'!$F$15),2))/5)","v":""},null,null,null,null,{"$f":"IF(COUNTA(S163:V163)<4,\"\",IF(V163=\"No\",\"No se usa\",VLOOKUP(ROUND((LEFT(S163,1)*'Criterios de Riesgo'!$C$13+LEFT(T163,1)*'Criterios de Riesgo'!$C$14+LEFT(U163,1)*'Criterios de Riesgo'!$C$15),2),Calif_Covertura,2,1)))","v":""},{"$f":"IF(COUNTA(S163:V163)<4,\"\",IF(V163=\"No\",0,(ROUND((LEFT(S163,1)*'Criterios de Riesgo'!$C$13+LEFT(T163,1)*'Criterios de Riesgo'!$C$14+LEFT(U163,1)*'Criterios de Riesgo'!$C$15),2))/5))","v":""},""]
[null,null,null,null,null,null,null,null,null,null,null,null,null,null,null,null,{"$f":"IF(COUNTA(I164:P164)<8,\"\",VLOOKUP(ROUND((LEFT(I164,1)*'Criterios de Riesgo'!$F$8+LEFT(J164,1)*'Criterios de Riesgo'!$F$9+LEFT(K164,1)*'Criterios de Riesgo'!$F$10+LEFT(L164,1)*'Criterios de Riesgo'!$F$11+LEFT(M164,1)*'Criterios de Riesgo'!$F$12+LEFT(N164,1)*'Criterios de Riesgo'!$F$13+LEFT(O164,1)*'Criterios de Riesgo'!$F$14+LEFT(P164,1)*'Criterios de Riesgo'!$F$15),2),Calif_Control,2,1))","v":""},{"$f":"IF(COUNTA(I164:P164)<8,\"\",(ROUND((LEFT(I164,1)*'Criterios de Riesgo'!$F$8+LEFT(J164,1)*'Criterios de Riesgo'!$F$9+LEFT(K164,1)*'Criterios de Riesgo'!$F$10+LEFT(L164,1)*'Criterios de Riesgo'!$F$11+LEFT(M164,1)*'Criterios de Riesgo'!$F$12+LEFT(N164,1)*'Criterios de Riesgo'!$F$13+LEFT(O164,1)*'Criterios de Riesgo'!$F$14+LEFT(P164,1)*'Criterios de Riesgo'!$F$15),2))/5)","v":""},null,null,null,null,{"$f":"IF(COUNTA(S164:V164)<4,\"\",IF(V164=\"No\",\"No se usa\",VLOOKUP(ROUND((LEFT(S164,1)*'Criterios de Riesgo'!$C$13+LEFT(T164,1)*'Criterios de Riesgo'!$C$14+LEFT(U164,1)*'Criterios de Riesgo'!$C$15),2),Calif_Covertura,2,1)))","v":""},{"$f":"IF(COUNTA(S164:V164)<4,\"\",IF(V164=\"No\",0,(ROUND((LEFT(S164,1)*'Criterios de Riesgo'!$C$13+LEFT(T164,1)*'Criterios de Riesgo'!$C$14+LEFT(U164,1)*'Criterios de Riesgo'!$C$15),2))/5))","v":""},""]
["R",null,null,null,null,null,null,null,null,null,null,null,null,null,null,null,{"$f":"IF(COUNTA(I165:P165)<8,\"\",VLOOKUP(ROUND((LEFT(I165,1)*'Criterios de Riesgo'!$F$8+LEFT(J165,1)*'Criterios de Riesgo'!$F$9+LEFT(K165,1)*'Criterios de Riesgo'!$F$10+LEFT(L165,1)*'Criterios de Riesgo'!$F$11+LEFT(M165,1)*'Criterios de Riesgo'!$F$12+LEFT(N165,1)*'Criterios de Riesgo'!$F$13+LEFT(O165,1)*'Criterios de Riesgo'!$F$14+LEFT(P165,1)*'Criterios de Riesgo'!$F$15),2),Calif_Control,2,1))","v":""},{"$f":"IF(COUNTA(I165:P165)<8,\"\",(ROUND((LEFT(I165,1)*'Criterios de Riesgo'!$F$8+LEFT(J165,1)*'Criterios de Riesgo'!$F$9+LEFT(K165,1)*'Criterios de Riesgo'!$F$10+LEFT(L165,1)*'Criterios de Riesgo'!$F$11+LEFT(M165,1)*'Criterios de Riesgo'!$F$12+LEFT(N165,1)*'Criterios de Riesgo'!$F$13+LEFT(O165,1)*'Criterios de Riesgo'!$F$14+LEFT(P165,1)*'Criterios de Riesgo'!$F$15),2))/5)","v":""},null,null,null,null,{"$f":"IF(COUNTA(S165:V165)<4,\"\",IF(V165=\"No\",\"No se usa\",VLOOKUP(ROUND((LEFT(S165,1)*'Criterios de Riesgo'!$C$13+LEFT(T165,1)*'Criterios de Riesgo'!$C$14+LEFT(U165,1)*'Criterios de Riesgo'!$C$15),2),Calif_Covertura,2,1)))","v":""},{"$f":"IF(COUNTA(S165:V165)<4,\"\",IF(V165=\"No\",0,(ROUND((LEFT(S165,1)*'Criterios de Riesgo'!$C$13+LEFT(T165,1)*'Criterios de Riesgo'!$C$14+LEFT(U165,1)*'Criterios de Riesgo'!$C$15),2))/5))","v":""},"",null,{"$f":"IF(ISERROR((SUMIF(Z165:Z174,\"=impacto\",Y165:Y174)+SUMIF(Z165:Z174,\"=Ambos\",Y165:Y174))/(COUNTIF(Z165:Z174,\"Impacto\")+COUNTIF(Z165:Z174,\"Ambos\"))),\"\",(SUMIF(Z165:Z174,\"=impacto\",Y165:Y174)+SUMIF(Z165:Z174,\"=Ambos\",Y165:Y174))/(COUNTIF(Z165:Z174,\"Impacto\")+COUNTIF(Z165:Z174,\"Ambos\")))","v":""},{"$f":"IF(ISERROR((SUMIF(Z165:Z174,\"=Probabilidad\",Y165:Y174)+SUMIF(Z165:Z174,\"=Ambos\",Y165:Y174))/(COUNTIF(Z165:Z174,\"Probabilidad\")+COUNTIF(Z165:Z174,\"Ambos\"))),\"\",(SUMIF(Z165:Z174,\"=Probabilidad\",Y165:Y174)+SUMIF(Z165:Z174,\"=Ambos\",Y165:Y174))/(COUNTIF(Z165:Z174,\"Probabilidad\")+COUNTIF(Z165:Z174,\"Ambos\")))","v":""},{"$f":"IF(ISERROR(ROUND(IF(AB165=\"\",AA165,IF(AA165=\"\",AB165,IF(AND(AB165=\"\",AA165=\"\"),\"\",AB165*AA165)))*100,0)/100),\"\",ROUND(IF(AB165=\"\",AA165,IF(AA165=\"\",AB165,IF(AND(AB165=\"\",AA165=\"\"),\"\",AB165*AA165)))*100,0)/100)","v":""},{"$f":"IF(AC165=\"\",\"\",VLOOKUP(AC165*5,Calif_Control,2,1))","v":""}]
[null,null,null,null,null,null,null,null,null,null,null,null,null,null,null,null,{"$f":"IF(COUNTA(I166:P166)<8,\"\",VLOOKUP(ROUND((LEFT(I166,1)*'Criterios de Riesgo'!$F$8+LEFT(J166,1)*'Criterios de Riesgo'!$F$9+LEFT(K166,1)*'Criterios de Riesgo'!$F$10+LEFT(L166,1)*'Criterios de Riesgo'!$F$11+LEFT(M166,1)*'Criterios de Riesgo'!$F$12+LEFT(N166,1)*'Criterios de Riesgo'!$F$13+LEFT(O166,1)*'Criterios de Riesgo'!$F$14+LEFT(P166,1)*'Criterios de Riesgo'!$F$15),2),Calif_Control,2,1))","v":""},{"$f":"IF(COUNTA(I166:P166)<8,\"\",(ROUND((LEFT(I166,1)*'Criterios de Riesgo'!$F$8+LEFT(J166,1)*'Criterios de Riesgo'!$F$9+LEFT(K166,1)*'Criterios de Riesgo'!$F$10+LEFT(L166,1)*'Criterios de Riesgo'!$F$11+LEFT(M166,1)*'Criterios de Riesgo'!$F$12+LEFT(N166,1)*'Criterios de Riesgo'!$F$13+LEFT(O166,1)*'Criterios de Riesgo'!$F$14+LEFT(P166,1)*'Criterios de Riesgo'!$F$15),2))/5)","v":""},null,null,null,null,{"$f":"IF(COUNTA(S166:V166)<4,\"\",IF(V166=\"No\",\"No se usa\",VLOOKUP(ROUND((LEFT(S166,1)*'Criterios de Riesgo'!$C$13+LEFT(T166,1)*'Criterios de Riesgo'!$C$14+LEFT(U166,1)*'Criterios de Riesgo'!$C$15),2),Calif_Covertura,2,1)))","v":""},{"$f":"IF(COUNTA(S166:V166)<4,\"\",IF(V166=\"No\",0,(ROUND((LEFT(S166,1)*'Criterios de Riesgo'!$C$13+LEFT(T166,1)*'Criterios de Riesgo'!$C$14+LEFT(U166,1)*'Criterios de Riesgo'!$C$15),2))/5))","v":""},""]
[null,null,null,null,null,null,null,null,null,null,null,null,null,null,null,null,{"$f":"IF(COUNTA(I167:P167)<8,\"\",VLOOKUP(ROUND((LEFT(I167,1)*'Criterios de Riesgo'!$F$8+LEFT(J167,1)*'Criterios de Riesgo'!$F$9+LEFT(K167,1)*'Criterios de Riesgo'!$F$10+LEFT(L167,1)*'Criterios de Riesgo'!$F$11+LEFT(M167,1)*'Criterios de Riesgo'!$F$12+LEFT(N167,1)*'Criterios de Riesgo'!$F$13+LEFT(O167,1)*'Criterios de Riesgo'!$F$14+LEFT(P167,1)*'Criterios de Riesgo'!$F$15),2),Calif_Control,2,1))","v":""},{"$f":"IF(COUNTA(I167:P167)<8,\"\",(ROUND((LEFT(I167,1)*'Criterios de Riesgo'!$F$8+LEFT(J167,1)*'Criterios de Riesgo'!$F$9+LEFT(K167,1)*'Criterios de Riesgo'!$F$10+LEFT(L167,1)*'Criterios de Riesgo'!$F$11+LEFT(M167,1)*'Criterios de Riesgo'!$F$12+LEFT(N167,1)*'Criterios de Riesgo'!$F$13+LEFT(O167,1)*'Criterios de Riesgo'!$F$14+LEFT(P167,1)*'Criterios de Riesgo'!$F$15),2))/5)","v":""},null,null,null,null,{"$f":"IF(COUNTA(S167:V167)<4,\"\",IF(V167=\"No\",\"No se usa\",VLOOKUP(ROUND((LEFT(S167,1)*'Criterios de Riesgo'!$C$13+LEFT(T167,1)*'Criterios de Riesgo'!$C$14+LEFT(U167,1)*'Criterios de Riesgo'!$C$15),2),Calif_Covertura,2,1)))","v":""},{"$f":"IF(COUNTA(S167:V167)<4,\"\",IF(V167=\"No\",0,(ROUND((LEFT(S167,1)*'Criterios de Riesgo'!$C$13+LEFT(T167,1)*'Criterios de Riesgo'!$C$14+LEFT(U167,1)*'Criterios de Riesgo'!$C$15),2))/5))","v":""},""]
[null,null,null,null,null,null,null,null,null,null,null,null,null,null,null,null,{"$f":"IF(COUNTA(I168:P168)<8,\"\",VLOOKUP(ROUND((LEFT(I168,1)*'Criterios de Riesgo'!$F$8+LEFT(J168,1)*'Criterios de Riesgo'!$F$9+LEFT(K168,1)*'Criterios de Riesgo'!$F$10+LEFT(L168,1)*'Criterios de Riesgo'!$F$11+LEFT(M168,1)*'Criterios de Riesgo'!$F$12+LEFT(N168,1)*'Criterios de Riesgo'!$F$13+LEFT(O168,1)*'Criterios de Riesgo'!$F$14+LEFT(P168,1)*'Criterios de Riesgo'!$F$15),2),Calif_Control,2,1))","v":""},{"$f":"IF(COUNTA(I168:P168)<8,\"\",(ROUND((LEFT(I168,1)*'Criterios de Riesgo'!$F$8+LEFT(J168,1)*'Criterios de Riesgo'!$F$9+LEFT(K168,1)*'Criterios de Riesgo'!$F$10+LEFT(L168,1)*'Criterios de Riesgo'!$F$11+LEFT(M168,1)*'Criterios de Riesgo'!$F$12+LEFT(N168,1)*'Criterios de Riesgo'!$F$13+LEFT(O168,1)*'Criterios de Riesgo'!$F$14+LEFT(P168,1)*'Criterios de Riesgo'!$F$15),2))/5)","v":""},null,null,null,null,{"$f":"IF(COUNTA(S168:V168)<4,\"\",IF(V168=\"No\",\"No se usa\",VLOOKUP(ROUND((LEFT(S168,1)*'Criterios de Riesgo'!$C$13+LEFT(T168,1)*'Criterios de Riesgo'!$C$14+LEFT(U168,1)*'Criterios de Riesgo'!$C$15),2),Calif_Covertura,2,1)))","v":""},{"$f":"IF(COUNTA(S168:V168)<4,\"\",IF(V168=\"No\",0,(ROUND((LEFT(S168,1)*'Criterios de Riesgo'!$C$13+LEFT(T168,1)*'Criterios de Riesgo'!$C$14+LEFT(U168,1)*'Criterios de Riesgo'!$C$15),2))/5))","v":""},""]
[null,null,null,null,null,null,null,null,null,null,null,null,null,null,null,null,{"$f":"IF(COUNTA(I169:P169)<8,\"\",VLOOKUP(ROUND((LEFT(I169,1)*'Criterios de Riesgo'!$F$8+LEFT(J169,1)*'Criterios de Riesgo'!$F$9+LEFT(K169,1)*'Criterios de Riesgo'!$F$10+LEFT(L169,1)*'Criterios de Riesgo'!$F$11+LEFT(M169,1)*'Criterios de Riesgo'!$F$12+LEFT(N169,1)*'Criterios de Riesgo'!$F$13+LEFT(O169,1)*'Criterios de Riesgo'!$F$14+LEFT(P169,1)*'Criterios de Riesgo'!$F$15),2),Calif_Control,2,1))","v":""},{"$f":"IF(COUNTA(I169:P169)<8,\"\",(ROUND((LEFT(I169,1)*'Criterios de Riesgo'!$F$8+LEFT(J169,1)*'Criterios de Riesgo'!$F$9+LEFT(K169,1)*'Criterios de Riesgo'!$F$10+LEFT(L169,1)*'Criterios de Riesgo'!$F$11+LEFT(M169,1)*'Criterios de Riesgo'!$F$12+LEFT(N169,1)*'Criterios de Riesgo'!$F$13+LEFT(O169,1)*'Criterios de Riesgo'!$F$14+LEFT(P169,1)*'Criterios de Riesgo'!$F$15),2))/5)","v":""},null,null,null,null,{"$f":"IF(COUNTA(S169:V169)<4,\"\",IF(V169=\"No\",\"No se usa\",VLOOKUP(ROUND((LEFT(S169,1)*'Criterios de Riesgo'!$C$13+LEFT(T169,1)*'Criterios de Riesgo'!$C$14+LEFT(U169,1)*'Criterios de Riesgo'!$C$15),2),Calif_Covertura,2,1)))","v":""},{"$f":"IF(COUNTA(S169:V169)<4,\"\",IF(V169=\"No\",0,(ROUND((LEFT(S169,1)*'Criterios de Riesgo'!$C$13+LEFT(T169,1)*'Criterios de Riesgo'!$C$14+LEFT(U169,1)*'Criterios de Riesgo'!$C$15),2))/5))","v":""},""]
[null,null,null,null,null,null,null,null,null,null,null,null,null,null,null,null,{"$f":"IF(COUNTA(I170:P170)<8,\"\",VLOOKUP(ROUND((LEFT(I170,1)*'Criterios de Riesgo'!$F$8+LEFT(J170,1)*'Criterios de Riesgo'!$F$9+LEFT(K170,1)*'Criterios de Riesgo'!$F$10+LEFT(L170,1)*'Criterios de Riesgo'!$F$11+LEFT(M170,1)*'Criterios de Riesgo'!$F$12+LEFT(N170,1)*'Criterios de Riesgo'!$F$13+LEFT(O170,1)*'Criterios de Riesgo'!$F$14+LEFT(P170,1)*'Criterios de Riesgo'!$F$15),2),Calif_Control,2,1))","v":""},{"$f":"IF(COUNTA(I170:P170)<8,\"\",(ROUND((LEFT(I170,1)*'Criterios de Riesgo'!$F$8+LEFT(J170,1)*'Criterios de Riesgo'!$F$9+LEFT(K170,1)*'Criterios de Riesgo'!$F$10+LEFT(L170,1)*'Criterios de Riesgo'!$F$11+LEFT(M170,1)*'Criterios de Riesgo'!$F$12+LEFT(N170,1)*'Criterios de Riesgo'!$F$13+LEFT(O170,1)*'Criterios de Riesgo'!$F$14+LEFT(P170,1)*'Criterios de Riesgo'!$F$15),2))/5)","v":""},null,null,null,null,{"$f":"IF(COUNTA(S170:V170)<4,\"\",IF(V170=\"No\",\"No se usa\",VLOOKUP(ROUND((LEFT(S170,1)*'Criterios de Riesgo'!$C$13+LEFT(T170,1)*'Criterios de Riesgo'!$C$14+LEFT(U170,1)*'Criterios de Riesgo'!$C$15),2),Calif_Covertura,2,1)))","v":""},{"$f":"IF(COUNTA(S170:V170)<4,\"\",IF(V170=\"No\",0,(ROUND((LEFT(S170,1)*'Criterios de Riesgo'!$C$13+LEFT(T170,1)*'Criterios de Riesgo'!$C$14+LEFT(U170,1)*'Criterios de Riesgo'!$C$15),2))/5))","v":""},""]
[null,null,null,null,null,null,null,null,null,null,null,null,null,null,null,null,{"$f":"IF(COUNTA(I171:P171)<8,\"\",VLOOKUP(ROUND((LEFT(I171,1)*'Criterios de Riesgo'!$F$8+LEFT(J171,1)*'Criterios de Riesgo'!$F$9+LEFT(K171,1)*'Criterios de Riesgo'!$F$10+LEFT(L171,1)*'Criterios de Riesgo'!$F$11+LEFT(M171,1)*'Criterios de Riesgo'!$F$12+LEFT(N171,1)*'Criterios de Riesgo'!$F$13+LEFT(O171,1)*'Criterios de Riesgo'!$F$14+LEFT(P171,1)*'Criterios de Riesgo'!$F$15),2),Calif_Control,2,1))","v":""},{"$f":"IF(COUNTA(I171:P171)<8,\"\",(ROUND((LEFT(I171,1)*'Criterios de Riesgo'!$F$8+LEFT(J171,1)*'Criterios de Riesgo'!$F$9+LEFT(K171,1)*'Criterios de Riesgo'!$F$10+LEFT(L171,1)*'Criterios de Riesgo'!$F$11+LEFT(M171,1)*'Criterios de Riesgo'!$F$12+LEFT(N171,1)*'Criterios de Riesgo'!$F$13+LEFT(O171,1)*'Criterios de Riesgo'!$F$14+LEFT(P171,1)*'Criterios de Riesgo'!$F$15),2))/5)","v":""},null,null,null,null,{"$f":"IF(COUNTA(S171:V171)<4,\"\",IF(V171=\"No\",\"No se usa\",VLOOKUP(ROUND((LEFT(S171,1)*'Criterios de Riesgo'!$C$13+LEFT(T171,1)*'Criterios de Riesgo'!$C$14+LEFT(U171,1)*'Criterios de Riesgo'!$C$15),2),Calif_Covertura,2,1)))","v":""},{"$f":"IF(COUNTA(S171:V171)<4,\"\",IF(V171=\"No\",0,(ROUND((LEFT(S171,1)*'Criterios de Riesgo'!$C$13+LEFT(T171,1)*'Criterios de Riesgo'!$C$14+LEFT(U171,1)*'Criterios de Riesgo'!$C$15),2))/5))","v":""},""]
[null,null,null,null,null,null,null,null,null,null,null,null,null,null,null,null,{"$f":"IF(COUNTA(I172:P172)<8,\"\",VLOOKUP(ROUND((LEFT(I172,1)*'Criterios de Riesgo'!$F$8+LEFT(J172,1)*'Criterios de Riesgo'!$F$9+LEFT(K172,1)*'Criterios de Riesgo'!$F$10+LEFT(L172,1)*'Criterios de Riesgo'!$F$11+LEFT(M172,1)*'Criterios de Riesgo'!$F$12+LEFT(N172,1)*'Criterios de Riesgo'!$F$13+LEFT(O172,1)*'Criterios de Riesgo'!$F$14+LEFT(P172,1)*'Criterios de Riesgo'!$F$15),2),Calif_Control,2,1))","v":""},{"$f":"IF(COUNTA(I172:P172)<8,\"\",(ROUND((LEFT(I172,1)*'Criterios de Riesgo'!$F$8+LEFT(J172,1)*'Criterios de Riesgo'!$F$9+LEFT(K172,1)*'Criterios de Riesgo'!$F$10+LEFT(L172,1)*'Criterios de Riesgo'!$F$11+LEFT(M172,1)*'Criterios de Riesgo'!$F$12+LEFT(N172,1)*'Criterios de Riesgo'!$F$13+LEFT(O172,1)*'Criterios de Riesgo'!$F$14+LEFT(P172,1)*'Criterios de Riesgo'!$F$15),2))/5)","v":""},null,null,null,null,{"$f":"IF(COUNTA(S172:V172)<4,\"\",IF(V172=\"No\",\"No se usa\",VLOOKUP(ROUND((LEFT(S172,1)*'Criterios de Riesgo'!$C$13+LEFT(T172,1)*'Criterios de Riesgo'!$C$14+LEFT(U172,1)*'Criterios de Riesgo'!$C$15),2),Calif_Covertura,2,1)))","v":""},{"$f":"IF(COUNTA(S172:V172)<4,\"\",IF(V172=\"No\",0,(ROUND((LEFT(S172,1)*'Criterios de Riesgo'!$C$13+LEFT(T172,1)*'Criterios de Riesgo'!$C$14+LEFT(U172,1)*'Criterios de Riesgo'!$C$15),2))/5))","v":""},""]
[null,null,null,null,null,null,null,null,null,null,null,null,null,null,null,null,{"$f":"IF(COUNTA(I173:P173)<8,\"\",VLOOKUP(ROUND((LEFT(I173,1)*'Criterios de Riesgo'!$F$8+LEFT(J173,1)*'Criterios de Riesgo'!$F$9+LEFT(K173,1)*'Criterios de Riesgo'!$F$10+LEFT(L173,1)*'Criterios de Riesgo'!$F$11+LEFT(M173,1)*'Criterios de Riesgo'!$F$12+LEFT(N173,1)*'Criterios de Riesgo'!$F$13+LEFT(O173,1)*'Criterios de Riesgo'!$F$14+LEFT(P173,1)*'Criterios de Riesgo'!$F$15),2),Calif_Control,2,1))","v":""},{"$f":"IF(COUNTA(I173:P173)<8,\"\",(ROUND((LEFT(I173,1)*'Criterios de Riesgo'!$F$8+LEFT(J173,1)*'Criterios de Riesgo'!$F$9+LEFT(K173,1)*'Criterios de Riesgo'!$F$10+LEFT(L173,1)*'Criterios de Riesgo'!$F$11+LEFT(M173,1)*'Criterios de Riesgo'!$F$12+LEFT(N173,1)*'Criterios de Riesgo'!$F$13+LEFT(O173,1)*'Criterios de Riesgo'!$F$14+LEFT(P173,1)*'Criterios de Riesgo'!$F$15),2))/5)","v":""},null,null,null,null,{"$f":"IF(COUNTA(S173:V173)<4,\"\",IF(V173=\"No\",\"No se usa\",VLOOKUP(ROUND((LEFT(S173,1)*'Criterios de Riesgo'!$C$13+LEFT(T173,1)*'Criterios de Riesgo'!$C$14+LEFT(U173,1)*'Criterios de Riesgo'!$C$15),2),Calif_Covertura,2,1)))","v":""},{"$f":"IF(COUNTA(S173:V173)<4,\"\",IF(V173=\"No\",0,(ROUND((LEFT(S173,1)*'Criterios de Riesgo'!$C$13+LEFT(T173,1)*'Criterios de Riesgo'!$C$14+LEFT(U173,1)*'Criterios de Riesgo'!$C$15),2))/5))","v":""},""]
[null,null,null,null,null,null,null,null,null,null,null,null,null,null,null,null,{"$f":"IF(COUNTA(I174:P174)<8,\"\",VLOOKUP(ROUND((LEFT(I174,1)*'Criterios de Riesgo'!$F$8+LEFT(J174,1)*'Criterios de Riesgo'!$F$9+LEFT(K174,1)*'Criterios de Riesgo'!$F$10+LEFT(L174,1)*'Criterios de Riesgo'!$F$11+LEFT(M174,1)*'Criterios de Riesgo'!$F$12+LEFT(N174,1)*'Criterios de Riesgo'!$F$13+LEFT(O174,1)*'Criterios de Riesgo'!$F$14+LEFT(P174,1)*'Criterios de Riesgo'!$F$15),2),Calif_Control,2,1))","v":""},{"$f":"IF(COUNTA(I174:P174)<8,\"\",(ROUND((LEFT(I174,1)*'Criterios de Riesgo'!$F$8+LEFT(J174,1)*'Criterios de Riesgo'!$F$9+LEFT(K174,1)*'Criterios de Riesgo'!$F$10+LEFT(L174,1)*'Criterios de Riesgo'!$F$11+LEFT(M174,1)*'Criterios de Riesgo'!$F$12+LEFT(N174,1)*'Criterios de Riesgo'!$F$13+LEFT(O174,1)*'Criterios de Riesgo'!$F$14+LEFT(P174,1)*'Criterios de Riesgo'!$F$15),2))/5)","v":""},null,null,null,null,{"$f":"IF(COUNTA(S174:V174)<4,\"\",IF(V174=\"No\",\"No se usa\",VLOOKUP(ROUND((LEFT(S174,1)*'Criterios de Riesgo'!$C$13+LEFT(T174,1)*'Criterios de Riesgo'!$C$14+LEFT(U174,1)*'Criterios de Riesgo'!$C$15),2),Calif_Covertura,2,1)))","v":""},{"$f":"IF(COUNTA(S174:V174)<4,\"\",IF(V174=\"No\",0,(ROUND((LEFT(S174,1)*'Criterios de Riesgo'!$C$13+LEFT(T174,1)*'Criterios de Riesgo'!$C$14+LEFT(U174,1)*'Criterios de Riesgo'!$C$15),2))/5))","v":""},""]
["R",null,null,null,null,null,null,null,null,null,null,null,null,null,null,null,{"$f":"IF(COUNTA(I175:P175)<8,\"\",VLOOKUP(ROUND((LEFT(I175,1)*'Criterios de Riesgo'!$F$8+LEFT(J175,1)*'Criterios de Riesgo'!$F$9+LEFT(K175,1)*'Criterios de Riesgo'!$F$10+LEFT(L175,1)*'Criterios de Riesgo'!$F$11+LEFT(M175,1)*'Criterios de Riesgo'!$F$12+LEFT(N175,1)*'Criterios de Riesgo'!$F$13+LEFT(O175,1)*'Criterios de Riesgo'!$F$14+LEFT(P175,1)*'Criterios de Riesgo'!$F$15),2),Calif_Control,2,1))","v":""},{"$f":"IF(COUNTA(I175:P175)<8,\"\",(ROUND((LEFT(I175,1)*'Criterios de Riesgo'!$F$8+LEFT(J175,1)*'Criterios de Riesgo'!$F$9+LEFT(K175,1)*'Criterios de Riesgo'!$F$10+LEFT(L175,1)*'Criterios de Riesgo'!$F$11+LEFT(M175,1)*'Criterios de Riesgo'!$F$12+LEFT(N175,1)*'Criterios de Riesgo'!$F$13+LEFT(O175,1)*'Criterios de Riesgo'!$F$14+LEFT(P175,1)*'Criterios de Riesgo'!$F$15),2))/5)","v":""},null,null,null,null,{"$f":"IF(COUNTA(S175:V175)<4,\"\",IF(V175=\"No\",\"No se usa\",VLOOKUP(ROUND((LEFT(S175,1)*'Criterios de Riesgo'!$C$13+LEFT(T175,1)*'Criterios de Riesgo'!$C$14+LEFT(U175,1)*'Criterios de Riesgo'!$C$15),2),Calif_Covertura,2,1)))","v":""},{"$f":"IF(COUNTA(S175:V175)<4,\"\",IF(V175=\"No\",0,(ROUND((LEFT(S175,1)*'Criterios de Riesgo'!$C$13+LEFT(T175,1)*'Criterios de Riesgo'!$C$14+LEFT(U175,1)*'Criterios de Riesgo'!$C$15),2))/5))","v":""},"",null,{"$f":"IF(ISERROR((SUMIF(Z175:Z184,\"=impacto\",Y175:Y184)+SUMIF(Z175:Z184,\"=Ambos\",Y175:Y184))/(COUNTIF(Z175:Z184,\"Impacto\")+COUNTIF(Z175:Z184,\"Ambos\"))),\"\",(SUMIF(Z175:Z184,\"=impacto\",Y175:Y184)+SUMIF(Z175:Z184,\"=Ambos\",Y175:Y184))/(COUNTIF(Z175:Z184,\"Impacto\")+COUNTIF(Z175:Z184,\"Ambos\")))","v":""},{"$f":"IF(ISERROR((SUMIF(Z175:Z184,\"=Probabilidad\",Y175:Y184)+SUMIF(Z175:Z184,\"=Ambos\",Y175:Y184))/(COUNTIF(Z175:Z184,\"Probabilidad\")+COUNTIF(Z175:Z184,\"Ambos\"))),\"\",(SUMIF(Z175:Z184,\"=Probabilidad\",Y175:Y184)+SUMIF(Z175:Z184,\"=Ambos\",Y175:Y184))/(COUNTIF(Z175:Z184,\"Probabilidad\")+COUNTIF(Z175:Z184,\"Ambos\")))","v":""},{"$f":"IF(ISERROR(ROUND(IF(AB175=\"\",AA175,IF(AA175=\"\",AB175,IF(AND(AB175=\"\",AA175=\"\"),\"\",AB175*AA175)))*100,0)/100),\"\",ROUND(IF(AB175=\"\",AA175,IF(AA175=\"\",AB175,IF(AND(AB175=\"\",AA175=\"\"),\"\",AB175*AA175)))*100,0)/100)","v":""},{"$f":"IF(AC175=\"\",\"\",VLOOKUP(AC175*5,Calif_Control,2,1))","v":""}]
[null,null,null,null,null,null,null,null,null,null,null,null,null,null,null,null,{"$f":"IF(COUNTA(I176:P176)<8,\"\",VLOOKUP(ROUND((LEFT(I176,1)*'Criterios de Riesgo'!$F$8+LEFT(J176,1)*'Criterios de Riesgo'!$F$9+LEFT(K176,1)*'Criterios de Riesgo'!$F$10+LEFT(L176,1)*'Criterios de Riesgo'!$F$11+LEFT(M176,1)*'Criterios de Riesgo'!$F$12+LEFT(N176,1)*'Criterios de Riesgo'!$F$13+LEFT(O176,1)*'Criterios de Riesgo'!$F$14+LEFT(P176,1)*'Criterios de Riesgo'!$F$15),2),Calif_Control,2,1))","v":""},{"$f":"IF(COUNTA(I176:P176)<8,\"\",(ROUND((LEFT(I176,1)*'Criterios de Riesgo'!$F$8+LEFT(J176,1)*'Criterios de Riesgo'!$F$9+LEFT(K176,1)*'Criterios de Riesgo'!$F$10+LEFT(L176,1)*'Criterios de Riesgo'!$F$11+LEFT(M176,1)*'Criterios de Riesgo'!$F$12+LEFT(N176,1)*'Criterios de Riesgo'!$F$13+LEFT(O176,1)*'Criterios de Riesgo'!$F$14+LEFT(P176,1)*'Criterios de Riesgo'!$F$15),2))/5)","v":""},null,null,null,null,{"$f":"IF(COUNTA(S176:V176)<4,\"\",IF(V176=\"No\",\"No se usa\",VLOOKUP(ROUND((LEFT(S176,1)*'Criterios de Riesgo'!$C$13+LEFT(T176,1)*'Criterios de Riesgo'!$C$14+LEFT(U176,1)*'Criterios de Riesgo'!$C$15),2),Calif_Covertura,2,1)))","v":""},{"$f":"IF(COUNTA(S176:V176)<4,\"\",IF(V176=\"No\",0,(ROUND((LEFT(S176,1)*'Criterios de Riesgo'!$C$13+LEFT(T176,1)*'Criterios de Riesgo'!$C$14+LEFT(U176,1)*'Criterios de Riesgo'!$C$15),2))/5))","v":""},""]
[null,null,null,null,null,null,null,null,null,null,null,null,null,null,null,null,{"$f":"IF(COUNTA(I177:P177)<8,\"\",VLOOKUP(ROUND((LEFT(I177,1)*'Criterios de Riesgo'!$F$8+LEFT(J177,1)*'Criterios de Riesgo'!$F$9+LEFT(K177,1)*'Criterios de Riesgo'!$F$10+LEFT(L177,1)*'Criterios de Riesgo'!$F$11+LEFT(M177,1)*'Criterios de Riesgo'!$F$12+LEFT(N177,1)*'Criterios de Riesgo'!$F$13+LEFT(O177,1)*'Criterios de Riesgo'!$F$14+LEFT(P177,1)*'Criterios de Riesgo'!$F$15),2),Calif_Control,2,1))","v":""},{"$f":"IF(COUNTA(I177:P177)<8,\"\",(ROUND((LEFT(I177,1)*'Criterios de Riesgo'!$F$8+LEFT(J177,1)*'Criterios de Riesgo'!$F$9+LEFT(K177,1)*'Criterios de Riesgo'!$F$10+LEFT(L177,1)*'Criterios de Riesgo'!$F$11+LEFT(M177,1)*'Criterios de Riesgo'!$F$12+LEFT(N177,1)*'Criterios de Riesgo'!$F$13+LEFT(O177,1)*'Criterios de Riesgo'!$F$14+LEFT(P177,1)*'Criterios de Riesgo'!$F$15),2))/5)","v":""},null,null,null,null,{"$f":"IF(COUNTA(S177:V177)<4,\"\",IF(V177=\"No\",\"No se usa\",VLOOKUP(ROUND((LEFT(S177,1)*'Criterios de Riesgo'!$C$13+LEFT(T177,1)*'Criterios de Riesgo'!$C$14+LEFT(U177,1)*'Criterios de Riesgo'!$C$15),2),Calif_Covertura,2,1)))","v":""},{"$f":"IF(COUNTA(S177:V177)<4,\"\",IF(V177=\"No\",0,(ROUND((LEFT(S177,1)*'Criterios de Riesgo'!$C$13+LEFT(T177,1)*'Criterios de Riesgo'!$C$14+LEFT(U177,1)*'Criterios de Riesgo'!$C$15),2))/5))","v":""},""]
[null,null,null,null,null,null,null,null,null,null,null,null,null,null,null,null,{"$f":"IF(COUNTA(I178:P178)<8,\"\",VLOOKUP(ROUND((LEFT(I178,1)*'Criterios de Riesgo'!$F$8+LEFT(J178,1)*'Criterios de Riesgo'!$F$9+LEFT(K178,1)*'Criterios de Riesgo'!$F$10+LEFT(L178,1)*'Criterios de Riesgo'!$F$11+LEFT(M178,1)*'Criterios de Riesgo'!$F$12+LEFT(N178,1)*'Criterios de Riesgo'!$F$13+LEFT(O178,1)*'Criterios de Riesgo'!$F$14+LEFT(P178,1)*'Criterios de Riesgo'!$F$15),2),Calif_Control,2,1))","v":""},{"$f":"IF(COUNTA(I178:P178)<8,\"\",(ROUND((LEFT(I178,1)*'Criterios de Riesgo'!$F$8+LEFT(J178,1)*'Criterios de Riesgo'!$F$9+LEFT(K178,1)*'Criterios de Riesgo'!$F$10+LEFT(L178,1)*'Criterios de Riesgo'!$F$11+LEFT(M178,1)*'Criterios de Riesgo'!$F$12+LEFT(N178,1)*'Criterios de Riesgo'!$F$13+LEFT(O178,1)*'Criterios de Riesgo'!$F$14+LEFT(P178,1)*'Criterios de Riesgo'!$F$15),2))/5)","v":""},null,null,null,null,{"$f":"IF(COUNTA(S178:V178)<4,\"\",IF(V178=\"No\",\"No se usa\",VLOOKUP(ROUND((LEFT(S178,1)*'Criterios de Riesgo'!$C$13+LEFT(T178,1)*'Criterios de Riesgo'!$C$14+LEFT(U178,1)*'Criterios de Riesgo'!$C$15),2),Calif_Covertura,2,1)))","v":""},{"$f":"IF(COUNTA(S178:V178)<4,\"\",IF(V178=\"No\",0,(ROUND((LEFT(S178,1)*'Criterios de Riesgo'!$C$13+LEFT(T178,1)*'Criterios de Riesgo'!$C$14+LEFT(U178,1)*'Criterios de Riesgo'!$C$15),2))/5))","v":""},""]
[null,null,null,null,null,null,null,null,null,null,null,null,null,null,null,null,{"$f":"IF(COUNTA(I179:P179)<8,\"\",VLOOKUP(ROUND((LEFT(I179,1)*'Criterios de Riesgo'!$F$8+LEFT(J179,1)*'Criterios de Riesgo'!$F$9+LEFT(K179,1)*'Criterios de Riesgo'!$F$10+LEFT(L179,1)*'Criterios de Riesgo'!$F$11+LEFT(M179,1)*'Criterios de Riesgo'!$F$12+LEFT(N179,1)*'Criterios de Riesgo'!$F$13+LEFT(O179,1)*'Criterios de Riesgo'!$F$14+LEFT(P179,1)*'Criterios de Riesgo'!$F$15),2),Calif_Control,2,1))","v":""},{"$f":"IF(COUNTA(I179:P179)<8,\"\",(ROUND((LEFT(I179,1)*'Criterios de Riesgo'!$F$8+LEFT(J179,1)*'Criterios de Riesgo'!$F$9+LEFT(K179,1)*'Criterios de Riesgo'!$F$10+LEFT(L179,1)*'Criterios de Riesgo'!$F$11+LEFT(M179,1)*'Criterios de Riesgo'!$F$12+LEFT(N179,1)*'Criterios de Riesgo'!$F$13+LEFT(O179,1)*'Criterios de Riesgo'!$F$14+LEFT(P179,1)*'Criterios de Riesgo'!$F$15),2))/5)","v":""},null,null,null,null,{"$f":"IF(COUNTA(S179:V179)<4,\"\",IF(V179=\"No\",\"No se usa\",VLOOKUP(ROUND((LEFT(S179,1)*'Criterios de Riesgo'!$C$13+LEFT(T179,1)*'Criterios de Riesgo'!$C$14+LEFT(U179,1)*'Criterios de Riesgo'!$C$15),2),Calif_Covertura,2,1)))","v":""},{"$f":"IF(COUNTA(S179:V179)<4,\"\",IF(V179=\"No\",0,(ROUND((LEFT(S179,1)*'Criterios de Riesgo'!$C$13+LEFT(T179,1)*'Criterios de Riesgo'!$C$14+LEFT(U179,1)*'Criterios de Riesgo'!$C$15),2))/5))","v":""},""]
[null,null,null,null,null,null,null,null,null,null,null,null,null,null,null,null,{"$f":"IF(COUNTA(I180:P180)<8,\"\",VLOOKUP(ROUND((LEFT(I180,1)*'Criterios de Riesgo'!$F$8+LEFT(J180,1)*'Criterios de Riesgo'!$F$9+LEFT(K180,1)*'Criterios de Riesgo'!$F$10+LEFT(L180,1)*'Criterios de Riesgo'!$F$11+LEFT(M180,1)*'Criterios de Riesgo'!$F$12+LEFT(N180,1)*'Criterios de Riesgo'!$F$13+LEFT(O180,1)*'Criterios de Riesgo'!$F$14+LEFT(P180,1)*'Criterios de Riesgo'!$F$15),2),Calif_Control,2,1))","v":""},{"$f":"IF(COUNTA(I180:P180)<8,\"\",(ROUND((LEFT(I180,1)*'Criterios de Riesgo'!$F$8+LEFT(J180,1)*'Criterios de Riesgo'!$F$9+LEFT(K180,1)*'Criterios de Riesgo'!$F$10+LEFT(L180,1)*'Criterios de Riesgo'!$F$11+LEFT(M180,1)*'Criterios de Riesgo'!$F$12+LEFT(N180,1)*'Criterios de Riesgo'!$F$13+LEFT(O180,1)*'Criterios de Riesgo'!$F$14+LEFT(P180,1)*'Criterios de Riesgo'!$F$15),2))/5)","v":""},null,null,null,null,{"$f":"IF(COUNTA(S180:V180)<4,\"\",IF(V180=\"No\",\"No se usa\",VLOOKUP(ROUND((LEFT(S180,1)*'Criterios de Riesgo'!$C$13+LEFT(T180,1)*'Criterios de Riesgo'!$C$14+LEFT(U180,1)*'Criterios de Riesgo'!$C$15),2),Calif_Covertura,2,1)))","v":""},{"$f":"IF(COUNTA(S180:V180)<4,\"\",IF(V180=\"No\",0,(ROUND((LEFT(S180,1)*'Criterios de Riesgo'!$C$13+LEFT(T180,1)*'Criterios de Riesgo'!$C$14+LEFT(U180,1)*'Criterios de Riesgo'!$C$15),2))/5))","v":""},""]
[null,null,null,null,null,null,null,null,null,null,null,null,null,null,null,null,{"$f":"IF(COUNTA(I181:P181)<8,\"\",VLOOKUP(ROUND((LEFT(I181,1)*'Criterios de Riesgo'!$F$8+LEFT(J181,1)*'Criterios de Riesgo'!$F$9+LEFT(K181,1)*'Criterios de Riesgo'!$F$10+LEFT(L181,1)*'Criterios de Riesgo'!$F$11+LEFT(M181,1)*'Criterios de Riesgo'!$F$12+LEFT(N181,1)*'Criterios de Riesgo'!$F$13+LEFT(O181,1)*'Criterios de Riesgo'!$F$14+LEFT(P181,1)*'Criterios de Riesgo'!$F$15),2),Calif_Control,2,1))","v":""},{"$f":"IF(COUNTA(I181:P181)<8,\"\",(ROUND((LEFT(I181,1)*'Criterios de Riesgo'!$F$8+LEFT(J181,1)*'Criterios de Riesgo'!$F$9+LEFT(K181,1)*'Criterios de Riesgo'!$F$10+LEFT(L181,1)*'Criterios de Riesgo'!$F$11+LEFT(M181,1)*'Criterios de Riesgo'!$F$12+LEFT(N181,1)*'Criterios de Riesgo'!$F$13+LEFT(O181,1)*'Criterios de Riesgo'!$F$14+LEFT(P181,1)*'Criterios de Riesgo'!$F$15),2))/5)","v":""},null,null,null,null,{"$f":"IF(COUNTA(S181:V181)<4,\"\",IF(V181=\"No\",\"No se usa\",VLOOKUP(ROUND((LEFT(S181,1)*'Criterios de Riesgo'!$C$13+LEFT(T181,1)*'Criterios de Riesgo'!$C$14+LEFT(U181,1)*'Criterios de Riesgo'!$C$15),2),Calif_Covertura,2,1)))","v":""},{"$f":"IF(COUNTA(S181:V181)<4,\"\",IF(V181=\"No\",0,(ROUND((LEFT(S181,1)*'Criterios de Riesgo'!$C$13+LEFT(T181,1)*'Criterios de Riesgo'!$C$14+LEFT(U181,1)*'Criterios de Riesgo'!$C$15),2))/5))","v":""},""]
[null,null,null,null,null,null,null,null,null,null,null,null,null,null,null,null,{"$f":"IF(COUNTA(I182:P182)<8,\"\",VLOOKUP(ROUND((LEFT(I182,1)*'Criterios de Riesgo'!$F$8+LEFT(J182,1)*'Criterios de Riesgo'!$F$9+LEFT(K182,1)*'Criterios de Riesgo'!$F$10+LEFT(L182,1)*'Criterios de Riesgo'!$F$11+LEFT(M182,1)*'Criterios de Riesgo'!$F$12+LEFT(N182,1)*'Criterios de Riesgo'!$F$13+LEFT(O182,1)*'Criterios de Riesgo'!$F$14+LEFT(P182,1)*'Criterios de Riesgo'!$F$15),2),Calif_Control,2,1))","v":""},{"$f":"IF(COUNTA(I182:P182)<8,\"\",(ROUND((LEFT(I182,1)*'Criterios de Riesgo'!$F$8+LEFT(J182,1)*'Criterios de Riesgo'!$F$9+LEFT(K182,1)*'Criterios de Riesgo'!$F$10+LEFT(L182,1)*'Criterios de Riesgo'!$F$11+LEFT(M182,1)*'Criterios de Riesgo'!$F$12+LEFT(N182,1)*'Criterios de Riesgo'!$F$13+LEFT(O182,1)*'Criterios de Riesgo'!$F$14+LEFT(P182,1)*'Criterios de Riesgo'!$F$15),2))/5)","v":""},null,null,null,null,{"$f":"IF(COUNTA(S182:V182)<4,\"\",IF(V182=\"No\",\"No se usa\",VLOOKUP(ROUND((LEFT(S182,1)*'Criterios de Riesgo'!$C$13+LEFT(T182,1)*'Criterios de Riesgo'!$C$14+LEFT(U182,1)*'Criterios de Riesgo'!$C$15),2),Calif_Covertura,2,1)))","v":""},{"$f":"IF(COUNTA(S182:V182)<4,\"\",IF(V182=\"No\",0,(ROUND((LEFT(S182,1)*'Criterios de Riesgo'!$C$13+LEFT(T182,1)*'Criterios de Riesgo'!$C$14+LEFT(U182,1)*'Criterios de Riesgo'!$C$15),2))/5))","v":""},""]
[null,null,null,null,null,null,null,null,null,null,null,null,null,null,null,null,{"$f":"IF(COUNTA(I183:P183)<8,\"\",VLOOKUP(ROUND((LEFT(I183,1)*'Criterios de Riesgo'!$F$8+LEFT(J183,1)*'Criterios de Riesgo'!$F$9+LEFT(K183,1)*'Criterios de Riesgo'!$F$10+LEFT(L183,1)*'Criterios de Riesgo'!$F$11+LEFT(M183,1)*'Criterios de Riesgo'!$F$12+LEFT(N183,1)*'Criterios de Riesgo'!$F$13+LEFT(O183,1)*'Criterios de Riesgo'!$F$14+LEFT(P183,1)*'Criterios de Riesgo'!$F$15),2),Calif_Control,2,1))","v":""},{"$f":"IF(COUNTA(I183:P183)<8,\"\",(ROUND((LEFT(I183,1)*'Criterios de Riesgo'!$F$8+LEFT(J183,1)*'Criterios de Riesgo'!$F$9+LEFT(K183,1)*'Criterios de Riesgo'!$F$10+LEFT(L183,1)*'Criterios de Riesgo'!$F$11+LEFT(M183,1)*'Criterios de Riesgo'!$F$12+LEFT(N183,1)*'Criterios de Riesgo'!$F$13+LEFT(O183,1)*'Criterios de Riesgo'!$F$14+LEFT(P183,1)*'Criterios de Riesgo'!$F$15),2))/5)","v":""},null,null,null,null,{"$f":"IF(COUNTA(S183:V183)<4,\"\",IF(V183=\"No\",\"No se usa\",VLOOKUP(ROUND((LEFT(S183,1)*'Criterios de Riesgo'!$C$13+LEFT(T183,1)*'Criterios de Riesgo'!$C$14+LEFT(U183,1)*'Criterios de Riesgo'!$C$15),2),Calif_Covertura,2,1)))","v":""},{"$f":"IF(COUNTA(S183:V183)<4,\"\",IF(V183=\"No\",0,(ROUND((LEFT(S183,1)*'Criterios de Riesgo'!$C$13+LEFT(T183,1)*'Criterios de Riesgo'!$C$14+LEFT(U183,1)*'Criterios de Riesgo'!$C$15),2))/5))","v":""},""]
[null,null,null,null,null,null,null,null,null,null,null,null,null,null,null,null,{"$f":"IF(COUNTA(I184:P184)<8,\"\",VLOOKUP(ROUND((LEFT(I184,1)*'Criterios de Riesgo'!$F$8+LEFT(J184,1)*'Criterios de Riesgo'!$F$9+LEFT(K184,1)*'Criterios de Riesgo'!$F$10+LEFT(L184,1)*'Criterios de Riesgo'!$F$11+LEFT(M184,1)*'Criterios de Riesgo'!$F$12+LEFT(N184,1)*'Criterios de Riesgo'!$F$13+LEFT(O184,1)*'Criterios de Riesgo'!$F$14+LEFT(P184,1)*'Criterios de Riesgo'!$F$15),2),Calif_Control,2,1))","v":""},{"$f":"IF(COUNTA(I184:P184)<8,\"\",(ROUND((LEFT(I184,1)*'Criterios de Riesgo'!$F$8+LEFT(J184,1)*'Criterios de Riesgo'!$F$9+LEFT(K184,1)*'Criterios de Riesgo'!$F$10+LEFT(L184,1)*'Criterios de Riesgo'!$F$11+LEFT(M184,1)*'Criterios de Riesgo'!$F$12+LEFT(N184,1)*'Criterios de Riesgo'!$F$13+LEFT(O184,1)*'Criterios de Riesgo'!$F$14+LEFT(P184,1)*'Criterios de Riesgo'!$F$15),2))/5)","v":""},null,null,null,null,{"$f":"IF(COUNTA(S184:V184)<4,\"\",IF(V184=\"No\",\"No se usa\",VLOOKUP(ROUND((LEFT(S184,1)*'Criterios de Riesgo'!$C$13+LEFT(T184,1)*'Criterios de Riesgo'!$C$14+LEFT(U184,1)*'Criterios de Riesgo'!$C$15),2),Calif_Covertura,2,1)))","v":""},{"$f":"IF(COUNTA(S184:V184)<4,\"\",IF(V184=\"No\",0,(ROUND((LEFT(S184,1)*'Criterios de Riesgo'!$C$13+LEFT(T184,1)*'Criterios de Riesgo'!$C$14+LEFT(U184,1)*'Criterios de Riesgo'!$C$15),2))/5))","v":""},""]
["R",null,null,null,null,null,null,null,null,null,null,null,null,null,null,null,{"$f":"IF(COUNTA(I185:P185)<8,\"\",VLOOKUP(ROUND((LEFT(I185,1)*'Criterios de Riesgo'!$F$8+LEFT(J185,1)*'Criterios de Riesgo'!$F$9+LEFT(K185,1)*'Criterios de Riesgo'!$F$10+LEFT(L185,1)*'Criterios de Riesgo'!$F$11+LEFT(M185,1)*'Criterios de Riesgo'!$F$12+LEFT(N185,1)*'Criterios de Riesgo'!$F$13+LEFT(O185,1)*'Criterios de Riesgo'!$F$14+LEFT(P185,1)*'Criterios de Riesgo'!$F$15),2),Calif_Control,2,1))","v":""},{"$f":"IF(COUNTA(I185:P185)<8,\"\",(ROUND((LEFT(I185,1)*'Criterios de Riesgo'!$F$8+LEFT(J185,1)*'Criterios de Riesgo'!$F$9+LEFT(K185,1)*'Criterios de Riesgo'!$F$10+LEFT(L185,1)*'Criterios de Riesgo'!$F$11+LEFT(M185,1)*'Criterios de Riesgo'!$F$12+LEFT(N185,1)*'Criterios de Riesgo'!$F$13+LEFT(O185,1)*'Criterios de Riesgo'!$F$14+LEFT(P185,1)*'Criterios de Riesgo'!$F$15),2))/5)","v":""},null,null,null,null,{"$f":"IF(COUNTA(S185:V185)<4,\"\",IF(V185=\"No\",\"No se usa\",VLOOKUP(ROUND((LEFT(S185,1)*'Criterios de Riesgo'!$C$13+LEFT(T185,1)*'Criterios de Riesgo'!$C$14+LEFT(U185,1)*'Criterios de Riesgo'!$C$15),2),Calif_Covertura,2,1)))","v":""},{"$f":"IF(COUNTA(S185:V185)<4,\"\",IF(V185=\"No\",0,(ROUND((LEFT(S185,1)*'Criterios de Riesgo'!$C$13+LEFT(T185,1)*'Criterios de Riesgo'!$C$14+LEFT(U185,1)*'Criterios de Riesgo'!$C$15),2))/5))","v":""},"",null,{"$f":"IF(ISERROR((SUMIF(Z185:Z194,\"=impacto\",Y185:Y194)+SUMIF(Z185:Z194,\"=Ambos\",Y185:Y194))/(COUNTIF(Z185:Z194,\"Impacto\")+COUNTIF(Z185:Z194,\"Ambos\"))),\"\",(SUMIF(Z185:Z194,\"=impacto\",Y185:Y194)+SUMIF(Z185:Z194,\"=Ambos\",Y185:Y194))/(COUNTIF(Z185:Z194,\"Impacto\")+COUNTIF(Z185:Z194,\"Ambos\")))","v":""},{"$f":"IF(ISERROR((SUMIF(Z185:Z194,\"=Probabilidad\",Y185:Y194)+SUMIF(Z185:Z194,\"=Ambos\",Y185:Y194))/(COUNTIF(Z185:Z194,\"Probabilidad\")+COUNTIF(Z185:Z194,\"Ambos\"))),\"\",(SUMIF(Z185:Z194,\"=Probabilidad\",Y185:Y194)+SUMIF(Z185:Z194,\"=Ambos\",Y185:Y194))/(COUNTIF(Z185:Z194,\"Probabilidad\")+COUNTIF(Z185:Z194,\"Ambos\")))","v":""},{"$f":"IF(ISERROR(ROUND(IF(AB185=\"\",AA185,IF(AA185=\"\",AB185,IF(AND(AB185=\"\",AA185=\"\"),\"\",AB185*AA185)))*100,0)/100),\"\",ROUND(IF(AB185=\"\",AA185,IF(AA185=\"\",AB185,IF(AND(AB185=\"\",AA185=\"\"),\"\",AB185*AA185)))*100,0)/100)","v":""},{"$f":"IF(AC185=\"\",\"\",VLOOKUP(AC185*5,Calif_Control,2,1))","v":""}]
[null,null,null,null,null,null,null,null,null,null,null,null,null,null,null,null,{"$f":"IF(COUNTA(I186:P186)<8,\"\",VLOOKUP(ROUND((LEFT(I186,1)*'Criterios de Riesgo'!$F$8+LEFT(J186,1)*'Criterios de Riesgo'!$F$9+LEFT(K186,1)*'Criterios de Riesgo'!$F$10+LEFT(L186,1)*'Criterios de Riesgo'!$F$11+LEFT(M186,1)*'Criterios de Riesgo'!$F$12+LEFT(N186,1)*'Criterios de Riesgo'!$F$13+LEFT(O186,1)*'Criterios de Riesgo'!$F$14+LEFT(P186,1)*'Criterios de Riesgo'!$F$15),2),Calif_Control,2,1))","v":""},{"$f":"IF(COUNTA(I186:P186)<8,\"\",(ROUND((LEFT(I186,1)*'Criterios de Riesgo'!$F$8+LEFT(J186,1)*'Criterios de Riesgo'!$F$9+LEFT(K186,1)*'Criterios de Riesgo'!$F$10+LEFT(L186,1)*'Criterios de Riesgo'!$F$11+LEFT(M186,1)*'Criterios de Riesgo'!$F$12+LEFT(N186,1)*'Criterios de Riesgo'!$F$13+LEFT(O186,1)*'Criterios de Riesgo'!$F$14+LEFT(P186,1)*'Criterios de Riesgo'!$F$15),2))/5)","v":""},null,null,null,null,{"$f":"IF(COUNTA(S186:V186)<4,\"\",IF(V186=\"No\",\"No se usa\",VLOOKUP(ROUND((LEFT(S186,1)*'Criterios de Riesgo'!$C$13+LEFT(T186,1)*'Criterios de Riesgo'!$C$14+LEFT(U186,1)*'Criterios de Riesgo'!$C$15),2),Calif_Covertura,2,1)))","v":""},{"$f":"IF(COUNTA(S186:V186)<4,\"\",IF(V186=\"No\",0,(ROUND((LEFT(S186,1)*'Criterios de Riesgo'!$C$13+LEFT(T186,1)*'Criterios de Riesgo'!$C$14+LEFT(U186,1)*'Criterios de Riesgo'!$C$15),2))/5))","v":""},""]
[null,null,null,null,null,null,null,null,null,null,null,null,null,null,null,null,{"$f":"IF(COUNTA(I187:P187)<8,\"\",VLOOKUP(ROUND((LEFT(I187,1)*'Criterios de Riesgo'!$F$8+LEFT(J187,1)*'Criterios de Riesgo'!$F$9+LEFT(K187,1)*'Criterios de Riesgo'!$F$10+LEFT(L187,1)*'Criterios de Riesgo'!$F$11+LEFT(M187,1)*'Criterios de Riesgo'!$F$12+LEFT(N187,1)*'Criterios de Riesgo'!$F$13+LEFT(O187,1)*'Criterios de Riesgo'!$F$14+LEFT(P187,1)*'Criterios de Riesgo'!$F$15),2),Calif_Control,2,1))","v":""},{"$f":"IF(COUNTA(I187:P187)<8,\"\",(ROUND((LEFT(I187,1)*'Criterios de Riesgo'!$F$8+LEFT(J187,1)*'Criterios de Riesgo'!$F$9+LEFT(K187,1)*'Criterios de Riesgo'!$F$10+LEFT(L187,1)*'Criterios de Riesgo'!$F$11+LEFT(M187,1)*'Criterios de Riesgo'!$F$12+LEFT(N187,1)*'Criterios de Riesgo'!$F$13+LEFT(O187,1)*'Criterios de Riesgo'!$F$14+LEFT(P187,1)*'Criterios de Riesgo'!$F$15),2))/5)","v":""},null,null,null,null,{"$f":"IF(COUNTA(S187:V187)<4,\"\",IF(V187=\"No\",\"No se usa\",VLOOKUP(ROUND((LEFT(S187,1)*'Criterios de Riesgo'!$C$13+LEFT(T187,1)*'Criterios de Riesgo'!$C$14+LEFT(U187,1)*'Criterios de Riesgo'!$C$15),2),Calif_Covertura,2,1)))","v":""},{"$f":"IF(COUNTA(S187:V187)<4,\"\",IF(V187=\"No\",0,(ROUND((LEFT(S187,1)*'Criterios de Riesgo'!$C$13+LEFT(T187,1)*'Criterios de Riesgo'!$C$14+LEFT(U187,1)*'Criterios de Riesgo'!$C$15),2))/5))","v":""},""]
[null,null,null,null,null,null,null,null,null,null,null,null,null,null,null,null,{"$f":"IF(COUNTA(I188:P188)<8,\"\",VLOOKUP(ROUND((LEFT(I188,1)*'Criterios de Riesgo'!$F$8+LEFT(J188,1)*'Criterios de Riesgo'!$F$9+LEFT(K188,1)*'Criterios de Riesgo'!$F$10+LEFT(L188,1)*'Criterios de Riesgo'!$F$11+LEFT(M188,1)*'Criterios de Riesgo'!$F$12+LEFT(N188,1)*'Criterios de Riesgo'!$F$13+LEFT(O188,1)*'Criterios de Riesgo'!$F$14+LEFT(P188,1)*'Criterios de Riesgo'!$F$15),2),Calif_Control,2,1))","v":""},{"$f":"IF(COUNTA(I188:P188)<8,\"\",(ROUND((LEFT(I188,1)*'Criterios de Riesgo'!$F$8+LEFT(J188,1)*'Criterios de Riesgo'!$F$9+LEFT(K188,1)*'Criterios de Riesgo'!$F$10+LEFT(L188,1)*'Criterios de Riesgo'!$F$11+LEFT(M188,1)*'Criterios de Riesgo'!$F$12+LEFT(N188,1)*'Criterios de Riesgo'!$F$13+LEFT(O188,1)*'Criterios de Riesgo'!$F$14+LEFT(P188,1)*'Criterios de Riesgo'!$F$15),2))/5)","v":""},null,null,null,null,{"$f":"IF(COUNTA(S188:V188)<4,\"\",IF(V188=\"No\",\"No se usa\",VLOOKUP(ROUND((LEFT(S188,1)*'Criterios de Riesgo'!$C$13+LEFT(T188,1)*'Criterios de Riesgo'!$C$14+LEFT(U188,1)*'Criterios de Riesgo'!$C$15),2),Calif_Covertura,2,1)))","v":""},{"$f":"IF(COUNTA(S188:V188)<4,\"\",IF(V188=\"No\",0,(ROUND((LEFT(S188,1)*'Criterios de Riesgo'!$C$13+LEFT(T188,1)*'Criterios de Riesgo'!$C$14+LEFT(U188,1)*'Criterios de Riesgo'!$C$15),2))/5))","v":""},""]
[null,null,null,null,null,null,null,null,null,null,null,null,null,null,null,null,{"$f":"IF(COUNTA(I189:P189)<8,\"\",VLOOKUP(ROUND((LEFT(I189,1)*'Criterios de Riesgo'!$F$8+LEFT(J189,1)*'Criterios de Riesgo'!$F$9+LEFT(K189,1)*'Criterios de Riesgo'!$F$10+LEFT(L189,1)*'Criterios de Riesgo'!$F$11+LEFT(M189,1)*'Criterios de Riesgo'!$F$12+LEFT(N189,1)*'Criterios de Riesgo'!$F$13+LEFT(O189,1)*'Criterios de Riesgo'!$F$14+LEFT(P189,1)*'Criterios de Riesgo'!$F$15),2),Calif_Control,2,1))","v":""},{"$f":"IF(COUNTA(I189:P189)<8,\"\",(ROUND((LEFT(I189,1)*'Criterios de Riesgo'!$F$8+LEFT(J189,1)*'Criterios de Riesgo'!$F$9+LEFT(K189,1)*'Criterios de Riesgo'!$F$10+LEFT(L189,1)*'Criterios de Riesgo'!$F$11+LEFT(M189,1)*'Criterios de Riesgo'!$F$12+LEFT(N189,1)*'Criterios de Riesgo'!$F$13+LEFT(O189,1)*'Criterios de Riesgo'!$F$14+LEFT(P189,1)*'Criterios de Riesgo'!$F$15),2))/5)","v":""},null,null,null,null,{"$f":"IF(COUNTA(S189:V189)<4,\"\",IF(V189=\"No\",\"No se usa\",VLOOKUP(ROUND((LEFT(S189,1)*'Criterios de Riesgo'!$C$13+LEFT(T189,1)*'Criterios de Riesgo'!$C$14+LEFT(U189,1)*'Criterios de Riesgo'!$C$15),2),Calif_Covertura,2,1)))","v":""},{"$f":"IF(COUNTA(S189:V189)<4,\"\",IF(V189=\"No\",0,(ROUND((LEFT(S189,1)*'Criterios de Riesgo'!$C$13+LEFT(T189,1)*'Criterios de Riesgo'!$C$14+LEFT(U189,1)*'Criterios de Riesgo'!$C$15),2))/5))","v":""},""]
[null,null,null,null,null,null,null,null,null,null,null,null,null,null,null,null,{"$f":"IF(COUNTA(I190:P190)<8,\"\",VLOOKUP(ROUND((LEFT(I190,1)*'Criterios de Riesgo'!$F$8+LEFT(J190,1)*'Criterios de Riesgo'!$F$9+LEFT(K190,1)*'Criterios de Riesgo'!$F$10+LEFT(L190,1)*'Criterios de Riesgo'!$F$11+LEFT(M190,1)*'Criterios de Riesgo'!$F$12+LEFT(N190,1)*'Criterios de Riesgo'!$F$13+LEFT(O190,1)*'Criterios de Riesgo'!$F$14+LEFT(P190,1)*'Criterios de Riesgo'!$F$15),2),Calif_Control,2,1))","v":""},{"$f":"IF(COUNTA(I190:P190)<8,\"\",(ROUND((LEFT(I190,1)*'Criterios de Riesgo'!$F$8+LEFT(J190,1)*'Criterios de Riesgo'!$F$9+LEFT(K190,1)*'Criterios de Riesgo'!$F$10+LEFT(L190,1)*'Criterios de Riesgo'!$F$11+LEFT(M190,1)*'Criterios de Riesgo'!$F$12+LEFT(N190,1)*'Criterios de Riesgo'!$F$13+LEFT(O190,1)*'Criterios de Riesgo'!$F$14+LEFT(P190,1)*'Criterios de Riesgo'!$F$15),2))/5)","v":""},null,null,null,null,{"$f":"IF(COUNTA(S190:V190)<4,\"\",IF(V190=\"No\",\"No se usa\",VLOOKUP(ROUND((LEFT(S190,1)*'Criterios de Riesgo'!$C$13+LEFT(T190,1)*'Criterios de Riesgo'!$C$14+LEFT(U190,1)*'Criterios de Riesgo'!$C$15),2),Calif_Covertura,2,1)))","v":""},{"$f":"IF(COUNTA(S190:V190)<4,\"\",IF(V190=\"No\",0,(ROUND((LEFT(S190,1)*'Criterios de Riesgo'!$C$13+LEFT(T190,1)*'Criterios de Riesgo'!$C$14+LEFT(U190,1)*'Criterios de Riesgo'!$C$15),2))/5))","v":""},""]
[null,null,null,null,null,null,null,null,null,null,null,null,null,null,null,null,{"$f":"IF(COUNTA(I191:P191)<8,\"\",VLOOKUP(ROUND((LEFT(I191,1)*'Criterios de Riesgo'!$F$8+LEFT(J191,1)*'Criterios de Riesgo'!$F$9+LEFT(K191,1)*'Criterios de Riesgo'!$F$10+LEFT(L191,1)*'Criterios de Riesgo'!$F$11+LEFT(M191,1)*'Criterios de Riesgo'!$F$12+LEFT(N191,1)*'Criterios de Riesgo'!$F$13+LEFT(O191,1)*'Criterios de Riesgo'!$F$14+LEFT(P191,1)*'Criterios de Riesgo'!$F$15),2),Calif_Control,2,1))","v":""},{"$f":"IF(COUNTA(I191:P191)<8,\"\",(ROUND((LEFT(I191,1)*'Criterios de Riesgo'!$F$8+LEFT(J191,1)*'Criterios de Riesgo'!$F$9+LEFT(K191,1)*'Criterios de Riesgo'!$F$10+LEFT(L191,1)*'Criterios de Riesgo'!$F$11+LEFT(M191,1)*'Criterios de Riesgo'!$F$12+LEFT(N191,1)*'Criterios de Riesgo'!$F$13+LEFT(O191,1)*'Criterios de Riesgo'!$F$14+LEFT(P191,1)*'Criterios de Riesgo'!$F$15),2))/5)","v":""},null,null,null,null,{"$f":"IF(COUNTA(S191:V191)<4,\"\",IF(V191=\"No\",\"No se usa\",VLOOKUP(ROUND((LEFT(S191,1)*'Criterios de Riesgo'!$C$13+LEFT(T191,1)*'Criterios de Riesgo'!$C$14+LEFT(U191,1)*'Criterios de Riesgo'!$C$15),2),Calif_Covertura,2,1)))","v":""},{"$f":"IF(COUNTA(S191:V191)<4,\"\",IF(V191=\"No\",0,(ROUND((LEFT(S191,1)*'Criterios de Riesgo'!$C$13+LEFT(T191,1)*'Criterios de Riesgo'!$C$14+LEFT(U191,1)*'Criterios de Riesgo'!$C$15),2))/5))","v":""},""]
[null,null,null,null,null,null,null,null,null,null,null,null,null,null,null,null,{"$f":"IF(COUNTA(I192:P192)<8,\"\",VLOOKUP(ROUND((LEFT(I192,1)*'Criterios de Riesgo'!$F$8+LEFT(J192,1)*'Criterios de Riesgo'!$F$9+LEFT(K192,1)*'Criterios de Riesgo'!$F$10+LEFT(L192,1)*'Criterios de Riesgo'!$F$11+LEFT(M192,1)*'Criterios de Riesgo'!$F$12+LEFT(N192,1)*'Criterios de Riesgo'!$F$13+LEFT(O192,1)*'Criterios de Riesgo'!$F$14+LEFT(P192,1)*'Criterios de Riesgo'!$F$15),2),Calif_Control,2,1))","v":""},{"$f":"IF(COUNTA(I192:P192)<8,\"\",(ROUND((LEFT(I192,1)*'Criterios de Riesgo'!$F$8+LEFT(J192,1)*'Criterios de Riesgo'!$F$9+LEFT(K192,1)*'Criterios de Riesgo'!$F$10+LEFT(L192,1)*'Criterios de Riesgo'!$F$11+LEFT(M192,1)*'Criterios de Riesgo'!$F$12+LEFT(N192,1)*'Criterios de Riesgo'!$F$13+LEFT(O192,1)*'Criterios de Riesgo'!$F$14+LEFT(P192,1)*'Criterios de Riesgo'!$F$15),2))/5)","v":""},null,null,null,null,{"$f":"IF(COUNTA(S192:V192)<4,\"\",IF(V192=\"No\",\"No se usa\",VLOOKUP(ROUND((LEFT(S192,1)*'Criterios de Riesgo'!$C$13+LEFT(T192,1)*'Criterios de Riesgo'!$C$14+LEFT(U192,1)*'Criterios de Riesgo'!$C$15),2),Calif_Covertura,2,1)))","v":""},{"$f":"IF(COUNTA(S192:V192)<4,\"\",IF(V192=\"No\",0,(ROUND((LEFT(S192,1)*'Criterios de Riesgo'!$C$13+LEFT(T192,1)*'Criterios de Riesgo'!$C$14+LEFT(U192,1)*'Criterios de Riesgo'!$C$15),2))/5))","v":""},""]
[null,null,null,null,null,null,null,null,null,null,null,null,null,null,null,null,{"$f":"IF(COUNTA(I193:P193)<8,\"\",VLOOKUP(ROUND((LEFT(I193,1)*'Criterios de Riesgo'!$F$8+LEFT(J193,1)*'Criterios de Riesgo'!$F$9+LEFT(K193,1)*'Criterios de Riesgo'!$F$10+LEFT(L193,1)*'Criterios de Riesgo'!$F$11+LEFT(M193,1)*'Criterios de Riesgo'!$F$12+LEFT(N193,1)*'Criterios de Riesgo'!$F$13+LEFT(O193,1)*'Criterios de Riesgo'!$F$14+LEFT(P193,1)*'Criterios de Riesgo'!$F$15),2),Calif_Control,2,1))","v":""},{"$f":"IF(COUNTA(I193:P193)<8,\"\",(ROUND((LEFT(I193,1)*'Criterios de Riesgo'!$F$8+LEFT(J193,1)*'Criterios de Riesgo'!$F$9+LEFT(K193,1)*'Criterios de Riesgo'!$F$10+LEFT(L193,1)*'Criterios de Riesgo'!$F$11+LEFT(M193,1)*'Criterios de Riesgo'!$F$12+LEFT(N193,1)*'Criterios de Riesgo'!$F$13+LEFT(O193,1)*'Criterios de Riesgo'!$F$14+LEFT(P193,1)*'Criterios de Riesgo'!$F$15),2))/5)","v":""},null,null,null,null,{"$f":"IF(COUNTA(S193:V193)<4,\"\",IF(V193=\"No\",\"No se usa\",VLOOKUP(ROUND((LEFT(S193,1)*'Criterios de Riesgo'!$C$13+LEFT(T193,1)*'Criterios de Riesgo'!$C$14+LEFT(U193,1)*'Criterios de Riesgo'!$C$15),2),Calif_Covertura,2,1)))","v":""},{"$f":"IF(COUNTA(S193:V193)<4,\"\",IF(V193=\"No\",0,(ROUND((LEFT(S193,1)*'Criterios de Riesgo'!$C$13+LEFT(T193,1)*'Criterios de Riesgo'!$C$14+LEFT(U193,1)*'Criterios de Riesgo'!$C$15),2))/5))","v":""},""]
[null,null,null,null,null,null,null,null,null,null,null,null,null,null,null,null,{"$f":"IF(COUNTA(I194:P194)<8,\"\",VLOOKUP(ROUND((LEFT(I194,1)*'Criterios de Riesgo'!$F$8+LEFT(J194,1)*'Criterios de Riesgo'!$F$9+LEFT(K194,1)*'Criterios de Riesgo'!$F$10+LEFT(L194,1)*'Criterios de Riesgo'!$F$11+LEFT(M194,1)*'Criterios de Riesgo'!$F$12+LEFT(N194,1)*'Criterios de Riesgo'!$F$13+LEFT(O194,1)*'Criterios de Riesgo'!$F$14+LEFT(P194,1)*'Criterios de Riesgo'!$F$15),2),Calif_Control,2,1))","v":""},{"$f":"IF(COUNTA(I194:P194)<8,\"\",(ROUND((LEFT(I194,1)*'Criterios de Riesgo'!$F$8+LEFT(J194,1)*'Criterios de Riesgo'!$F$9+LEFT(K194,1)*'Criterios de Riesgo'!$F$10+LEFT(L194,1)*'Criterios de Riesgo'!$F$11+LEFT(M194,1)*'Criterios de Riesgo'!$F$12+LEFT(N194,1)*'Criterios de Riesgo'!$F$13+LEFT(O194,1)*'Criterios de Riesgo'!$F$14+LEFT(P194,1)*'Criterios de Riesgo'!$F$15),2))/5)","v":""},null,null,null,null,{"$f":"IF(COUNTA(S194:V194)<4,\"\",IF(V194=\"No\",\"No se usa\",VLOOKUP(ROUND((LEFT(S194,1)*'Criterios de Riesgo'!$C$13+LEFT(T194,1)*'Criterios de Riesgo'!$C$14+LEFT(U194,1)*'Criterios de Riesgo'!$C$15),2),Calif_Covertura,2,1)))","v":""},{"$f":"IF(COUNTA(S194:V194)<4,\"\",IF(V194=\"No\",0,(ROUND((LEFT(S194,1)*'Criterios de Riesgo'!$C$13+LEFT(T194,1)*'Criterios de Riesgo'!$C$14+LEFT(U194,1)*'Criterios de Riesgo'!$C$15),2))/5))","v":""},""]
["R",null,null,null,null,null,null,null,null,null,null,null,null,null,null,null,{"$f":"IF(COUNTA(I195:P195)<8,\"\",VLOOKUP(ROUND((LEFT(I195,1)*'Criterios de Riesgo'!$F$8+LEFT(J195,1)*'Criterios de Riesgo'!$F$9+LEFT(K195,1)*'Criterios de Riesgo'!$F$10+LEFT(L195,1)*'Criterios de Riesgo'!$F$11+LEFT(M195,1)*'Criterios de Riesgo'!$F$12+LEFT(N195,1)*'Criterios de Riesgo'!$F$13+LEFT(O195,1)*'Criterios de Riesgo'!$F$14+LEFT(P195,1)*'Criterios de Riesgo'!$F$15),2),Calif_Control,2,1))","v":""},{"$f":"IF(COUNTA(I195:P195)<8,\"\",(ROUND((LEFT(I195,1)*'Criterios de Riesgo'!$F$8+LEFT(J195,1)*'Criterios de Riesgo'!$F$9+LEFT(K195,1)*'Criterios de Riesgo'!$F$10+LEFT(L195,1)*'Criterios de Riesgo'!$F$11+LEFT(M195,1)*'Criterios de Riesgo'!$F$12+LEFT(N195,1)*'Criterios de Riesgo'!$F$13+LEFT(O195,1)*'Criterios de Riesgo'!$F$14+LEFT(P195,1)*'Criterios de Riesgo'!$F$15),2))/5)","v":""},null,null,null,null,{"$f":"IF(COUNTA(S195:V195)<4,\"\",IF(V195=\"No\",\"No se usa\",VLOOKUP(ROUND((LEFT(S195,1)*'Criterios de Riesgo'!$C$13+LEFT(T195,1)*'Criterios de Riesgo'!$C$14+LEFT(U195,1)*'Criterios de Riesgo'!$C$15),2),Calif_Covertura,2,1)))","v":""},{"$f":"IF(COUNTA(S195:V195)<4,\"\",IF(V195=\"No\",0,(ROUND((LEFT(S195,1)*'Criterios de Riesgo'!$C$13+LEFT(T195,1)*'Criterios de Riesgo'!$C$14+LEFT(U195,1)*'Criterios de Riesgo'!$C$15),2))/5))","v":""},"",null,{"$f":"IF(ISERROR((SUMIF(Z195:Z204,\"=impacto\",Y195:Y204)+SUMIF(Z195:Z204,\"=Ambos\",Y195:Y204))/(COUNTIF(Z195:Z204,\"Impacto\")+COUNTIF(Z195:Z204,\"Ambos\"))),\"\",(SUMIF(Z195:Z204,\"=impacto\",Y195:Y204)+SUMIF(Z195:Z204,\"=Ambos\",Y195:Y204))/(COUNTIF(Z195:Z204,\"Impacto\")+COUNTIF(Z195:Z204,\"Ambos\")))","v":""},{"$f":"IF(ISERROR((SUMIF(Z195:Z204,\"=Probabilidad\",Y195:Y204)+SUMIF(Z195:Z204,\"=Ambos\",Y195:Y204))/(COUNTIF(Z195:Z204,\"Probabilidad\")+COUNTIF(Z195:Z204,\"Ambos\"))),\"\",(SUMIF(Z195:Z204,\"=Probabilidad\",Y195:Y204)+SUMIF(Z195:Z204,\"=Ambos\",Y195:Y204))/(COUNTIF(Z195:Z204,\"Probabilidad\")+COUNTIF(Z195:Z204,\"Ambos\")))","v":""},{"$f":"IF(ISERROR(ROUND(IF(AB195=\"\",AA195,IF(AA195=\"\",AB195,IF(AND(AB195=\"\",AA195=\"\"),\"\",AB195*AA195)))*100,0)/100),\"\",ROUND(IF(AB195=\"\",AA195,IF(AA195=\"\",AB195,IF(AND(AB195=\"\",AA195=\"\"),\"\",AB195*AA195)))*100,0)/100)","v":""},{"$f":"IF(AC195=\"\",\"\",VLOOKUP(AC195*5,Calif_Control,2,1))","v":""}]
[null,null,null,null,null,null,null,null,null,null,null,null,null,null,null,null,{"$f":"IF(COUNTA(I196:P196)<8,\"\",VLOOKUP(ROUND((LEFT(I196,1)*'Criterios de Riesgo'!$F$8+LEFT(J196,1)*'Criterios de Riesgo'!$F$9+LEFT(K196,1)*'Criterios de Riesgo'!$F$10+LEFT(L196,1)*'Criterios de Riesgo'!$F$11+LEFT(M196,1)*'Criterios de Riesgo'!$F$12+LEFT(N196,1)*'Criterios de Riesgo'!$F$13+LEFT(O196,1)*'Criterios de Riesgo'!$F$14+LEFT(P196,1)*'Criterios de Riesgo'!$F$15),2),Calif_Control,2,1))","v":""},{"$f":"IF(COUNTA(I196:P196)<8,\"\",(ROUND((LEFT(I196,1)*'Criterios de Riesgo'!$F$8+LEFT(J196,1)*'Criterios de Riesgo'!$F$9+LEFT(K196,1)*'Criterios de Riesgo'!$F$10+LEFT(L196,1)*'Criterios de Riesgo'!$F$11+LEFT(M196,1)*'Criterios de Riesgo'!$F$12+LEFT(N196,1)*'Criterios de Riesgo'!$F$13+LEFT(O196,1)*'Criterios de Riesgo'!$F$14+LEFT(P196,1)*'Criterios de Riesgo'!$F$15),2))/5)","v":""},null,null,null,null,{"$f":"IF(COUNTA(S196:V196)<4,\"\",IF(V196=\"No\",\"No se usa\",VLOOKUP(ROUND((LEFT(S196,1)*'Criterios de Riesgo'!$C$13+LEFT(T196,1)*'Criterios de Riesgo'!$C$14+LEFT(U196,1)*'Criterios de Riesgo'!$C$15),2),Calif_Covertura,2,1)))","v":""},{"$f":"IF(COUNTA(S196:V196)<4,\"\",IF(V196=\"No\",0,(ROUND((LEFT(S196,1)*'Criterios de Riesgo'!$C$13+LEFT(T196,1)*'Criterios de Riesgo'!$C$14+LEFT(U196,1)*'Criterios de Riesgo'!$C$15),2))/5))","v":""},""]
[null,null,null,null,null,null,null,null,null,null,null,null,null,null,null,null,{"$f":"IF(COUNTA(I197:P197)<8,\"\",VLOOKUP(ROUND((LEFT(I197,1)*'Criterios de Riesgo'!$F$8+LEFT(J197,1)*'Criterios de Riesgo'!$F$9+LEFT(K197,1)*'Criterios de Riesgo'!$F$10+LEFT(L197,1)*'Criterios de Riesgo'!$F$11+LEFT(M197,1)*'Criterios de Riesgo'!$F$12+LEFT(N197,1)*'Criterios de Riesgo'!$F$13+LEFT(O197,1)*'Criterios de Riesgo'!$F$14+LEFT(P197,1)*'Criterios de Riesgo'!$F$15),2),Calif_Control,2,1))","v":""},{"$f":"IF(COUNTA(I197:P197)<8,\"\",(ROUND((LEFT(I197,1)*'Criterios de Riesgo'!$F$8+LEFT(J197,1)*'Criterios de Riesgo'!$F$9+LEFT(K197,1)*'Criterios de Riesgo'!$F$10+LEFT(L197,1)*'Criterios de Riesgo'!$F$11+LEFT(M197,1)*'Criterios de Riesgo'!$F$12+LEFT(N197,1)*'Criterios de Riesgo'!$F$13+LEFT(O197,1)*'Criterios de Riesgo'!$F$14+LEFT(P197,1)*'Criterios de Riesgo'!$F$15),2))/5)","v":""},null,null,null,null,{"$f":"IF(COUNTA(S197:V197)<4,\"\",IF(V197=\"No\",\"No se usa\",VLOOKUP(ROUND((LEFT(S197,1)*'Criterios de Riesgo'!$C$13+LEFT(T197,1)*'Criterios de Riesgo'!$C$14+LEFT(U197,1)*'Criterios de Riesgo'!$C$15),2),Calif_Covertura,2,1)))","v":""},{"$f":"IF(COUNTA(S197:V197)<4,\"\",IF(V197=\"No\",0,(ROUND((LEFT(S197,1)*'Criterios de Riesgo'!$C$13+LEFT(T197,1)*'Criterios de Riesgo'!$C$14+LEFT(U197,1)*'Criterios de Riesgo'!$C$15),2))/5))","v":""},""]
[null,null,null,null,null,null,null,null,null,null,null,null,null,null,null,null,{"$f":"IF(COUNTA(I198:P198)<8,\"\",VLOOKUP(ROUND((LEFT(I198,1)*'Criterios de Riesgo'!$F$8+LEFT(J198,1)*'Criterios de Riesgo'!$F$9+LEFT(K198,1)*'Criterios de Riesgo'!$F$10+LEFT(L198,1)*'Criterios de Riesgo'!$F$11+LEFT(M198,1)*'Criterios de Riesgo'!$F$12+LEFT(N198,1)*'Criterios de Riesgo'!$F$13+LEFT(O198,1)*'Criterios de Riesgo'!$F$14+LEFT(P198,1)*'Criterios de Riesgo'!$F$15),2),Calif_Control,2,1))","v":""},{"$f":"IF(COUNTA(I198:P198)<8,\"\",(ROUND((LEFT(I198,1)*'Criterios de Riesgo'!$F$8+LEFT(J198,1)*'Criterios de Riesgo'!$F$9+LEFT(K198,1)*'Criterios de Riesgo'!$F$10+LEFT(L198,1)*'Criterios de Riesgo'!$F$11+LEFT(M198,1)*'Criterios de Riesgo'!$F$12+LEFT(N198,1)*'Criterios de Riesgo'!$F$13+LEFT(O198,1)*'Criterios de Riesgo'!$F$14+LEFT(P198,1)*'Criterios de Riesgo'!$F$15),2))/5)","v":""},null,null,null,null,{"$f":"IF(COUNTA(S198:V198)<4,\"\",IF(V198=\"No\",\"No se usa\",VLOOKUP(ROUND((LEFT(S198,1)*'Criterios de Riesgo'!$C$13+LEFT(T198,1)*'Criterios de Riesgo'!$C$14+LEFT(U198,1)*'Criterios de Riesgo'!$C$15),2),Calif_Covertura,2,1)))","v":""},{"$f":"IF(COUNTA(S198:V198)<4,\"\",IF(V198=\"No\",0,(ROUND((LEFT(S198,1)*'Criterios de Riesgo'!$C$13+LEFT(T198,1)*'Criterios de Riesgo'!$C$14+LEFT(U198,1)*'Criterios de Riesgo'!$C$15),2))/5))","v":""},{"$f":"IF(ISERROR(R198*X198),\"\",R198*X198)","v":""}]
[null,null,null,null,null,null,null,null,null,null,null,null,null,null,null,null,{"$f":"IF(COUNTA(I199:P199)<8,\"\",VLOOKUP(ROUND((LEFT(I199,1)*'Criterios de Riesgo'!$F$8+LEFT(J199,1)*'Criterios de Riesgo'!$F$9+LEFT(K199,1)*'Criterios de Riesgo'!$F$10+LEFT(L199,1)*'Criterios de Riesgo'!$F$11+LEFT(M199,1)*'Criterios de Riesgo'!$F$12+LEFT(N199,1)*'Criterios de Riesgo'!$F$13+LEFT(O199,1)*'Criterios de Riesgo'!$F$14+LEFT(P199,1)*'Criterios de Riesgo'!$F$15),2),Calif_Control,2,1))","v":""},{"$f":"IF(COUNTA(I199:P199)<8,\"\",(ROUND((LEFT(I199,1)*'Criterios de Riesgo'!$F$8+LEFT(J199,1)*'Criterios de Riesgo'!$F$9+LEFT(K199,1)*'Criterios de Riesgo'!$F$10+LEFT(L199,1)*'Criterios de Riesgo'!$F$11+LEFT(M199,1)*'Criterios de Riesgo'!$F$12+LEFT(N199,1)*'Criterios de Riesgo'!$F$13+LEFT(O199,1)*'Criterios de Riesgo'!$F$14+LEFT(P199,1)*'Criterios de Riesgo'!$F$15),2))/5)","v":""},null,null,null,null,{"$f":"IF(COUNTA(S199:V199)<4,\"\",IF(V199=\"No\",\"No se usa\",VLOOKUP(ROUND((LEFT(S199,1)*'Criterios de Riesgo'!$C$13+LEFT(T199,1)*'Criterios de Riesgo'!$C$14+LEFT(U199,1)*'Criterios de Riesgo'!$C$15),2),Calif_Covertura,2,1)))","v":""},{"$f":"IF(COUNTA(S199:V199)<4,\"\",IF(V199=\"No\",0,(ROUND((LEFT(S199,1)*'Criterios de Riesgo'!$C$13+LEFT(T199,1)*'Criterios de Riesgo'!$C$14+LEFT(U199,1)*'Criterios de Riesgo'!$C$15),2))/5))","v":""},""]
[null,null,null,null,null,null,null,null,null,null,null,null,null,null,null,null,{"$f":"IF(COUNTA(I200:P200)<8,\"\",VLOOKUP(ROUND((LEFT(I200,1)*'Criterios de Riesgo'!$F$8+LEFT(J200,1)*'Criterios de Riesgo'!$F$9+LEFT(K200,1)*'Criterios de Riesgo'!$F$10+LEFT(L200,1)*'Criterios de Riesgo'!$F$11+LEFT(M200,1)*'Criterios de Riesgo'!$F$12+LEFT(N200,1)*'Criterios de Riesgo'!$F$13+LEFT(O200,1)*'Criterios de Riesgo'!$F$14+LEFT(P200,1)*'Criterios de Riesgo'!$F$15),2),Calif_Control,2,1))","v":""},{"$f":"IF(COUNTA(I200:P200)<8,\"\",(ROUND((LEFT(I200,1)*'Criterios de Riesgo'!$F$8+LEFT(J200,1)*'Criterios de Riesgo'!$F$9+LEFT(K200,1)*'Criterios de Riesgo'!$F$10+LEFT(L200,1)*'Criterios de Riesgo'!$F$11+LEFT(M200,1)*'Criterios de Riesgo'!$F$12+LEFT(N200,1)*'Criterios de Riesgo'!$F$13+LEFT(O200,1)*'Criterios de Riesgo'!$F$14+LEFT(P200,1)*'Criterios de Riesgo'!$F$15),2))/5)","v":""},null,null,null,null,{"$f":"IF(COUNTA(S200:V200)<4,\"\",IF(V200=\"No\",\"No se usa\",VLOOKUP(ROUND((LEFT(S200,1)*'Criterios de Riesgo'!$C$13+LEFT(T200,1)*'Criterios de Riesgo'!$C$14+LEFT(U200,1)*'Criterios de Riesgo'!$C$15),2),Calif_Covertura,2,1)))","v":""},{"$f":"IF(COUNTA(S200:V200)<4,\"\",IF(V200=\"No\",0,(ROUND((LEFT(S200,1)*'Criterios de Riesgo'!$C$13+LEFT(T200,1)*'Criterios de Riesgo'!$C$14+LEFT(U200,1)*'Criterios de Riesgo'!$C$15),2))/5))","v":""},""]
[null,null,null,null,null,null,null,null,null,null,null,null,null,null,null,null,{"$f":"IF(COUNTA(I201:P201)<8,\"\",VLOOKUP(ROUND((LEFT(I201,1)*'Criterios de Riesgo'!$F$8+LEFT(J201,1)*'Criterios de Riesgo'!$F$9+LEFT(K201,1)*'Criterios de Riesgo'!$F$10+LEFT(L201,1)*'Criterios de Riesgo'!$F$11+LEFT(M201,1)*'Criterios de Riesgo'!$F$12+LEFT(N201,1)*'Criterios de Riesgo'!$F$13+LEFT(O201,1)*'Criterios de Riesgo'!$F$14+LEFT(P201,1)*'Criterios de Riesgo'!$F$15),2),Calif_Control,2,1))","v":""},{"$f":"IF(COUNTA(I201:P201)<8,\"\",(ROUND((LEFT(I201,1)*'Criterios de Riesgo'!$F$8+LEFT(J201,1)*'Criterios de Riesgo'!$F$9+LEFT(K201,1)*'Criterios de Riesgo'!$F$10+LEFT(L201,1)*'Criterios de Riesgo'!$F$11+LEFT(M201,1)*'Criterios de Riesgo'!$F$12+LEFT(N201,1)*'Criterios de Riesgo'!$F$13+LEFT(O201,1)*'Criterios de Riesgo'!$F$14+LEFT(P201,1)*'Criterios de Riesgo'!$F$15),2))/5)","v":""},null,null,null,null,{"$f":"IF(COUNTA(S201:V201)<4,\"\",IF(V201=\"No\",\"No se usa\",VLOOKUP(ROUND((LEFT(S201,1)*'Criterios de Riesgo'!$C$13+LEFT(T201,1)*'Criterios de Riesgo'!$C$14+LEFT(U201,1)*'Criterios de Riesgo'!$C$15),2),Calif_Covertura,2,1)))","v":""},{"$f":"IF(COUNTA(S201:V201)<4,\"\",IF(V201=\"No\",0,(ROUND((LEFT(S201,1)*'Criterios de Riesgo'!$C$13+LEFT(T201,1)*'Criterios de Riesgo'!$C$14+LEFT(U201,1)*'Criterios de Riesgo'!$C$15),2))/5))","v":""},""]
[null,null,null,null,null,null,null,null,null,null,null,null,null,null,null,null,{"$f":"IF(COUNTA(I202:P202)<8,\"\",VLOOKUP(ROUND((LEFT(I202,1)*'Criterios de Riesgo'!$F$8+LEFT(J202,1)*'Criterios de Riesgo'!$F$9+LEFT(K202,1)*'Criterios de Riesgo'!$F$10+LEFT(L202,1)*'Criterios de Riesgo'!$F$11+LEFT(M202,1)*'Criterios de Riesgo'!$F$12+LEFT(N202,1)*'Criterios de Riesgo'!$F$13+LEFT(O202,1)*'Criterios de Riesgo'!$F$14+LEFT(P202,1)*'Criterios de Riesgo'!$F$15),2),Calif_Control,2,1))","v":""},{"$f":"IF(COUNTA(I202:P202)<8,\"\",(ROUND((LEFT(I202,1)*'Criterios de Riesgo'!$F$8+LEFT(J202,1)*'Criterios de Riesgo'!$F$9+LEFT(K202,1)*'Criterios de Riesgo'!$F$10+LEFT(L202,1)*'Criterios de Riesgo'!$F$11+LEFT(M202,1)*'Criterios de Riesgo'!$F$12+LEFT(N202,1)*'Criterios de Riesgo'!$F$13+LEFT(O202,1)*'Criterios de Riesgo'!$F$14+LEFT(P202,1)*'Criterios de Riesgo'!$F$15),2))/5)","v":""},null,null,null,null,{"$f":"IF(COUNTA(S202:V202)<4,\"\",IF(V202=\"No\",\"No se usa\",VLOOKUP(ROUND((LEFT(S202,1)*'Criterios de Riesgo'!$C$13+LEFT(T202,1)*'Criterios de Riesgo'!$C$14+LEFT(U202,1)*'Criterios de Riesgo'!$C$15),2),Calif_Covertura,2,1)))","v":""},{"$f":"IF(COUNTA(S202:V202)<4,\"\",IF(V202=\"No\",0,(ROUND((LEFT(S202,1)*'Criterios de Riesgo'!$C$13+LEFT(T202,1)*'Criterios de Riesgo'!$C$14+LEFT(U202,1)*'Criterios de Riesgo'!$C$15),2))/5))","v":""},""]
[null,null,null,null,null,null,null,null,null,null,null,null,null,null,null,null,{"$f":"IF(COUNTA(I203:P203)<8,\"\",VLOOKUP(ROUND((LEFT(I203,1)*'Criterios de Riesgo'!$F$8+LEFT(J203,1)*'Criterios de Riesgo'!$F$9+LEFT(K203,1)*'Criterios de Riesgo'!$F$10+LEFT(L203,1)*'Criterios de Riesgo'!$F$11+LEFT(M203,1)*'Criterios de Riesgo'!$F$12+LEFT(N203,1)*'Criterios de Riesgo'!$F$13+LEFT(O203,1)*'Criterios de Riesgo'!$F$14+LEFT(P203,1)*'Criterios de Riesgo'!$F$15),2),Calif_Control,2,1))","v":""},{"$f":"IF(COUNTA(I203:P203)<8,\"\",(ROUND((LEFT(I203,1)*'Criterios de Riesgo'!$F$8+LEFT(J203,1)*'Criterios de Riesgo'!$F$9+LEFT(K203,1)*'Criterios de Riesgo'!$F$10+LEFT(L203,1)*'Criterios de Riesgo'!$F$11+LEFT(M203,1)*'Criterios de Riesgo'!$F$12+LEFT(N203,1)*'Criterios de Riesgo'!$F$13+LEFT(O203,1)*'Criterios de Riesgo'!$F$14+LEFT(P203,1)*'Criterios de Riesgo'!$F$15),2))/5)","v":""},null,null,null,null,{"$f":"IF(COUNTA(S203:V203)<4,\"\",IF(V203=\"No\",\"No se usa\",VLOOKUP(ROUND((LEFT(S203,1)*'Criterios de Riesgo'!$C$13+LEFT(T203,1)*'Criterios de Riesgo'!$C$14+LEFT(U203,1)*'Criterios de Riesgo'!$C$15),2),Calif_Covertura,2,1)))","v":""},{"$f":"IF(COUNTA(S203:V203)<4,\"\",IF(V203=\"No\",0,(ROUND((LEFT(S203,1)*'Criterios de Riesgo'!$C$13+LEFT(T203,1)*'Criterios de Riesgo'!$C$14+LEFT(U203,1)*'Criterios de Riesgo'!$C$15),2))/5))","v":""},""]
[null,null,null,null,null,null,null,null,null,null,null,null,null,null,null,null,{"$f":"IF(COUNTA(I204:P204)<8,\"\",VLOOKUP(ROUND((LEFT(I204,1)*'Criterios de Riesgo'!$F$8+LEFT(J204,1)*'Criterios de Riesgo'!$F$9+LEFT(K204,1)*'Criterios de Riesgo'!$F$10+LEFT(L204,1)*'Criterios de Riesgo'!$F$11+LEFT(M204,1)*'Criterios de Riesgo'!$F$12+LEFT(N204,1)*'Criterios de Riesgo'!$F$13+LEFT(O204,1)*'Criterios de Riesgo'!$F$14+LEFT(P204,1)*'Criterios de Riesgo'!$F$15),2),Calif_Control,2,1))","v":""},{"$f":"IF(COUNTA(I204:P204)<8,\"\",(ROUND((LEFT(I204,1)*'Criterios de Riesgo'!$F$8+LEFT(J204,1)*'Criterios de Riesgo'!$F$9+LEFT(K204,1)*'Criterios de Riesgo'!$F$10+LEFT(L204,1)*'Criterios de Riesgo'!$F$11+LEFT(M204,1)*'Criterios de Riesgo'!$F$12+LEFT(N204,1)*'Criterios de Riesgo'!$F$13+LEFT(O204,1)*'Criterios de Riesgo'!$F$14+LEFT(P204,1)*'Criterios de Riesgo'!$F$15),2))/5)","v":""},null,null,null,null,{"$f":"IF(COUNTA(S204:V204)<4,\"\",IF(V204=\"No\",\"No se usa\",VLOOKUP(ROUND((LEFT(S204,1)*'Criterios de Riesgo'!$C$13+LEFT(T204,1)*'Criterios de Riesgo'!$C$14+LEFT(U204,1)*'Criterios de Riesgo'!$C$15),2),Calif_Covertura,2,1)))","v":""},{"$f":"IF(COUNTA(S204:V204)<4,\"\",IF(V204=\"No\",0,(ROUND((LEFT(S204,1)*'Criterios de Riesgo'!$C$13+LEFT(T204,1)*'Criterios de Riesgo'!$C$14+LEFT(U204,1)*'Criterios de Riesgo'!$C$15),2))/5))","v":""},""]
["R",null,null,null,null,null,null,null,null,null,null,null,null,null,null,null,{"$f":"IF(COUNTA(I205:P205)<8,\"\",VLOOKUP(ROUND((LEFT(I205,1)*'Criterios de Riesgo'!$F$8+LEFT(J205,1)*'Criterios de Riesgo'!$F$9+LEFT(K205,1)*'Criterios de Riesgo'!$F$10+LEFT(L205,1)*'Criterios de Riesgo'!$F$11+LEFT(M205,1)*'Criterios de Riesgo'!$F$12+LEFT(N205,1)*'Criterios de Riesgo'!$F$13+LEFT(O205,1)*'Criterios de Riesgo'!$F$14+LEFT(P205,1)*'Criterios de Riesgo'!$F$15),2),Calif_Control,2,1))","v":""},{"$f":"IF(COUNTA(I205:P205)<8,\"\",(ROUND((LEFT(I205,1)*'Criterios de Riesgo'!$F$8+LEFT(J205,1)*'Criterios de Riesgo'!$F$9+LEFT(K205,1)*'Criterios de Riesgo'!$F$10+LEFT(L205,1)*'Criterios de Riesgo'!$F$11+LEFT(M205,1)*'Criterios de Riesgo'!$F$12+LEFT(N205,1)*'Criterios de Riesgo'!$F$13+LEFT(O205,1)*'Criterios de Riesgo'!$F$14+LEFT(P205,1)*'Criterios de Riesgo'!$F$15),2))/5)","v":""},null,null,null,null,{"$f":"IF(COUNTA(S205:V205)<4,\"\",IF(V205=\"No\",\"No se usa\",VLOOKUP(ROUND((LEFT(S205,1)*'Criterios de Riesgo'!$C$13+LEFT(T205,1)*'Criterios de Riesgo'!$C$14+LEFT(U205,1)*'Criterios de Riesgo'!$C$15),2),Calif_Covertura,2,1)))","v":""},{"$f":"IF(COUNTA(S205:V205)<4,\"\",IF(V205=\"No\",0,(ROUND((LEFT(S205,1)*'Criterios de Riesgo'!$C$13+LEFT(T205,1)*'Criterios de Riesgo'!$C$14+LEFT(U205,1)*'Criterios de Riesgo'!$C$15),2))/5))","v":""},"",null,{"$f":"IF(ISERROR((SUMIF(Z205:Z214,\"=impacto\",Y205:Y214)+SUMIF(Z205:Z214,\"=Ambos\",Y205:Y214))/(COUNTIF(Z205:Z214,\"Impacto\")+COUNTIF(Z205:Z214,\"Ambos\"))),\"\",(SUMIF(Z205:Z214,\"=impacto\",Y205:Y214)+SUMIF(Z205:Z214,\"=Ambos\",Y205:Y214))/(COUNTIF(Z205:Z214,\"Impacto\")+COUNTIF(Z205:Z214,\"Ambos\")))","v":""},{"$f":"IF(ISERROR((SUMIF(Z205:Z214,\"=Probabilidad\",Y205:Y214)+SUMIF(Z205:Z214,\"=Ambos\",Y205:Y214))/(COUNTIF(Z205:Z214,\"Probabilidad\")+COUNTIF(Z205:Z214,\"Ambos\"))),\"\",(SUMIF(Z205:Z214,\"=Probabilidad\",Y205:Y214)+SUMIF(Z205:Z214,\"=Ambos\",Y205:Y214))/(COUNTIF(Z205:Z214,\"Probabilidad\")+COUNTIF(Z205:Z214,\"Ambos\")))","v":""},{"$f":"IF(ISERROR(ROUND(IF(AB205=\"\",AA205,IF(AA205=\"\",AB205,IF(AND(AB205=\"\",AA205=\"\"),\"\",AB205*AA205)))*100,0)/100),\"\",ROUND(IF(AB205=\"\",AA205,IF(AA205=\"\",AB205,IF(AND(AB205=\"\",AA205=\"\"),\"\",AB205*AA205)))*100,0)/100)","v":""},{"$f":"IF(AC205=\"\",\"\",VLOOKUP(AC205*5,Calif_Control,2,1))","v":""}]
[null,null,null,null,null,null,null,null,null,null,null,null,null,null,null,null,{"$f":"IF(COUNTA(I206:P206)<8,\"\",VLOOKUP(ROUND((LEFT(I206,1)*'Criterios de Riesgo'!$F$8+LEFT(J206,1)*'Criterios de Riesgo'!$F$9+LEFT(K206,1)*'Criterios de Riesgo'!$F$10+LEFT(L206,1)*'Criterios de Riesgo'!$F$11+LEFT(M206,1)*'Criterios de Riesgo'!$F$12+LEFT(N206,1)*'Criterios de Riesgo'!$F$13+LEFT(O206,1)*'Criterios de Riesgo'!$F$14+LEFT(P206,1)*'Criterios de Riesgo'!$F$15),2),Calif_Control,2,1))","v":""},{"$f":"IF(COUNTA(I206:P206)<8,\"\",(ROUND((LEFT(I206,1)*'Criterios de Riesgo'!$F$8+LEFT(J206,1)*'Criterios de Riesgo'!$F$9+LEFT(K206,1)*'Criterios de Riesgo'!$F$10+LEFT(L206,1)*'Criterios de Riesgo'!$F$11+LEFT(M206,1)*'Criterios de Riesgo'!$F$12+LEFT(N206,1)*'Criterios de Riesgo'!$F$13+LEFT(O206,1)*'Criterios de Riesgo'!$F$14+LEFT(P206,1)*'Criterios de Riesgo'!$F$15),2))/5)","v":""},null,null,null,null,{"$f":"IF(COUNTA(S206:V206)<4,\"\",IF(V206=\"No\",\"No se usa\",VLOOKUP(ROUND((LEFT(S206,1)*'Criterios de Riesgo'!$C$13+LEFT(T206,1)*'Criterios de Riesgo'!$C$14+LEFT(U206,1)*'Criterios de Riesgo'!$C$15),2),Calif_Covertura,2,1)))","v":""},{"$f":"IF(COUNTA(S206:V206)<4,\"\",IF(V206=\"No\",0,(ROUND((LEFT(S206,1)*'Criterios de Riesgo'!$C$13+LEFT(T206,1)*'Criterios de Riesgo'!$C$14+LEFT(U206,1)*'Criterios de Riesgo'!$C$15),2))/5))","v":""},""]
[null,null,null,null,null,null,null,null,null,null,null,null,null,null,null,null,{"$f":"IF(COUNTA(I207:P207)<8,\"\",VLOOKUP(ROUND((LEFT(I207,1)*'Criterios de Riesgo'!$F$8+LEFT(J207,1)*'Criterios de Riesgo'!$F$9+LEFT(K207,1)*'Criterios de Riesgo'!$F$10+LEFT(L207,1)*'Criterios de Riesgo'!$F$11+LEFT(M207,1)*'Criterios de Riesgo'!$F$12+LEFT(N207,1)*'Criterios de Riesgo'!$F$13+LEFT(O207,1)*'Criterios de Riesgo'!$F$14+LEFT(P207,1)*'Criterios de Riesgo'!$F$15),2),Calif_Control,2,1))","v":""},{"$f":"IF(COUNTA(I207:P207)<8,\"\",(ROUND((LEFT(I207,1)*'Criterios de Riesgo'!$F$8+LEFT(J207,1)*'Criterios de Riesgo'!$F$9+LEFT(K207,1)*'Criterios de Riesgo'!$F$10+LEFT(L207,1)*'Criterios de Riesgo'!$F$11+LEFT(M207,1)*'Criterios de Riesgo'!$F$12+LEFT(N207,1)*'Criterios de Riesgo'!$F$13+LEFT(O207,1)*'Criterios de Riesgo'!$F$14+LEFT(P207,1)*'Criterios de Riesgo'!$F$15),2))/5)","v":""},null,null,null,null,{"$f":"IF(COUNTA(S207:V207)<4,\"\",IF(V207=\"No\",\"No se usa\",VLOOKUP(ROUND((LEFT(S207,1)*'Criterios de Riesgo'!$C$13+LEFT(T207,1)*'Criterios de Riesgo'!$C$14+LEFT(U207,1)*'Criterios de Riesgo'!$C$15),2),Calif_Covertura,2,1)))","v":""},{"$f":"IF(COUNTA(S207:V207)<4,\"\",IF(V207=\"No\",0,(ROUND((LEFT(S207,1)*'Criterios de Riesgo'!$C$13+LEFT(T207,1)*'Criterios de Riesgo'!$C$14+LEFT(U207,1)*'Criterios de Riesgo'!$C$15),2))/5))","v":""},""]
[null,null,null,null,null,null,null,null,null,null,null,null,null,null,null,null,{"$f":"IF(COUNTA(I208:P208)<8,\"\",VLOOKUP(ROUND((LEFT(I208,1)*'Criterios de Riesgo'!$F$8+LEFT(J208,1)*'Criterios de Riesgo'!$F$9+LEFT(K208,1)*'Criterios de Riesgo'!$F$10+LEFT(L208,1)*'Criterios de Riesgo'!$F$11+LEFT(M208,1)*'Criterios de Riesgo'!$F$12+LEFT(N208,1)*'Criterios de Riesgo'!$F$13+LEFT(O208,1)*'Criterios de Riesgo'!$F$14+LEFT(P208,1)*'Criterios de Riesgo'!$F$15),2),Calif_Control,2,1))","v":""},{"$f":"IF(COUNTA(I208:P208)<8,\"\",(ROUND((LEFT(I208,1)*'Criterios de Riesgo'!$F$8+LEFT(J208,1)*'Criterios de Riesgo'!$F$9+LEFT(K208,1)*'Criterios de Riesgo'!$F$10+LEFT(L208,1)*'Criterios de Riesgo'!$F$11+LEFT(M208,1)*'Criterios de Riesgo'!$F$12+LEFT(N208,1)*'Criterios de Riesgo'!$F$13+LEFT(O208,1)*'Criterios de Riesgo'!$F$14+LEFT(P208,1)*'Criterios de Riesgo'!$F$15),2))/5)","v":""},null,null,null,null,{"$f":"IF(COUNTA(S208:V208)<4,\"\",IF(V208=\"No\",\"No se usa\",VLOOKUP(ROUND((LEFT(S208,1)*'Criterios de Riesgo'!$C$13+LEFT(T208,1)*'Criterios de Riesgo'!$C$14+LEFT(U208,1)*'Criterios de Riesgo'!$C$15),2),Calif_Covertura,2,1)))","v":""},{"$f":"IF(COUNTA(S208:V208)<4,\"\",IF(V208=\"No\",0,(ROUND((LEFT(S208,1)*'Criterios de Riesgo'!$C$13+LEFT(T208,1)*'Criterios de Riesgo'!$C$14+LEFT(U208,1)*'Criterios de Riesgo'!$C$15),2))/5))","v":""},""]
[null,null,null,null,null,null,null,null,null,null,null,null,null,null,null,null,{"$f":"IF(COUNTA(I209:P209)<8,\"\",VLOOKUP(ROUND((LEFT(I209,1)*'Criterios de Riesgo'!$F$8+LEFT(J209,1)*'Criterios de Riesgo'!$F$9+LEFT(K209,1)*'Criterios de Riesgo'!$F$10+LEFT(L209,1)*'Criterios de Riesgo'!$F$11+LEFT(M209,1)*'Criterios de Riesgo'!$F$12+LEFT(N209,1)*'Criterios de Riesgo'!$F$13+LEFT(O209,1)*'Criterios de Riesgo'!$F$14+LEFT(P209,1)*'Criterios de Riesgo'!$F$15),2),Calif_Control,2,1))","v":""},{"$f":"IF(COUNTA(I209:P209)<8,\"\",(ROUND((LEFT(I209,1)*'Criterios de Riesgo'!$F$8+LEFT(J209,1)*'Criterios de Riesgo'!$F$9+LEFT(K209,1)*'Criterios de Riesgo'!$F$10+LEFT(L209,1)*'Criterios de Riesgo'!$F$11+LEFT(M209,1)*'Criterios de Riesgo'!$F$12+LEFT(N209,1)*'Criterios de Riesgo'!$F$13+LEFT(O209,1)*'Criterios de Riesgo'!$F$14+LEFT(P209,1)*'Criterios de Riesgo'!$F$15),2))/5)","v":""},null,null,null,null,{"$f":"IF(COUNTA(S209:V209)<4,\"\",IF(V209=\"No\",\"No se usa\",VLOOKUP(ROUND((LEFT(S209,1)*'Criterios de Riesgo'!$C$13+LEFT(T209,1)*'Criterios de Riesgo'!$C$14+LEFT(U209,1)*'Criterios de Riesgo'!$C$15),2),Calif_Covertura,2,1)))","v":""},{"$f":"IF(COUNTA(S209:V209)<4,\"\",IF(V209=\"No\",0,(ROUND((LEFT(S209,1)*'Criterios de Riesgo'!$C$13+LEFT(T209,1)*'Criterios de Riesgo'!$C$14+LEFT(U209,1)*'Criterios de Riesgo'!$C$15),2))/5))","v":""},""]
[null,null,null,null,null,null,null,null,null,null,null,null,null,null,null,null,{"$f":"IF(COUNTA(I210:P210)<8,\"\",VLOOKUP(ROUND((LEFT(I210,1)*'Criterios de Riesgo'!$F$8+LEFT(J210,1)*'Criterios de Riesgo'!$F$9+LEFT(K210,1)*'Criterios de Riesgo'!$F$10+LEFT(L210,1)*'Criterios de Riesgo'!$F$11+LEFT(M210,1)*'Criterios de Riesgo'!$F$12+LEFT(N210,1)*'Criterios de Riesgo'!$F$13+LEFT(O210,1)*'Criterios de Riesgo'!$F$14+LEFT(P210,1)*'Criterios de Riesgo'!$F$15),2),Calif_Control,2,1))","v":""},{"$f":"IF(COUNTA(I210:P210)<8,\"\",(ROUND((LEFT(I210,1)*'Criterios de Riesgo'!$F$8+LEFT(J210,1)*'Criterios de Riesgo'!$F$9+LEFT(K210,1)*'Criterios de Riesgo'!$F$10+LEFT(L210,1)*'Criterios de Riesgo'!$F$11+LEFT(M210,1)*'Criterios de Riesgo'!$F$12+LEFT(N210,1)*'Criterios de Riesgo'!$F$13+LEFT(O210,1)*'Criterios de Riesgo'!$F$14+LEFT(P210,1)*'Criterios de Riesgo'!$F$15),2))/5)","v":""},null,null,null,null,{"$f":"IF(COUNTA(S210:V210)<4,\"\",IF(V210=\"No\",\"No se usa\",VLOOKUP(ROUND((LEFT(S210,1)*'Criterios de Riesgo'!$C$13+LEFT(T210,1)*'Criterios de Riesgo'!$C$14+LEFT(U210,1)*'Criterios de Riesgo'!$C$15),2),Calif_Covertura,2,1)))","v":""},{"$f":"IF(COUNTA(S210:V210)<4,\"\",IF(V210=\"No\",0,(ROUND((LEFT(S210,1)*'Criterios de Riesgo'!$C$13+LEFT(T210,1)*'Criterios de Riesgo'!$C$14+LEFT(U210,1)*'Criterios de Riesgo'!$C$15),2))/5))","v":""},""]
[null,null,null,null,null,null,null,null,null,null,null,null,null,null,null,null,{"$f":"IF(COUNTA(I211:P211)<8,\"\",VLOOKUP(ROUND((LEFT(I211,1)*'Criterios de Riesgo'!$F$8+LEFT(J211,1)*'Criterios de Riesgo'!$F$9+LEFT(K211,1)*'Criterios de Riesgo'!$F$10+LEFT(L211,1)*'Criterios de Riesgo'!$F$11+LEFT(M211,1)*'Criterios de Riesgo'!$F$12+LEFT(N211,1)*'Criterios de Riesgo'!$F$13+LEFT(O211,1)*'Criterios de Riesgo'!$F$14+LEFT(P211,1)*'Criterios de Riesgo'!$F$15),2),Calif_Control,2,1))","v":""},{"$f":"IF(COUNTA(I211:P211)<8,\"\",(ROUND((LEFT(I211,1)*'Criterios de Riesgo'!$F$8+LEFT(J211,1)*'Criterios de Riesgo'!$F$9+LEFT(K211,1)*'Criterios de Riesgo'!$F$10+LEFT(L211,1)*'Criterios de Riesgo'!$F$11+LEFT(M211,1)*'Criterios de Riesgo'!$F$12+LEFT(N211,1)*'Criterios de Riesgo'!$F$13+LEFT(O211,1)*'Criterios de Riesgo'!$F$14+LEFT(P211,1)*'Criterios de Riesgo'!$F$15),2))/5)","v":""},null,null,null,null,{"$f":"IF(COUNTA(S211:V211)<4,\"\",IF(V211=\"No\",\"No se usa\",VLOOKUP(ROUND((LEFT(S211,1)*'Criterios de Riesgo'!$C$13+LEFT(T211,1)*'Criterios de Riesgo'!$C$14+LEFT(U211,1)*'Criterios de Riesgo'!$C$15),2),Calif_Covertura,2,1)))","v":""},{"$f":"IF(COUNTA(S211:V211)<4,\"\",IF(V211=\"No\",0,(ROUND((LEFT(S211,1)*'Criterios de Riesgo'!$C$13+LEFT(T211,1)*'Criterios de Riesgo'!$C$14+LEFT(U211,1)*'Criterios de Riesgo'!$C$15),2))/5))","v":""},""]
[null,null,null,null,null,null,null,null,null,null,null,null,null,null,null,null,{"$f":"IF(COUNTA(I212:P212)<8,\"\",VLOOKUP(ROUND((LEFT(I212,1)*'Criterios de Riesgo'!$F$8+LEFT(J212,1)*'Criterios de Riesgo'!$F$9+LEFT(K212,1)*'Criterios de Riesgo'!$F$10+LEFT(L212,1)*'Criterios de Riesgo'!$F$11+LEFT(M212,1)*'Criterios de Riesgo'!$F$12+LEFT(N212,1)*'Criterios de Riesgo'!$F$13+LEFT(O212,1)*'Criterios de Riesgo'!$F$14+LEFT(P212,1)*'Criterios de Riesgo'!$F$15),2),Calif_Control,2,1))","v":""},{"$f":"IF(COUNTA(I212:P212)<8,\"\",(ROUND((LEFT(I212,1)*'Criterios de Riesgo'!$F$8+LEFT(J212,1)*'Criterios de Riesgo'!$F$9+LEFT(K212,1)*'Criterios de Riesgo'!$F$10+LEFT(L212,1)*'Criterios de Riesgo'!$F$11+LEFT(M212,1)*'Criterios de Riesgo'!$F$12+LEFT(N212,1)*'Criterios de Riesgo'!$F$13+LEFT(O212,1)*'Criterios de Riesgo'!$F$14+LEFT(P212,1)*'Criterios de Riesgo'!$F$15),2))/5)","v":""},null,null,null,null,{"$f":"IF(COUNTA(S212:V212)<4,\"\",IF(V212=\"No\",\"No se usa\",VLOOKUP(ROUND((LEFT(S212,1)*'Criterios de Riesgo'!$C$13+LEFT(T212,1)*'Criterios de Riesgo'!$C$14+LEFT(U212,1)*'Criterios de Riesgo'!$C$15),2),Calif_Covertura,2,1)))","v":""},{"$f":"IF(COUNTA(S212:V212)<4,\"\",IF(V212=\"No\",0,(ROUND((LEFT(S212,1)*'Criterios de Riesgo'!$C$13+LEFT(T212,1)*'Criterios de Riesgo'!$C$14+LEFT(U212,1)*'Criterios de Riesgo'!$C$15),2))/5))","v":""},""]
[null,null,null,null,null,null,null,null,null,null,null,null,null,null,null,null,{"$f":"IF(COUNTA(I213:P213)<8,\"\",VLOOKUP(ROUND((LEFT(I213,1)*'Criterios de Riesgo'!$F$8+LEFT(J213,1)*'Criterios de Riesgo'!$F$9+LEFT(K213,1)*'Criterios de Riesgo'!$F$10+LEFT(L213,1)*'Criterios de Riesgo'!$F$11+LEFT(M213,1)*'Criterios de Riesgo'!$F$12+LEFT(N213,1)*'Criterios de Riesgo'!$F$13+LEFT(O213,1)*'Criterios de Riesgo'!$F$14+LEFT(P213,1)*'Criterios de Riesgo'!$F$15),2),Calif_Control,2,1))","v":""},{"$f":"IF(COUNTA(I213:P213)<8,\"\",(ROUND((LEFT(I213,1)*'Criterios de Riesgo'!$F$8+LEFT(J213,1)*'Criterios de Riesgo'!$F$9+LEFT(K213,1)*'Criterios de Riesgo'!$F$10+LEFT(L213,1)*'Criterios de Riesgo'!$F$11+LEFT(M213,1)*'Criterios de Riesgo'!$F$12+LEFT(N213,1)*'Criterios de Riesgo'!$F$13+LEFT(O213,1)*'Criterios de Riesgo'!$F$14+LEFT(P213,1)*'Criterios de Riesgo'!$F$15),2))/5)","v":""},null,null,null,null,{"$f":"IF(COUNTA(S213:V213)<4,\"\",IF(V213=\"No\",\"No se usa\",VLOOKUP(ROUND((LEFT(S213,1)*'Criterios de Riesgo'!$C$13+LEFT(T213,1)*'Criterios de Riesgo'!$C$14+LEFT(U213,1)*'Criterios de Riesgo'!$C$15),2),Calif_Covertura,2,1)))","v":""},{"$f":"IF(COUNTA(S213:V213)<4,\"\",IF(V213=\"No\",0,(ROUND((LEFT(S213,1)*'Criterios de Riesgo'!$C$13+LEFT(T213,1)*'Criterios de Riesgo'!$C$14+LEFT(U213,1)*'Criterios de Riesgo'!$C$15),2))/5))","v":""},""]
[null,null,null,null,null,null,null,null,null,null,null,null,null,null,null,null,{"$f":"IF(COUNTA(I214:P214)<8,\"\",VLOOKUP(ROUND((LEFT(I214,1)*'Criterios de Riesgo'!$F$8+LEFT(J214,1)*'Criterios de Riesgo'!$F$9+LEFT(K214,1)*'Criterios de Riesgo'!$F$10+LEFT(L214,1)*'Criterios de Riesgo'!$F$11+LEFT(M214,1)*'Criterios de Riesgo'!$F$12+LEFT(N214,1)*'Criterios de Riesgo'!$F$13+LEFT(O214,1)*'Criterios de Riesgo'!$F$14+LEFT(P214,1)*'Criterios de Riesgo'!$F$15),2),Calif_Control,2,1))","v":""},{"$f":"IF(COUNTA(I214:P214)<8,\"\",(ROUND((LEFT(I214,1)*'Criterios de Riesgo'!$F$8+LEFT(J214,1)*'Criterios de Riesgo'!$F$9+LEFT(K214,1)*'Criterios de Riesgo'!$F$10+LEFT(L214,1)*'Criterios de Riesgo'!$F$11+LEFT(M214,1)*'Criterios de Riesgo'!$F$12+LEFT(N214,1)*'Criterios de Riesgo'!$F$13+LEFT(O214,1)*'Criterios de Riesgo'!$F$14+LEFT(P214,1)*'Criterios de Riesgo'!$F$15),2))/5)","v":""},null,null,null,null,{"$f":"IF(COUNTA(S214:V214)<4,\"\",IF(V214=\"No\",\"No se usa\",VLOOKUP(ROUND((LEFT(S214,1)*'Criterios de Riesgo'!$C$13+LEFT(T214,1)*'Criterios de Riesgo'!$C$14+LEFT(U214,1)*'Criterios de Riesgo'!$C$15),2),Calif_Covertura,2,1)))","v":""},{"$f":"IF(COUNTA(S214:V214)<4,\"\",IF(V214=\"No\",0,(ROUND((LEFT(S214,1)*'Criterios de Riesgo'!$C$13+LEFT(T214,1)*'Criterios de Riesgo'!$C$14+LEFT(U214,1)*'Criterios de Riesgo'!$C$15),2))/5))","v":""},""]
["R",null,null,null,null,null,null,null,null,null,null,null,null,null,null,null,{"$f":"IF(COUNTA(I215:P215)<8,\"\",VLOOKUP(ROUND((LEFT(I215,1)*'Criterios de Riesgo'!$F$8+LEFT(J215,1)*'Criterios de Riesgo'!$F$9+LEFT(K215,1)*'Criterios de Riesgo'!$F$10+LEFT(L215,1)*'Criterios de Riesgo'!$F$11+LEFT(M215,1)*'Criterios de Riesgo'!$F$12+LEFT(N215,1)*'Criterios de Riesgo'!$F$13+LEFT(O215,1)*'Criterios de Riesgo'!$F$14+LEFT(P215,1)*'Criterios de Riesgo'!$F$15),2),Calif_Control,2,1))","v":""},{"$f":"IF(COUNTA(I215:P215)<8,\"\",(ROUND((LEFT(I215,1)*'Criterios de Riesgo'!$F$8+LEFT(J215,1)*'Criterios de Riesgo'!$F$9+LEFT(K215,1)*'Criterios de Riesgo'!$F$10+LEFT(L215,1)*'Criterios de Riesgo'!$F$11+LEFT(M215,1)*'Criterios de Riesgo'!$F$12+LEFT(N215,1)*'Criterios de Riesgo'!$F$13+LEFT(O215,1)*'Criterios de Riesgo'!$F$14+LEFT(P215,1)*'Criterios de Riesgo'!$F$15),2))/5)","v":""},null,null,null,null,{"$f":"IF(COUNTA(S215:V215)<4,\"\",IF(V215=\"No\",\"No se usa\",VLOOKUP(ROUND((LEFT(S215,1)*'Criterios de Riesgo'!$C$13+LEFT(T215,1)*'Criterios de Riesgo'!$C$14+LEFT(U215,1)*'Criterios de Riesgo'!$C$15),2),Calif_Covertura,2,1)))","v":""},{"$f":"IF(COUNTA(S215:V215)<4,\"\",IF(V215=\"No\",0,(ROUND((LEFT(S215,1)*'Criterios de Riesgo'!$C$13+LEFT(T215,1)*'Criterios de Riesgo'!$C$14+LEFT(U215,1)*'Criterios de Riesgo'!$C$15),2))/5))","v":""},"",null,{"$f":"IF(ISERROR((SUMIF(Z215:Z224,\"=impacto\",Y215:Y224)+SUMIF(Z215:Z224,\"=Ambos\",Y215:Y224))/(COUNTIF(Z215:Z224,\"Impacto\")+COUNTIF(Z215:Z224,\"Ambos\"))),\"\",(SUMIF(Z215:Z224,\"=impacto\",Y215:Y224)+SUMIF(Z215:Z224,\"=Ambos\",Y215:Y224))/(COUNTIF(Z215:Z224,\"Impacto\")+COUNTIF(Z215:Z224,\"Ambos\")))","v":""},{"$f":"IF(ISERROR((SUMIF(Z215:Z224,\"=Probabilidad\",Y215:Y224)+SUMIF(Z215:Z224,\"=Ambos\",Y215:Y224))/(COUNTIF(Z215:Z224,\"Probabilidad\")+COUNTIF(Z215:Z224,\"Ambos\"))),\"\",(SUMIF(Z215:Z224,\"=Probabilidad\",Y215:Y224)+SUMIF(Z215:Z224,\"=Ambos\",Y215:Y224))/(COUNTIF(Z215:Z224,\"Probabilidad\")+COUNTIF(Z215:Z224,\"Ambos\")))","v":""},{"$f":"IF(ISERROR(ROUND(IF(AB215=\"\",AA215,IF(AA215=\"\",AB215,IF(AND(AB215=\"\",AA215=\"\"),\"\",AB215*AA215)))*100,0)/100),\"\",ROUND(IF(AB215=\"\",AA215,IF(AA215=\"\",AB215,IF(AND(AB215=\"\",AA215=\"\"),\"\",AB215*AA215)))*100,0)/100)","v":""},{"$f":"IF(AC215=\"\",\"\",VLOOKUP(AC215*5,Calif_Control,2,1))","v":""}]
[null,null,null,null,null,null,null,null,null,null,null,null,null,null,null,null,{"$f":"IF(COUNTA(I216:P216)<8,\"\",VLOOKUP(ROUND((LEFT(I216,1)*'Criterios de Riesgo'!$F$8+LEFT(J216,1)*'Criterios de Riesgo'!$F$9+LEFT(K216,1)*'Criterios de Riesgo'!$F$10+LEFT(L216,1)*'Criterios de Riesgo'!$F$11+LEFT(M216,1)*'Criterios de Riesgo'!$F$12+LEFT(N216,1)*'Criterios de Riesgo'!$F$13+LEFT(O216,1)*'Criterios de Riesgo'!$F$14+LEFT(P216,1)*'Criterios de Riesgo'!$F$15),2),Calif_Control,2,1))","v":""},{"$f":"IF(COUNTA(I216:P216)<8,\"\",(ROUND((LEFT(I216,1)*'Criterios de Riesgo'!$F$8+LEFT(J216,1)*'Criterios de Riesgo'!$F$9+LEFT(K216,1)*'Criterios de Riesgo'!$F$10+LEFT(L216,1)*'Criterios de Riesgo'!$F$11+LEFT(M216,1)*'Criterios de Riesgo'!$F$12+LEFT(N216,1)*'Criterios de Riesgo'!$F$13+LEFT(O216,1)*'Criterios de Riesgo'!$F$14+LEFT(P216,1)*'Criterios de Riesgo'!$F$15),2))/5)","v":""},null,null,null,null,{"$f":"IF(COUNTA(S216:V216)<4,\"\",IF(V216=\"No\",\"No se usa\",VLOOKUP(ROUND((LEFT(S216,1)*'Criterios de Riesgo'!$C$13+LEFT(T216,1)*'Criterios de Riesgo'!$C$14+LEFT(U216,1)*'Criterios de Riesgo'!$C$15),2),Calif_Covertura,2,1)))","v":""},{"$f":"IF(COUNTA(S216:V216)<4,\"\",IF(V216=\"No\",0,(ROUND((LEFT(S216,1)*'Criterios de Riesgo'!$C$13+LEFT(T216,1)*'Criterios de Riesgo'!$C$14+LEFT(U216,1)*'Criterios de Riesgo'!$C$15),2))/5))","v":""},""]
[null,null,null,null,null,null,null,null,null,null,null,null,null,null,null,null,{"$f":"IF(COUNTA(I217:P217)<8,\"\",VLOOKUP(ROUND((LEFT(I217,1)*'Criterios de Riesgo'!$F$8+LEFT(J217,1)*'Criterios de Riesgo'!$F$9+LEFT(K217,1)*'Criterios de Riesgo'!$F$10+LEFT(L217,1)*'Criterios de Riesgo'!$F$11+LEFT(M217,1)*'Criterios de Riesgo'!$F$12+LEFT(N217,1)*'Criterios de Riesgo'!$F$13+LEFT(O217,1)*'Criterios de Riesgo'!$F$14+LEFT(P217,1)*'Criterios de Riesgo'!$F$15),2),Calif_Control,2,1))","v":""},{"$f":"IF(COUNTA(I217:P217)<8,\"\",(ROUND((LEFT(I217,1)*'Criterios de Riesgo'!$F$8+LEFT(J217,1)*'Criterios de Riesgo'!$F$9+LEFT(K217,1)*'Criterios de Riesgo'!$F$10+LEFT(L217,1)*'Criterios de Riesgo'!$F$11+LEFT(M217,1)*'Criterios de Riesgo'!$F$12+LEFT(N217,1)*'Criterios de Riesgo'!$F$13+LEFT(O217,1)*'Criterios de Riesgo'!$F$14+LEFT(P217,1)*'Criterios de Riesgo'!$F$15),2))/5)","v":""},null,null,null,null,{"$f":"IF(COUNTA(S217:V217)<4,\"\",IF(V217=\"No\",\"No se usa\",VLOOKUP(ROUND((LEFT(S217,1)*'Criterios de Riesgo'!$C$13+LEFT(T217,1)*'Criterios de Riesgo'!$C$14+LEFT(U217,1)*'Criterios de Riesgo'!$C$15),2),Calif_Covertura,2,1)))","v":""},{"$f":"IF(COUNTA(S217:V217)<4,\"\",IF(V217=\"No\",0,(ROUND((LEFT(S217,1)*'Criterios de Riesgo'!$C$13+LEFT(T217,1)*'Criterios de Riesgo'!$C$14+LEFT(U217,1)*'Criterios de Riesgo'!$C$15),2))/5))","v":""},""]
[null,null,null,null,null,null,null,null,null,null,null,null,null,null,null,null,{"$f":"IF(COUNTA(I218:P218)<8,\"\",VLOOKUP(ROUND((LEFT(I218,1)*'Criterios de Riesgo'!$F$8+LEFT(J218,1)*'Criterios de Riesgo'!$F$9+LEFT(K218,1)*'Criterios de Riesgo'!$F$10+LEFT(L218,1)*'Criterios de Riesgo'!$F$11+LEFT(M218,1)*'Criterios de Riesgo'!$F$12+LEFT(N218,1)*'Criterios de Riesgo'!$F$13+LEFT(O218,1)*'Criterios de Riesgo'!$F$14+LEFT(P218,1)*'Criterios de Riesgo'!$F$15),2),Calif_Control,2,1))","v":""},{"$f":"IF(COUNTA(I218:P218)<8,\"\",(ROUND((LEFT(I218,1)*'Criterios de Riesgo'!$F$8+LEFT(J218,1)*'Criterios de Riesgo'!$F$9+LEFT(K218,1)*'Criterios de Riesgo'!$F$10+LEFT(L218,1)*'Criterios de Riesgo'!$F$11+LEFT(M218,1)*'Criterios de Riesgo'!$F$12+LEFT(N218,1)*'Criterios de Riesgo'!$F$13+LEFT(O218,1)*'Criterios de Riesgo'!$F$14+LEFT(P218,1)*'Criterios de Riesgo'!$F$15),2))/5)","v":""},null,null,null,null,{"$f":"IF(COUNTA(S218:V218)<4,\"\",IF(V218=\"No\",\"No se usa\",VLOOKUP(ROUND((LEFT(S218,1)*'Criterios de Riesgo'!$C$13+LEFT(T218,1)*'Criterios de Riesgo'!$C$14+LEFT(U218,1)*'Criterios de Riesgo'!$C$15),2),Calif_Covertura,2,1)))","v":""},{"$f":"IF(COUNTA(S218:V218)<4,\"\",IF(V218=\"No\",0,(ROUND((LEFT(S218,1)*'Criterios de Riesgo'!$C$13+LEFT(T218,1)*'Criterios de Riesgo'!$C$14+LEFT(U218,1)*'Criterios de Riesgo'!$C$15),2))/5))","v":""},""]
[null,null,null,null,null,null,null,null,null,null,null,null,null,null,null,null,{"$f":"IF(COUNTA(I219:P219)<8,\"\",VLOOKUP(ROUND((LEFT(I219,1)*'Criterios de Riesgo'!$F$8+LEFT(J219,1)*'Criterios de Riesgo'!$F$9+LEFT(K219,1)*'Criterios de Riesgo'!$F$10+LEFT(L219,1)*'Criterios de Riesgo'!$F$11+LEFT(M219,1)*'Criterios de Riesgo'!$F$12+LEFT(N219,1)*'Criterios de Riesgo'!$F$13+LEFT(O219,1)*'Criterios de Riesgo'!$F$14+LEFT(P219,1)*'Criterios de Riesgo'!$F$15),2),Calif_Control,2,1))","v":""},{"$f":"IF(COUNTA(I219:P219)<8,\"\",(ROUND((LEFT(I219,1)*'Criterios de Riesgo'!$F$8+LEFT(J219,1)*'Criterios de Riesgo'!$F$9+LEFT(K219,1)*'Criterios de Riesgo'!$F$10+LEFT(L219,1)*'Criterios de Riesgo'!$F$11+LEFT(M219,1)*'Criterios de Riesgo'!$F$12+LEFT(N219,1)*'Criterios de Riesgo'!$F$13+LEFT(O219,1)*'Criterios de Riesgo'!$F$14+LEFT(P219,1)*'Criterios de Riesgo'!$F$15),2))/5)","v":""},null,null,null,null,{"$f":"IF(COUNTA(S219:V219)<4,\"\",IF(V219=\"No\",\"No se usa\",VLOOKUP(ROUND((LEFT(S219,1)*'Criterios de Riesgo'!$C$13+LEFT(T219,1)*'Criterios de Riesgo'!$C$14+LEFT(U219,1)*'Criterios de Riesgo'!$C$15),2),Calif_Covertura,2,1)))","v":""},{"$f":"IF(COUNTA(S219:V219)<4,\"\",IF(V219=\"No\",0,(ROUND((LEFT(S219,1)*'Criterios de Riesgo'!$C$13+LEFT(T219,1)*'Criterios de Riesgo'!$C$14+LEFT(U219,1)*'Criterios de Riesgo'!$C$15),2))/5))","v":""},""]
[null,null,null,null,null,null,null,null,null,null,null,null,null,null,null,null,{"$f":"IF(COUNTA(I220:P220)<8,\"\",VLOOKUP(ROUND((LEFT(I220,1)*'Criterios de Riesgo'!$F$8+LEFT(J220,1)*'Criterios de Riesgo'!$F$9+LEFT(K220,1)*'Criterios de Riesgo'!$F$10+LEFT(L220,1)*'Criterios de Riesgo'!$F$11+LEFT(M220,1)*'Criterios de Riesgo'!$F$12+LEFT(N220,1)*'Criterios de Riesgo'!$F$13+LEFT(O220,1)*'Criterios de Riesgo'!$F$14+LEFT(P220,1)*'Criterios de Riesgo'!$F$15),2),Calif_Control,2,1))","v":""},{"$f":"IF(COUNTA(I220:P220)<8,\"\",(ROUND((LEFT(I220,1)*'Criterios de Riesgo'!$F$8+LEFT(J220,1)*'Criterios de Riesgo'!$F$9+LEFT(K220,1)*'Criterios de Riesgo'!$F$10+LEFT(L220,1)*'Criterios de Riesgo'!$F$11+LEFT(M220,1)*'Criterios de Riesgo'!$F$12+LEFT(N220,1)*'Criterios de Riesgo'!$F$13+LEFT(O220,1)*'Criterios de Riesgo'!$F$14+LEFT(P220,1)*'Criterios de Riesgo'!$F$15),2))/5)","v":""},null,null,null,null,{"$f":"IF(COUNTA(S220:V220)<4,\"\",IF(V220=\"No\",\"No se usa\",VLOOKUP(ROUND((LEFT(S220,1)*'Criterios de Riesgo'!$C$13+LEFT(T220,1)*'Criterios de Riesgo'!$C$14+LEFT(U220,1)*'Criterios de Riesgo'!$C$15),2),Calif_Covertura,2,1)))","v":""},{"$f":"IF(COUNTA(S220:V220)<4,\"\",IF(V220=\"No\",0,(ROUND((LEFT(S220,1)*'Criterios de Riesgo'!$C$13+LEFT(T220,1)*'Criterios de Riesgo'!$C$14+LEFT(U220,1)*'Criterios de Riesgo'!$C$15),2))/5))","v":""},""]
[null,null,null,null,null,null,null,null,null,null,null,null,null,null,null,null,{"$f":"IF(COUNTA(I221:P221)<8,\"\",VLOOKUP(ROUND((LEFT(I221,1)*'Criterios de Riesgo'!$F$8+LEFT(J221,1)*'Criterios de Riesgo'!$F$9+LEFT(K221,1)*'Criterios de Riesgo'!$F$10+LEFT(L221,1)*'Criterios de Riesgo'!$F$11+LEFT(M221,1)*'Criterios de Riesgo'!$F$12+LEFT(N221,1)*'Criterios de Riesgo'!$F$13+LEFT(O221,1)*'Criterios de Riesgo'!$F$14+LEFT(P221,1)*'Criterios de Riesgo'!$F$15),2),Calif_Control,2,1))","v":""},{"$f":"IF(COUNTA(I221:P221)<8,\"\",(ROUND((LEFT(I221,1)*'Criterios de Riesgo'!$F$8+LEFT(J221,1)*'Criterios de Riesgo'!$F$9+LEFT(K221,1)*'Criterios de Riesgo'!$F$10+LEFT(L221,1)*'Criterios de Riesgo'!$F$11+LEFT(M221,1)*'Criterios de Riesgo'!$F$12+LEFT(N221,1)*'Criterios de Riesgo'!$F$13+LEFT(O221,1)*'Criterios de Riesgo'!$F$14+LEFT(P221,1)*'Criterios de Riesgo'!$F$15),2))/5)","v":""},null,null,null,null,{"$f":"IF(COUNTA(S221:V221)<4,\"\",IF(V221=\"No\",\"No se usa\",VLOOKUP(ROUND((LEFT(S221,1)*'Criterios de Riesgo'!$C$13+LEFT(T221,1)*'Criterios de Riesgo'!$C$14+LEFT(U221,1)*'Criterios de Riesgo'!$C$15),2),Calif_Covertura,2,1)))","v":""},{"$f":"IF(COUNTA(S221:V221)<4,\"\",IF(V221=\"No\",0,(ROUND((LEFT(S221,1)*'Criterios de Riesgo'!$C$13+LEFT(T221,1)*'Criterios de Riesgo'!$C$14+LEFT(U221,1)*'Criterios de Riesgo'!$C$15),2))/5))","v":""},""]
[null,null,null,null,null,null,null,null,null,null,null,null,null,null,null,null,{"$f":"IF(COUNTA(I222:P222)<8,\"\",VLOOKUP(ROUND((LEFT(I222,1)*'Criterios de Riesgo'!$F$8+LEFT(J222,1)*'Criterios de Riesgo'!$F$9+LEFT(K222,1)*'Criterios de Riesgo'!$F$10+LEFT(L222,1)*'Criterios de Riesgo'!$F$11+LEFT(M222,1)*'Criterios de Riesgo'!$F$12+LEFT(N222,1)*'Criterios de Riesgo'!$F$13+LEFT(O222,1)*'Criterios de Riesgo'!$F$14+LEFT(P222,1)*'Criterios de Riesgo'!$F$15),2),Calif_Control,2,1))","v":""},{"$f":"IF(COUNTA(I222:P222)<8,\"\",(ROUND((LEFT(I222,1)*'Criterios de Riesgo'!$F$8+LEFT(J222,1)*'Criterios de Riesgo'!$F$9+LEFT(K222,1)*'Criterios de Riesgo'!$F$10+LEFT(L222,1)*'Criterios de Riesgo'!$F$11+LEFT(M222,1)*'Criterios de Riesgo'!$F$12+LEFT(N222,1)*'Criterios de Riesgo'!$F$13+LEFT(O222,1)*'Criterios de Riesgo'!$F$14+LEFT(P222,1)*'Criterios de Riesgo'!$F$15),2))/5)","v":""},null,null,null,null,{"$f":"IF(COUNTA(S222:V222)<4,\"\",IF(V222=\"No\",\"No se usa\",VLOOKUP(ROUND((LEFT(S222,1)*'Criterios de Riesgo'!$C$13+LEFT(T222,1)*'Criterios de Riesgo'!$C$14+LEFT(U222,1)*'Criterios de Riesgo'!$C$15),2),Calif_Covertura,2,1)))","v":""},{"$f":"IF(COUNTA(S222:V222)<4,\"\",IF(V222=\"No\",0,(ROUND((LEFT(S222,1)*'Criterios de Riesgo'!$C$13+LEFT(T222,1)*'Criterios de Riesgo'!$C$14+LEFT(U222,1)*'Criterios de Riesgo'!$C$15),2))/5))","v":""},{"$f":"IF(ISERROR(R222*X222),\"\",R222*X222)","v":""}]
[null,null,null,null,null,null,null,null,null,null,null,null,null,null,null,null,{"$f":"IF(COUNTA(I223:P223)<8,\"\",VLOOKUP(ROUND((LEFT(I223,1)*'Criterios de Riesgo'!$F$8+LEFT(J223,1)*'Criterios de Riesgo'!$F$9+LEFT(K223,1)*'Criterios de Riesgo'!$F$10+LEFT(L223,1)*'Criterios de Riesgo'!$F$11+LEFT(M223,1)*'Criterios de Riesgo'!$F$12+LEFT(N223,1)*'Criterios de Riesgo'!$F$13+LEFT(O223,1)*'Criterios de Riesgo'!$F$14+LEFT(P223,1)*'Criterios de Riesgo'!$F$15),2),Calif_Control,2,1))","v":""},{"$f":"IF(COUNTA(I223:P223)<8,\"\",(ROUND((LEFT(I223,1)*'Criterios de Riesgo'!$F$8+LEFT(J223,1)*'Criterios de Riesgo'!$F$9+LEFT(K223,1)*'Criterios de Riesgo'!$F$10+LEFT(L223,1)*'Criterios de Riesgo'!$F$11+LEFT(M223,1)*'Criterios de Riesgo'!$F$12+LEFT(N223,1)*'Criterios de Riesgo'!$F$13+LEFT(O223,1)*'Criterios de Riesgo'!$F$14+LEFT(P223,1)*'Criterios de Riesgo'!$F$15),2))/5)","v":""},null,null,null,null,{"$f":"IF(COUNTA(S223:V223)<4,\"\",IF(V223=\"No\",\"No se usa\",VLOOKUP(ROUND((LEFT(S223,1)*'Criterios de Riesgo'!$C$13+LEFT(T223,1)*'Criterios de Riesgo'!$C$14+LEFT(U223,1)*'Criterios de Riesgo'!$C$15),2),Calif_Covertura,2,1)))","v":""},{"$f":"IF(COUNTA(S223:V223)<4,\"\",IF(V223=\"No\",0,(ROUND((LEFT(S223,1)*'Criterios de Riesgo'!$C$13+LEFT(T223,1)*'Criterios de Riesgo'!$C$14+LEFT(U223,1)*'Criterios de Riesgo'!$C$15),2))/5))","v":""},{"$f":"IF(ISERROR(R223*X223),\"\",R223*X223)","v":""}]
[null,null,null,null,null,null,null,null,null,null,null,null,null,null,null,null,{"$f":"IF(COUNTA(I224:P224)<8,\"\",VLOOKUP(ROUND((LEFT(I224,1)*'Criterios de Riesgo'!$F$8+LEFT(J224,1)*'Criterios de Riesgo'!$F$9+LEFT(K224,1)*'Criterios de Riesgo'!$F$10+LEFT(L224,1)*'Criterios de Riesgo'!$F$11+LEFT(M224,1)*'Criterios de Riesgo'!$F$12+LEFT(N224,1)*'Criterios de Riesgo'!$F$13+LEFT(O224,1)*'Criterios de Riesgo'!$F$14+LEFT(P224,1)*'Criterios de Riesgo'!$F$15),2),Calif_Control,2,1))","v":""},{"$f":"IF(COUNTA(I224:P224)<8,\"\",(ROUND((LEFT(I224,1)*'Criterios de Riesgo'!$F$8+LEFT(J224,1)*'Criterios de Riesgo'!$F$9+LEFT(K224,1)*'Criterios de Riesgo'!$F$10+LEFT(L224,1)*'Criterios de Riesgo'!$F$11+LEFT(M224,1)*'Criterios de Riesgo'!$F$12+LEFT(N224,1)*'Criterios de Riesgo'!$F$13+LEFT(O224,1)*'Criterios de Riesgo'!$F$14+LEFT(P224,1)*'Criterios de Riesgo'!$F$15),2))/5)","v":""},null,null,null,null,{"$f":"IF(COUNTA(S224:V224)<4,\"\",IF(V224=\"No\",\"No se usa\",VLOOKUP(ROUND((LEFT(S224,1)*'Criterios de Riesgo'!$C$13+LEFT(T224,1)*'Criterios de Riesgo'!$C$14+LEFT(U224,1)*'Criterios de Riesgo'!$C$15),2),Calif_Covertura,2,1)))","v":""},{"$f":"IF(COUNTA(S224:V224)<4,\"\",IF(V224=\"No\",0,(ROUND((LEFT(S224,1)*'Criterios de Riesgo'!$C$13+LEFT(T224,1)*'Criterios de Riesgo'!$C$14+LEFT(U224,1)*'Criterios de Riesgo'!$C$15),2))/5))","v":""},{"$f":"IF(ISERROR(R224*X224),\"\",R224*X224)","v":""}]
["R",null,null,null,null,null,null,null,null,null,null,null,null,null,null,null,{"$f":"IF(COUNTA(I225:P225)<8,\"\",VLOOKUP(ROUND((LEFT(I225,1)*'Criterios de Riesgo'!$F$8+LEFT(J225,1)*'Criterios de Riesgo'!$F$9+LEFT(K225,1)*'Criterios de Riesgo'!$F$10+LEFT(L225,1)*'Criterios de Riesgo'!$F$11+LEFT(M225,1)*'Criterios de Riesgo'!$F$12+LEFT(N225,1)*'Criterios de Riesgo'!$F$13+LEFT(O225,1)*'Criterios de Riesgo'!$F$14+LEFT(P225,1)*'Criterios de Riesgo'!$F$15),2),Calif_Control,2,1))","v":""},{"$f":"IF(COUNTA(I225:P225)<8,\"\",(ROUND((LEFT(I225,1)*'Criterios de Riesgo'!$F$8+LEFT(J225,1)*'Criterios de Riesgo'!$F$9+LEFT(K225,1)*'Criterios de Riesgo'!$F$10+LEFT(L225,1)*'Criterios de Riesgo'!$F$11+LEFT(M225,1)*'Criterios de Riesgo'!$F$12+LEFT(N225,1)*'Criterios de Riesgo'!$F$13+LEFT(O225,1)*'Criterios de Riesgo'!$F$14+LEFT(P225,1)*'Criterios de Riesgo'!$F$15),2))/5)","v":""},null,null,null,null,{"$f":"IF(COUNTA(S225:V225)<4,\"\",IF(V225=\"No\",\"No se usa\",VLOOKUP(ROUND((LEFT(S225,1)*'Criterios de Riesgo'!$C$13+LEFT(T225,1)*'Criterios de Riesgo'!$C$14+LEFT(U225,1)*'Criterios de Riesgo'!$C$15),2),Calif_Covertura,2,1)))","v":""},{"$f":"IF(COUNTA(S225:V225)<4,\"\",IF(V225=\"No\",0,(ROUND((LEFT(S225,1)*'Criterios de Riesgo'!$C$13+LEFT(T225,1)*'Criterios de Riesgo'!$C$14+LEFT(U225,1)*'Criterios de Riesgo'!$C$15),2))/5))","v":""},"",null,{"$f":"IF(ISERROR((SUMIF(Z225:Z234,\"=impacto\",Y225:Y234)+SUMIF(Z225:Z234,\"=Ambos\",Y225:Y234))/(COUNTIF(Z225:Z234,\"Impacto\")+COUNTIF(Z225:Z234,\"Ambos\"))),\"\",(SUMIF(Z225:Z234,\"=impacto\",Y225:Y234)+SUMIF(Z225:Z234,\"=Ambos\",Y225:Y234))/(COUNTIF(Z225:Z234,\"Impacto\")+COUNTIF(Z225:Z234,\"Ambos\")))","v":""},{"$f":"IF(ISERROR((SUMIF(Z225:Z234,\"=Probabilidad\",Y225:Y234)+SUMIF(Z225:Z234,\"=Ambos\",Y225:Y234))/(COUNTIF(Z225:Z234,\"Probabilidad\")+COUNTIF(Z225:Z234,\"Ambos\"))),\"\",(SUMIF(Z225:Z234,\"=Probabilidad\",Y225:Y234)+SUMIF(Z225:Z234,\"=Ambos\",Y225:Y234))/(COUNTIF(Z225:Z234,\"Probabilidad\")+COUNTIF(Z225:Z234,\"Ambos\")))","v":""},{"$f":"IF(ISERROR(ROUND(IF(AB225=\"\",AA225,IF(AA225=\"\",AB225,IF(AND(AB225=\"\",AA225=\"\"),\"\",AB225*AA225)))*100,0)/100),\"\",ROUND(IF(AB225=\"\",AA225,IF(AA225=\"\",AB225,IF(AND(AB225=\"\",AA225=\"\"),\"\",AB225*AA225)))*100,0)/100)","v":""},{"$f":"IF(AC225=\"\",\"\",VLOOKUP(AC225*5,Calif_Control,2,1))","v":""}]
[null,null,null,null,null,null,null,null,null,null,null,null,null,null,null,null,{"$f":"IF(COUNTA(I226:P226)<8,\"\",VLOOKUP(ROUND((LEFT(I226,1)*'Criterios de Riesgo'!$F$8+LEFT(J226,1)*'Criterios de Riesgo'!$F$9+LEFT(K226,1)*'Criterios de Riesgo'!$F$10+LEFT(L226,1)*'Criterios de Riesgo'!$F$11+LEFT(M226,1)*'Criterios de Riesgo'!$F$12+LEFT(N226,1)*'Criterios de Riesgo'!$F$13+LEFT(O226,1)*'Criterios de Riesgo'!$F$14+LEFT(P226,1)*'Criterios de Riesgo'!$F$15),2),Calif_Control,2,1))","v":""},{"$f":"IF(COUNTA(I226:P226)<8,\"\",(ROUND((LEFT(I226,1)*'Criterios de Riesgo'!$F$8+LEFT(J226,1)*'Criterios de Riesgo'!$F$9+LEFT(K226,1)*'Criterios de Riesgo'!$F$10+LEFT(L226,1)*'Criterios de Riesgo'!$F$11+LEFT(M226,1)*'Criterios de Riesgo'!$F$12+LEFT(N226,1)*'Criterios de Riesgo'!$F$13+LEFT(O226,1)*'Criterios de Riesgo'!$F$14+LEFT(P226,1)*'Criterios de Riesgo'!$F$15),2))/5)","v":""},null,null,null,null,{"$f":"IF(COUNTA(S226:V226)<4,\"\",IF(V226=\"No\",\"No se usa\",VLOOKUP(ROUND((LEFT(S226,1)*'Criterios de Riesgo'!$C$13+LEFT(T226,1)*'Criterios de Riesgo'!$C$14+LEFT(U226,1)*'Criterios de Riesgo'!$C$15),2),Calif_Covertura,2,1)))","v":""},{"$f":"IF(COUNTA(S226:V226)<4,\"\",IF(V226=\"No\",0,(ROUND((LEFT(S226,1)*'Criterios de Riesgo'!$C$13+LEFT(T226,1)*'Criterios de Riesgo'!$C$14+LEFT(U226,1)*'Criterios de Riesgo'!$C$15),2))/5))","v":""},""]
[null,null,null,null,null,null,null,null,null,null,null,null,null,null,null,null,{"$f":"IF(COUNTA(I227:P227)<8,\"\",VLOOKUP(ROUND((LEFT(I227,1)*'Criterios de Riesgo'!$F$8+LEFT(J227,1)*'Criterios de Riesgo'!$F$9+LEFT(K227,1)*'Criterios de Riesgo'!$F$10+LEFT(L227,1)*'Criterios de Riesgo'!$F$11+LEFT(M227,1)*'Criterios de Riesgo'!$F$12+LEFT(N227,1)*'Criterios de Riesgo'!$F$13+LEFT(O227,1)*'Criterios de Riesgo'!$F$14+LEFT(P227,1)*'Criterios de Riesgo'!$F$15),2),Calif_Control,2,1))","v":""},{"$f":"IF(COUNTA(I227:P227)<8,\"\",(ROUND((LEFT(I227,1)*'Criterios de Riesgo'!$F$8+LEFT(J227,1)*'Criterios de Riesgo'!$F$9+LEFT(K227,1)*'Criterios de Riesgo'!$F$10+LEFT(L227,1)*'Criterios de Riesgo'!$F$11+LEFT(M227,1)*'Criterios de Riesgo'!$F$12+LEFT(N227,1)*'Criterios de Riesgo'!$F$13+LEFT(O227,1)*'Criterios de Riesgo'!$F$14+LEFT(P227,1)*'Criterios de Riesgo'!$F$15),2))/5)","v":""},null,null,null,null,{"$f":"IF(COUNTA(S227:V227)<4,\"\",IF(V227=\"No\",\"No se usa\",VLOOKUP(ROUND((LEFT(S227,1)*'Criterios de Riesgo'!$C$13+LEFT(T227,1)*'Criterios de Riesgo'!$C$14+LEFT(U227,1)*'Criterios de Riesgo'!$C$15),2),Calif_Covertura,2,1)))","v":""},{"$f":"IF(COUNTA(S227:V227)<4,\"\",IF(V227=\"No\",0,(ROUND((LEFT(S227,1)*'Criterios de Riesgo'!$C$13+LEFT(T227,1)*'Criterios de Riesgo'!$C$14+LEFT(U227,1)*'Criterios de Riesgo'!$C$15),2))/5))","v":""},""]
[null,null,null,null,null,null,null,null,null,null,null,null,null,null,null,null,{"$f":"IF(COUNTA(I228:P228)<8,\"\",VLOOKUP(ROUND((LEFT(I228,1)*'Criterios de Riesgo'!$F$8+LEFT(J228,1)*'Criterios de Riesgo'!$F$9+LEFT(K228,1)*'Criterios de Riesgo'!$F$10+LEFT(L228,1)*'Criterios de Riesgo'!$F$11+LEFT(M228,1)*'Criterios de Riesgo'!$F$12+LEFT(N228,1)*'Criterios de Riesgo'!$F$13+LEFT(O228,1)*'Criterios de Riesgo'!$F$14+LEFT(P228,1)*'Criterios de Riesgo'!$F$15),2),Calif_Control,2,1))","v":""},{"$f":"IF(COUNTA(I228:P228)<8,\"\",(ROUND((LEFT(I228,1)*'Criterios de Riesgo'!$F$8+LEFT(J228,1)*'Criterios de Riesgo'!$F$9+LEFT(K228,1)*'Criterios de Riesgo'!$F$10+LEFT(L228,1)*'Criterios de Riesgo'!$F$11+LEFT(M228,1)*'Criterios de Riesgo'!$F$12+LEFT(N228,1)*'Criterios de Riesgo'!$F$13+LEFT(O228,1)*'Criterios de Riesgo'!$F$14+LEFT(P228,1)*'Criterios de Riesgo'!$F$15),2))/5)","v":""},null,null,null,null,{"$f":"IF(COUNTA(S228:V228)<4,\"\",IF(V228=\"No\",\"No se usa\",VLOOKUP(ROUND((LEFT(S228,1)*'Criterios de Riesgo'!$C$13+LEFT(T228,1)*'Criterios de Riesgo'!$C$14+LEFT(U228,1)*'Criterios de Riesgo'!$C$15),2),Calif_Covertura,2,1)))","v":""},{"$f":"IF(COUNTA(S228:V228)<4,\"\",IF(V228=\"No\",0,(ROUND((LEFT(S228,1)*'Criterios de Riesgo'!$C$13+LEFT(T228,1)*'Criterios de Riesgo'!$C$14+LEFT(U228,1)*'Criterios de Riesgo'!$C$15),2))/5))","v":""},""]
[null,null,null,null,null,null,null,null,null,null,null,null,null,null,null,null,{"$f":"IF(COUNTA(I229:P229)<8,\"\",VLOOKUP(ROUND((LEFT(I229,1)*'Criterios de Riesgo'!$F$8+LEFT(J229,1)*'Criterios de Riesgo'!$F$9+LEFT(K229,1)*'Criterios de Riesgo'!$F$10+LEFT(L229,1)*'Criterios de Riesgo'!$F$11+LEFT(M229,1)*'Criterios de Riesgo'!$F$12+LEFT(N229,1)*'Criterios de Riesgo'!$F$13+LEFT(O229,1)*'Criterios de Riesgo'!$F$14+LEFT(P229,1)*'Criterios de Riesgo'!$F$15),2),Calif_Control,2,1))","v":""},{"$f":"IF(COUNTA(I229:P229)<8,\"\",(ROUND((LEFT(I229,1)*'Criterios de Riesgo'!$F$8+LEFT(J229,1)*'Criterios de Riesgo'!$F$9+LEFT(K229,1)*'Criterios de Riesgo'!$F$10+LEFT(L229,1)*'Criterios de Riesgo'!$F$11+LEFT(M229,1)*'Criterios de Riesgo'!$F$12+LEFT(N229,1)*'Criterios de Riesgo'!$F$13+LEFT(O229,1)*'Criterios de Riesgo'!$F$14+LEFT(P229,1)*'Criterios de Riesgo'!$F$15),2))/5)","v":""},null,null,null,null,{"$f":"IF(COUNTA(S229:V229)<4,\"\",IF(V229=\"No\",\"No se usa\",VLOOKUP(ROUND((LEFT(S229,1)*'Criterios de Riesgo'!$C$13+LEFT(T229,1)*'Criterios de Riesgo'!$C$14+LEFT(U229,1)*'Criterios de Riesgo'!$C$15),2),Calif_Covertura,2,1)))","v":""},{"$f":"IF(COUNTA(S229:V229)<4,\"\",IF(V229=\"No\",0,(ROUND((LEFT(S229,1)*'Criterios de Riesgo'!$C$13+LEFT(T229,1)*'Criterios de Riesgo'!$C$14+LEFT(U229,1)*'Criterios de Riesgo'!$C$15),2))/5))","v":""},""]
[null,null,null,null,null,null,null,null,null,null,null,null,null,null,null,null,{"$f":"IF(COUNTA(I230:P230)<8,\"\",VLOOKUP(ROUND((LEFT(I230,1)*'Criterios de Riesgo'!$F$8+LEFT(J230,1)*'Criterios de Riesgo'!$F$9+LEFT(K230,1)*'Criterios de Riesgo'!$F$10+LEFT(L230,1)*'Criterios de Riesgo'!$F$11+LEFT(M230,1)*'Criterios de Riesgo'!$F$12+LEFT(N230,1)*'Criterios de Riesgo'!$F$13+LEFT(O230,1)*'Criterios de Riesgo'!$F$14+LEFT(P230,1)*'Criterios de Riesgo'!$F$15),2),Calif_Control,2,1))","v":""},{"$f":"IF(COUNTA(I230:P230)<8,\"\",(ROUND((LEFT(I230,1)*'Criterios de Riesgo'!$F$8+LEFT(J230,1)*'Criterios de Riesgo'!$F$9+LEFT(K230,1)*'Criterios de Riesgo'!$F$10+LEFT(L230,1)*'Criterios de Riesgo'!$F$11+LEFT(M230,1)*'Criterios de Riesgo'!$F$12+LEFT(N230,1)*'Criterios de Riesgo'!$F$13+LEFT(O230,1)*'Criterios de Riesgo'!$F$14+LEFT(P230,1)*'Criterios de Riesgo'!$F$15),2))/5)","v":""},null,null,null,null,{"$f":"IF(COUNTA(S230:V230)<4,\"\",IF(V230=\"No\",\"No se usa\",VLOOKUP(ROUND((LEFT(S230,1)*'Criterios de Riesgo'!$C$13+LEFT(T230,1)*'Criterios de Riesgo'!$C$14+LEFT(U230,1)*'Criterios de Riesgo'!$C$15),2),Calif_Covertura,2,1)))","v":""},{"$f":"IF(COUNTA(S230:V230)<4,\"\",IF(V230=\"No\",0,(ROUND((LEFT(S230,1)*'Criterios de Riesgo'!$C$13+LEFT(T230,1)*'Criterios de Riesgo'!$C$14+LEFT(U230,1)*'Criterios de Riesgo'!$C$15),2))/5))","v":""},""]
[null,null,null,null,null,null,null,null,null,null,null,null,null,null,null,null,{"$f":"IF(COUNTA(I231:P231)<8,\"\",VLOOKUP(ROUND((LEFT(I231,1)*'Criterios de Riesgo'!$F$8+LEFT(J231,1)*'Criterios de Riesgo'!$F$9+LEFT(K231,1)*'Criterios de Riesgo'!$F$10+LEFT(L231,1)*'Criterios de Riesgo'!$F$11+LEFT(M231,1)*'Criterios de Riesgo'!$F$12+LEFT(N231,1)*'Criterios de Riesgo'!$F$13+LEFT(O231,1)*'Criterios de Riesgo'!$F$14+LEFT(P231,1)*'Criterios de Riesgo'!$F$15),2),Calif_Control,2,1))","v":""},{"$f":"IF(COUNTA(I231:P231)<8,\"\",(ROUND((LEFT(I231,1)*'Criterios de Riesgo'!$F$8+LEFT(J231,1)*'Criterios de Riesgo'!$F$9+LEFT(K231,1)*'Criterios de Riesgo'!$F$10+LEFT(L231,1)*'Criterios de Riesgo'!$F$11+LEFT(M231,1)*'Criterios de Riesgo'!$F$12+LEFT(N231,1)*'Criterios de Riesgo'!$F$13+LEFT(O231,1)*'Criterios de Riesgo'!$F$14+LEFT(P231,1)*'Criterios de Riesgo'!$F$15),2))/5)","v":""},null,null,null,null,{"$f":"IF(COUNTA(S231:V231)<4,\"\",IF(V231=\"No\",\"No se usa\",VLOOKUP(ROUND((LEFT(S231,1)*'Criterios de Riesgo'!$C$13+LEFT(T231,1)*'Criterios de Riesgo'!$C$14+LEFT(U231,1)*'Criterios de Riesgo'!$C$15),2),Calif_Covertura,2,1)))","v":""},{"$f":"IF(COUNTA(S231:V231)<4,\"\",IF(V231=\"No\",0,(ROUND((LEFT(S231,1)*'Criterios de Riesgo'!$C$13+LEFT(T231,1)*'Criterios de Riesgo'!$C$14+LEFT(U231,1)*'Criterios de Riesgo'!$C$15),2))/5))","v":""},""]
[null,null,null,null,null,null,null,null,null,null,null,null,null,null,null,null,{"$f":"IF(COUNTA(I232:P232)<8,\"\",VLOOKUP(ROUND((LEFT(I232,1)*'Criterios de Riesgo'!$F$8+LEFT(J232,1)*'Criterios de Riesgo'!$F$9+LEFT(K232,1)*'Criterios de Riesgo'!$F$10+LEFT(L232,1)*'Criterios de Riesgo'!$F$11+LEFT(M232,1)*'Criterios de Riesgo'!$F$12+LEFT(N232,1)*'Criterios de Riesgo'!$F$13+LEFT(O232,1)*'Criterios de Riesgo'!$F$14+LEFT(P232,1)*'Criterios de Riesgo'!$F$15),2),Calif_Control,2,1))","v":""},{"$f":"IF(COUNTA(I232:P232)<8,\"\",(ROUND((LEFT(I232,1)*'Criterios de Riesgo'!$F$8+LEFT(J232,1)*'Criterios de Riesgo'!$F$9+LEFT(K232,1)*'Criterios de Riesgo'!$F$10+LEFT(L232,1)*'Criterios de Riesgo'!$F$11+LEFT(M232,1)*'Criterios de Riesgo'!$F$12+LEFT(N232,1)*'Criterios de Riesgo'!$F$13+LEFT(O232,1)*'Criterios de Riesgo'!$F$14+LEFT(P232,1)*'Criterios de Riesgo'!$F$15),2))/5)","v":""},null,null,null,null,{"$f":"IF(COUNTA(S232:V232)<4,\"\",IF(V232=\"No\",\"No se usa\",VLOOKUP(ROUND((LEFT(S232,1)*'Criterios de Riesgo'!$C$13+LEFT(T232,1)*'Criterios de Riesgo'!$C$14+LEFT(U232,1)*'Criterios de Riesgo'!$C$15),2),Calif_Covertura,2,1)))","v":""},{"$f":"IF(COUNTA(S232:V232)<4,\"\",IF(V232=\"No\",0,(ROUND((LEFT(S232,1)*'Criterios de Riesgo'!$C$13+LEFT(T232,1)*'Criterios de Riesgo'!$C$14+LEFT(U232,1)*'Criterios de Riesgo'!$C$15),2))/5))","v":""},""]
[null,null,null,null,null,null,null,null,null,null,null,null,null,null,null,null,{"$f":"IF(COUNTA(I233:P233)<8,\"\",VLOOKUP(ROUND((LEFT(I233,1)*'Criterios de Riesgo'!$F$8+LEFT(J233,1)*'Criterios de Riesgo'!$F$9+LEFT(K233,1)*'Criterios de Riesgo'!$F$10+LEFT(L233,1)*'Criterios de Riesgo'!$F$11+LEFT(M233,1)*'Criterios de Riesgo'!$F$12+LEFT(N233,1)*'Criterios de Riesgo'!$F$13+LEFT(O233,1)*'Criterios de Riesgo'!$F$14+LEFT(P233,1)*'Criterios de Riesgo'!$F$15),2),Calif_Control,2,1))","v":""},{"$f":"IF(COUNTA(I233:P233)<8,\"\",(ROUND((LEFT(I233,1)*'Criterios de Riesgo'!$F$8+LEFT(J233,1)*'Criterios de Riesgo'!$F$9+LEFT(K233,1)*'Criterios de Riesgo'!$F$10+LEFT(L233,1)*'Criterios de Riesgo'!$F$11+LEFT(M233,1)*'Criterios de Riesgo'!$F$12+LEFT(N233,1)*'Criterios de Riesgo'!$F$13+LEFT(O233,1)*'Criterios de Riesgo'!$F$14+LEFT(P233,1)*'Criterios de Riesgo'!$F$15),2))/5)","v":""},null,null,null,null,{"$f":"IF(COUNTA(S233:V233)<4,\"\",IF(V233=\"No\",\"No se usa\",VLOOKUP(ROUND((LEFT(S233,1)*'Criterios de Riesgo'!$C$13+LEFT(T233,1)*'Criterios de Riesgo'!$C$14+LEFT(U233,1)*'Criterios de Riesgo'!$C$15),2),Calif_Covertura,2,1)))","v":""},{"$f":"IF(COUNTA(S233:V233)<4,\"\",IF(V233=\"No\",0,(ROUND((LEFT(S233,1)*'Criterios de Riesgo'!$C$13+LEFT(T233,1)*'Criterios de Riesgo'!$C$14+LEFT(U233,1)*'Criterios de Riesgo'!$C$15),2))/5))","v":""},""]
[null,null,null,null,null,null,null,null,null,null,null,null,null,null,null,null,{"$f":"IF(COUNTA(I234:P234)<8,\"\",VLOOKUP(ROUND((LEFT(I234,1)*'Criterios de Riesgo'!$F$8+LEFT(J234,1)*'Criterios de Riesgo'!$F$9+LEFT(K234,1)*'Criterios de Riesgo'!$F$10+LEFT(L234,1)*'Criterios de Riesgo'!$F$11+LEFT(M234,1)*'Criterios de Riesgo'!$F$12+LEFT(N234,1)*'Criterios de Riesgo'!$F$13+LEFT(O234,1)*'Criterios de Riesgo'!$F$14+LEFT(P234,1)*'Criterios de Riesgo'!$F$15),2),Calif_Control,2,1))","v":""},{"$f":"IF(COUNTA(I234:P234)<8,\"\",(ROUND((LEFT(I234,1)*'Criterios de Riesgo'!$F$8+LEFT(J234,1)*'Criterios de Riesgo'!$F$9+LEFT(K234,1)*'Criterios de Riesgo'!$F$10+LEFT(L234,1)*'Criterios de Riesgo'!$F$11+LEFT(M234,1)*'Criterios de Riesgo'!$F$12+LEFT(N234,1)*'Criterios de Riesgo'!$F$13+LEFT(O234,1)*'Criterios de Riesgo'!$F$14+LEFT(P234,1)*'Criterios de Riesgo'!$F$15),2))/5)","v":""},null,null,null,null,{"$f":"IF(COUNTA(S234:V234)<4,\"\",IF(V234=\"No\",\"No se usa\",VLOOKUP(ROUND((LEFT(S234,1)*'Criterios de Riesgo'!$C$13+LEFT(T234,1)*'Criterios de Riesgo'!$C$14+LEFT(U234,1)*'Criterios de Riesgo'!$C$15),2),Calif_Covertura,2,1)))","v":""},{"$f":"IF(COUNTA(S234:V234)<4,\"\",IF(V234=\"No\",0,(ROUND((LEFT(S234,1)*'Criterios de Riesgo'!$C$13+LEFT(T234,1)*'Criterios de Riesgo'!$C$14+LEFT(U234,1)*'Criterios de Riesgo'!$C$15),2))/5))","v":""},""]
["R",null,null,null,null,null,null,null,null,null,null,null,null,null,null,null,{"$f":"IF(COUNTA(I235:P235)<8,\"\",VLOOKUP(ROUND((LEFT(I235,1)*'Criterios de Riesgo'!$F$8+LEFT(J235,1)*'Criterios de Riesgo'!$F$9+LEFT(K235,1)*'Criterios de Riesgo'!$F$10+LEFT(L235,1)*'Criterios de Riesgo'!$F$11+LEFT(M235,1)*'Criterios de Riesgo'!$F$12+LEFT(N235,1)*'Criterios de Riesgo'!$F$13+LEFT(O235,1)*'Criterios de Riesgo'!$F$14+LEFT(P235,1)*'Criterios de Riesgo'!$F$15),2),Calif_Control,2,1))","v":""},{"$f":"IF(COUNTA(I235:P235)<8,\"\",(ROUND((LEFT(I235,1)*'Criterios de Riesgo'!$F$8+LEFT(J235,1)*'Criterios de Riesgo'!$F$9+LEFT(K235,1)*'Criterios de Riesgo'!$F$10+LEFT(L235,1)*'Criterios de Riesgo'!$F$11+LEFT(M235,1)*'Criterios de Riesgo'!$F$12+LEFT(N235,1)*'Criterios de Riesgo'!$F$13+LEFT(O235,1)*'Criterios de Riesgo'!$F$14+LEFT(P235,1)*'Criterios de Riesgo'!$F$15),2))/5)","v":""},null,null,null,null,{"$f":"IF(COUNTA(S235:V235)<4,\"\",IF(V235=\"No\",\"No se usa\",VLOOKUP(ROUND((LEFT(S235,1)*'Criterios de Riesgo'!$C$13+LEFT(T235,1)*'Criterios de Riesgo'!$C$14+LEFT(U235,1)*'Criterios de Riesgo'!$C$15),2),Calif_Covertura,2,1)))","v":""},{"$f":"IF(COUNTA(S235:V235)<4,\"\",IF(V235=\"No\",0,(ROUND((LEFT(S235,1)*'Criterios de Riesgo'!$C$13+LEFT(T235,1)*'Criterios de Riesgo'!$C$14+LEFT(U235,1)*'Criterios de Riesgo'!$C$15),2))/5))","v":""},"",null,{"$f":"IF(ISERROR((SUMIF(Z235:Z244,\"=impacto\",Y235:Y244)+SUMIF(Z235:Z244,\"=Ambos\",Y235:Y244))/(COUNTIF(Z235:Z244,\"Impacto\")+COUNTIF(Z235:Z244,\"Ambos\"))),\"\",(SUMIF(Z235:Z244,\"=impacto\",Y235:Y244)+SUMIF(Z235:Z244,\"=Ambos\",Y235:Y244))/(COUNTIF(Z235:Z244,\"Impacto\")+COUNTIF(Z235:Z244,\"Ambos\")))","v":""},{"$f":"IF(ISERROR((SUMIF(Z235:Z244,\"=Probabilidad\",Y235:Y244)+SUMIF(Z235:Z244,\"=Ambos\",Y235:Y244))/(COUNTIF(Z235:Z244,\"Probabilidad\")+COUNTIF(Z235:Z244,\"Ambos\"))),\"\",(SUMIF(Z235:Z244,\"=Probabilidad\",Y235:Y244)+SUMIF(Z235:Z244,\"=Ambos\",Y235:Y244))/(COUNTIF(Z235:Z244,\"Probabilidad\")+COUNTIF(Z235:Z244,\"Ambos\")))","v":""},{"$f":"IF(ISERROR(ROUND(IF(AB235=\"\",AA235,IF(AA235=\"\",AB235,IF(AND(AB235=\"\",AA235=\"\"),\"\",AB235*AA235)))*100,0)/100),\"\",ROUND(IF(AB235=\"\",AA235,IF(AA235=\"\",AB235,IF(AND(AB235=\"\",AA235=\"\"),\"\",AB235*AA235)))*100,0)/100)","v":""},{"$f":"IF(AC235=\"\",\"\",VLOOKUP(AC235*5,Calif_Control,2,1))","v":""}]
[null,null,null,null,null,null,null,null,null,null,null,null,null,null,null,null,{"$f":"IF(COUNTA(I236:P236)<8,\"\",VLOOKUP(ROUND((LEFT(I236,1)*'Criterios de Riesgo'!$F$8+LEFT(J236,1)*'Criterios de Riesgo'!$F$9+LEFT(K236,1)*'Criterios de Riesgo'!$F$10+LEFT(L236,1)*'Criterios de Riesgo'!$F$11+LEFT(M236,1)*'Criterios de Riesgo'!$F$12+LEFT(N236,1)*'Criterios de Riesgo'!$F$13+LEFT(O236,1)*'Criterios de Riesgo'!$F$14+LEFT(P236,1)*'Criterios de Riesgo'!$F$15),2),Calif_Control,2,1))","v":""},{"$f":"IF(COUNTA(I236:P236)<8,\"\",(ROUND((LEFT(I236,1)*'Criterios de Riesgo'!$F$8+LEFT(J236,1)*'Criterios de Riesgo'!$F$9+LEFT(K236,1)*'Criterios de Riesgo'!$F$10+LEFT(L236,1)*'Criterios de Riesgo'!$F$11+LEFT(M236,1)*'Criterios de Riesgo'!$F$12+LEFT(N236,1)*'Criterios de Riesgo'!$F$13+LEFT(O236,1)*'Criterios de Riesgo'!$F$14+LEFT(P236,1)*'Criterios de Riesgo'!$F$15),2))/5)","v":""},null,null,null,null,{"$f":"IF(COUNTA(S236:V236)<4,\"\",IF(V236=\"No\",\"No se usa\",VLOOKUP(ROUND((LEFT(S236,1)*'Criterios de Riesgo'!$C$13+LEFT(T236,1)*'Criterios de Riesgo'!$C$14+LEFT(U236,1)*'Criterios de Riesgo'!$C$15),2),Calif_Covertura,2,1)))","v":""},{"$f":"IF(COUNTA(S236:V236)<4,\"\",IF(V236=\"No\",0,(ROUND((LEFT(S236,1)*'Criterios de Riesgo'!$C$13+LEFT(T236,1)*'Criterios de Riesgo'!$C$14+LEFT(U236,1)*'Criterios de Riesgo'!$C$15),2))/5))","v":""},""]
[null,null,null,null,null,null,null,null,null,null,null,null,null,null,null,null,{"$f":"IF(COUNTA(I237:P237)<8,\"\",VLOOKUP(ROUND((LEFT(I237,1)*'Criterios de Riesgo'!$F$8+LEFT(J237,1)*'Criterios de Riesgo'!$F$9+LEFT(K237,1)*'Criterios de Riesgo'!$F$10+LEFT(L237,1)*'Criterios de Riesgo'!$F$11+LEFT(M237,1)*'Criterios de Riesgo'!$F$12+LEFT(N237,1)*'Criterios de Riesgo'!$F$13+LEFT(O237,1)*'Criterios de Riesgo'!$F$14+LEFT(P237,1)*'Criterios de Riesgo'!$F$15),2),Calif_Control,2,1))","v":""},{"$f":"IF(COUNTA(I237:P237)<8,\"\",(ROUND((LEFT(I237,1)*'Criterios de Riesgo'!$F$8+LEFT(J237,1)*'Criterios de Riesgo'!$F$9+LEFT(K237,1)*'Criterios de Riesgo'!$F$10+LEFT(L237,1)*'Criterios de Riesgo'!$F$11+LEFT(M237,1)*'Criterios de Riesgo'!$F$12+LEFT(N237,1)*'Criterios de Riesgo'!$F$13+LEFT(O237,1)*'Criterios de Riesgo'!$F$14+LEFT(P237,1)*'Criterios de Riesgo'!$F$15),2))/5)","v":""},null,null,null,null,{"$f":"IF(COUNTA(S237:V237)<4,\"\",IF(V237=\"No\",\"No se usa\",VLOOKUP(ROUND((LEFT(S237,1)*'Criterios de Riesgo'!$C$13+LEFT(T237,1)*'Criterios de Riesgo'!$C$14+LEFT(U237,1)*'Criterios de Riesgo'!$C$15),2),Calif_Covertura,2,1)))","v":""},{"$f":"IF(COUNTA(S237:V237)<4,\"\",IF(V237=\"No\",0,(ROUND((LEFT(S237,1)*'Criterios de Riesgo'!$C$13+LEFT(T237,1)*'Criterios de Riesgo'!$C$14+LEFT(U237,1)*'Criterios de Riesgo'!$C$15),2))/5))","v":""},""]
[null,null,null,null,null,null,null,null,null,null,null,null,null,null,null,null,{"$f":"IF(COUNTA(I238:P238)<8,\"\",VLOOKUP(ROUND((LEFT(I238,1)*'Criterios de Riesgo'!$F$8+LEFT(J238,1)*'Criterios de Riesgo'!$F$9+LEFT(K238,1)*'Criterios de Riesgo'!$F$10+LEFT(L238,1)*'Criterios de Riesgo'!$F$11+LEFT(M238,1)*'Criterios de Riesgo'!$F$12+LEFT(N238,1)*'Criterios de Riesgo'!$F$13+LEFT(O238,1)*'Criterios de Riesgo'!$F$14+LEFT(P238,1)*'Criterios de Riesgo'!$F$15),2),Calif_Control,2,1))","v":""},{"$f":"IF(COUNTA(I238:P238)<8,\"\",(ROUND((LEFT(I238,1)*'Criterios de Riesgo'!$F$8+LEFT(J238,1)*'Criterios de Riesgo'!$F$9+LEFT(K238,1)*'Criterios de Riesgo'!$F$10+LEFT(L238,1)*'Criterios de Riesgo'!$F$11+LEFT(M238,1)*'Criterios de Riesgo'!$F$12+LEFT(N238,1)*'Criterios de Riesgo'!$F$13+LEFT(O238,1)*'Criterios de Riesgo'!$F$14+LEFT(P238,1)*'Criterios de Riesgo'!$F$15),2))/5)","v":""},null,null,null,null,{"$f":"IF(COUNTA(S238:V238)<4,\"\",IF(V238=\"No\",\"No se usa\",VLOOKUP(ROUND((LEFT(S238,1)*'Criterios de Riesgo'!$C$13+LEFT(T238,1)*'Criterios de Riesgo'!$C$14+LEFT(U238,1)*'Criterios de Riesgo'!$C$15),2),Calif_Covertura,2,1)))","v":""},{"$f":"IF(COUNTA(S238:V238)<4,\"\",IF(V238=\"No\",0,(ROUND((LEFT(S238,1)*'Criterios de Riesgo'!$C$13+LEFT(T238,1)*'Criterios de Riesgo'!$C$14+LEFT(U238,1)*'Criterios de Riesgo'!$C$15),2))/5))","v":""},""]
[null,null,null,null,null,null,null,null,null,null,null,null,null,null,null,null,{"$f":"IF(COUNTA(I239:P239)<8,\"\",VLOOKUP(ROUND((LEFT(I239,1)*'Criterios de Riesgo'!$F$8+LEFT(J239,1)*'Criterios de Riesgo'!$F$9+LEFT(K239,1)*'Criterios de Riesgo'!$F$10+LEFT(L239,1)*'Criterios de Riesgo'!$F$11+LEFT(M239,1)*'Criterios de Riesgo'!$F$12+LEFT(N239,1)*'Criterios de Riesgo'!$F$13+LEFT(O239,1)*'Criterios de Riesgo'!$F$14+LEFT(P239,1)*'Criterios de Riesgo'!$F$15),2),Calif_Control,2,1))","v":""},{"$f":"IF(COUNTA(I239:P239)<8,\"\",(ROUND((LEFT(I239,1)*'Criterios de Riesgo'!$F$8+LEFT(J239,1)*'Criterios de Riesgo'!$F$9+LEFT(K239,1)*'Criterios de Riesgo'!$F$10+LEFT(L239,1)*'Criterios de Riesgo'!$F$11+LEFT(M239,1)*'Criterios de Riesgo'!$F$12+LEFT(N239,1)*'Criterios de Riesgo'!$F$13+LEFT(O239,1)*'Criterios de Riesgo'!$F$14+LEFT(P239,1)*'Criterios de Riesgo'!$F$15),2))/5)","v":""},null,null,null,null,{"$f":"IF(COUNTA(S239:V239)<4,\"\",IF(V239=\"No\",\"No se usa\",VLOOKUP(ROUND((LEFT(S239,1)*'Criterios de Riesgo'!$C$13+LEFT(T239,1)*'Criterios de Riesgo'!$C$14+LEFT(U239,1)*'Criterios de Riesgo'!$C$15),2),Calif_Covertura,2,1)))","v":""},{"$f":"IF(COUNTA(S239:V239)<4,\"\",IF(V239=\"No\",0,(ROUND((LEFT(S239,1)*'Criterios de Riesgo'!$C$13+LEFT(T239,1)*'Criterios de Riesgo'!$C$14+LEFT(U239,1)*'Criterios de Riesgo'!$C$15),2))/5))","v":""},""]
[null,null,null,null,null,null,null,null,null,null,null,null,null,null,null,null,{"$f":"IF(COUNTA(I240:P240)<8,\"\",VLOOKUP(ROUND((LEFT(I240,1)*'Criterios de Riesgo'!$F$8+LEFT(J240,1)*'Criterios de Riesgo'!$F$9+LEFT(K240,1)*'Criterios de Riesgo'!$F$10+LEFT(L240,1)*'Criterios de Riesgo'!$F$11+LEFT(M240,1)*'Criterios de Riesgo'!$F$12+LEFT(N240,1)*'Criterios de Riesgo'!$F$13+LEFT(O240,1)*'Criterios de Riesgo'!$F$14+LEFT(P240,1)*'Criterios de Riesgo'!$F$15),2),Calif_Control,2,1))","v":""},{"$f":"IF(COUNTA(I240:P240)<8,\"\",(ROUND((LEFT(I240,1)*'Criterios de Riesgo'!$F$8+LEFT(J240,1)*'Criterios de Riesgo'!$F$9+LEFT(K240,1)*'Criterios de Riesgo'!$F$10+LEFT(L240,1)*'Criterios de Riesgo'!$F$11+LEFT(M240,1)*'Criterios de Riesgo'!$F$12+LEFT(N240,1)*'Criterios de Riesgo'!$F$13+LEFT(O240,1)*'Criterios de Riesgo'!$F$14+LEFT(P240,1)*'Criterios de Riesgo'!$F$15),2))/5)","v":""},null,null,null,null,{"$f":"IF(COUNTA(S240:V240)<4,\"\",IF(V240=\"No\",\"No se usa\",VLOOKUP(ROUND((LEFT(S240,1)*'Criterios de Riesgo'!$C$13+LEFT(T240,1)*'Criterios de Riesgo'!$C$14+LEFT(U240,1)*'Criterios de Riesgo'!$C$15),2),Calif_Covertura,2,1)))","v":""},{"$f":"IF(COUNTA(S240:V240)<4,\"\",IF(V240=\"No\",0,(ROUND((LEFT(S240,1)*'Criterios de Riesgo'!$C$13+LEFT(T240,1)*'Criterios de Riesgo'!$C$14+LEFT(U240,1)*'Criterios de Riesgo'!$C$15),2))/5))","v":""},""]
[null,null,null,null,null,null,null,null,null,null,null,null,null,null,null,null,{"$f":"IF(COUNTA(I241:P241)<8,\"\",VLOOKUP(ROUND((LEFT(I241,1)*'Criterios de Riesgo'!$F$8+LEFT(J241,1)*'Criterios de Riesgo'!$F$9+LEFT(K241,1)*'Criterios de Riesgo'!$F$10+LEFT(L241,1)*'Criterios de Riesgo'!$F$11+LEFT(M241,1)*'Criterios de Riesgo'!$F$12+LEFT(N241,1)*'Criterios de Riesgo'!$F$13+LEFT(O241,1)*'Criterios de Riesgo'!$F$14+LEFT(P241,1)*'Criterios de Riesgo'!$F$15),2),Calif_Control,2,1))","v":""},{"$f":"IF(COUNTA(I241:P241)<8,\"\",(ROUND((LEFT(I241,1)*'Criterios de Riesgo'!$F$8+LEFT(J241,1)*'Criterios de Riesgo'!$F$9+LEFT(K241,1)*'Criterios de Riesgo'!$F$10+LEFT(L241,1)*'Criterios de Riesgo'!$F$11+LEFT(M241,1)*'Criterios de Riesgo'!$F$12+LEFT(N241,1)*'Criterios de Riesgo'!$F$13+LEFT(O241,1)*'Criterios de Riesgo'!$F$14+LEFT(P241,1)*'Criterios de Riesgo'!$F$15),2))/5)","v":""},null,null,null,null,{"$f":"IF(COUNTA(S241:V241)<4,\"\",IF(V241=\"No\",\"No se usa\",VLOOKUP(ROUND((LEFT(S241,1)*'Criterios de Riesgo'!$C$13+LEFT(T241,1)*'Criterios de Riesgo'!$C$14+LEFT(U241,1)*'Criterios de Riesgo'!$C$15),2),Calif_Covertura,2,1)))","v":""},{"$f":"IF(COUNTA(S241:V241)<4,\"\",IF(V241=\"No\",0,(ROUND((LEFT(S241,1)*'Criterios de Riesgo'!$C$13+LEFT(T241,1)*'Criterios de Riesgo'!$C$14+LEFT(U241,1)*'Criterios de Riesgo'!$C$15),2))/5))","v":""},""]
[null,null,null,null,null,null,null,null,null,null,null,null,null,null,null,null,{"$f":"IF(COUNTA(I242:P242)<8,\"\",VLOOKUP(ROUND((LEFT(I242,1)*'Criterios de Riesgo'!$F$8+LEFT(J242,1)*'Criterios de Riesgo'!$F$9+LEFT(K242,1)*'Criterios de Riesgo'!$F$10+LEFT(L242,1)*'Criterios de Riesgo'!$F$11+LEFT(M242,1)*'Criterios de Riesgo'!$F$12+LEFT(N242,1)*'Criterios de Riesgo'!$F$13+LEFT(O242,1)*'Criterios de Riesgo'!$F$14+LEFT(P242,1)*'Criterios de Riesgo'!$F$15),2),Calif_Control,2,1))","v":""},{"$f":"IF(COUNTA(I242:P242)<8,\"\",(ROUND((LEFT(I242,1)*'Criterios de Riesgo'!$F$8+LEFT(J242,1)*'Criterios de Riesgo'!$F$9+LEFT(K242,1)*'Criterios de Riesgo'!$F$10+LEFT(L242,1)*'Criterios de Riesgo'!$F$11+LEFT(M242,1)*'Criterios de Riesgo'!$F$12+LEFT(N242,1)*'Criterios de Riesgo'!$F$13+LEFT(O242,1)*'Criterios de Riesgo'!$F$14+LEFT(P242,1)*'Criterios de Riesgo'!$F$15),2))/5)","v":""},null,null,null,null,{"$f":"IF(COUNTA(S242:V242)<4,\"\",IF(V242=\"No\",\"No se usa\",VLOOKUP(ROUND((LEFT(S242,1)*'Criterios de Riesgo'!$C$13+LEFT(T242,1)*'Criterios de Riesgo'!$C$14+LEFT(U242,1)*'Criterios de Riesgo'!$C$15),2),Calif_Covertura,2,1)))","v":""},{"$f":"IF(COUNTA(S242:V242)<4,\"\",IF(V242=\"No\",0,(ROUND((LEFT(S242,1)*'Criterios de Riesgo'!$C$13+LEFT(T242,1)*'Criterios de Riesgo'!$C$14+LEFT(U242,1)*'Criterios de Riesgo'!$C$15),2))/5))","v":""},""]
[null,null,null,null,null,null,null,null,null,null,null,null,null,null,null,null,{"$f":"IF(COUNTA(I243:P243)<8,\"\",VLOOKUP(ROUND((LEFT(I243,1)*'Criterios de Riesgo'!$F$8+LEFT(J243,1)*'Criterios de Riesgo'!$F$9+LEFT(K243,1)*'Criterios de Riesgo'!$F$10+LEFT(L243,1)*'Criterios de Riesgo'!$F$11+LEFT(M243,1)*'Criterios de Riesgo'!$F$12+LEFT(N243,1)*'Criterios de Riesgo'!$F$13+LEFT(O243,1)*'Criterios de Riesgo'!$F$14+LEFT(P243,1)*'Criterios de Riesgo'!$F$15),2),Calif_Control,2,1))","v":""},{"$f":"IF(COUNTA(I243:P243)<8,\"\",(ROUND((LEFT(I243,1)*'Criterios de Riesgo'!$F$8+LEFT(J243,1)*'Criterios de Riesgo'!$F$9+LEFT(K243,1)*'Criterios de Riesgo'!$F$10+LEFT(L243,1)*'Criterios de Riesgo'!$F$11+LEFT(M243,1)*'Criterios de Riesgo'!$F$12+LEFT(N243,1)*'Criterios de Riesgo'!$F$13+LEFT(O243,1)*'Criterios de Riesgo'!$F$14+LEFT(P243,1)*'Criterios de Riesgo'!$F$15),2))/5)","v":""},null,null,null,null,{"$f":"IF(COUNTA(S243:V243)<4,\"\",IF(V243=\"No\",\"No se usa\",VLOOKUP(ROUND((LEFT(S243,1)*'Criterios de Riesgo'!$C$13+LEFT(T243,1)*'Criterios de Riesgo'!$C$14+LEFT(U243,1)*'Criterios de Riesgo'!$C$15),2),Calif_Covertura,2,1)))","v":""},{"$f":"IF(COUNTA(S243:V243)<4,\"\",IF(V243=\"No\",0,(ROUND((LEFT(S243,1)*'Criterios de Riesgo'!$C$13+LEFT(T243,1)*'Criterios de Riesgo'!$C$14+LEFT(U243,1)*'Criterios de Riesgo'!$C$15),2))/5))","v":""},""]
[null,null,null,null,null,null,null,null,null,null,null,null,null,null,null,null,{"$f":"IF(COUNTA(I244:P244)<8,\"\",VLOOKUP(ROUND((LEFT(I244,1)*'Criterios de Riesgo'!$F$8+LEFT(J244,1)*'Criterios de Riesgo'!$F$9+LEFT(K244,1)*'Criterios de Riesgo'!$F$10+LEFT(L244,1)*'Criterios de Riesgo'!$F$11+LEFT(M244,1)*'Criterios de Riesgo'!$F$12+LEFT(N244,1)*'Criterios de Riesgo'!$F$13+LEFT(O244,1)*'Criterios de Riesgo'!$F$14+LEFT(P244,1)*'Criterios de Riesgo'!$F$15),2),Calif_Control,2,1))","v":""},{"$f":"IF(COUNTA(I244:P244)<8,\"\",(ROUND((LEFT(I244,1)*'Criterios de Riesgo'!$F$8+LEFT(J244,1)*'Criterios de Riesgo'!$F$9+LEFT(K244,1)*'Criterios de Riesgo'!$F$10+LEFT(L244,1)*'Criterios de Riesgo'!$F$11+LEFT(M244,1)*'Criterios de Riesgo'!$F$12+LEFT(N244,1)*'Criterios de Riesgo'!$F$13+LEFT(O244,1)*'Criterios de Riesgo'!$F$14+LEFT(P244,1)*'Criterios de Riesgo'!$F$15),2))/5)","v":""},null,null,null,null,{"$f":"IF(COUNTA(S244:V244)<4,\"\",IF(V244=\"No\",\"No se usa\",VLOOKUP(ROUND((LEFT(S244,1)*'Criterios de Riesgo'!$C$13+LEFT(T244,1)*'Criterios de Riesgo'!$C$14+LEFT(U244,1)*'Criterios de Riesgo'!$C$15),2),Calif_Covertura,2,1)))","v":""},{"$f":"IF(COUNTA(S244:V244)<4,\"\",IF(V244=\"No\",0,(ROUND((LEFT(S244,1)*'Criterios de Riesgo'!$C$13+LEFT(T244,1)*'Criterios de Riesgo'!$C$14+LEFT(U244,1)*'Criterios de Riesgo'!$C$15),2))/5))","v":""},""]
["R",null,null,null,null,null,null,null,null,null,null,null,null,null,null,null,{"$f":"IF(COUNTA(I245:P245)<8,\"\",VLOOKUP(ROUND((LEFT(I245,1)*'Criterios de Riesgo'!$F$8+LEFT(J245,1)*'Criterios de Riesgo'!$F$9+LEFT(K245,1)*'Criterios de Riesgo'!$F$10+LEFT(L245,1)*'Criterios de Riesgo'!$F$11+LEFT(M245,1)*'Criterios de Riesgo'!$F$12+LEFT(N245,1)*'Criterios de Riesgo'!$F$13+LEFT(O245,1)*'Criterios de Riesgo'!$F$14+LEFT(P245,1)*'Criterios de Riesgo'!$F$15),2),Calif_Control,2,1))","v":""},{"$f":"IF(COUNTA(I245:P245)<8,\"\",(ROUND((LEFT(I245,1)*'Criterios de Riesgo'!$F$8+LEFT(J245,1)*'Criterios de Riesgo'!$F$9+LEFT(K245,1)*'Criterios de Riesgo'!$F$10+LEFT(L245,1)*'Criterios de Riesgo'!$F$11+LEFT(M245,1)*'Criterios de Riesgo'!$F$12+LEFT(N245,1)*'Criterios de Riesgo'!$F$13+LEFT(O245,1)*'Criterios de Riesgo'!$F$14+LEFT(P245,1)*'Criterios de Riesgo'!$F$15),2))/5)","v":""},null,null,null,null,{"$f":"IF(COUNTA(S245:V245)<4,\"\",IF(V245=\"No\",\"No se usa\",VLOOKUP(ROUND((LEFT(S245,1)*'Criterios de Riesgo'!$C$13+LEFT(T245,1)*'Criterios de Riesgo'!$C$14+LEFT(U245,1)*'Criterios de Riesgo'!$C$15),2),Calif_Covertura,2,1)))","v":""},{"$f":"IF(COUNTA(S245:V245)<4,\"\",IF(V245=\"No\",0,(ROUND((LEFT(S245,1)*'Criterios de Riesgo'!$C$13+LEFT(T245,1)*'Criterios de Riesgo'!$C$14+LEFT(U245,1)*'Criterios de Riesgo'!$C$15),2))/5))","v":""},"",null,{"$f":"IF(ISERROR((SUMIF(Z245:Z254,\"=impacto\",Y245:Y254)+SUMIF(Z245:Z254,\"=Ambos\",Y245:Y254))/(COUNTIF(Z245:Z254,\"Impacto\")+COUNTIF(Z245:Z254,\"Ambos\"))),\"\",(SUMIF(Z245:Z254,\"=impacto\",Y245:Y254)+SUMIF(Z245:Z254,\"=Ambos\",Y245:Y254))/(COUNTIF(Z245:Z254,\"Impacto\")+COUNTIF(Z245:Z254,\"Ambos\")))","v":""},{"$f":"IF(ISERROR((SUMIF(Z245:Z254,\"=Probabilidad\",Y245:Y254)+SUMIF(Z245:Z254,\"=Ambos\",Y245:Y254))/(COUNTIF(Z245:Z254,\"Probabilidad\")+COUNTIF(Z245:Z254,\"Ambos\"))),\"\",(SUMIF(Z245:Z254,\"=Probabilidad\",Y245:Y254)+SUMIF(Z245:Z254,\"=Ambos\",Y245:Y254))/(COUNTIF(Z245:Z254,\"Probabilidad\")+COUNTIF(Z245:Z254,\"Ambos\")))","v":""},{"$f":"IF(ISERROR(ROUND(IF(AB245=\"\",AA245,IF(AA245=\"\",AB245,IF(AND(AB245=\"\",AA245=\"\"),\"\",AB245*AA245)))*100,0)/100),\"\",ROUND(IF(AB245=\"\",AA245,IF(AA245=\"\",AB245,IF(AND(AB245=\"\",AA245=\"\"),\"\",AB245*AA245)))*100,0)/100)","v":""},{"$f":"IF(AC245=\"\",\"\",VLOOKUP(AC245*5,Calif_Control,2,1))","v":""}]
[null,null,null,null,null,null,null,null,null,null,null,null,null,null,null,null,{"$f":"IF(COUNTA(I246:P246)<8,\"\",VLOOKUP(ROUND((LEFT(I246,1)*'Criterios de Riesgo'!$F$8+LEFT(J246,1)*'Criterios de Riesgo'!$F$9+LEFT(K246,1)*'Criterios de Riesgo'!$F$10+LEFT(L246,1)*'Criterios de Riesgo'!$F$11+LEFT(M246,1)*'Criterios de Riesgo'!$F$12+LEFT(N246,1)*'Criterios de Riesgo'!$F$13+LEFT(O246,1)*'Criterios de Riesgo'!$F$14+LEFT(P246,1)*'Criterios de Riesgo'!$F$15),2),Calif_Control,2,1))","v":""},{"$f":"IF(COUNTA(I246:P246)<8,\"\",(ROUND((LEFT(I246,1)*'Criterios de Riesgo'!$F$8+LEFT(J246,1)*'Criterios de Riesgo'!$F$9+LEFT(K246,1)*'Criterios de Riesgo'!$F$10+LEFT(L246,1)*'Criterios de Riesgo'!$F$11+LEFT(M246,1)*'Criterios de Riesgo'!$F$12+LEFT(N246,1)*'Criterios de Riesgo'!$F$13+LEFT(O246,1)*'Criterios de Riesgo'!$F$14+LEFT(P246,1)*'Criterios de Riesgo'!$F$15),2))/5)","v":""},null,null,null,null,{"$f":"IF(COUNTA(S246:V246)<4,\"\",IF(V246=\"No\",\"No se usa\",VLOOKUP(ROUND((LEFT(S246,1)*'Criterios de Riesgo'!$C$13+LEFT(T246,1)*'Criterios de Riesgo'!$C$14+LEFT(U246,1)*'Criterios de Riesgo'!$C$15),2),Calif_Covertura,2,1)))","v":""},{"$f":"IF(COUNTA(S246:V246)<4,\"\",IF(V246=\"No\",0,(ROUND((LEFT(S246,1)*'Criterios de Riesgo'!$C$13+LEFT(T246,1)*'Criterios de Riesgo'!$C$14+LEFT(U246,1)*'Criterios de Riesgo'!$C$15),2))/5))","v":""},""]
[null,null,null,null,null,null,null,null,null,null,null,null,null,null,null,null,{"$f":"IF(COUNTA(I247:P247)<8,\"\",VLOOKUP(ROUND((LEFT(I247,1)*'Criterios de Riesgo'!$F$8+LEFT(J247,1)*'Criterios de Riesgo'!$F$9+LEFT(K247,1)*'Criterios de Riesgo'!$F$10+LEFT(L247,1)*'Criterios de Riesgo'!$F$11+LEFT(M247,1)*'Criterios de Riesgo'!$F$12+LEFT(N247,1)*'Criterios de Riesgo'!$F$13+LEFT(O247,1)*'Criterios de Riesgo'!$F$14+LEFT(P247,1)*'Criterios de Riesgo'!$F$15),2),Calif_Control,2,1))","v":""},{"$f":"IF(COUNTA(I247:P247)<8,\"\",(ROUND((LEFT(I247,1)*'Criterios de Riesgo'!$F$8+LEFT(J247,1)*'Criterios de Riesgo'!$F$9+LEFT(K247,1)*'Criterios de Riesgo'!$F$10+LEFT(L247,1)*'Criterios de Riesgo'!$F$11+LEFT(M247,1)*'Criterios de Riesgo'!$F$12+LEFT(N247,1)*'Criterios de Riesgo'!$F$13+LEFT(O247,1)*'Criterios de Riesgo'!$F$14+LEFT(P247,1)*'Criterios de Riesgo'!$F$15),2))/5)","v":""},null,null,null,null,{"$f":"IF(COUNTA(S247:V247)<4,\"\",IF(V247=\"No\",\"No se usa\",VLOOKUP(ROUND((LEFT(S247,1)*'Criterios de Riesgo'!$C$13+LEFT(T247,1)*'Criterios de Riesgo'!$C$14+LEFT(U247,1)*'Criterios de Riesgo'!$C$15),2),Calif_Covertura,2,1)))","v":""},{"$f":"IF(COUNTA(S247:V247)<4,\"\",IF(V247=\"No\",0,(ROUND((LEFT(S247,1)*'Criterios de Riesgo'!$C$13+LEFT(T247,1)*'Criterios de Riesgo'!$C$14+LEFT(U247,1)*'Criterios de Riesgo'!$C$15),2))/5))","v":""},""]
[null,null,null,null,null,null,null,null,null,null,null,null,null,null,null,null,{"$f":"IF(COUNTA(I248:P248)<8,\"\",VLOOKUP(ROUND((LEFT(I248,1)*'Criterios de Riesgo'!$F$8+LEFT(J248,1)*'Criterios de Riesgo'!$F$9+LEFT(K248,1)*'Criterios de Riesgo'!$F$10+LEFT(L248,1)*'Criterios de Riesgo'!$F$11+LEFT(M248,1)*'Criterios de Riesgo'!$F$12+LEFT(N248,1)*'Criterios de Riesgo'!$F$13+LEFT(O248,1)*'Criterios de Riesgo'!$F$14+LEFT(P248,1)*'Criterios de Riesgo'!$F$15),2),Calif_Control,2,1))","v":""},{"$f":"IF(COUNTA(I248:P248)<8,\"\",(ROUND((LEFT(I248,1)*'Criterios de Riesgo'!$F$8+LEFT(J248,1)*'Criterios de Riesgo'!$F$9+LEFT(K248,1)*'Criterios de Riesgo'!$F$10+LEFT(L248,1)*'Criterios de Riesgo'!$F$11+LEFT(M248,1)*'Criterios de Riesgo'!$F$12+LEFT(N248,1)*'Criterios de Riesgo'!$F$13+LEFT(O248,1)*'Criterios de Riesgo'!$F$14+LEFT(P248,1)*'Criterios de Riesgo'!$F$15),2))/5)","v":""},null,null,null,null,{"$f":"IF(COUNTA(S248:V248)<4,\"\",IF(V248=\"No\",\"No se usa\",VLOOKUP(ROUND((LEFT(S248,1)*'Criterios de Riesgo'!$C$13+LEFT(T248,1)*'Criterios de Riesgo'!$C$14+LEFT(U248,1)*'Criterios de Riesgo'!$C$15),2),Calif_Covertura,2,1)))","v":""},{"$f":"IF(COUNTA(S248:V248)<4,\"\",IF(V248=\"No\",0,(ROUND((LEFT(S248,1)*'Criterios de Riesgo'!$C$13+LEFT(T248,1)*'Criterios de Riesgo'!$C$14+LEFT(U248,1)*'Criterios de Riesgo'!$C$15),2))/5))","v":""},""]
[null,null,null,null,null,null,null,null,null,null,null,null,null,null,null,null,{"$f":"IF(COUNTA(I249:P249)<8,\"\",VLOOKUP(ROUND((LEFT(I249,1)*'Criterios de Riesgo'!$F$8+LEFT(J249,1)*'Criterios de Riesgo'!$F$9+LEFT(K249,1)*'Criterios de Riesgo'!$F$10+LEFT(L249,1)*'Criterios de Riesgo'!$F$11+LEFT(M249,1)*'Criterios de Riesgo'!$F$12+LEFT(N249,1)*'Criterios de Riesgo'!$F$13+LEFT(O249,1)*'Criterios de Riesgo'!$F$14+LEFT(P249,1)*'Criterios de Riesgo'!$F$15),2),Calif_Control,2,1))","v":""},{"$f":"IF(COUNTA(I249:P249)<8,\"\",(ROUND((LEFT(I249,1)*'Criterios de Riesgo'!$F$8+LEFT(J249,1)*'Criterios de Riesgo'!$F$9+LEFT(K249,1)*'Criterios de Riesgo'!$F$10+LEFT(L249,1)*'Criterios de Riesgo'!$F$11+LEFT(M249,1)*'Criterios de Riesgo'!$F$12+LEFT(N249,1)*'Criterios de Riesgo'!$F$13+LEFT(O249,1)*'Criterios de Riesgo'!$F$14+LEFT(P249,1)*'Criterios de Riesgo'!$F$15),2))/5)","v":""},null,null,null,null,{"$f":"IF(COUNTA(S249:V249)<4,\"\",IF(V249=\"No\",\"No se usa\",VLOOKUP(ROUND((LEFT(S249,1)*'Criterios de Riesgo'!$C$13+LEFT(T249,1)*'Criterios de Riesgo'!$C$14+LEFT(U249,1)*'Criterios de Riesgo'!$C$15),2),Calif_Covertura,2,1)))","v":""},{"$f":"IF(COUNTA(S249:V249)<4,\"\",IF(V249=\"No\",0,(ROUND((LEFT(S249,1)*'Criterios de Riesgo'!$C$13+LEFT(T249,1)*'Criterios de Riesgo'!$C$14+LEFT(U249,1)*'Criterios de Riesgo'!$C$15),2))/5))","v":""},""]
[null,null,null,null,null,null,null,null,null,null,null,null,null,null,null,null,{"$f":"IF(COUNTA(I250:P250)<8,\"\",VLOOKUP(ROUND((LEFT(I250,1)*'Criterios de Riesgo'!$F$8+LEFT(J250,1)*'Criterios de Riesgo'!$F$9+LEFT(K250,1)*'Criterios de Riesgo'!$F$10+LEFT(L250,1)*'Criterios de Riesgo'!$F$11+LEFT(M250,1)*'Criterios de Riesgo'!$F$12+LEFT(N250,1)*'Criterios de Riesgo'!$F$13+LEFT(O250,1)*'Criterios de Riesgo'!$F$14+LEFT(P250,1)*'Criterios de Riesgo'!$F$15),2),Calif_Control,2,1))","v":""},{"$f":"IF(COUNTA(I250:P250)<8,\"\",(ROUND((LEFT(I250,1)*'Criterios de Riesgo'!$F$8+LEFT(J250,1)*'Criterios de Riesgo'!$F$9+LEFT(K250,1)*'Criterios de Riesgo'!$F$10+LEFT(L250,1)*'Criterios de Riesgo'!$F$11+LEFT(M250,1)*'Criterios de Riesgo'!$F$12+LEFT(N250,1)*'Criterios de Riesgo'!$F$13+LEFT(O250,1)*'Criterios de Riesgo'!$F$14+LEFT(P250,1)*'Criterios de Riesgo'!$F$15),2))/5)","v":""},null,null,null,null,{"$f":"IF(COUNTA(S250:V250)<4,\"\",IF(V250=\"No\",\"No se usa\",VLOOKUP(ROUND((LEFT(S250,1)*'Criterios de Riesgo'!$C$13+LEFT(T250,1)*'Criterios de Riesgo'!$C$14+LEFT(U250,1)*'Criterios de Riesgo'!$C$15),2),Calif_Covertura,2,1)))","v":""},{"$f":"IF(COUNTA(S250:V250)<4,\"\",IF(V250=\"No\",0,(ROUND((LEFT(S250,1)*'Criterios de Riesgo'!$C$13+LEFT(T250,1)*'Criterios de Riesgo'!$C$14+LEFT(U250,1)*'Criterios de Riesgo'!$C$15),2))/5))","v":""},""]
[null,null,null,null,null,null,null,null,null,null,null,null,null,null,null,null,{"$f":"IF(COUNTA(I251:P251)<8,\"\",VLOOKUP(ROUND((LEFT(I251,1)*'Criterios de Riesgo'!$F$8+LEFT(J251,1)*'Criterios de Riesgo'!$F$9+LEFT(K251,1)*'Criterios de Riesgo'!$F$10+LEFT(L251,1)*'Criterios de Riesgo'!$F$11+LEFT(M251,1)*'Criterios de Riesgo'!$F$12+LEFT(N251,1)*'Criterios de Riesgo'!$F$13+LEFT(O251,1)*'Criterios de Riesgo'!$F$14+LEFT(P251,1)*'Criterios de Riesgo'!$F$15),2),Calif_Control,2,1))","v":""},{"$f":"IF(COUNTA(I251:P251)<8,\"\",(ROUND((LEFT(I251,1)*'Criterios de Riesgo'!$F$8+LEFT(J251,1)*'Criterios de Riesgo'!$F$9+LEFT(K251,1)*'Criterios de Riesgo'!$F$10+LEFT(L251,1)*'Criterios de Riesgo'!$F$11+LEFT(M251,1)*'Criterios de Riesgo'!$F$12+LEFT(N251,1)*'Criterios de Riesgo'!$F$13+LEFT(O251,1)*'Criterios de Riesgo'!$F$14+LEFT(P251,1)*'Criterios de Riesgo'!$F$15),2))/5)","v":""},null,null,null,null,{"$f":"IF(COUNTA(S251:V251)<4,\"\",IF(V251=\"No\",\"No se usa\",VLOOKUP(ROUND((LEFT(S251,1)*'Criterios de Riesgo'!$C$13+LEFT(T251,1)*'Criterios de Riesgo'!$C$14+LEFT(U251,1)*'Criterios de Riesgo'!$C$15),2),Calif_Covertura,2,1)))","v":""},{"$f":"IF(COUNTA(S251:V251)<4,\"\",IF(V251=\"No\",0,(ROUND((LEFT(S251,1)*'Criterios de Riesgo'!$C$13+LEFT(T251,1)*'Criterios de Riesgo'!$C$14+LEFT(U251,1)*'Criterios de Riesgo'!$C$15),2))/5))","v":""},""]
[null,null,null,null,null,null,null,null,null,null,null,null,null,null,null,null,{"$f":"IF(COUNTA(I252:P252)<8,\"\",VLOOKUP(ROUND((LEFT(I252,1)*'Criterios de Riesgo'!$F$8+LEFT(J252,1)*'Criterios de Riesgo'!$F$9+LEFT(K252,1)*'Criterios de Riesgo'!$F$10+LEFT(L252,1)*'Criterios de Riesgo'!$F$11+LEFT(M252,1)*'Criterios de Riesgo'!$F$12+LEFT(N252,1)*'Criterios de Riesgo'!$F$13+LEFT(O252,1)*'Criterios de Riesgo'!$F$14+LEFT(P252,1)*'Criterios de Riesgo'!$F$15),2),Calif_Control,2,1))","v":""},{"$f":"IF(COUNTA(I252:P252)<8,\"\",(ROUND((LEFT(I252,1)*'Criterios de Riesgo'!$F$8+LEFT(J252,1)*'Criterios de Riesgo'!$F$9+LEFT(K252,1)*'Criterios de Riesgo'!$F$10+LEFT(L252,1)*'Criterios de Riesgo'!$F$11+LEFT(M252,1)*'Criterios de Riesgo'!$F$12+LEFT(N252,1)*'Criterios de Riesgo'!$F$13+LEFT(O252,1)*'Criterios de Riesgo'!$F$14+LEFT(P252,1)*'Criterios de Riesgo'!$F$15),2))/5)","v":""},null,null,null,null,{"$f":"IF(COUNTA(S252:V252)<4,\"\",IF(V252=\"No\",\"No se usa\",VLOOKUP(ROUND((LEFT(S252,1)*'Criterios de Riesgo'!$C$13+LEFT(T252,1)*'Criterios de Riesgo'!$C$14+LEFT(U252,1)*'Criterios de Riesgo'!$C$15),2),Calif_Covertura,2,1)))","v":""},{"$f":"IF(COUNTA(S252:V252)<4,\"\",IF(V252=\"No\",0,(ROUND((LEFT(S252,1)*'Criterios de Riesgo'!$C$13+LEFT(T252,1)*'Criterios de Riesgo'!$C$14+LEFT(U252,1)*'Criterios de Riesgo'!$C$15),2))/5))","v":""},""]
[null,null,null,null,null,null,null,null,null,null,null,null,null,null,null,null,{"$f":"IF(COUNTA(I253:P253)<8,\"\",VLOOKUP(ROUND((LEFT(I253,1)*'Criterios de Riesgo'!$F$8+LEFT(J253,1)*'Criterios de Riesgo'!$F$9+LEFT(K253,1)*'Criterios de Riesgo'!$F$10+LEFT(L253,1)*'Criterios de Riesgo'!$F$11+LEFT(M253,1)*'Criterios de Riesgo'!$F$12+LEFT(N253,1)*'Criterios de Riesgo'!$F$13+LEFT(O253,1)*'Criterios de Riesgo'!$F$14+LEFT(P253,1)*'Criterios de Riesgo'!$F$15),2),Calif_Control,2,1))","v":""},{"$f":"IF(COUNTA(I253:P253)<8,\"\",(ROUND((LEFT(I253,1)*'Criterios de Riesgo'!$F$8+LEFT(J253,1)*'Criterios de Riesgo'!$F$9+LEFT(K253,1)*'Criterios de Riesgo'!$F$10+LEFT(L253,1)*'Criterios de Riesgo'!$F$11+LEFT(M253,1)*'Criterios de Riesgo'!$F$12+LEFT(N253,1)*'Criterios de Riesgo'!$F$13+LEFT(O253,1)*'Criterios de Riesgo'!$F$14+LEFT(P253,1)*'Criterios de Riesgo'!$F$15),2))/5)","v":""},null,null,null,null,{"$f":"IF(COUNTA(S253:V253)<4,\"\",IF(V253=\"No\",\"No se usa\",VLOOKUP(ROUND((LEFT(S253,1)*'Criterios de Riesgo'!$C$13+LEFT(T253,1)*'Criterios de Riesgo'!$C$14+LEFT(U253,1)*'Criterios de Riesgo'!$C$15),2),Calif_Covertura,2,1)))","v":""},{"$f":"IF(COUNTA(S253:V253)<4,\"\",IF(V253=\"No\",0,(ROUND((LEFT(S253,1)*'Criterios de Riesgo'!$C$13+LEFT(T253,1)*'Criterios de Riesgo'!$C$14+LEFT(U253,1)*'Criterios de Riesgo'!$C$15),2))/5))","v":""},""]
[null,null,null,null,null,null,null,null,null,null,null,null,null,null,null,null,{"$f":"IF(COUNTA(I254:P254)<8,\"\",VLOOKUP(ROUND((LEFT(I254,1)*'Criterios de Riesgo'!$F$8+LEFT(J254,1)*'Criterios de Riesgo'!$F$9+LEFT(K254,1)*'Criterios de Riesgo'!$F$10+LEFT(L254,1)*'Criterios de Riesgo'!$F$11+LEFT(M254,1)*'Criterios de Riesgo'!$F$12+LEFT(N254,1)*'Criterios de Riesgo'!$F$13+LEFT(O254,1)*'Criterios de Riesgo'!$F$14+LEFT(P254,1)*'Criterios de Riesgo'!$F$15),2),Calif_Control,2,1))","v":""},{"$f":"IF(COUNTA(I254:P254)<8,\"\",(ROUND((LEFT(I254,1)*'Criterios de Riesgo'!$F$8+LEFT(J254,1)*'Criterios de Riesgo'!$F$9+LEFT(K254,1)*'Criterios de Riesgo'!$F$10+LEFT(L254,1)*'Criterios de Riesgo'!$F$11+LEFT(M254,1)*'Criterios de Riesgo'!$F$12+LEFT(N254,1)*'Criterios de Riesgo'!$F$13+LEFT(O254,1)*'Criterios de Riesgo'!$F$14+LEFT(P254,1)*'Criterios de Riesgo'!$F$15),2))/5)","v":""},null,null,null,null,{"$f":"IF(COUNTA(S254:V254)<4,\"\",IF(V254=\"No\",\"No se usa\",VLOOKUP(ROUND((LEFT(S254,1)*'Criterios de Riesgo'!$C$13+LEFT(T254,1)*'Criterios de Riesgo'!$C$14+LEFT(U254,1)*'Criterios de Riesgo'!$C$15),2),Calif_Covertura,2,1)))","v":""},{"$f":"IF(COUNTA(S254:V254)<4,\"\",IF(V254=\"No\",0,(ROUND((LEFT(S254,1)*'Criterios de Riesgo'!$C$13+LEFT(T254,1)*'Criterios de Riesgo'!$C$14+LEFT(U254,1)*'Criterios de Riesgo'!$C$15),2))/5))","v":""},""]
["R",null,null,null,null,null,null,null,null,null,null,null,null,null,null,null,{"$f":"IF(COUNTA(I255:P255)<8,\"\",VLOOKUP(ROUND((LEFT(I255,1)*'Criterios de Riesgo'!$F$8+LEFT(J255,1)*'Criterios de Riesgo'!$F$9+LEFT(K255,1)*'Criterios de Riesgo'!$F$10+LEFT(L255,1)*'Criterios de Riesgo'!$F$11+LEFT(M255,1)*'Criterios de Riesgo'!$F$12+LEFT(N255,1)*'Criterios de Riesgo'!$F$13+LEFT(O255,1)*'Criterios de Riesgo'!$F$14+LEFT(P255,1)*'Criterios de Riesgo'!$F$15),2),Calif_Control,2,1))","v":""},{"$f":"IF(COUNTA(I255:P255)<8,\"\",(ROUND((LEFT(I255,1)*'Criterios de Riesgo'!$F$8+LEFT(J255,1)*'Criterios de Riesgo'!$F$9+LEFT(K255,1)*'Criterios de Riesgo'!$F$10+LEFT(L255,1)*'Criterios de Riesgo'!$F$11+LEFT(M255,1)*'Criterios de Riesgo'!$F$12+LEFT(N255,1)*'Criterios de Riesgo'!$F$13+LEFT(O255,1)*'Criterios de Riesgo'!$F$14+LEFT(P255,1)*'Criterios de Riesgo'!$F$15),2))/5)","v":""},null,null,null,null,{"$f":"IF(COUNTA(S255:V255)<4,\"\",IF(V255=\"No\",\"No se usa\",VLOOKUP(ROUND((LEFT(S255,1)*'Criterios de Riesgo'!$C$13+LEFT(T255,1)*'Criterios de Riesgo'!$C$14+LEFT(U255,1)*'Criterios de Riesgo'!$C$15),2),Calif_Covertura,2,1)))","v":""},{"$f":"IF(COUNTA(S255:V255)<4,\"\",IF(V255=\"No\",0,(ROUND((LEFT(S255,1)*'Criterios de Riesgo'!$C$13+LEFT(T255,1)*'Criterios de Riesgo'!$C$14+LEFT(U255,1)*'Criterios de Riesgo'!$C$15),2))/5))","v":""},"",null,{"$f":"IF(ISERROR((SUMIF(Z255:Z264,\"=impacto\",Y255:Y264)+SUMIF(Z255:Z264,\"=Ambos\",Y255:Y264))/(COUNTIF(Z255:Z264,\"Impacto\")+COUNTIF(Z255:Z264,\"Ambos\"))),\"\",(SUMIF(Z255:Z264,\"=impacto\",Y255:Y264)+SUMIF(Z255:Z264,\"=Ambos\",Y255:Y264))/(COUNTIF(Z255:Z264,\"Impacto\")+COUNTIF(Z255:Z264,\"Ambos\")))","v":""},{"$f":"IF(ISERROR((SUMIF(Z255:Z264,\"=Probabilidad\",Y255:Y264)+SUMIF(Z255:Z264,\"=Ambos\",Y255:Y264))/(COUNTIF(Z255:Z264,\"Probabilidad\")+COUNTIF(Z255:Z264,\"Ambos\"))),\"\",(SUMIF(Z255:Z264,\"=Probabilidad\",Y255:Y264)+SUMIF(Z255:Z264,\"=Ambos\",Y255:Y264))/(COUNTIF(Z255:Z264,\"Probabilidad\")+COUNTIF(Z255:Z264,\"Ambos\")))","v":""},{"$f":"IF(ISERROR(ROUND(IF(AB255=\"\",AA255,IF(AA255=\"\",AB255,IF(AND(AB255=\"\",AA255=\"\"),\"\",AB255*AA255)))*100,0)/100),\"\",ROUND(IF(AB255=\"\",AA255,IF(AA255=\"\",AB255,IF(AND(AB255=\"\",AA255=\"\"),\"\",AB255*AA255)))*100,0)/100)","v":""},{"$f":"IF(AC255=\"\",\"\",VLOOKUP(AC255*5,Calif_Control,2,1))","v":""}]
[null,null,null,null,null,null,null,null,null,null,null,null,null,null,null,null,{"$f":"IF(COUNTA(I256:P256)<8,\"\",VLOOKUP(ROUND((LEFT(I256,1)*'Criterios de Riesgo'!$F$8+LEFT(J256,1)*'Criterios de Riesgo'!$F$9+LEFT(K256,1)*'Criterios de Riesgo'!$F$10+LEFT(L256,1)*'Criterios de Riesgo'!$F$11+LEFT(M256,1)*'Criterios de Riesgo'!$F$12+LEFT(N256,1)*'Criterios de Riesgo'!$F$13+LEFT(O256,1)*'Criterios de Riesgo'!$F$14+LEFT(P256,1)*'Criterios de Riesgo'!$F$15),2),Calif_Control,2,1))","v":""},{"$f":"IF(COUNTA(I256:P256)<8,\"\",(ROUND((LEFT(I256,1)*'Criterios de Riesgo'!$F$8+LEFT(J256,1)*'Criterios de Riesgo'!$F$9+LEFT(K256,1)*'Criterios de Riesgo'!$F$10+LEFT(L256,1)*'Criterios de Riesgo'!$F$11+LEFT(M256,1)*'Criterios de Riesgo'!$F$12+LEFT(N256,1)*'Criterios de Riesgo'!$F$13+LEFT(O256,1)*'Criterios de Riesgo'!$F$14+LEFT(P256,1)*'Criterios de Riesgo'!$F$15),2))/5)","v":""},null,null,null,null,{"$f":"IF(COUNTA(S256:V256)<4,\"\",IF(V256=\"No\",\"No se usa\",VLOOKUP(ROUND((LEFT(S256,1)*'Criterios de Riesgo'!$C$13+LEFT(T256,1)*'Criterios de Riesgo'!$C$14+LEFT(U256,1)*'Criterios de Riesgo'!$C$15),2),Calif_Covertura,2,1)))","v":""},{"$f":"IF(COUNTA(S256:V256)<4,\"\",IF(V256=\"No\",0,(ROUND((LEFT(S256,1)*'Criterios de Riesgo'!$C$13+LEFT(T256,1)*'Criterios de Riesgo'!$C$14+LEFT(U256,1)*'Criterios de Riesgo'!$C$15),2))/5))","v":""},""]
[null,null,null,null,null,null,null,null,null,null,null,null,null,null,null,null,{"$f":"IF(COUNTA(I257:P257)<8,\"\",VLOOKUP(ROUND((LEFT(I257,1)*'Criterios de Riesgo'!$F$8+LEFT(J257,1)*'Criterios de Riesgo'!$F$9+LEFT(K257,1)*'Criterios de Riesgo'!$F$10+LEFT(L257,1)*'Criterios de Riesgo'!$F$11+LEFT(M257,1)*'Criterios de Riesgo'!$F$12+LEFT(N257,1)*'Criterios de Riesgo'!$F$13+LEFT(O257,1)*'Criterios de Riesgo'!$F$14+LEFT(P257,1)*'Criterios de Riesgo'!$F$15),2),Calif_Control,2,1))","v":""},{"$f":"IF(COUNTA(I257:P257)<8,\"\",(ROUND((LEFT(I257,1)*'Criterios de Riesgo'!$F$8+LEFT(J257,1)*'Criterios de Riesgo'!$F$9+LEFT(K257,1)*'Criterios de Riesgo'!$F$10+LEFT(L257,1)*'Criterios de Riesgo'!$F$11+LEFT(M257,1)*'Criterios de Riesgo'!$F$12+LEFT(N257,1)*'Criterios de Riesgo'!$F$13+LEFT(O257,1)*'Criterios de Riesgo'!$F$14+LEFT(P257,1)*'Criterios de Riesgo'!$F$15),2))/5)","v":""},null,null,null,null,{"$f":"IF(COUNTA(S257:V257)<4,\"\",IF(V257=\"No\",\"No se usa\",VLOOKUP(ROUND((LEFT(S257,1)*'Criterios de Riesgo'!$C$13+LEFT(T257,1)*'Criterios de Riesgo'!$C$14+LEFT(U257,1)*'Criterios de Riesgo'!$C$15),2),Calif_Covertura,2,1)))","v":""},{"$f":"IF(COUNTA(S257:V257)<4,\"\",IF(V257=\"No\",0,(ROUND((LEFT(S257,1)*'Criterios de Riesgo'!$C$13+LEFT(T257,1)*'Criterios de Riesgo'!$C$14+LEFT(U257,1)*'Criterios de Riesgo'!$C$15),2))/5))","v":""},""]
[null,null,null,null,null,null,null,null,null,null,null,null,null,null,null,null,{"$f":"IF(COUNTA(I258:P258)<8,\"\",VLOOKUP(ROUND((LEFT(I258,1)*'Criterios de Riesgo'!$F$8+LEFT(J258,1)*'Criterios de Riesgo'!$F$9+LEFT(K258,1)*'Criterios de Riesgo'!$F$10+LEFT(L258,1)*'Criterios de Riesgo'!$F$11+LEFT(M258,1)*'Criterios de Riesgo'!$F$12+LEFT(N258,1)*'Criterios de Riesgo'!$F$13+LEFT(O258,1)*'Criterios de Riesgo'!$F$14+LEFT(P258,1)*'Criterios de Riesgo'!$F$15),2),Calif_Control,2,1))","v":""},{"$f":"IF(COUNTA(I258:P258)<8,\"\",(ROUND((LEFT(I258,1)*'Criterios de Riesgo'!$F$8+LEFT(J258,1)*'Criterios de Riesgo'!$F$9+LEFT(K258,1)*'Criterios de Riesgo'!$F$10+LEFT(L258,1)*'Criterios de Riesgo'!$F$11+LEFT(M258,1)*'Criterios de Riesgo'!$F$12+LEFT(N258,1)*'Criterios de Riesgo'!$F$13+LEFT(O258,1)*'Criterios de Riesgo'!$F$14+LEFT(P258,1)*'Criterios de Riesgo'!$F$15),2))/5)","v":""},null,null,null,null,{"$f":"IF(COUNTA(S258:V258)<4,\"\",IF(V258=\"No\",\"No se usa\",VLOOKUP(ROUND((LEFT(S258,1)*'Criterios de Riesgo'!$C$13+LEFT(T258,1)*'Criterios de Riesgo'!$C$14+LEFT(U258,1)*'Criterios de Riesgo'!$C$15),2),Calif_Covertura,2,1)))","v":""},{"$f":"IF(COUNTA(S258:V258)<4,\"\",IF(V258=\"No\",0,(ROUND((LEFT(S258,1)*'Criterios de Riesgo'!$C$13+LEFT(T258,1)*'Criterios de Riesgo'!$C$14+LEFT(U258,1)*'Criterios de Riesgo'!$C$15),2))/5))","v":""},""]
[null,null,null,null,null,null,null,null,null,null,null,null,null,null,null,null,{"$f":"IF(COUNTA(I259:P259)<8,\"\",VLOOKUP(ROUND((LEFT(I259,1)*'Criterios de Riesgo'!$F$8+LEFT(J259,1)*'Criterios de Riesgo'!$F$9+LEFT(K259,1)*'Criterios de Riesgo'!$F$10+LEFT(L259,1)*'Criterios de Riesgo'!$F$11+LEFT(M259,1)*'Criterios de Riesgo'!$F$12+LEFT(N259,1)*'Criterios de Riesgo'!$F$13+LEFT(O259,1)*'Criterios de Riesgo'!$F$14+LEFT(P259,1)*'Criterios de Riesgo'!$F$15),2),Calif_Control,2,1))","v":""},{"$f":"IF(COUNTA(I259:P259)<8,\"\",(ROUND((LEFT(I259,1)*'Criterios de Riesgo'!$F$8+LEFT(J259,1)*'Criterios de Riesgo'!$F$9+LEFT(K259,1)*'Criterios de Riesgo'!$F$10+LEFT(L259,1)*'Criterios de Riesgo'!$F$11+LEFT(M259,1)*'Criterios de Riesgo'!$F$12+LEFT(N259,1)*'Criterios de Riesgo'!$F$13+LEFT(O259,1)*'Criterios de Riesgo'!$F$14+LEFT(P259,1)*'Criterios de Riesgo'!$F$15),2))/5)","v":""},null,null,null,null,{"$f":"IF(COUNTA(S259:V259)<4,\"\",IF(V259=\"No\",\"No se usa\",VLOOKUP(ROUND((LEFT(S259,1)*'Criterios de Riesgo'!$C$13+LEFT(T259,1)*'Criterios de Riesgo'!$C$14+LEFT(U259,1)*'Criterios de Riesgo'!$C$15),2),Calif_Covertura,2,1)))","v":""},{"$f":"IF(COUNTA(S259:V259)<4,\"\",IF(V259=\"No\",0,(ROUND((LEFT(S259,1)*'Criterios de Riesgo'!$C$13+LEFT(T259,1)*'Criterios de Riesgo'!$C$14+LEFT(U259,1)*'Criterios de Riesgo'!$C$15),2))/5))","v":""},""]
[null,null,null,null,null,null,null,null,null,null,null,null,null,null,null,null,{"$f":"IF(COUNTA(I260:P260)<8,\"\",VLOOKUP(ROUND((LEFT(I260,1)*'Criterios de Riesgo'!$F$8+LEFT(J260,1)*'Criterios de Riesgo'!$F$9+LEFT(K260,1)*'Criterios de Riesgo'!$F$10+LEFT(L260,1)*'Criterios de Riesgo'!$F$11+LEFT(M260,1)*'Criterios de Riesgo'!$F$12+LEFT(N260,1)*'Criterios de Riesgo'!$F$13+LEFT(O260,1)*'Criterios de Riesgo'!$F$14+LEFT(P260,1)*'Criterios de Riesgo'!$F$15),2),Calif_Control,2,1))","v":""},{"$f":"IF(COUNTA(I260:P260)<8,\"\",(ROUND((LEFT(I260,1)*'Criterios de Riesgo'!$F$8+LEFT(J260,1)*'Criterios de Riesgo'!$F$9+LEFT(K260,1)*'Criterios de Riesgo'!$F$10+LEFT(L260,1)*'Criterios de Riesgo'!$F$11+LEFT(M260,1)*'Criterios de Riesgo'!$F$12+LEFT(N260,1)*'Criterios de Riesgo'!$F$13+LEFT(O260,1)*'Criterios de Riesgo'!$F$14+LEFT(P260,1)*'Criterios de Riesgo'!$F$15),2))/5)","v":""},null,null,null,null,{"$f":"IF(COUNTA(S260:V260)<4,\"\",IF(V260=\"No\",\"No se usa\",VLOOKUP(ROUND((LEFT(S260,1)*'Criterios de Riesgo'!$C$13+LEFT(T260,1)*'Criterios de Riesgo'!$C$14+LEFT(U260,1)*'Criterios de Riesgo'!$C$15),2),Calif_Covertura,2,1)))","v":""},{"$f":"IF(COUNTA(S260:V260)<4,\"\",IF(V260=\"No\",0,(ROUND((LEFT(S260,1)*'Criterios de Riesgo'!$C$13+LEFT(T260,1)*'Criterios de Riesgo'!$C$14+LEFT(U260,1)*'Criterios de Riesgo'!$C$15),2))/5))","v":""},""]
[null,null,null,null,null,null,null,null,null,null,null,null,null,null,null,null,{"$f":"IF(COUNTA(I261:P261)<8,\"\",VLOOKUP(ROUND((LEFT(I261,1)*'Criterios de Riesgo'!$F$8+LEFT(J261,1)*'Criterios de Riesgo'!$F$9+LEFT(K261,1)*'Criterios de Riesgo'!$F$10+LEFT(L261,1)*'Criterios de Riesgo'!$F$11+LEFT(M261,1)*'Criterios de Riesgo'!$F$12+LEFT(N261,1)*'Criterios de Riesgo'!$F$13+LEFT(O261,1)*'Criterios de Riesgo'!$F$14+LEFT(P261,1)*'Criterios de Riesgo'!$F$15),2),Calif_Control,2,1))","v":""},{"$f":"IF(COUNTA(I261:P261)<8,\"\",(ROUND((LEFT(I261,1)*'Criterios de Riesgo'!$F$8+LEFT(J261,1)*'Criterios de Riesgo'!$F$9+LEFT(K261,1)*'Criterios de Riesgo'!$F$10+LEFT(L261,1)*'Criterios de Riesgo'!$F$11+LEFT(M261,1)*'Criterios de Riesgo'!$F$12+LEFT(N261,1)*'Criterios de Riesgo'!$F$13+LEFT(O261,1)*'Criterios de Riesgo'!$F$14+LEFT(P261,1)*'Criterios de Riesgo'!$F$15),2))/5)","v":""},null,null,null,null,{"$f":"IF(COUNTA(S261:V261)<4,\"\",IF(V261=\"No\",\"No se usa\",VLOOKUP(ROUND((LEFT(S261,1)*'Criterios de Riesgo'!$C$13+LEFT(T261,1)*'Criterios de Riesgo'!$C$14+LEFT(U261,1)*'Criterios de Riesgo'!$C$15),2),Calif_Covertura,2,1)))","v":""},{"$f":"IF(COUNTA(S261:V261)<4,\"\",IF(V261=\"No\",0,(ROUND((LEFT(S261,1)*'Criterios de Riesgo'!$C$13+LEFT(T261,1)*'Criterios de Riesgo'!$C$14+LEFT(U261,1)*'Criterios de Riesgo'!$C$15),2))/5))","v":""},""]
[null,null,null,null,null,null,null,null,null,null,null,null,null,null,null,null,{"$f":"IF(COUNTA(I262:P262)<8,\"\",VLOOKUP(ROUND((LEFT(I262,1)*'Criterios de Riesgo'!$F$8+LEFT(J262,1)*'Criterios de Riesgo'!$F$9+LEFT(K262,1)*'Criterios de Riesgo'!$F$10+LEFT(L262,1)*'Criterios de Riesgo'!$F$11+LEFT(M262,1)*'Criterios de Riesgo'!$F$12+LEFT(N262,1)*'Criterios de Riesgo'!$F$13+LEFT(O262,1)*'Criterios de Riesgo'!$F$14+LEFT(P262,1)*'Criterios de Riesgo'!$F$15),2),Calif_Control,2,1))","v":""},{"$f":"IF(COUNTA(I262:P262)<8,\"\",(ROUND((LEFT(I262,1)*'Criterios de Riesgo'!$F$8+LEFT(J262,1)*'Criterios de Riesgo'!$F$9+LEFT(K262,1)*'Criterios de Riesgo'!$F$10+LEFT(L262,1)*'Criterios de Riesgo'!$F$11+LEFT(M262,1)*'Criterios de Riesgo'!$F$12+LEFT(N262,1)*'Criterios de Riesgo'!$F$13+LEFT(O262,1)*'Criterios de Riesgo'!$F$14+LEFT(P262,1)*'Criterios de Riesgo'!$F$15),2))/5)","v":""},null,null,null,null,{"$f":"IF(COUNTA(S262:V262)<4,\"\",IF(V262=\"No\",\"No se usa\",VLOOKUP(ROUND((LEFT(S262,1)*'Criterios de Riesgo'!$C$13+LEFT(T262,1)*'Criterios de Riesgo'!$C$14+LEFT(U262,1)*'Criterios de Riesgo'!$C$15),2),Calif_Covertura,2,1)))","v":""},{"$f":"IF(COUNTA(S262:V262)<4,\"\",IF(V262=\"No\",0,(ROUND((LEFT(S262,1)*'Criterios de Riesgo'!$C$13+LEFT(T262,1)*'Criterios de Riesgo'!$C$14+LEFT(U262,1)*'Criterios de Riesgo'!$C$15),2))/5))","v":""},{"$f":"IF(ISERROR(R262*X262),\"\",R262*X262)","v":""}]
[null,null,null,null,null,null,null,null,null,null,null,null,null,null,null,null,{"$f":"IF(COUNTA(I263:P263)<8,\"\",VLOOKUP(ROUND((LEFT(I263,1)*'Criterios de Riesgo'!$F$8+LEFT(J263,1)*'Criterios de Riesgo'!$F$9+LEFT(K263,1)*'Criterios de Riesgo'!$F$10+LEFT(L263,1)*'Criterios de Riesgo'!$F$11+LEFT(M263,1)*'Criterios de Riesgo'!$F$12+LEFT(N263,1)*'Criterios de Riesgo'!$F$13+LEFT(O263,1)*'Criterios de Riesgo'!$F$14+LEFT(P263,1)*'Criterios de Riesgo'!$F$15),2),Calif_Control,2,1))","v":""},{"$f":"IF(COUNTA(I263:P263)<8,\"\",(ROUND((LEFT(I263,1)*'Criterios de Riesgo'!$F$8+LEFT(J263,1)*'Criterios de Riesgo'!$F$9+LEFT(K263,1)*'Criterios de Riesgo'!$F$10+LEFT(L263,1)*'Criterios de Riesgo'!$F$11+LEFT(M263,1)*'Criterios de Riesgo'!$F$12+LEFT(N263,1)*'Criterios de Riesgo'!$F$13+LEFT(O263,1)*'Criterios de Riesgo'!$F$14+LEFT(P263,1)*'Criterios de Riesgo'!$F$15),2))/5)","v":""},null,null,null,null,{"$f":"IF(COUNTA(S263:V263)<4,\"\",IF(V263=\"No\",\"No se usa\",VLOOKUP(ROUND((LEFT(S263,1)*'Criterios de Riesgo'!$C$13+LEFT(T263,1)*'Criterios de Riesgo'!$C$14+LEFT(U263,1)*'Criterios de Riesgo'!$C$15),2),Calif_Covertura,2,1)))","v":""},{"$f":"IF(COUNTA(S263:V263)<4,\"\",IF(V263=\"No\",0,(ROUND((LEFT(S263,1)*'Criterios de Riesgo'!$C$13+LEFT(T263,1)*'Criterios de Riesgo'!$C$14+LEFT(U263,1)*'Criterios de Riesgo'!$C$15),2))/5))","v":""},""]
[null,null,null,null,null,null,null,null,null,null,null,null,null,null,null,null,{"$f":"IF(COUNTA(I264:P264)<8,\"\",VLOOKUP(ROUND((LEFT(I264,1)*'Criterios de Riesgo'!$F$8+LEFT(J264,1)*'Criterios de Riesgo'!$F$9+LEFT(K264,1)*'Criterios de Riesgo'!$F$10+LEFT(L264,1)*'Criterios de Riesgo'!$F$11+LEFT(M264,1)*'Criterios de Riesgo'!$F$12+LEFT(N264,1)*'Criterios de Riesgo'!$F$13+LEFT(O264,1)*'Criterios de Riesgo'!$F$14+LEFT(P264,1)*'Criterios de Riesgo'!$F$15),2),Calif_Control,2,1))","v":""},{"$f":"IF(COUNTA(I264:P264)<8,\"\",(ROUND((LEFT(I264,1)*'Criterios de Riesgo'!$F$8+LEFT(J264,1)*'Criterios de Riesgo'!$F$9+LEFT(K264,1)*'Criterios de Riesgo'!$F$10+LEFT(L264,1)*'Criterios de Riesgo'!$F$11+LEFT(M264,1)*'Criterios de Riesgo'!$F$12+LEFT(N264,1)*'Criterios de Riesgo'!$F$13+LEFT(O264,1)*'Criterios de Riesgo'!$F$14+LEFT(P264,1)*'Criterios de Riesgo'!$F$15),2))/5)","v":""},null,null,null,null,{"$f":"IF(COUNTA(S264:V264)<4,\"\",IF(V264=\"No\",\"No se usa\",VLOOKUP(ROUND((LEFT(S264,1)*'Criterios de Riesgo'!$C$13+LEFT(T264,1)*'Criterios de Riesgo'!$C$14+LEFT(U264,1)*'Criterios de Riesgo'!$C$15),2),Calif_Covertura,2,1)))","v":""},{"$f":"IF(COUNTA(S264:V264)<4,\"\",IF(V264=\"No\",0,(ROUND((LEFT(S264,1)*'Criterios de Riesgo'!$C$13+LEFT(T264,1)*'Criterios de Riesgo'!$C$14+LEFT(U264,1)*'Criterios de Riesgo'!$C$15),2))/5))","v":""},""]
["R",null,null,null,null,null,null,null,null,null,null,null,null,null,null,null,{"$f":"IF(COUNTA(I265:P265)<8,\"\",VLOOKUP(ROUND((LEFT(I265,1)*'Criterios de Riesgo'!$F$8+LEFT(J265,1)*'Criterios de Riesgo'!$F$9+LEFT(K265,1)*'Criterios de Riesgo'!$F$10+LEFT(L265,1)*'Criterios de Riesgo'!$F$11+LEFT(M265,1)*'Criterios de Riesgo'!$F$12+LEFT(N265,1)*'Criterios de Riesgo'!$F$13+LEFT(O265,1)*'Criterios de Riesgo'!$F$14+LEFT(P265,1)*'Criterios de Riesgo'!$F$15),2),Calif_Control,2,1))","v":""},{"$f":"IF(COUNTA(I265:P265)<8,\"\",(ROUND((LEFT(I265,1)*'Criterios de Riesgo'!$F$8+LEFT(J265,1)*'Criterios de Riesgo'!$F$9+LEFT(K265,1)*'Criterios de Riesgo'!$F$10+LEFT(L265,1)*'Criterios de Riesgo'!$F$11+LEFT(M265,1)*'Criterios de Riesgo'!$F$12+LEFT(N265,1)*'Criterios de Riesgo'!$F$13+LEFT(O265,1)*'Criterios de Riesgo'!$F$14+LEFT(P265,1)*'Criterios de Riesgo'!$F$15),2))/5)","v":""},null,null,null,null,{"$f":"IF(COUNTA(S265:V265)<4,\"\",IF(V265=\"No\",\"No se usa\",VLOOKUP(ROUND((LEFT(S265,1)*'Criterios de Riesgo'!$C$13+LEFT(T265,1)*'Criterios de Riesgo'!$C$14+LEFT(U265,1)*'Criterios de Riesgo'!$C$15),2),Calif_Covertura,2,1)))","v":""},{"$f":"IF(COUNTA(S265:V265)<4,\"\",IF(V265=\"No\",0,(ROUND((LEFT(S265,1)*'Criterios de Riesgo'!$C$13+LEFT(T265,1)*'Criterios de Riesgo'!$C$14+LEFT(U265,1)*'Criterios de Riesgo'!$C$15),2))/5))","v":""},"",null,{"$f":"IF(ISERROR((SUMIF(Z265:Z274,\"=impacto\",Y265:Y274)+SUMIF(Z265:Z274,\"=Ambos\",Y265:Y274))/(COUNTIF(Z265:Z274,\"Impacto\")+COUNTIF(Z265:Z274,\"Ambos\"))),\"\",(SUMIF(Z265:Z274,\"=impacto\",Y265:Y274)+SUMIF(Z265:Z274,\"=Ambos\",Y265:Y274))/(COUNTIF(Z265:Z274,\"Impacto\")+COUNTIF(Z265:Z274,\"Ambos\")))","v":""},{"$f":"IF(ISERROR((SUMIF(Z265:Z274,\"=Probabilidad\",Y265:Y274)+SUMIF(Z265:Z274,\"=Ambos\",Y265:Y274))/(COUNTIF(Z265:Z274,\"Probabilidad\")+COUNTIF(Z265:Z274,\"Ambos\"))),\"\",(SUMIF(Z265:Z274,\"=Probabilidad\",Y265:Y274)+SUMIF(Z265:Z274,\"=Ambos\",Y265:Y274))/(COUNTIF(Z265:Z274,\"Probabilidad\")+COUNTIF(Z265:Z274,\"Ambos\")))","v":""},{"$f":"IF(ISERROR(ROUND(IF(AB265=\"\",AA265,IF(AA265=\"\",AB265,IF(AND(AB265=\"\",AA265=\"\"),\"\",AB265*AA265)))*100,0)/100),\"\",ROUND(IF(AB265=\"\",AA265,IF(AA265=\"\",AB265,IF(AND(AB265=\"\",AA265=\"\"),\"\",AB265*AA265)))*100,0)/100)","v":""},{"$f":"IF(AC265=\"\",\"\",VLOOKUP(AC265*5,Calif_Control,2,1))","v":""}]
[null,null,null,null,null,null,null,null,null,null,null,null,null,null,null,null,{"$f":"IF(COUNTA(I266:P266)<8,\"\",VLOOKUP(ROUND((LEFT(I266,1)*'Criterios de Riesgo'!$F$8+LEFT(J266,1)*'Criterios de Riesgo'!$F$9+LEFT(K266,1)*'Criterios de Riesgo'!$F$10+LEFT(L266,1)*'Criterios de Riesgo'!$F$11+LEFT(M266,1)*'Criterios de Riesgo'!$F$12+LEFT(N266,1)*'Criterios de Riesgo'!$F$13+LEFT(O266,1)*'Criterios de Riesgo'!$F$14+LEFT(P266,1)*'Criterios de Riesgo'!$F$15),2),Calif_Control,2,1))","v":""},{"$f":"IF(COUNTA(I266:P266)<8,\"\",(ROUND((LEFT(I266,1)*'Criterios de Riesgo'!$F$8+LEFT(J266,1)*'Criterios de Riesgo'!$F$9+LEFT(K266,1)*'Criterios de Riesgo'!$F$10+LEFT(L266,1)*'Criterios de Riesgo'!$F$11+LEFT(M266,1)*'Criterios de Riesgo'!$F$12+LEFT(N266,1)*'Criterios de Riesgo'!$F$13+LEFT(O266,1)*'Criterios de Riesgo'!$F$14+LEFT(P266,1)*'Criterios de Riesgo'!$F$15),2))/5)","v":""},null,null,null,null,{"$f":"IF(COUNTA(S266:V266)<4,\"\",IF(V266=\"No\",\"No se usa\",VLOOKUP(ROUND((LEFT(S266,1)*'Criterios de Riesgo'!$C$13+LEFT(T266,1)*'Criterios de Riesgo'!$C$14+LEFT(U266,1)*'Criterios de Riesgo'!$C$15),2),Calif_Covertura,2,1)))","v":""},{"$f":"IF(COUNTA(S266:V266)<4,\"\",IF(V266=\"No\",0,(ROUND((LEFT(S266,1)*'Criterios de Riesgo'!$C$13+LEFT(T266,1)*'Criterios de Riesgo'!$C$14+LEFT(U266,1)*'Criterios de Riesgo'!$C$15),2))/5))","v":""},""]
[null,null,null,null,null,null,null,null,null,null,null,null,null,null,null,null,{"$f":"IF(COUNTA(I267:P267)<8,\"\",VLOOKUP(ROUND((LEFT(I267,1)*'Criterios de Riesgo'!$F$8+LEFT(J267,1)*'Criterios de Riesgo'!$F$9+LEFT(K267,1)*'Criterios de Riesgo'!$F$10+LEFT(L267,1)*'Criterios de Riesgo'!$F$11+LEFT(M267,1)*'Criterios de Riesgo'!$F$12+LEFT(N267,1)*'Criterios de Riesgo'!$F$13+LEFT(O267,1)*'Criterios de Riesgo'!$F$14+LEFT(P267,1)*'Criterios de Riesgo'!$F$15),2),Calif_Control,2,1))","v":""},{"$f":"IF(COUNTA(I267:P267)<8,\"\",(ROUND((LEFT(I267,1)*'Criterios de Riesgo'!$F$8+LEFT(J267,1)*'Criterios de Riesgo'!$F$9+LEFT(K267,1)*'Criterios de Riesgo'!$F$10+LEFT(L267,1)*'Criterios de Riesgo'!$F$11+LEFT(M267,1)*'Criterios de Riesgo'!$F$12+LEFT(N267,1)*'Criterios de Riesgo'!$F$13+LEFT(O267,1)*'Criterios de Riesgo'!$F$14+LEFT(P267,1)*'Criterios de Riesgo'!$F$15),2))/5)","v":""},null,null,null,null,{"$f":"IF(COUNTA(S267:V267)<4,\"\",IF(V267=\"No\",\"No se usa\",VLOOKUP(ROUND((LEFT(S267,1)*'Criterios de Riesgo'!$C$13+LEFT(T267,1)*'Criterios de Riesgo'!$C$14+LEFT(U267,1)*'Criterios de Riesgo'!$C$15),2),Calif_Covertura,2,1)))","v":""},{"$f":"IF(COUNTA(S267:V267)<4,\"\",IF(V267=\"No\",0,(ROUND((LEFT(S267,1)*'Criterios de Riesgo'!$C$13+LEFT(T267,1)*'Criterios de Riesgo'!$C$14+LEFT(U267,1)*'Criterios de Riesgo'!$C$15),2))/5))","v":""},""]
[null,null,null,null,null,null,null,null,null,null,null,null,null,null,null,null,{"$f":"IF(COUNTA(I268:P268)<8,\"\",VLOOKUP(ROUND((LEFT(I268,1)*'Criterios de Riesgo'!$F$8+LEFT(J268,1)*'Criterios de Riesgo'!$F$9+LEFT(K268,1)*'Criterios de Riesgo'!$F$10+LEFT(L268,1)*'Criterios de Riesgo'!$F$11+LEFT(M268,1)*'Criterios de Riesgo'!$F$12+LEFT(N268,1)*'Criterios de Riesgo'!$F$13+LEFT(O268,1)*'Criterios de Riesgo'!$F$14+LEFT(P268,1)*'Criterios de Riesgo'!$F$15),2),Calif_Control,2,1))","v":""},{"$f":"IF(COUNTA(I268:P268)<8,\"\",(ROUND((LEFT(I268,1)*'Criterios de Riesgo'!$F$8+LEFT(J268,1)*'Criterios de Riesgo'!$F$9+LEFT(K268,1)*'Criterios de Riesgo'!$F$10+LEFT(L268,1)*'Criterios de Riesgo'!$F$11+LEFT(M268,1)*'Criterios de Riesgo'!$F$12+LEFT(N268,1)*'Criterios de Riesgo'!$F$13+LEFT(O268,1)*'Criterios de Riesgo'!$F$14+LEFT(P268,1)*'Criterios de Riesgo'!$F$15),2))/5)","v":""},null,null,null,null,{"$f":"IF(COUNTA(S268:V268)<4,\"\",IF(V268=\"No\",\"No se usa\",VLOOKUP(ROUND((LEFT(S268,1)*'Criterios de Riesgo'!$C$13+LEFT(T268,1)*'Criterios de Riesgo'!$C$14+LEFT(U268,1)*'Criterios de Riesgo'!$C$15),2),Calif_Covertura,2,1)))","v":""},{"$f":"IF(COUNTA(S268:V268)<4,\"\",IF(V268=\"No\",0,(ROUND((LEFT(S268,1)*'Criterios de Riesgo'!$C$13+LEFT(T268,1)*'Criterios de Riesgo'!$C$14+LEFT(U268,1)*'Criterios de Riesgo'!$C$15),2))/5))","v":""},""]
[null,null,null,null,null,null,null,null,null,null,null,null,null,null,null,null,{"$f":"IF(COUNTA(I269:P269)<8,\"\",VLOOKUP(ROUND((LEFT(I269,1)*'Criterios de Riesgo'!$F$8+LEFT(J269,1)*'Criterios de Riesgo'!$F$9+LEFT(K269,1)*'Criterios de Riesgo'!$F$10+LEFT(L269,1)*'Criterios de Riesgo'!$F$11+LEFT(M269,1)*'Criterios de Riesgo'!$F$12+LEFT(N269,1)*'Criterios de Riesgo'!$F$13+LEFT(O269,1)*'Criterios de Riesgo'!$F$14+LEFT(P269,1)*'Criterios de Riesgo'!$F$15),2),Calif_Control,2,1))","v":""},{"$f":"IF(COUNTA(I269:P269)<8,\"\",(ROUND((LEFT(I269,1)*'Criterios de Riesgo'!$F$8+LEFT(J269,1)*'Criterios de Riesgo'!$F$9+LEFT(K269,1)*'Criterios de Riesgo'!$F$10+LEFT(L269,1)*'Criterios de Riesgo'!$F$11+LEFT(M269,1)*'Criterios de Riesgo'!$F$12+LEFT(N269,1)*'Criterios de Riesgo'!$F$13+LEFT(O269,1)*'Criterios de Riesgo'!$F$14+LEFT(P269,1)*'Criterios de Riesgo'!$F$15),2))/5)","v":""},null,null,null,null,{"$f":"IF(COUNTA(S269:V269)<4,\"\",IF(V269=\"No\",\"No se usa\",VLOOKUP(ROUND((LEFT(S269,1)*'Criterios de Riesgo'!$C$13+LEFT(T269,1)*'Criterios de Riesgo'!$C$14+LEFT(U269,1)*'Criterios de Riesgo'!$C$15),2),Calif_Covertura,2,1)))","v":""},{"$f":"IF(COUNTA(S269:V269)<4,\"\",IF(V269=\"No\",0,(ROUND((LEFT(S269,1)*'Criterios de Riesgo'!$C$13+LEFT(T269,1)*'Criterios de Riesgo'!$C$14+LEFT(U269,1)*'Criterios de Riesgo'!$C$15),2))/5))","v":""},""]
[null,null,null,null,null,null,null,null,null,null,null,null,null,null,null,null,{"$f":"IF(COUNTA(I270:P270)<8,\"\",VLOOKUP(ROUND((LEFT(I270,1)*'Criterios de Riesgo'!$F$8+LEFT(J270,1)*'Criterios de Riesgo'!$F$9+LEFT(K270,1)*'Criterios de Riesgo'!$F$10+LEFT(L270,1)*'Criterios de Riesgo'!$F$11+LEFT(M270,1)*'Criterios de Riesgo'!$F$12+LEFT(N270,1)*'Criterios de Riesgo'!$F$13+LEFT(O270,1)*'Criterios de Riesgo'!$F$14+LEFT(P270,1)*'Criterios de Riesgo'!$F$15),2),Calif_Control,2,1))","v":""},{"$f":"IF(COUNTA(I270:P270)<8,\"\",(ROUND((LEFT(I270,1)*'Criterios de Riesgo'!$F$8+LEFT(J270,1)*'Criterios de Riesgo'!$F$9+LEFT(K270,1)*'Criterios de Riesgo'!$F$10+LEFT(L270,1)*'Criterios de Riesgo'!$F$11+LEFT(M270,1)*'Criterios de Riesgo'!$F$12+LEFT(N270,1)*'Criterios de Riesgo'!$F$13+LEFT(O270,1)*'Criterios de Riesgo'!$F$14+LEFT(P270,1)*'Criterios de Riesgo'!$F$15),2))/5)","v":""},null,null,null,null,{"$f":"IF(COUNTA(S270:V270)<4,\"\",IF(V270=\"No\",\"No se usa\",VLOOKUP(ROUND((LEFT(S270,1)*'Criterios de Riesgo'!$C$13+LEFT(T270,1)*'Criterios de Riesgo'!$C$14+LEFT(U270,1)*'Criterios de Riesgo'!$C$15),2),Calif_Covertura,2,1)))","v":""},{"$f":"IF(COUNTA(S270:V270)<4,\"\",IF(V270=\"No\",0,(ROUND((LEFT(S270,1)*'Criterios de Riesgo'!$C$13+LEFT(T270,1)*'Criterios de Riesgo'!$C$14+LEFT(U270,1)*'Criterios de Riesgo'!$C$15),2))/5))","v":""},""]
[null,null,null,null,null,null,null,null,null,null,null,null,null,null,null,null,{"$f":"IF(COUNTA(I271:P271)<8,\"\",VLOOKUP(ROUND((LEFT(I271,1)*'Criterios de Riesgo'!$F$8+LEFT(J271,1)*'Criterios de Riesgo'!$F$9+LEFT(K271,1)*'Criterios de Riesgo'!$F$10+LEFT(L271,1)*'Criterios de Riesgo'!$F$11+LEFT(M271,1)*'Criterios de Riesgo'!$F$12+LEFT(N271,1)*'Criterios de Riesgo'!$F$13+LEFT(O271,1)*'Criterios de Riesgo'!$F$14+LEFT(P271,1)*'Criterios de Riesgo'!$F$15),2),Calif_Control,2,1))","v":""},{"$f":"IF(COUNTA(I271:P271)<8,\"\",(ROUND((LEFT(I271,1)*'Criterios de Riesgo'!$F$8+LEFT(J271,1)*'Criterios de Riesgo'!$F$9+LEFT(K271,1)*'Criterios de Riesgo'!$F$10+LEFT(L271,1)*'Criterios de Riesgo'!$F$11+LEFT(M271,1)*'Criterios de Riesgo'!$F$12+LEFT(N271,1)*'Criterios de Riesgo'!$F$13+LEFT(O271,1)*'Criterios de Riesgo'!$F$14+LEFT(P271,1)*'Criterios de Riesgo'!$F$15),2))/5)","v":""},null,null,null,null,{"$f":"IF(COUNTA(S271:V271)<4,\"\",IF(V271=\"No\",\"No se usa\",VLOOKUP(ROUND((LEFT(S271,1)*'Criterios de Riesgo'!$C$13+LEFT(T271,1)*'Criterios de Riesgo'!$C$14+LEFT(U271,1)*'Criterios de Riesgo'!$C$15),2),Calif_Covertura,2,1)))","v":""},{"$f":"IF(COUNTA(S271:V271)<4,\"\",IF(V271=\"No\",0,(ROUND((LEFT(S271,1)*'Criterios de Riesgo'!$C$13+LEFT(T271,1)*'Criterios de Riesgo'!$C$14+LEFT(U271,1)*'Criterios de Riesgo'!$C$15),2))/5))","v":""},""]
[null,null,null,null,null,null,null,null,null,null,null,null,null,null,null,null,{"$f":"IF(COUNTA(I272:P272)<8,\"\",VLOOKUP(ROUND((LEFT(I272,1)*'Criterios de Riesgo'!$F$8+LEFT(J272,1)*'Criterios de Riesgo'!$F$9+LEFT(K272,1)*'Criterios de Riesgo'!$F$10+LEFT(L272,1)*'Criterios de Riesgo'!$F$11+LEFT(M272,1)*'Criterios de Riesgo'!$F$12+LEFT(N272,1)*'Criterios de Riesgo'!$F$13+LEFT(O272,1)*'Criterios de Riesgo'!$F$14+LEFT(P272,1)*'Criterios de Riesgo'!$F$15),2),Calif_Control,2,1))","v":""},{"$f":"IF(COUNTA(I272:P272)<8,\"\",(ROUND((LEFT(I272,1)*'Criterios de Riesgo'!$F$8+LEFT(J272,1)*'Criterios de Riesgo'!$F$9+LEFT(K272,1)*'Criterios de Riesgo'!$F$10+LEFT(L272,1)*'Criterios de Riesgo'!$F$11+LEFT(M272,1)*'Criterios de Riesgo'!$F$12+LEFT(N272,1)*'Criterios de Riesgo'!$F$13+LEFT(O272,1)*'Criterios de Riesgo'!$F$14+LEFT(P272,1)*'Criterios de Riesgo'!$F$15),2))/5)","v":""},null,null,null,null,{"$f":"IF(COUNTA(S272:V272)<4,\"\",IF(V272=\"No\",\"No se usa\",VLOOKUP(ROUND((LEFT(S272,1)*'Criterios de Riesgo'!$C$13+LEFT(T272,1)*'Criterios de Riesgo'!$C$14+LEFT(U272,1)*'Criterios de Riesgo'!$C$15),2),Calif_Covertura,2,1)))","v":""},{"$f":"IF(COUNTA(S272:V272)<4,\"\",IF(V272=\"No\",0,(ROUND((LEFT(S272,1)*'Criterios de Riesgo'!$C$13+LEFT(T272,1)*'Criterios de Riesgo'!$C$14+LEFT(U272,1)*'Criterios de Riesgo'!$C$15),2))/5))","v":""},""]
[null,null,null,null,null,null,null,null,null,null,null,null,null,null,null,null,{"$f":"IF(COUNTA(I273:P273)<8,\"\",VLOOKUP(ROUND((LEFT(I273,1)*'Criterios de Riesgo'!$F$8+LEFT(J273,1)*'Criterios de Riesgo'!$F$9+LEFT(K273,1)*'Criterios de Riesgo'!$F$10+LEFT(L273,1)*'Criterios de Riesgo'!$F$11+LEFT(M273,1)*'Criterios de Riesgo'!$F$12+LEFT(N273,1)*'Criterios de Riesgo'!$F$13+LEFT(O273,1)*'Criterios de Riesgo'!$F$14+LEFT(P273,1)*'Criterios de Riesgo'!$F$15),2),Calif_Control,2,1))","v":""},{"$f":"IF(COUNTA(I273:P273)<8,\"\",(ROUND((LEFT(I273,1)*'Criterios de Riesgo'!$F$8+LEFT(J273,1)*'Criterios de Riesgo'!$F$9+LEFT(K273,1)*'Criterios de Riesgo'!$F$10+LEFT(L273,1)*'Criterios de Riesgo'!$F$11+LEFT(M273,1)*'Criterios de Riesgo'!$F$12+LEFT(N273,1)*'Criterios de Riesgo'!$F$13+LEFT(O273,1)*'Criterios de Riesgo'!$F$14+LEFT(P273,1)*'Criterios de Riesgo'!$F$15),2))/5)","v":""},null,null,null,null,{"$f":"IF(COUNTA(S273:V273)<4,\"\",IF(V273=\"No\",\"No se usa\",VLOOKUP(ROUND((LEFT(S273,1)*'Criterios de Riesgo'!$C$13+LEFT(T273,1)*'Criterios de Riesgo'!$C$14+LEFT(U273,1)*'Criterios de Riesgo'!$C$15),2),Calif_Covertura,2,1)))","v":""},{"$f":"IF(COUNTA(S273:V273)<4,\"\",IF(V273=\"No\",0,(ROUND((LEFT(S273,1)*'Criterios de Riesgo'!$C$13+LEFT(T273,1)*'Criterios de Riesgo'!$C$14+LEFT(U273,1)*'Criterios de Riesgo'!$C$15),2))/5))","v":""},""]
[null,null,null,null,null,null,null,null,null,null,null,null,null,null,null,null,{"$f":"IF(COUNTA(I274:P274)<8,\"\",VLOOKUP(ROUND((LEFT(I274,1)*'Criterios de Riesgo'!$F$8+LEFT(J274,1)*'Criterios de Riesgo'!$F$9+LEFT(K274,1)*'Criterios de Riesgo'!$F$10+LEFT(L274,1)*'Criterios de Riesgo'!$F$11+LEFT(M274,1)*'Criterios de Riesgo'!$F$12+LEFT(N274,1)*'Criterios de Riesgo'!$F$13+LEFT(O274,1)*'Criterios de Riesgo'!$F$14+LEFT(P274,1)*'Criterios de Riesgo'!$F$15),2),Calif_Control,2,1))","v":""},{"$f":"IF(COUNTA(I274:P274)<8,\"\",(ROUND((LEFT(I274,1)*'Criterios de Riesgo'!$F$8+LEFT(J274,1)*'Criterios de Riesgo'!$F$9+LEFT(K274,1)*'Criterios de Riesgo'!$F$10+LEFT(L274,1)*'Criterios de Riesgo'!$F$11+LEFT(M274,1)*'Criterios de Riesgo'!$F$12+LEFT(N274,1)*'Criterios de Riesgo'!$F$13+LEFT(O274,1)*'Criterios de Riesgo'!$F$14+LEFT(P274,1)*'Criterios de Riesgo'!$F$15),2))/5)","v":""},null,null,null,null,{"$f":"IF(COUNTA(S274:V274)<4,\"\",IF(V274=\"No\",\"No se usa\",VLOOKUP(ROUND((LEFT(S274,1)*'Criterios de Riesgo'!$C$13+LEFT(T274,1)*'Criterios de Riesgo'!$C$14+LEFT(U274,1)*'Criterios de Riesgo'!$C$15),2),Calif_Covertura,2,1)))","v":""},{"$f":"IF(COUNTA(S274:V274)<4,\"\",IF(V274=\"No\",0,(ROUND((LEFT(S274,1)*'Criterios de Riesgo'!$C$13+LEFT(T274,1)*'Criterios de Riesgo'!$C$14+LEFT(U274,1)*'Criterios de Riesgo'!$C$15),2))/5))","v":""},""]
["R",null,null,null,null,null,null,null,null,null,null,null,null,null,null,null,{"$f":"IF(COUNTA(I275:P275)<8,\"\",VLOOKUP(ROUND((LEFT(I275,1)*'Criterios de Riesgo'!$F$8+LEFT(J275,1)*'Criterios de Riesgo'!$F$9+LEFT(K275,1)*'Criterios de Riesgo'!$F$10+LEFT(L275,1)*'Criterios de Riesgo'!$F$11+LEFT(M275,1)*'Criterios de Riesgo'!$F$12+LEFT(N275,1)*'Criterios de Riesgo'!$F$13+LEFT(O275,1)*'Criterios de Riesgo'!$F$14+LEFT(P275,1)*'Criterios de Riesgo'!$F$15),2),Calif_Control,2,1))","v":""},{"$f":"IF(COUNTA(I275:P275)<8,\"\",(ROUND((LEFT(I275,1)*'Criterios de Riesgo'!$F$8+LEFT(J275,1)*'Criterios de Riesgo'!$F$9+LEFT(K275,1)*'Criterios de Riesgo'!$F$10+LEFT(L275,1)*'Criterios de Riesgo'!$F$11+LEFT(M275,1)*'Criterios de Riesgo'!$F$12+LEFT(N275,1)*'Criterios de Riesgo'!$F$13+LEFT(O275,1)*'Criterios de Riesgo'!$F$14+LEFT(P275,1)*'Criterios de Riesgo'!$F$15),2))/5)","v":""},null,null,null,null,{"$f":"IF(COUNTA(S275:V275)<4,\"\",IF(V275=\"No\",\"No se usa\",VLOOKUP(ROUND((LEFT(S275,1)*'Criterios de Riesgo'!$C$13+LEFT(T275,1)*'Criterios de Riesgo'!$C$14+LEFT(U275,1)*'Criterios de Riesgo'!$C$15),2),Calif_Covertura,2,1)))","v":""},{"$f":"IF(COUNTA(S275:V275)<4,\"\",IF(V275=\"No\",0,(ROUND((LEFT(S275,1)*'Criterios de Riesgo'!$C$13+LEFT(T275,1)*'Criterios de Riesgo'!$C$14+LEFT(U275,1)*'Criterios de Riesgo'!$C$15),2))/5))","v":""},"",null,{"$f":"IF(ISERROR((SUMIF(Z275:Z284,\"=impacto\",Y275:Y284)+SUMIF(Z275:Z284,\"=Ambos\",Y275:Y284))/(COUNTIF(Z275:Z284,\"Impacto\")+COUNTIF(Z275:Z284,\"Ambos\"))),\"\",(SUMIF(Z275:Z284,\"=impacto\",Y275:Y284)+SUMIF(Z275:Z284,\"=Ambos\",Y275:Y284))/(COUNTIF(Z275:Z284,\"Impacto\")+COUNTIF(Z275:Z284,\"Ambos\")))","v":""},{"$f":"IF(ISERROR((SUMIF(Z275:Z284,\"=Probabilidad\",Y275:Y284)+SUMIF(Z275:Z284,\"=Ambos\",Y275:Y284))/(COUNTIF(Z275:Z284,\"Probabilidad\")+COUNTIF(Z275:Z284,\"Ambos\"))),\"\",(SUMIF(Z275:Z284,\"=Probabilidad\",Y275:Y284)+SUMIF(Z275:Z284,\"=Ambos\",Y275:Y284))/(COUNTIF(Z275:Z284,\"Probabilidad\")+COUNTIF(Z275:Z284,\"Ambos\")))","v":""},{"$f":"IF(ISERROR(ROUND(IF(AB275=\"\",AA275,IF(AA275=\"\",AB275,IF(AND(AB275=\"\",AA275=\"\"),\"\",AB275*AA275)))*100,0)/100),\"\",ROUND(IF(AB275=\"\",AA275,IF(AA275=\"\",AB275,IF(AND(AB275=\"\",AA275=\"\"),\"\",AB275*AA275)))*100,0)/100)","v":""},{"$f":"IF(AC275=\"\",\"\",VLOOKUP(AC275*5,Calif_Control,2,1))","v":""}]
[null,null,null,null,null,null,null,null,null,null,null,null,null,null,null,null,{"$f":"IF(COUNTA(I276:P276)<8,\"\",VLOOKUP(ROUND((LEFT(I276,1)*'Criterios de Riesgo'!$F$8+LEFT(J276,1)*'Criterios de Riesgo'!$F$9+LEFT(K276,1)*'Criterios de Riesgo'!$F$10+LEFT(L276,1)*'Criterios de Riesgo'!$F$11+LEFT(M276,1)*'Criterios de Riesgo'!$F$12+LEFT(N276,1)*'Criterios de Riesgo'!$F$13+LEFT(O276,1)*'Criterios de Riesgo'!$F$14+LEFT(P276,1)*'Criterios de Riesgo'!$F$15),2),Calif_Control,2,1))","v":""},{"$f":"IF(COUNTA(I276:P276)<8,\"\",(ROUND((LEFT(I276,1)*'Criterios de Riesgo'!$F$8+LEFT(J276,1)*'Criterios de Riesgo'!$F$9+LEFT(K276,1)*'Criterios de Riesgo'!$F$10+LEFT(L276,1)*'Criterios de Riesgo'!$F$11+LEFT(M276,1)*'Criterios de Riesgo'!$F$12+LEFT(N276,1)*'Criterios de Riesgo'!$F$13+LEFT(O276,1)*'Criterios de Riesgo'!$F$14+LEFT(P276,1)*'Criterios de Riesgo'!$F$15),2))/5)","v":""},null,null,null,null,{"$f":"IF(COUNTA(S276:V276)<4,\"\",IF(V276=\"No\",\"No se usa\",VLOOKUP(ROUND((LEFT(S276,1)*'Criterios de Riesgo'!$C$13+LEFT(T276,1)*'Criterios de Riesgo'!$C$14+LEFT(U276,1)*'Criterios de Riesgo'!$C$15),2),Calif_Covertura,2,1)))","v":""},{"$f":"IF(COUNTA(S276:V276)<4,\"\",IF(V276=\"No\",0,(ROUND((LEFT(S276,1)*'Criterios de Riesgo'!$C$13+LEFT(T276,1)*'Criterios de Riesgo'!$C$14+LEFT(U276,1)*'Criterios de Riesgo'!$C$15),2))/5))","v":""},""]
[null,null,null,null,null,null,null,null,null,null,null,null,null,null,null,null,{"$f":"IF(COUNTA(I277:P277)<8,\"\",VLOOKUP(ROUND((LEFT(I277,1)*'Criterios de Riesgo'!$F$8+LEFT(J277,1)*'Criterios de Riesgo'!$F$9+LEFT(K277,1)*'Criterios de Riesgo'!$F$10+LEFT(L277,1)*'Criterios de Riesgo'!$F$11+LEFT(M277,1)*'Criterios de Riesgo'!$F$12+LEFT(N277,1)*'Criterios de Riesgo'!$F$13+LEFT(O277,1)*'Criterios de Riesgo'!$F$14+LEFT(P277,1)*'Criterios de Riesgo'!$F$15),2),Calif_Control,2,1))","v":""},{"$f":"IF(COUNTA(I277:P277)<8,\"\",(ROUND((LEFT(I277,1)*'Criterios de Riesgo'!$F$8+LEFT(J277,1)*'Criterios de Riesgo'!$F$9+LEFT(K277,1)*'Criterios de Riesgo'!$F$10+LEFT(L277,1)*'Criterios de Riesgo'!$F$11+LEFT(M277,1)*'Criterios de Riesgo'!$F$12+LEFT(N277,1)*'Criterios de Riesgo'!$F$13+LEFT(O277,1)*'Criterios de Riesgo'!$F$14+LEFT(P277,1)*'Criterios de Riesgo'!$F$15),2))/5)","v":""},null,null,null,null,{"$f":"IF(COUNTA(S277:V277)<4,\"\",IF(V277=\"No\",\"No se usa\",VLOOKUP(ROUND((LEFT(S277,1)*'Criterios de Riesgo'!$C$13+LEFT(T277,1)*'Criterios de Riesgo'!$C$14+LEFT(U277,1)*'Criterios de Riesgo'!$C$15),2),Calif_Covertura,2,1)))","v":""},{"$f":"IF(COUNTA(S277:V277)<4,\"\",IF(V277=\"No\",0,(ROUND((LEFT(S277,1)*'Criterios de Riesgo'!$C$13+LEFT(T277,1)*'Criterios de Riesgo'!$C$14+LEFT(U277,1)*'Criterios de Riesgo'!$C$15),2))/5))","v":""},""]
[null,null,null,null,null,null,null,null,null,null,null,null,null,null,null,null,{"$f":"IF(COUNTA(I278:P278)<8,\"\",VLOOKUP(ROUND((LEFT(I278,1)*'Criterios de Riesgo'!$F$8+LEFT(J278,1)*'Criterios de Riesgo'!$F$9+LEFT(K278,1)*'Criterios de Riesgo'!$F$10+LEFT(L278,1)*'Criterios de Riesgo'!$F$11+LEFT(M278,1)*'Criterios de Riesgo'!$F$12+LEFT(N278,1)*'Criterios de Riesgo'!$F$13+LEFT(O278,1)*'Criterios de Riesgo'!$F$14+LEFT(P278,1)*'Criterios de Riesgo'!$F$15),2),Calif_Control,2,1))","v":""},{"$f":"IF(COUNTA(I278:P278)<8,\"\",(ROUND((LEFT(I278,1)*'Criterios de Riesgo'!$F$8+LEFT(J278,1)*'Criterios de Riesgo'!$F$9+LEFT(K278,1)*'Criterios de Riesgo'!$F$10+LEFT(L278,1)*'Criterios de Riesgo'!$F$11+LEFT(M278,1)*'Criterios de Riesgo'!$F$12+LEFT(N278,1)*'Criterios de Riesgo'!$F$13+LEFT(O278,1)*'Criterios de Riesgo'!$F$14+LEFT(P278,1)*'Criterios de Riesgo'!$F$15),2))/5)","v":""},null,null,null,null,{"$f":"IF(COUNTA(S278:V278)<4,\"\",IF(V278=\"No\",\"No se usa\",VLOOKUP(ROUND((LEFT(S278,1)*'Criterios de Riesgo'!$C$13+LEFT(T278,1)*'Criterios de Riesgo'!$C$14+LEFT(U278,1)*'Criterios de Riesgo'!$C$15),2),Calif_Covertura,2,1)))","v":""},{"$f":"IF(COUNTA(S278:V278)<4,\"\",IF(V278=\"No\",0,(ROUND((LEFT(S278,1)*'Criterios de Riesgo'!$C$13+LEFT(T278,1)*'Criterios de Riesgo'!$C$14+LEFT(U278,1)*'Criterios de Riesgo'!$C$15),2))/5))","v":""},""]
[null,null,null,null,null,null,null,null,null,null,null,null,null,null,null,null,{"$f":"IF(COUNTA(I279:P279)<8,\"\",VLOOKUP(ROUND((LEFT(I279,1)*'Criterios de Riesgo'!$F$8+LEFT(J279,1)*'Criterios de Riesgo'!$F$9+LEFT(K279,1)*'Criterios de Riesgo'!$F$10+LEFT(L279,1)*'Criterios de Riesgo'!$F$11+LEFT(M279,1)*'Criterios de Riesgo'!$F$12+LEFT(N279,1)*'Criterios de Riesgo'!$F$13+LEFT(O279,1)*'Criterios de Riesgo'!$F$14+LEFT(P279,1)*'Criterios de Riesgo'!$F$15),2),Calif_Control,2,1))","v":""},{"$f":"IF(COUNTA(I279:P279)<8,\"\",(ROUND((LEFT(I279,1)*'Criterios de Riesgo'!$F$8+LEFT(J279,1)*'Criterios de Riesgo'!$F$9+LEFT(K279,1)*'Criterios de Riesgo'!$F$10+LEFT(L279,1)*'Criterios de Riesgo'!$F$11+LEFT(M279,1)*'Criterios de Riesgo'!$F$12+LEFT(N279,1)*'Criterios de Riesgo'!$F$13+LEFT(O279,1)*'Criterios de Riesgo'!$F$14+LEFT(P279,1)*'Criterios de Riesgo'!$F$15),2))/5)","v":""},null,null,null,null,{"$f":"IF(COUNTA(S279:V279)<4,\"\",IF(V279=\"No\",\"No se usa\",VLOOKUP(ROUND((LEFT(S279,1)*'Criterios de Riesgo'!$C$13+LEFT(T279,1)*'Criterios de Riesgo'!$C$14+LEFT(U279,1)*'Criterios de Riesgo'!$C$15),2),Calif_Covertura,2,1)))","v":""},{"$f":"IF(COUNTA(S279:V279)<4,\"\",IF(V279=\"No\",0,(ROUND((LEFT(S279,1)*'Criterios de Riesgo'!$C$13+LEFT(T279,1)*'Criterios de Riesgo'!$C$14+LEFT(U279,1)*'Criterios de Riesgo'!$C$15),2))/5))","v":""},""]
[null,null,null,null,null,null,null,null,null,null,null,null,null,null,null,null,{"$f":"IF(COUNTA(I280:P280)<8,\"\",VLOOKUP(ROUND((LEFT(I280,1)*'Criterios de Riesgo'!$F$8+LEFT(J280,1)*'Criterios de Riesgo'!$F$9+LEFT(K280,1)*'Criterios de Riesgo'!$F$10+LEFT(L280,1)*'Criterios de Riesgo'!$F$11+LEFT(M280,1)*'Criterios de Riesgo'!$F$12+LEFT(N280,1)*'Criterios de Riesgo'!$F$13+LEFT(O280,1)*'Criterios de Riesgo'!$F$14+LEFT(P280,1)*'Criterios de Riesgo'!$F$15),2),Calif_Control,2,1))","v":""},{"$f":"IF(COUNTA(I280:P280)<8,\"\",(ROUND((LEFT(I280,1)*'Criterios de Riesgo'!$F$8+LEFT(J280,1)*'Criterios de Riesgo'!$F$9+LEFT(K280,1)*'Criterios de Riesgo'!$F$10+LEFT(L280,1)*'Criterios de Riesgo'!$F$11+LEFT(M280,1)*'Criterios de Riesgo'!$F$12+LEFT(N280,1)*'Criterios de Riesgo'!$F$13+LEFT(O280,1)*'Criterios de Riesgo'!$F$14+LEFT(P280,1)*'Criterios de Riesgo'!$F$15),2))/5)","v":""},null,null,null,null,{"$f":"IF(COUNTA(S280:V280)<4,\"\",IF(V280=\"No\",\"No se usa\",VLOOKUP(ROUND((LEFT(S280,1)*'Criterios de Riesgo'!$C$13+LEFT(T280,1)*'Criterios de Riesgo'!$C$14+LEFT(U280,1)*'Criterios de Riesgo'!$C$15),2),Calif_Covertura,2,1)))","v":""},{"$f":"IF(COUNTA(S280:V280)<4,\"\",IF(V280=\"No\",0,(ROUND((LEFT(S280,1)*'Criterios de Riesgo'!$C$13+LEFT(T280,1)*'Criterios de Riesgo'!$C$14+LEFT(U280,1)*'Criterios de Riesgo'!$C$15),2))/5))","v":""},""]
[null,null,null,null,null,null,null,null,null,null,null,null,null,null,null,null,{"$f":"IF(COUNTA(I281:P281)<8,\"\",VLOOKUP(ROUND((LEFT(I281,1)*'Criterios de Riesgo'!$F$8+LEFT(J281,1)*'Criterios de Riesgo'!$F$9+LEFT(K281,1)*'Criterios de Riesgo'!$F$10+LEFT(L281,1)*'Criterios de Riesgo'!$F$11+LEFT(M281,1)*'Criterios de Riesgo'!$F$12+LEFT(N281,1)*'Criterios de Riesgo'!$F$13+LEFT(O281,1)*'Criterios de Riesgo'!$F$14+LEFT(P281,1)*'Criterios de Riesgo'!$F$15),2),Calif_Control,2,1))","v":""},{"$f":"IF(COUNTA(I281:P281)<8,\"\",(ROUND((LEFT(I281,1)*'Criterios de Riesgo'!$F$8+LEFT(J281,1)*'Criterios de Riesgo'!$F$9+LEFT(K281,1)*'Criterios de Riesgo'!$F$10+LEFT(L281,1)*'Criterios de Riesgo'!$F$11+LEFT(M281,1)*'Criterios de Riesgo'!$F$12+LEFT(N281,1)*'Criterios de Riesgo'!$F$13+LEFT(O281,1)*'Criterios de Riesgo'!$F$14+LEFT(P281,1)*'Criterios de Riesgo'!$F$15),2))/5)","v":""},null,null,null,null,{"$f":"IF(COUNTA(S281:V281)<4,\"\",IF(V281=\"No\",\"No se usa\",VLOOKUP(ROUND((LEFT(S281,1)*'Criterios de Riesgo'!$C$13+LEFT(T281,1)*'Criterios de Riesgo'!$C$14+LEFT(U281,1)*'Criterios de Riesgo'!$C$15),2),Calif_Covertura,2,1)))","v":""},{"$f":"IF(COUNTA(S281:V281)<4,\"\",IF(V281=\"No\",0,(ROUND((LEFT(S281,1)*'Criterios de Riesgo'!$C$13+LEFT(T281,1)*'Criterios de Riesgo'!$C$14+LEFT(U281,1)*'Criterios de Riesgo'!$C$15),2))/5))","v":""},""]
[null,null,null,null,null,null,null,null,null,null,null,null,null,null,null,null,{"$f":"IF(COUNTA(I282:P282)<8,\"\",VLOOKUP(ROUND((LEFT(I282,1)*'Criterios de Riesgo'!$F$8+LEFT(J282,1)*'Criterios de Riesgo'!$F$9+LEFT(K282,1)*'Criterios de Riesgo'!$F$10+LEFT(L282,1)*'Criterios de Riesgo'!$F$11+LEFT(M282,1)*'Criterios de Riesgo'!$F$12+LEFT(N282,1)*'Criterios de Riesgo'!$F$13+LEFT(O282,1)*'Criterios de Riesgo'!$F$14+LEFT(P282,1)*'Criterios de Riesgo'!$F$15),2),Calif_Control,2,1))","v":""},{"$f":"IF(COUNTA(I282:P282)<8,\"\",(ROUND((LEFT(I282,1)*'Criterios de Riesgo'!$F$8+LEFT(J282,1)*'Criterios de Riesgo'!$F$9+LEFT(K282,1)*'Criterios de Riesgo'!$F$10+LEFT(L282,1)*'Criterios de Riesgo'!$F$11+LEFT(M282,1)*'Criterios de Riesgo'!$F$12+LEFT(N282,1)*'Criterios de Riesgo'!$F$13+LEFT(O282,1)*'Criterios de Riesgo'!$F$14+LEFT(P282,1)*'Criterios de Riesgo'!$F$15),2))/5)","v":""},null,null,null,null,{"$f":"IF(COUNTA(S282:V282)<4,\"\",IF(V282=\"No\",\"No se usa\",VLOOKUP(ROUND((LEFT(S282,1)*'Criterios de Riesgo'!$C$13+LEFT(T282,1)*'Criterios de Riesgo'!$C$14+LEFT(U282,1)*'Criterios de Riesgo'!$C$15),2),Calif_Covertura,2,1)))","v":""},{"$f":"IF(COUNTA(S282:V282)<4,\"\",IF(V282=\"No\",0,(ROUND((LEFT(S282,1)*'Criterios de Riesgo'!$C$13+LEFT(T282,1)*'Criterios de Riesgo'!$C$14+LEFT(U282,1)*'Criterios de Riesgo'!$C$15),2))/5))","v":""},""]
[null,null,null,null,null,null,null,null,null,null,null,null,null,null,null,null,{"$f":"IF(COUNTA(I283:P283)<8,\"\",VLOOKUP(ROUND((LEFT(I283,1)*'Criterios de Riesgo'!$F$8+LEFT(J283,1)*'Criterios de Riesgo'!$F$9+LEFT(K283,1)*'Criterios de Riesgo'!$F$10+LEFT(L283,1)*'Criterios de Riesgo'!$F$11+LEFT(M283,1)*'Criterios de Riesgo'!$F$12+LEFT(N283,1)*'Criterios de Riesgo'!$F$13+LEFT(O283,1)*'Criterios de Riesgo'!$F$14+LEFT(P283,1)*'Criterios de Riesgo'!$F$15),2),Calif_Control,2,1))","v":""},{"$f":"IF(COUNTA(I283:P283)<8,\"\",(ROUND((LEFT(I283,1)*'Criterios de Riesgo'!$F$8+LEFT(J283,1)*'Criterios de Riesgo'!$F$9+LEFT(K283,1)*'Criterios de Riesgo'!$F$10+LEFT(L283,1)*'Criterios de Riesgo'!$F$11+LEFT(M283,1)*'Criterios de Riesgo'!$F$12+LEFT(N283,1)*'Criterios de Riesgo'!$F$13+LEFT(O283,1)*'Criterios de Riesgo'!$F$14+LEFT(P283,1)*'Criterios de Riesgo'!$F$15),2))/5)","v":""},null,null,null,null,{"$f":"IF(COUNTA(S283:V283)<4,\"\",IF(V283=\"No\",\"No se usa\",VLOOKUP(ROUND((LEFT(S283,1)*'Criterios de Riesgo'!$C$13+LEFT(T283,1)*'Criterios de Riesgo'!$C$14+LEFT(U283,1)*'Criterios de Riesgo'!$C$15),2),Calif_Covertura,2,1)))","v":""},{"$f":"IF(COUNTA(S283:V283)<4,\"\",IF(V283=\"No\",0,(ROUND((LEFT(S283,1)*'Criterios de Riesgo'!$C$13+LEFT(T283,1)*'Criterios de Riesgo'!$C$14+LEFT(U283,1)*'Criterios de Riesgo'!$C$15),2))/5))","v":""},""]
[null,null,null,null,null,null,null,null,null,null,null,null,null,null,null,null,{"$f":"IF(COUNTA(I284:P284)<8,\"\",VLOOKUP(ROUND((LEFT(I284,1)*'Criterios de Riesgo'!$F$8+LEFT(J284,1)*'Criterios de Riesgo'!$F$9+LEFT(K284,1)*'Criterios de Riesgo'!$F$10+LEFT(L284,1)*'Criterios de Riesgo'!$F$11+LEFT(M284,1)*'Criterios de Riesgo'!$F$12+LEFT(N284,1)*'Criterios de Riesgo'!$F$13+LEFT(O284,1)*'Criterios de Riesgo'!$F$14+LEFT(P284,1)*'Criterios de Riesgo'!$F$15),2),Calif_Control,2,1))","v":""},{"$f":"IF(COUNTA(I284:P284)<8,\"\",(ROUND((LEFT(I284,1)*'Criterios de Riesgo'!$F$8+LEFT(J284,1)*'Criterios de Riesgo'!$F$9+LEFT(K284,1)*'Criterios de Riesgo'!$F$10+LEFT(L284,1)*'Criterios de Riesgo'!$F$11+LEFT(M284,1)*'Criterios de Riesgo'!$F$12+LEFT(N284,1)*'Criterios de Riesgo'!$F$13+LEFT(O284,1)*'Criterios de Riesgo'!$F$14+LEFT(P284,1)*'Criterios de Riesgo'!$F$15),2))/5)","v":""},null,null,null,null,{"$f":"IF(COUNTA(S284:V284)<4,\"\",IF(V284=\"No\",\"No se usa\",VLOOKUP(ROUND((LEFT(S284,1)*'Criterios de Riesgo'!$C$13+LEFT(T284,1)*'Criterios de Riesgo'!$C$14+LEFT(U284,1)*'Criterios de Riesgo'!$C$15),2),Calif_Covertura,2,1)))","v":""},{"$f":"IF(COUNTA(S284:V284)<4,\"\",IF(V284=\"No\",0,(ROUND((LEFT(S284,1)*'Criterios de Riesgo'!$C$13+LEFT(T284,1)*'Criterios de Riesgo'!$C$14+LEFT(U284,1)*'Criterios de Riesgo'!$C$15),2))/5))","v":""},""]
["R",null,null,null,null,null,null,null,null,null,null,null,null,null,null,null,{"$f":"IF(COUNTA(I285:P285)<8,\"\",VLOOKUP(ROUND((LEFT(I285,1)*'Criterios de Riesgo'!$F$8+LEFT(J285,1)*'Criterios de Riesgo'!$F$9+LEFT(K285,1)*'Criterios de Riesgo'!$F$10+LEFT(L285,1)*'Criterios de Riesgo'!$F$11+LEFT(M285,1)*'Criterios de Riesgo'!$F$12+LEFT(N285,1)*'Criterios de Riesgo'!$F$13+LEFT(O285,1)*'Criterios de Riesgo'!$F$14+LEFT(P285,1)*'Criterios de Riesgo'!$F$15),2),Calif_Control,2,1))","v":""},{"$f":"IF(COUNTA(I285:P285)<8,\"\",(ROUND((LEFT(I285,1)*'Criterios de Riesgo'!$F$8+LEFT(J285,1)*'Criterios de Riesgo'!$F$9+LEFT(K285,1)*'Criterios de Riesgo'!$F$10+LEFT(L285,1)*'Criterios de Riesgo'!$F$11+LEFT(M285,1)*'Criterios de Riesgo'!$F$12+LEFT(N285,1)*'Criterios de Riesgo'!$F$13+LEFT(O285,1)*'Criterios de Riesgo'!$F$14+LEFT(P285,1)*'Criterios de Riesgo'!$F$15),2))/5)","v":""},null,null,null,null,{"$f":"IF(COUNTA(S285:V285)<4,\"\",IF(V285=\"No\",\"No se usa\",VLOOKUP(ROUND((LEFT(S285,1)*'Criterios de Riesgo'!$C$13+LEFT(T285,1)*'Criterios de Riesgo'!$C$14+LEFT(U285,1)*'Criterios de Riesgo'!$C$15),2),Calif_Covertura,2,1)))","v":""},{"$f":"IF(COUNTA(S285:V285)<4,\"\",IF(V285=\"No\",0,(ROUND((LEFT(S285,1)*'Criterios de Riesgo'!$C$13+LEFT(T285,1)*'Criterios de Riesgo'!$C$14+LEFT(U285,1)*'Criterios de Riesgo'!$C$15),2))/5))","v":""},"",null,{"$f":"IF(ISERROR((SUMIF(Z285:Z294,\"=impacto\",Y285:Y294)+SUMIF(Z285:Z294,\"=Ambos\",Y285:Y294))/(COUNTIF(Z285:Z294,\"Impacto\")+COUNTIF(Z285:Z294,\"Ambos\"))),\"\",(SUMIF(Z285:Z294,\"=impacto\",Y285:Y294)+SUMIF(Z285:Z294,\"=Ambos\",Y285:Y294))/(COUNTIF(Z285:Z294,\"Impacto\")+COUNTIF(Z285:Z294,\"Ambos\")))","v":""},{"$f":"IF(ISERROR((SUMIF(Z285:Z294,\"=Probabilidad\",Y285:Y294)+SUMIF(Z285:Z294,\"=Ambos\",Y285:Y294))/(COUNTIF(Z285:Z294,\"Probabilidad\")+COUNTIF(Z285:Z294,\"Ambos\"))),\"\",(SUMIF(Z285:Z294,\"=Probabilidad\",Y285:Y294)+SUMIF(Z285:Z294,\"=Ambos\",Y285:Y294))/(COUNTIF(Z285:Z294,\"Probabilidad\")+COUNTIF(Z285:Z294,\"Ambos\")))","v":""},{"$f":"IF(ISERROR(ROUND(IF(AB285=\"\",AA285,IF(AA285=\"\",AB285,IF(AND(AB285=\"\",AA285=\"\"),\"\",AB285*AA285)))*100,0)/100),\"\",ROUND(IF(AB285=\"\",AA285,IF(AA285=\"\",AB285,IF(AND(AB285=\"\",AA285=\"\"),\"\",AB285*AA285)))*100,0)/100)","v":""},{"$f":"IF(AC285=\"\",\"\",VLOOKUP(AC285*5,Calif_Control,2,1))","v":""}]
[null,null,null,null,null,null,null,null,null,null,null,null,null,null,null,null,{"$f":"IF(COUNTA(I286:P286)<8,\"\",VLOOKUP(ROUND((LEFT(I286,1)*'Criterios de Riesgo'!$F$8+LEFT(J286,1)*'Criterios de Riesgo'!$F$9+LEFT(K286,1)*'Criterios de Riesgo'!$F$10+LEFT(L286,1)*'Criterios de Riesgo'!$F$11+LEFT(M286,1)*'Criterios de Riesgo'!$F$12+LEFT(N286,1)*'Criterios de Riesgo'!$F$13+LEFT(O286,1)*'Criterios de Riesgo'!$F$14+LEFT(P286,1)*'Criterios de Riesgo'!$F$15),2),Calif_Control,2,1))","v":""},{"$f":"IF(COUNTA(I286:P286)<8,\"\",(ROUND((LEFT(I286,1)*'Criterios de Riesgo'!$F$8+LEFT(J286,1)*'Criterios de Riesgo'!$F$9+LEFT(K286,1)*'Criterios de Riesgo'!$F$10+LEFT(L286,1)*'Criterios de Riesgo'!$F$11+LEFT(M286,1)*'Criterios de Riesgo'!$F$12+LEFT(N286,1)*'Criterios de Riesgo'!$F$13+LEFT(O286,1)*'Criterios de Riesgo'!$F$14+LEFT(P286,1)*'Criterios de Riesgo'!$F$15),2))/5)","v":""},null,null,null,null,{"$f":"IF(COUNTA(S286:V286)<4,\"\",IF(V286=\"No\",\"No se usa\",VLOOKUP(ROUND((LEFT(S286,1)*'Criterios de Riesgo'!$C$13+LEFT(T286,1)*'Criterios de Riesgo'!$C$14+LEFT(U286,1)*'Criterios de Riesgo'!$C$15),2),Calif_Covertura,2,1)))","v":""},{"$f":"IF(COUNTA(S286:V286)<4,\"\",IF(V286=\"No\",0,(ROUND((LEFT(S286,1)*'Criterios de Riesgo'!$C$13+LEFT(T286,1)*'Criterios de Riesgo'!$C$14+LEFT(U286,1)*'Criterios de Riesgo'!$C$15),2))/5))","v":""},""]
[null,null,null,null,null,null,null,null,null,null,null,null,null,null,null,null,{"$f":"IF(COUNTA(I287:P287)<8,\"\",VLOOKUP(ROUND((LEFT(I287,1)*'Criterios de Riesgo'!$F$8+LEFT(J287,1)*'Criterios de Riesgo'!$F$9+LEFT(K287,1)*'Criterios de Riesgo'!$F$10+LEFT(L287,1)*'Criterios de Riesgo'!$F$11+LEFT(M287,1)*'Criterios de Riesgo'!$F$12+LEFT(N287,1)*'Criterios de Riesgo'!$F$13+LEFT(O287,1)*'Criterios de Riesgo'!$F$14+LEFT(P287,1)*'Criterios de Riesgo'!$F$15),2),Calif_Control,2,1))","v":""},{"$f":"IF(COUNTA(I287:P287)<8,\"\",(ROUND((LEFT(I287,1)*'Criterios de Riesgo'!$F$8+LEFT(J287,1)*'Criterios de Riesgo'!$F$9+LEFT(K287,1)*'Criterios de Riesgo'!$F$10+LEFT(L287,1)*'Criterios de Riesgo'!$F$11+LEFT(M287,1)*'Criterios de Riesgo'!$F$12+LEFT(N287,1)*'Criterios de Riesgo'!$F$13+LEFT(O287,1)*'Criterios de Riesgo'!$F$14+LEFT(P287,1)*'Criterios de Riesgo'!$F$15),2))/5)","v":""},null,null,null,null,{"$f":"IF(COUNTA(S287:V287)<4,\"\",IF(V287=\"No\",\"No se usa\",VLOOKUP(ROUND((LEFT(S287,1)*'Criterios de Riesgo'!$C$13+LEFT(T287,1)*'Criterios de Riesgo'!$C$14+LEFT(U287,1)*'Criterios de Riesgo'!$C$15),2),Calif_Covertura,2,1)))","v":""},{"$f":"IF(COUNTA(S287:V287)<4,\"\",IF(V287=\"No\",0,(ROUND((LEFT(S287,1)*'Criterios de Riesgo'!$C$13+LEFT(T287,1)*'Criterios de Riesgo'!$C$14+LEFT(U287,1)*'Criterios de Riesgo'!$C$15),2))/5))","v":""},""]
[null,null,null,null,null,null,null,null,null,null,null,null,null,null,null,null,{"$f":"IF(COUNTA(I288:P288)<8,\"\",VLOOKUP(ROUND((LEFT(I288,1)*'Criterios de Riesgo'!$F$8+LEFT(J288,1)*'Criterios de Riesgo'!$F$9+LEFT(K288,1)*'Criterios de Riesgo'!$F$10+LEFT(L288,1)*'Criterios de Riesgo'!$F$11+LEFT(M288,1)*'Criterios de Riesgo'!$F$12+LEFT(N288,1)*'Criterios de Riesgo'!$F$13+LEFT(O288,1)*'Criterios de Riesgo'!$F$14+LEFT(P288,1)*'Criterios de Riesgo'!$F$15),2),Calif_Control,2,1))","v":""},{"$f":"IF(COUNTA(I288:P288)<8,\"\",(ROUND((LEFT(I288,1)*'Criterios de Riesgo'!$F$8+LEFT(J288,1)*'Criterios de Riesgo'!$F$9+LEFT(K288,1)*'Criterios de Riesgo'!$F$10+LEFT(L288,1)*'Criterios de Riesgo'!$F$11+LEFT(M288,1)*'Criterios de Riesgo'!$F$12+LEFT(N288,1)*'Criterios de Riesgo'!$F$13+LEFT(O288,1)*'Criterios de Riesgo'!$F$14+LEFT(P288,1)*'Criterios de Riesgo'!$F$15),2))/5)","v":""},null,null,null,null,{"$f":"IF(COUNTA(S288:V288)<4,\"\",IF(V288=\"No\",\"No se usa\",VLOOKUP(ROUND((LEFT(S288,1)*'Criterios de Riesgo'!$C$13+LEFT(T288,1)*'Criterios de Riesgo'!$C$14+LEFT(U288,1)*'Criterios de Riesgo'!$C$15),2),Calif_Covertura,2,1)))","v":""},{"$f":"IF(COUNTA(S288:V288)<4,\"\",IF(V288=\"No\",0,(ROUND((LEFT(S288,1)*'Criterios de Riesgo'!$C$13+LEFT(T288,1)*'Criterios de Riesgo'!$C$14+LEFT(U288,1)*'Criterios de Riesgo'!$C$15),2))/5))","v":""},""]
[null,null,null,null,null,null,null,null,null,null,null,null,null,null,null,null,{"$f":"IF(COUNTA(I289:P289)<8,\"\",VLOOKUP(ROUND((LEFT(I289,1)*'Criterios de Riesgo'!$F$8+LEFT(J289,1)*'Criterios de Riesgo'!$F$9+LEFT(K289,1)*'Criterios de Riesgo'!$F$10+LEFT(L289,1)*'Criterios de Riesgo'!$F$11+LEFT(M289,1)*'Criterios de Riesgo'!$F$12+LEFT(N289,1)*'Criterios de Riesgo'!$F$13+LEFT(O289,1)*'Criterios de Riesgo'!$F$14+LEFT(P289,1)*'Criterios de Riesgo'!$F$15),2),Calif_Control,2,1))","v":""},{"$f":"IF(COUNTA(I289:P289)<8,\"\",(ROUND((LEFT(I289,1)*'Criterios de Riesgo'!$F$8+LEFT(J289,1)*'Criterios de Riesgo'!$F$9+LEFT(K289,1)*'Criterios de Riesgo'!$F$10+LEFT(L289,1)*'Criterios de Riesgo'!$F$11+LEFT(M289,1)*'Criterios de Riesgo'!$F$12+LEFT(N289,1)*'Criterios de Riesgo'!$F$13+LEFT(O289,1)*'Criterios de Riesgo'!$F$14+LEFT(P289,1)*'Criterios de Riesgo'!$F$15),2))/5)","v":""},null,null,null,null,{"$f":"IF(COUNTA(S289:V289)<4,\"\",IF(V289=\"No\",\"No se usa\",VLOOKUP(ROUND((LEFT(S289,1)*'Criterios de Riesgo'!$C$13+LEFT(T289,1)*'Criterios de Riesgo'!$C$14+LEFT(U289,1)*'Criterios de Riesgo'!$C$15),2),Calif_Covertura,2,1)))","v":""},{"$f":"IF(COUNTA(S289:V289)<4,\"\",IF(V289=\"No\",0,(ROUND((LEFT(S289,1)*'Criterios de Riesgo'!$C$13+LEFT(T289,1)*'Criterios de Riesgo'!$C$14+LEFT(U289,1)*'Criterios de Riesgo'!$C$15),2))/5))","v":""},""]
[null,null,null,null,null,null,null,null,null,null,null,null,null,null,null,null,{"$f":"IF(COUNTA(I290:P290)<8,\"\",VLOOKUP(ROUND((LEFT(I290,1)*'Criterios de Riesgo'!$F$8+LEFT(J290,1)*'Criterios de Riesgo'!$F$9+LEFT(K290,1)*'Criterios de Riesgo'!$F$10+LEFT(L290,1)*'Criterios de Riesgo'!$F$11+LEFT(M290,1)*'Criterios de Riesgo'!$F$12+LEFT(N290,1)*'Criterios de Riesgo'!$F$13+LEFT(O290,1)*'Criterios de Riesgo'!$F$14+LEFT(P290,1)*'Criterios de Riesgo'!$F$15),2),Calif_Control,2,1))","v":""},{"$f":"IF(COUNTA(I290:P290)<8,\"\",(ROUND((LEFT(I290,1)*'Criterios de Riesgo'!$F$8+LEFT(J290,1)*'Criterios de Riesgo'!$F$9+LEFT(K290,1)*'Criterios de Riesgo'!$F$10+LEFT(L290,1)*'Criterios de Riesgo'!$F$11+LEFT(M290,1)*'Criterios de Riesgo'!$F$12+LEFT(N290,1)*'Criterios de Riesgo'!$F$13+LEFT(O290,1)*'Criterios de Riesgo'!$F$14+LEFT(P290,1)*'Criterios de Riesgo'!$F$15),2))/5)","v":""},null,null,null,null,{"$f":"IF(COUNTA(S290:V290)<4,\"\",IF(V290=\"No\",\"No se usa\",VLOOKUP(ROUND((LEFT(S290,1)*'Criterios de Riesgo'!$C$13+LEFT(T290,1)*'Criterios de Riesgo'!$C$14+LEFT(U290,1)*'Criterios de Riesgo'!$C$15),2),Calif_Covertura,2,1)))","v":""},{"$f":"IF(COUNTA(S290:V290)<4,\"\",IF(V290=\"No\",0,(ROUND((LEFT(S290,1)*'Criterios de Riesgo'!$C$13+LEFT(T290,1)*'Criterios de Riesgo'!$C$14+LEFT(U290,1)*'Criterios de Riesgo'!$C$15),2))/5))","v":""},""]
[null,null,null,null,null,null,null,null,null,null,null,null,null,null,null,null,{"$f":"IF(COUNTA(I291:P291)<8,\"\",VLOOKUP(ROUND((LEFT(I291,1)*'Criterios de Riesgo'!$F$8+LEFT(J291,1)*'Criterios de Riesgo'!$F$9+LEFT(K291,1)*'Criterios de Riesgo'!$F$10+LEFT(L291,1)*'Criterios de Riesgo'!$F$11+LEFT(M291,1)*'Criterios de Riesgo'!$F$12+LEFT(N291,1)*'Criterios de Riesgo'!$F$13+LEFT(O291,1)*'Criterios de Riesgo'!$F$14+LEFT(P291,1)*'Criterios de Riesgo'!$F$15),2),Calif_Control,2,1))","v":""},{"$f":"IF(COUNTA(I291:P291)<8,\"\",(ROUND((LEFT(I291,1)*'Criterios de Riesgo'!$F$8+LEFT(J291,1)*'Criterios de Riesgo'!$F$9+LEFT(K291,1)*'Criterios de Riesgo'!$F$10+LEFT(L291,1)*'Criterios de Riesgo'!$F$11+LEFT(M291,1)*'Criterios de Riesgo'!$F$12+LEFT(N291,1)*'Criterios de Riesgo'!$F$13+LEFT(O291,1)*'Criterios de Riesgo'!$F$14+LEFT(P291,1)*'Criterios de Riesgo'!$F$15),2))/5)","v":""},null,null,null,null,{"$f":"IF(COUNTA(S291:V291)<4,\"\",IF(V291=\"No\",\"No se usa\",VLOOKUP(ROUND((LEFT(S291,1)*'Criterios de Riesgo'!$C$13+LEFT(T291,1)*'Criterios de Riesgo'!$C$14+LEFT(U291,1)*'Criterios de Riesgo'!$C$15),2),Calif_Covertura,2,1)))","v":""},{"$f":"IF(COUNTA(S291:V291)<4,\"\",IF(V291=\"No\",0,(ROUND((LEFT(S291,1)*'Criterios de Riesgo'!$C$13+LEFT(T291,1)*'Criterios de Riesgo'!$C$14+LEFT(U291,1)*'Criterios de Riesgo'!$C$15),2))/5))","v":""},""]
[null,null,null,null,null,null,null,null,null,null,null,null,null,null,null,null,{"$f":"IF(COUNTA(I292:P292)<8,\"\",VLOOKUP(ROUND((LEFT(I292,1)*'Criterios de Riesgo'!$F$8+LEFT(J292,1)*'Criterios de Riesgo'!$F$9+LEFT(K292,1)*'Criterios de Riesgo'!$F$10+LEFT(L292,1)*'Criterios de Riesgo'!$F$11+LEFT(M292,1)*'Criterios de Riesgo'!$F$12+LEFT(N292,1)*'Criterios de Riesgo'!$F$13+LEFT(O292,1)*'Criterios de Riesgo'!$F$14+LEFT(P292,1)*'Criterios de Riesgo'!$F$15),2),Calif_Control,2,1))","v":""},{"$f":"IF(COUNTA(I292:P292)<8,\"\",(ROUND((LEFT(I292,1)*'Criterios de Riesgo'!$F$8+LEFT(J292,1)*'Criterios de Riesgo'!$F$9+LEFT(K292,1)*'Criterios de Riesgo'!$F$10+LEFT(L292,1)*'Criterios de Riesgo'!$F$11+LEFT(M292,1)*'Criterios de Riesgo'!$F$12+LEFT(N292,1)*'Criterios de Riesgo'!$F$13+LEFT(O292,1)*'Criterios de Riesgo'!$F$14+LEFT(P292,1)*'Criterios de Riesgo'!$F$15),2))/5)","v":""},null,null,null,null,{"$f":"IF(COUNTA(S292:V292)<4,\"\",IF(V292=\"No\",\"No se usa\",VLOOKUP(ROUND((LEFT(S292,1)*'Criterios de Riesgo'!$C$13+LEFT(T292,1)*'Criterios de Riesgo'!$C$14+LEFT(U292,1)*'Criterios de Riesgo'!$C$15),2),Calif_Covertura,2,1)))","v":""},{"$f":"IF(COUNTA(S292:V292)<4,\"\",IF(V292=\"No\",0,(ROUND((LEFT(S292,1)*'Criterios de Riesgo'!$C$13+LEFT(T292,1)*'Criterios de Riesgo'!$C$14+LEFT(U292,1)*'Criterios de Riesgo'!$C$15),2))/5))","v":""},""]
[null,null,null,null,null,null,null,null,null,null,null,null,null,null,null,null,{"$f":"IF(COUNTA(I293:P293)<8,\"\",VLOOKUP(ROUND((LEFT(I293,1)*'Criterios de Riesgo'!$F$8+LEFT(J293,1)*'Criterios de Riesgo'!$F$9+LEFT(K293,1)*'Criterios de Riesgo'!$F$10+LEFT(L293,1)*'Criterios de Riesgo'!$F$11+LEFT(M293,1)*'Criterios de Riesgo'!$F$12+LEFT(N293,1)*'Criterios de Riesgo'!$F$13+LEFT(O293,1)*'Criterios de Riesgo'!$F$14+LEFT(P293,1)*'Criterios de Riesgo'!$F$15),2),Calif_Control,2,1))","v":""},{"$f":"IF(COUNTA(I293:P293)<8,\"\",(ROUND((LEFT(I293,1)*'Criterios de Riesgo'!$F$8+LEFT(J293,1)*'Criterios de Riesgo'!$F$9+LEFT(K293,1)*'Criterios de Riesgo'!$F$10+LEFT(L293,1)*'Criterios de Riesgo'!$F$11+LEFT(M293,1)*'Criterios de Riesgo'!$F$12+LEFT(N293,1)*'Criterios de Riesgo'!$F$13+LEFT(O293,1)*'Criterios de Riesgo'!$F$14+LEFT(P293,1)*'Criterios de Riesgo'!$F$15),2))/5)","v":""},null,null,null,null,{"$f":"IF(COUNTA(S293:V293)<4,\"\",IF(V293=\"No\",\"No se usa\",VLOOKUP(ROUND((LEFT(S293,1)*'Criterios de Riesgo'!$C$13+LEFT(T293,1)*'Criterios de Riesgo'!$C$14+LEFT(U293,1)*'Criterios de Riesgo'!$C$15),2),Calif_Covertura,2,1)))","v":""},{"$f":"IF(COUNTA(S293:V293)<4,\"\",IF(V293=\"No\",0,(ROUND((LEFT(S293,1)*'Criterios de Riesgo'!$C$13+LEFT(T293,1)*'Criterios de Riesgo'!$C$14+LEFT(U293,1)*'Criterios de Riesgo'!$C$15),2))/5))","v":""},""]
[null,null,null,null,null,null,null,null,null,null,null,null,null,null,null,null,{"$f":"IF(COUNTA(I294:P294)<8,\"\",VLOOKUP(ROUND((LEFT(I294,1)*'Criterios de Riesgo'!$F$8+LEFT(J294,1)*'Criterios de Riesgo'!$F$9+LEFT(K294,1)*'Criterios de Riesgo'!$F$10+LEFT(L294,1)*'Criterios de Riesgo'!$F$11+LEFT(M294,1)*'Criterios de Riesgo'!$F$12+LEFT(N294,1)*'Criterios de Riesgo'!$F$13+LEFT(O294,1)*'Criterios de Riesgo'!$F$14+LEFT(P294,1)*'Criterios de Riesgo'!$F$15),2),Calif_Control,2,1))","v":""},{"$f":"IF(COUNTA(I294:P294)<8,\"\",(ROUND((LEFT(I294,1)*'Criterios de Riesgo'!$F$8+LEFT(J294,1)*'Criterios de Riesgo'!$F$9+LEFT(K294,1)*'Criterios de Riesgo'!$F$10+LEFT(L294,1)*'Criterios de Riesgo'!$F$11+LEFT(M294,1)*'Criterios de Riesgo'!$F$12+LEFT(N294,1)*'Criterios de Riesgo'!$F$13+LEFT(O294,1)*'Criterios de Riesgo'!$F$14+LEFT(P294,1)*'Criterios de Riesgo'!$F$15),2))/5)","v":""},null,null,null,null,{"$f":"IF(COUNTA(S294:V294)<4,\"\",IF(V294=\"No\",\"No se usa\",VLOOKUP(ROUND((LEFT(S294,1)*'Criterios de Riesgo'!$C$13+LEFT(T294,1)*'Criterios de Riesgo'!$C$14+LEFT(U294,1)*'Criterios de Riesgo'!$C$15),2),Calif_Covertura,2,1)))","v":""},{"$f":"IF(COUNTA(S294:V294)<4,\"\",IF(V294=\"No\",0,(ROUND((LEFT(S294,1)*'Criterios de Riesgo'!$C$13+LEFT(T294,1)*'Criterios de Riesgo'!$C$14+LEFT(U294,1)*'Criterios de Riesgo'!$C$15),2))/5))","v":""},""]
["R",null,null,null,null,null,null,null,null,null,null,null,null,null,null,null,{"$f":"IF(COUNTA(I295:P295)<8,\"\",VLOOKUP(ROUND((LEFT(I295,1)*'Criterios de Riesgo'!$F$8+LEFT(J295,1)*'Criterios de Riesgo'!$F$9+LEFT(K295,1)*'Criterios de Riesgo'!$F$10+LEFT(L295,1)*'Criterios de Riesgo'!$F$11+LEFT(M295,1)*'Criterios de Riesgo'!$F$12+LEFT(N295,1)*'Criterios de Riesgo'!$F$13+LEFT(O295,1)*'Criterios de Riesgo'!$F$14+LEFT(P295,1)*'Criterios de Riesgo'!$F$15),2),Calif_Control,2,1))","v":""},{"$f":"IF(COUNTA(I295:P295)<8,\"\",(ROUND((LEFT(I295,1)*'Criterios de Riesgo'!$F$8+LEFT(J295,1)*'Criterios de Riesgo'!$F$9+LEFT(K295,1)*'Criterios de Riesgo'!$F$10+LEFT(L295,1)*'Criterios de Riesgo'!$F$11+LEFT(M295,1)*'Criterios de Riesgo'!$F$12+LEFT(N295,1)*'Criterios de Riesgo'!$F$13+LEFT(O295,1)*'Criterios de Riesgo'!$F$14+LEFT(P295,1)*'Criterios de Riesgo'!$F$15),2))/5)","v":""},null,null,null,null,{"$f":"IF(COUNTA(S295:V295)<4,\"\",IF(V295=\"No\",\"No se usa\",VLOOKUP(ROUND((LEFT(S295,1)*'Criterios de Riesgo'!$C$13+LEFT(T295,1)*'Criterios de Riesgo'!$C$14+LEFT(U295,1)*'Criterios de Riesgo'!$C$15),2),Calif_Covertura,2,1)))","v":""},{"$f":"IF(COUNTA(S295:V295)<4,\"\",IF(V295=\"No\",0,(ROUND((LEFT(S295,1)*'Criterios de Riesgo'!$C$13+LEFT(T295,1)*'Criterios de Riesgo'!$C$14+LEFT(U295,1)*'Criterios de Riesgo'!$C$15),2))/5))","v":""},"",null,{"$f":"IF(ISERROR((SUMIF(Z295:Z304,\"=impacto\",Y295:Y304)+SUMIF(Z295:Z304,\"=Ambos\",Y295:Y304))/(COUNTIF(Z295:Z304,\"Impacto\")+COUNTIF(Z295:Z304,\"Ambos\"))),\"\",(SUMIF(Z295:Z304,\"=impacto\",Y295:Y304)+SUMIF(Z295:Z304,\"=Ambos\",Y295:Y304))/(COUNTIF(Z295:Z304,\"Impacto\")+COUNTIF(Z295:Z304,\"Ambos\")))","v":""},{"$f":"IF(ISERROR((SUMIF(Z295:Z304,\"=Probabilidad\",Y295:Y304)+SUMIF(Z295:Z304,\"=Ambos\",Y295:Y304))/(COUNTIF(Z295:Z304,\"Probabilidad\")+COUNTIF(Z295:Z304,\"Ambos\"))),\"\",(SUMIF(Z295:Z304,\"=Probabilidad\",Y295:Y304)+SUMIF(Z295:Z304,\"=Ambos\",Y295:Y304))/(COUNTIF(Z295:Z304,\"Probabilidad\")+COUNTIF(Z295:Z304,\"Ambos\")))","v":""},{"$f":"IF(ISERROR(ROUND(IF(AB295=\"\",AA295,IF(AA295=\"\",AB295,IF(AND(AB295=\"\",AA295=\"\"),\"\",AB295*AA295)))*100,0)/100),\"\",ROUND(IF(AB295=\"\",AA295,IF(AA295=\"\",AB295,IF(AND(AB295=\"\",AA295=\"\"),\"\",AB295*AA295)))*100,0)/100)","v":""},{"$f":"IF(AC295=\"\",\"\",VLOOKUP(AC295*5,Calif_Control,2,1))","v":""}]
[null,null,null,null,null,null,null,null,null,null,null,null,null,null,null,null,{"$f":"IF(COUNTA(I296:P296)<8,\"\",VLOOKUP(ROUND((LEFT(I296,1)*'Criterios de Riesgo'!$F$8+LEFT(J296,1)*'Criterios de Riesgo'!$F$9+LEFT(K296,1)*'Criterios de Riesgo'!$F$10+LEFT(L296,1)*'Criterios de Riesgo'!$F$11+LEFT(M296,1)*'Criterios de Riesgo'!$F$12+LEFT(N296,1)*'Criterios de Riesgo'!$F$13+LEFT(O296,1)*'Criterios de Riesgo'!$F$14+LEFT(P296,1)*'Criterios de Riesgo'!$F$15),2),Calif_Control,2,1))","v":""},{"$f":"IF(COUNTA(I296:P296)<8,\"\",(ROUND((LEFT(I296,1)*'Criterios de Riesgo'!$F$8+LEFT(J296,1)*'Criterios de Riesgo'!$F$9+LEFT(K296,1)*'Criterios de Riesgo'!$F$10+LEFT(L296,1)*'Criterios de Riesgo'!$F$11+LEFT(M296,1)*'Criterios de Riesgo'!$F$12+LEFT(N296,1)*'Criterios de Riesgo'!$F$13+LEFT(O296,1)*'Criterios de Riesgo'!$F$14+LEFT(P296,1)*'Criterios de Riesgo'!$F$15),2))/5)","v":""},null,null,null,null,{"$f":"IF(COUNTA(S296:V296)<4,\"\",IF(V296=\"No\",\"No se usa\",VLOOKUP(ROUND((LEFT(S296,1)*'Criterios de Riesgo'!$C$13+LEFT(T296,1)*'Criterios de Riesgo'!$C$14+LEFT(U296,1)*'Criterios de Riesgo'!$C$15),2),Calif_Covertura,2,1)))","v":""},{"$f":"IF(COUNTA(S296:V296)<4,\"\",IF(V296=\"No\",0,(ROUND((LEFT(S296,1)*'Criterios de Riesgo'!$C$13+LEFT(T296,1)*'Criterios de Riesgo'!$C$14+LEFT(U296,1)*'Criterios de Riesgo'!$C$15),2))/5))","v":""},""]
[null,null,null,null,null,null,null,null,null,null,null,null,null,null,null,null,{"$f":"IF(COUNTA(I297:P297)<8,\"\",VLOOKUP(ROUND((LEFT(I297,1)*'Criterios de Riesgo'!$F$8+LEFT(J297,1)*'Criterios de Riesgo'!$F$9+LEFT(K297,1)*'Criterios de Riesgo'!$F$10+LEFT(L297,1)*'Criterios de Riesgo'!$F$11+LEFT(M297,1)*'Criterios de Riesgo'!$F$12+LEFT(N297,1)*'Criterios de Riesgo'!$F$13+LEFT(O297,1)*'Criterios de Riesgo'!$F$14+LEFT(P297,1)*'Criterios de Riesgo'!$F$15),2),Calif_Control,2,1))","v":""},{"$f":"IF(COUNTA(I297:P297)<8,\"\",(ROUND((LEFT(I297,1)*'Criterios de Riesgo'!$F$8+LEFT(J297,1)*'Criterios de Riesgo'!$F$9+LEFT(K297,1)*'Criterios de Riesgo'!$F$10+LEFT(L297,1)*'Criterios de Riesgo'!$F$11+LEFT(M297,1)*'Criterios de Riesgo'!$F$12+LEFT(N297,1)*'Criterios de Riesgo'!$F$13+LEFT(O297,1)*'Criterios de Riesgo'!$F$14+LEFT(P297,1)*'Criterios de Riesgo'!$F$15),2))/5)","v":""},null,null,null,null,{"$f":"IF(COUNTA(S297:V297)<4,\"\",IF(V297=\"No\",\"No se usa\",VLOOKUP(ROUND((LEFT(S297,1)*'Criterios de Riesgo'!$C$13+LEFT(T297,1)*'Criterios de Riesgo'!$C$14+LEFT(U297,1)*'Criterios de Riesgo'!$C$15),2),Calif_Covertura,2,1)))","v":""},{"$f":"IF(COUNTA(S297:V297)<4,\"\",IF(V297=\"No\",0,(ROUND((LEFT(S297,1)*'Criterios de Riesgo'!$C$13+LEFT(T297,1)*'Criterios de Riesgo'!$C$14+LEFT(U297,1)*'Criterios de Riesgo'!$C$15),2))/5))","v":""},""]
[null,null,null,null,null,null,null,null,null,null,null,null,null,null,null,null,{"$f":"IF(COUNTA(I298:P298)<8,\"\",VLOOKUP(ROUND((LEFT(I298,1)*'Criterios de Riesgo'!$F$8+LEFT(J298,1)*'Criterios de Riesgo'!$F$9+LEFT(K298,1)*'Criterios de Riesgo'!$F$10+LEFT(L298,1)*'Criterios de Riesgo'!$F$11+LEFT(M298,1)*'Criterios de Riesgo'!$F$12+LEFT(N298,1)*'Criterios de Riesgo'!$F$13+LEFT(O298,1)*'Criterios de Riesgo'!$F$14+LEFT(P298,1)*'Criterios de Riesgo'!$F$15),2),Calif_Control,2,1))","v":""},{"$f":"IF(COUNTA(I298:P298)<8,\"\",(ROUND((LEFT(I298,1)*'Criterios de Riesgo'!$F$8+LEFT(J298,1)*'Criterios de Riesgo'!$F$9+LEFT(K298,1)*'Criterios de Riesgo'!$F$10+LEFT(L298,1)*'Criterios de Riesgo'!$F$11+LEFT(M298,1)*'Criterios de Riesgo'!$F$12+LEFT(N298,1)*'Criterios de Riesgo'!$F$13+LEFT(O298,1)*'Criterios de Riesgo'!$F$14+LEFT(P298,1)*'Criterios de Riesgo'!$F$15),2))/5)","v":""},null,null,null,null,{"$f":"IF(COUNTA(S298:V298)<4,\"\",IF(V298=\"No\",\"No se usa\",VLOOKUP(ROUND((LEFT(S298,1)*'Criterios de Riesgo'!$C$13+LEFT(T298,1)*'Criterios de Riesgo'!$C$14+LEFT(U298,1)*'Criterios de Riesgo'!$C$15),2),Calif_Covertura,2,1)))","v":""},{"$f":"IF(COUNTA(S298:V298)<4,\"\",IF(V298=\"No\",0,(ROUND((LEFT(S298,1)*'Criterios de Riesgo'!$C$13+LEFT(T298,1)*'Criterios de Riesgo'!$C$14+LEFT(U298,1)*'Criterios de Riesgo'!$C$15),2))/5))","v":""},""]
[null,null,null,null,null,null,null,null,null,null,null,null,null,null,null,null,{"$f":"IF(COUNTA(I299:P299)<8,\"\",VLOOKUP(ROUND((LEFT(I299,1)*'Criterios de Riesgo'!$F$8+LEFT(J299,1)*'Criterios de Riesgo'!$F$9+LEFT(K299,1)*'Criterios de Riesgo'!$F$10+LEFT(L299,1)*'Criterios de Riesgo'!$F$11+LEFT(M299,1)*'Criterios de Riesgo'!$F$12+LEFT(N299,1)*'Criterios de Riesgo'!$F$13+LEFT(O299,1)*'Criterios de Riesgo'!$F$14+LEFT(P299,1)*'Criterios de Riesgo'!$F$15),2),Calif_Control,2,1))","v":""},{"$f":"IF(COUNTA(I299:P299)<8,\"\",(ROUND((LEFT(I299,1)*'Criterios de Riesgo'!$F$8+LEFT(J299,1)*'Criterios de Riesgo'!$F$9+LEFT(K299,1)*'Criterios de Riesgo'!$F$10+LEFT(L299,1)*'Criterios de Riesgo'!$F$11+LEFT(M299,1)*'Criterios de Riesgo'!$F$12+LEFT(N299,1)*'Criterios de Riesgo'!$F$13+LEFT(O299,1)*'Criterios de Riesgo'!$F$14+LEFT(P299,1)*'Criterios de Riesgo'!$F$15),2))/5)","v":""},null,null,null,null,{"$f":"IF(COUNTA(S299:V299)<4,\"\",IF(V299=\"No\",\"No se usa\",VLOOKUP(ROUND((LEFT(S299,1)*'Criterios de Riesgo'!$C$13+LEFT(T299,1)*'Criterios de Riesgo'!$C$14+LEFT(U299,1)*'Criterios de Riesgo'!$C$15),2),Calif_Covertura,2,1)))","v":""},{"$f":"IF(COUNTA(S299:V299)<4,\"\",IF(V299=\"No\",0,(ROUND((LEFT(S299,1)*'Criterios de Riesgo'!$C$13+LEFT(T299,1)*'Criterios de Riesgo'!$C$14+LEFT(U299,1)*'Criterios de Riesgo'!$C$15),2))/5))","v":""},""]
[null,null,null,null,null,null,null,null,null,null,null,null,null,null,null,null,{"$f":"IF(COUNTA(I300:P300)<8,\"\",VLOOKUP(ROUND((LEFT(I300,1)*'Criterios de Riesgo'!$F$8+LEFT(J300,1)*'Criterios de Riesgo'!$F$9+LEFT(K300,1)*'Criterios de Riesgo'!$F$10+LEFT(L300,1)*'Criterios de Riesgo'!$F$11+LEFT(M300,1)*'Criterios de Riesgo'!$F$12+LEFT(N300,1)*'Criterios de Riesgo'!$F$13+LEFT(O300,1)*'Criterios de Riesgo'!$F$14+LEFT(P300,1)*'Criterios de Riesgo'!$F$15),2),Calif_Control,2,1))","v":""},{"$f":"IF(COUNTA(I300:P300)<8,\"\",(ROUND((LEFT(I300,1)*'Criterios de Riesgo'!$F$8+LEFT(J300,1)*'Criterios de Riesgo'!$F$9+LEFT(K300,1)*'Criterios de Riesgo'!$F$10+LEFT(L300,1)*'Criterios de Riesgo'!$F$11+LEFT(M300,1)*'Criterios de Riesgo'!$F$12+LEFT(N300,1)*'Criterios de Riesgo'!$F$13+LEFT(O300,1)*'Criterios de Riesgo'!$F$14+LEFT(P300,1)*'Criterios de Riesgo'!$F$15),2))/5)","v":""},null,null,null,null,{"$f":"IF(COUNTA(S300:V300)<4,\"\",IF(V300=\"No\",\"No se usa\",VLOOKUP(ROUND((LEFT(S300,1)*'Criterios de Riesgo'!$C$13+LEFT(T300,1)*'Criterios de Riesgo'!$C$14+LEFT(U300,1)*'Criterios de Riesgo'!$C$15),2),Calif_Covertura,2,1)))","v":""},{"$f":"IF(COUNTA(S300:V300)<4,\"\",IF(V300=\"No\",0,(ROUND((LEFT(S300,1)*'Criterios de Riesgo'!$C$13+LEFT(T300,1)*'Criterios de Riesgo'!$C$14+LEFT(U300,1)*'Criterios de Riesgo'!$C$15),2))/5))","v":""},""]
[null,null,null,null,null,null,null,null,null,null,null,null,null,null,null,null,{"$f":"IF(COUNTA(I301:P301)<8,\"\",VLOOKUP(ROUND((LEFT(I301,1)*'Criterios de Riesgo'!$F$8+LEFT(J301,1)*'Criterios de Riesgo'!$F$9+LEFT(K301,1)*'Criterios de Riesgo'!$F$10+LEFT(L301,1)*'Criterios de Riesgo'!$F$11+LEFT(M301,1)*'Criterios de Riesgo'!$F$12+LEFT(N301,1)*'Criterios de Riesgo'!$F$13+LEFT(O301,1)*'Criterios de Riesgo'!$F$14+LEFT(P301,1)*'Criterios de Riesgo'!$F$15),2),Calif_Control,2,1))","v":""},{"$f":"IF(COUNTA(I301:P301)<8,\"\",(ROUND((LEFT(I301,1)*'Criterios de Riesgo'!$F$8+LEFT(J301,1)*'Criterios de Riesgo'!$F$9+LEFT(K301,1)*'Criterios de Riesgo'!$F$10+LEFT(L301,1)*'Criterios de Riesgo'!$F$11+LEFT(M301,1)*'Criterios de Riesgo'!$F$12+LEFT(N301,1)*'Criterios de Riesgo'!$F$13+LEFT(O301,1)*'Criterios de Riesgo'!$F$14+LEFT(P301,1)*'Criterios de Riesgo'!$F$15),2))/5)","v":""},null,null,null,null,{"$f":"IF(COUNTA(S301:V301)<4,\"\",IF(V301=\"No\",\"No se usa\",VLOOKUP(ROUND((LEFT(S301,1)*'Criterios de Riesgo'!$C$13+LEFT(T301,1)*'Criterios de Riesgo'!$C$14+LEFT(U301,1)*'Criterios de Riesgo'!$C$15),2),Calif_Covertura,2,1)))","v":""},{"$f":"IF(COUNTA(S301:V301)<4,\"\",IF(V301=\"No\",0,(ROUND((LEFT(S301,1)*'Criterios de Riesgo'!$C$13+LEFT(T301,1)*'Criterios de Riesgo'!$C$14+LEFT(U301,1)*'Criterios de Riesgo'!$C$15),2))/5))","v":""},""]
[null,null,null,null,null,null,null,null,null,null,null,null,null,null,null,null,{"$f":"IF(COUNTA(I302:P302)<8,\"\",VLOOKUP(ROUND((LEFT(I302,1)*'Criterios de Riesgo'!$F$8+LEFT(J302,1)*'Criterios de Riesgo'!$F$9+LEFT(K302,1)*'Criterios de Riesgo'!$F$10+LEFT(L302,1)*'Criterios de Riesgo'!$F$11+LEFT(M302,1)*'Criterios de Riesgo'!$F$12+LEFT(N302,1)*'Criterios de Riesgo'!$F$13+LEFT(O302,1)*'Criterios de Riesgo'!$F$14+LEFT(P302,1)*'Criterios de Riesgo'!$F$15),2),Calif_Control,2,1))","v":""},{"$f":"IF(COUNTA(I302:P302)<8,\"\",(ROUND((LEFT(I302,1)*'Criterios de Riesgo'!$F$8+LEFT(J302,1)*'Criterios de Riesgo'!$F$9+LEFT(K302,1)*'Criterios de Riesgo'!$F$10+LEFT(L302,1)*'Criterios de Riesgo'!$F$11+LEFT(M302,1)*'Criterios de Riesgo'!$F$12+LEFT(N302,1)*'Criterios de Riesgo'!$F$13+LEFT(O302,1)*'Criterios de Riesgo'!$F$14+LEFT(P302,1)*'Criterios de Riesgo'!$F$15),2))/5)","v":""},null,null,null,null,{"$f":"IF(COUNTA(S302:V302)<4,\"\",IF(V302=\"No\",\"No se usa\",VLOOKUP(ROUND((LEFT(S302,1)*'Criterios de Riesgo'!$C$13+LEFT(T302,1)*'Criterios de Riesgo'!$C$14+LEFT(U302,1)*'Criterios de Riesgo'!$C$15),2),Calif_Covertura,2,1)))","v":""},{"$f":"IF(COUNTA(S302:V302)<4,\"\",IF(V302=\"No\",0,(ROUND((LEFT(S302,1)*'Criterios de Riesgo'!$C$13+LEFT(T302,1)*'Criterios de Riesgo'!$C$14+LEFT(U302,1)*'Criterios de Riesgo'!$C$15),2))/5))","v":""},""]
[null,null,null,null,null,null,null,null,null,null,null,null,null,null,null,null,{"$f":"IF(COUNTA(I303:P303)<8,\"\",VLOOKUP(ROUND((LEFT(I303,1)*'Criterios de Riesgo'!$F$8+LEFT(J303,1)*'Criterios de Riesgo'!$F$9+LEFT(K303,1)*'Criterios de Riesgo'!$F$10+LEFT(L303,1)*'Criterios de Riesgo'!$F$11+LEFT(M303,1)*'Criterios de Riesgo'!$F$12+LEFT(N303,1)*'Criterios de Riesgo'!$F$13+LEFT(O303,1)*'Criterios de Riesgo'!$F$14+LEFT(P303,1)*'Criterios de Riesgo'!$F$15),2),Calif_Control,2,1))","v":""},{"$f":"IF(COUNTA(I303:P303)<8,\"\",(ROUND((LEFT(I303,1)*'Criterios de Riesgo'!$F$8+LEFT(J303,1)*'Criterios de Riesgo'!$F$9+LEFT(K303,1)*'Criterios de Riesgo'!$F$10+LEFT(L303,1)*'Criterios de Riesgo'!$F$11+LEFT(M303,1)*'Criterios de Riesgo'!$F$12+LEFT(N303,1)*'Criterios de Riesgo'!$F$13+LEFT(O303,1)*'Criterios de Riesgo'!$F$14+LEFT(P303,1)*'Criterios de Riesgo'!$F$15),2))/5)","v":""},null,null,null,null,{"$f":"IF(COUNTA(S303:V303)<4,\"\",IF(V303=\"No\",\"No se usa\",VLOOKUP(ROUND((LEFT(S303,1)*'Criterios de Riesgo'!$C$13+LEFT(T303,1)*'Criterios de Riesgo'!$C$14+LEFT(U303,1)*'Criterios de Riesgo'!$C$15),2),Calif_Covertura,2,1)))","v":""},{"$f":"IF(COUNTA(S303:V303)<4,\"\",IF(V303=\"No\",0,(ROUND((LEFT(S303,1)*'Criterios de Riesgo'!$C$13+LEFT(T303,1)*'Criterios de Riesgo'!$C$14+LEFT(U303,1)*'Criterios de Riesgo'!$C$15),2))/5))","v":""},""]
[null,null,null,null,null,null,null,null,null,null,null,null,null,null,null,null,{"$f":"IF(COUNTA(I304:P304)<8,\"\",VLOOKUP(ROUND((LEFT(I304,1)*'Criterios de Riesgo'!$F$8+LEFT(J304,1)*'Criterios de Riesgo'!$F$9+LEFT(K304,1)*'Criterios de Riesgo'!$F$10+LEFT(L304,1)*'Criterios de Riesgo'!$F$11+LEFT(M304,1)*'Criterios de Riesgo'!$F$12+LEFT(N304,1)*'Criterios de Riesgo'!$F$13+LEFT(O304,1)*'Criterios de Riesgo'!$F$14+LEFT(P304,1)*'Criterios de Riesgo'!$F$15),2),Calif_Control,2,1))","v":""},{"$f":"IF(COUNTA(I304:P304)<8,\"\",(ROUND((LEFT(I304,1)*'Criterios de Riesgo'!$F$8+LEFT(J304,1)*'Criterios de Riesgo'!$F$9+LEFT(K304,1)*'Criterios de Riesgo'!$F$10+LEFT(L304,1)*'Criterios de Riesgo'!$F$11+LEFT(M304,1)*'Criterios de Riesgo'!$F$12+LEFT(N304,1)*'Criterios de Riesgo'!$F$13+LEFT(O304,1)*'Criterios de Riesgo'!$F$14+LEFT(P304,1)*'Criterios de Riesgo'!$F$15),2))/5)","v":""},null,null,null,null,{"$f":"IF(COUNTA(S304:V304)<4,\"\",IF(V304=\"No\",\"No se usa\",VLOOKUP(ROUND((LEFT(S304,1)*'Criterios de Riesgo'!$C$13+LEFT(T304,1)*'Criterios de Riesgo'!$C$14+LEFT(U304,1)*'Criterios de Riesgo'!$C$15),2),Calif_Covertura,2,1)))","v":""},{"$f":"IF(COUNTA(S304:V304)<4,\"\",IF(V304=\"No\",0,(ROUND((LEFT(S304,1)*'Criterios de Riesgo'!$C$13+LEFT(T304,1)*'Criterios de Riesgo'!$C$14+LEFT(U304,1)*'Criterios de Riesgo'!$C$15),2))/5))","v":""},""]
["R",null,null,null,null,null,null,null,null,null,null,null,null,null,null,null,{"$f":"IF(COUNTA(I305:P305)<8,\"\",VLOOKUP(ROUND((LEFT(I305,1)*'Criterios de Riesgo'!$F$8+LEFT(J305,1)*'Criterios de Riesgo'!$F$9+LEFT(K305,1)*'Criterios de Riesgo'!$F$10+LEFT(L305,1)*'Criterios de Riesgo'!$F$11+LEFT(M305,1)*'Criterios de Riesgo'!$F$12+LEFT(N305,1)*'Criterios de Riesgo'!$F$13+LEFT(O305,1)*'Criterios de Riesgo'!$F$14+LEFT(P305,1)*'Criterios de Riesgo'!$F$15),2),Calif_Control,2,1))","v":""},{"$f":"IF(COUNTA(I305:P305)<8,\"\",(ROUND((LEFT(I305,1)*'Criterios de Riesgo'!$F$8+LEFT(J305,1)*'Criterios de Riesgo'!$F$9+LEFT(K305,1)*'Criterios de Riesgo'!$F$10+LEFT(L305,1)*'Criterios de Riesgo'!$F$11+LEFT(M305,1)*'Criterios de Riesgo'!$F$12+LEFT(N305,1)*'Criterios de Riesgo'!$F$13+LEFT(O305,1)*'Criterios de Riesgo'!$F$14+LEFT(P305,1)*'Criterios de Riesgo'!$F$15),2))/5)","v":""},null,null,null,null,{"$f":"IF(COUNTA(S305:V305)<4,\"\",IF(V305=\"No\",\"No se usa\",VLOOKUP(ROUND((LEFT(S305,1)*'Criterios de Riesgo'!$C$13+LEFT(T305,1)*'Criterios de Riesgo'!$C$14+LEFT(U305,1)*'Criterios de Riesgo'!$C$15),2),Calif_Covertura,2,1)))","v":""},{"$f":"IF(COUNTA(S305:V305)<4,\"\",IF(V305=\"No\",0,(ROUND((LEFT(S305,1)*'Criterios de Riesgo'!$C$13+LEFT(T305,1)*'Criterios de Riesgo'!$C$14+LEFT(U305,1)*'Criterios de Riesgo'!$C$15),2))/5))","v":""},"",null,{"$f":"IF(ISERROR((SUMIF(Z305:Z314,\"=impacto\",Y305:Y314)+SUMIF(Z305:Z314,\"=Ambos\",Y305:Y314))/(COUNTIF(Z305:Z314,\"Impacto\")+COUNTIF(Z305:Z314,\"Ambos\"))),\"\",(SUMIF(Z305:Z314,\"=impacto\",Y305:Y314)+SUMIF(Z305:Z314,\"=Ambos\",Y305:Y314))/(COUNTIF(Z305:Z314,\"Impacto\")+COUNTIF(Z305:Z314,\"Ambos\")))","v":""},{"$f":"IF(ISERROR((SUMIF(Z305:Z314,\"=Probabilidad\",Y305:Y314)+SUMIF(Z305:Z314,\"=Ambos\",Y305:Y314))/(COUNTIF(Z305:Z314,\"Probabilidad\")+COUNTIF(Z305:Z314,\"Ambos\"))),\"\",(SUMIF(Z305:Z314,\"=Probabilidad\",Y305:Y314)+SUMIF(Z305:Z314,\"=Ambos\",Y305:Y314))/(COUNTIF(Z305:Z314,\"Probabilidad\")+COUNTIF(Z305:Z314,\"Ambos\")))","v":""},{"$f":"IF(ISERROR(ROUND(IF(AB305=\"\",AA305,IF(AA305=\"\",AB305,IF(AND(AB305=\"\",AA305=\"\"),\"\",AB305*AA305)))*100,0)/100),\"\",ROUND(IF(AB305=\"\",AA305,IF(AA305=\"\",AB305,IF(AND(AB305=\"\",AA305=\"\"),\"\",AB305*AA305)))*100,0)/100)","v":""},{"$f":"IF(AC305=\"\",\"\",VLOOKUP(AC305*5,Calif_Control,2,1))","v":""}]
[null,null,null,null,null,null,null,null,null,null,null,null,null,null,null,null,{"$f":"IF(COUNTA(I306:P306)<8,\"\",VLOOKUP(ROUND((LEFT(I306,1)*'Criterios de Riesgo'!$F$8+LEFT(J306,1)*'Criterios de Riesgo'!$F$9+LEFT(K306,1)*'Criterios de Riesgo'!$F$10+LEFT(L306,1)*'Criterios de Riesgo'!$F$11+LEFT(M306,1)*'Criterios de Riesgo'!$F$12+LEFT(N306,1)*'Criterios de Riesgo'!$F$13+LEFT(O306,1)*'Criterios de Riesgo'!$F$14+LEFT(P306,1)*'Criterios de Riesgo'!$F$15),2),Calif_Control,2,1))","v":""},{"$f":"IF(COUNTA(I306:P306)<8,\"\",(ROUND((LEFT(I306,1)*'Criterios de Riesgo'!$F$8+LEFT(J306,1)*'Criterios de Riesgo'!$F$9+LEFT(K306,1)*'Criterios de Riesgo'!$F$10+LEFT(L306,1)*'Criterios de Riesgo'!$F$11+LEFT(M306,1)*'Criterios de Riesgo'!$F$12+LEFT(N306,1)*'Criterios de Riesgo'!$F$13+LEFT(O306,1)*'Criterios de Riesgo'!$F$14+LEFT(P306,1)*'Criterios de Riesgo'!$F$15),2))/5)","v":""},null,null,null,null,{"$f":"IF(COUNTA(S306:V306)<4,\"\",IF(V306=\"No\",\"No se usa\",VLOOKUP(ROUND((LEFT(S306,1)*'Criterios de Riesgo'!$C$13+LEFT(T306,1)*'Criterios de Riesgo'!$C$14+LEFT(U306,1)*'Criterios de Riesgo'!$C$15),2),Calif_Covertura,2,1)))","v":""},{"$f":"IF(COUNTA(S306:V306)<4,\"\",IF(V306=\"No\",0,(ROUND((LEFT(S306,1)*'Criterios de Riesgo'!$C$13+LEFT(T306,1)*'Criterios de Riesgo'!$C$14+LEFT(U306,1)*'Criterios de Riesgo'!$C$15),2))/5))","v":""},""]
[null,null,null,null,null,null,null,null,null,null,null,null,null,null,null,null,{"$f":"IF(COUNTA(I307:P307)<8,\"\",VLOOKUP(ROUND((LEFT(I307,1)*'Criterios de Riesgo'!$F$8+LEFT(J307,1)*'Criterios de Riesgo'!$F$9+LEFT(K307,1)*'Criterios de Riesgo'!$F$10+LEFT(L307,1)*'Criterios de Riesgo'!$F$11+LEFT(M307,1)*'Criterios de Riesgo'!$F$12+LEFT(N307,1)*'Criterios de Riesgo'!$F$13+LEFT(O307,1)*'Criterios de Riesgo'!$F$14+LEFT(P307,1)*'Criterios de Riesgo'!$F$15),2),Calif_Control,2,1))","v":""},{"$f":"IF(COUNTA(I307:P307)<8,\"\",(ROUND((LEFT(I307,1)*'Criterios de Riesgo'!$F$8+LEFT(J307,1)*'Criterios de Riesgo'!$F$9+LEFT(K307,1)*'Criterios de Riesgo'!$F$10+LEFT(L307,1)*'Criterios de Riesgo'!$F$11+LEFT(M307,1)*'Criterios de Riesgo'!$F$12+LEFT(N307,1)*'Criterios de Riesgo'!$F$13+LEFT(O307,1)*'Criterios de Riesgo'!$F$14+LEFT(P307,1)*'Criterios de Riesgo'!$F$15),2))/5)","v":""},null,null,null,null,{"$f":"IF(COUNTA(S307:V307)<4,\"\",IF(V307=\"No\",\"No se usa\",VLOOKUP(ROUND((LEFT(S307,1)*'Criterios de Riesgo'!$C$13+LEFT(T307,1)*'Criterios de Riesgo'!$C$14+LEFT(U307,1)*'Criterios de Riesgo'!$C$15),2),Calif_Covertura,2,1)))","v":""},{"$f":"IF(COUNTA(S307:V307)<4,\"\",IF(V307=\"No\",0,(ROUND((LEFT(S307,1)*'Criterios de Riesgo'!$C$13+LEFT(T307,1)*'Criterios de Riesgo'!$C$14+LEFT(U307,1)*'Criterios de Riesgo'!$C$15),2))/5))","v":""},""]
[null,null,null,null,null,null,null,null,null,null,null,null,null,null,null,null,{"$f":"IF(COUNTA(I308:P308)<8,\"\",VLOOKUP(ROUND((LEFT(I308,1)*'Criterios de Riesgo'!$F$8+LEFT(J308,1)*'Criterios de Riesgo'!$F$9+LEFT(K308,1)*'Criterios de Riesgo'!$F$10+LEFT(L308,1)*'Criterios de Riesgo'!$F$11+LEFT(M308,1)*'Criterios de Riesgo'!$F$12+LEFT(N308,1)*'Criterios de Riesgo'!$F$13+LEFT(O308,1)*'Criterios de Riesgo'!$F$14+LEFT(P308,1)*'Criterios de Riesgo'!$F$15),2),Calif_Control,2,1))","v":""},{"$f":"IF(COUNTA(I308:P308)<8,\"\",(ROUND((LEFT(I308,1)*'Criterios de Riesgo'!$F$8+LEFT(J308,1)*'Criterios de Riesgo'!$F$9+LEFT(K308,1)*'Criterios de Riesgo'!$F$10+LEFT(L308,1)*'Criterios de Riesgo'!$F$11+LEFT(M308,1)*'Criterios de Riesgo'!$F$12+LEFT(N308,1)*'Criterios de Riesgo'!$F$13+LEFT(O308,1)*'Criterios de Riesgo'!$F$14+LEFT(P308,1)*'Criterios de Riesgo'!$F$15),2))/5)","v":""},null,null,null,null,{"$f":"IF(COUNTA(S308:V308)<4,\"\",IF(V308=\"No\",\"No se usa\",VLOOKUP(ROUND((LEFT(S308,1)*'Criterios de Riesgo'!$C$13+LEFT(T308,1)*'Criterios de Riesgo'!$C$14+LEFT(U308,1)*'Criterios de Riesgo'!$C$15),2),Calif_Covertura,2,1)))","v":""},{"$f":"IF(COUNTA(S308:V308)<4,\"\",IF(V308=\"No\",0,(ROUND((LEFT(S308,1)*'Criterios de Riesgo'!$C$13+LEFT(T308,1)*'Criterios de Riesgo'!$C$14+LEFT(U308,1)*'Criterios de Riesgo'!$C$15),2))/5))","v":""},""]
[null,null,null,null,null,null,null,null,null,null,null,null,null,null,null,null,{"$f":"IF(COUNTA(I309:P309)<8,\"\",VLOOKUP(ROUND((LEFT(I309,1)*'Criterios de Riesgo'!$F$8+LEFT(J309,1)*'Criterios de Riesgo'!$F$9+LEFT(K309,1)*'Criterios de Riesgo'!$F$10+LEFT(L309,1)*'Criterios de Riesgo'!$F$11+LEFT(M309,1)*'Criterios de Riesgo'!$F$12+LEFT(N309,1)*'Criterios de Riesgo'!$F$13+LEFT(O309,1)*'Criterios de Riesgo'!$F$14+LEFT(P309,1)*'Criterios de Riesgo'!$F$15),2),Calif_Control,2,1))","v":""},{"$f":"IF(COUNTA(I309:P309)<8,\"\",(ROUND((LEFT(I309,1)*'Criterios de Riesgo'!$F$8+LEFT(J309,1)*'Criterios de Riesgo'!$F$9+LEFT(K309,1)*'Criterios de Riesgo'!$F$10+LEFT(L309,1)*'Criterios de Riesgo'!$F$11+LEFT(M309,1)*'Criterios de Riesgo'!$F$12+LEFT(N309,1)*'Criterios de Riesgo'!$F$13+LEFT(O309,1)*'Criterios de Riesgo'!$F$14+LEFT(P309,1)*'Criterios de Riesgo'!$F$15),2))/5)","v":""},null,null,null,null,{"$f":"IF(COUNTA(S309:V309)<4,\"\",IF(V309=\"No\",\"No se usa\",VLOOKUP(ROUND((LEFT(S309,1)*'Criterios de Riesgo'!$C$13+LEFT(T309,1)*'Criterios de Riesgo'!$C$14+LEFT(U309,1)*'Criterios de Riesgo'!$C$15),2),Calif_Covertura,2,1)))","v":""},{"$f":"IF(COUNTA(S309:V309)<4,\"\",IF(V309=\"No\",0,(ROUND((LEFT(S309,1)*'Criterios de Riesgo'!$C$13+LEFT(T309,1)*'Criterios de Riesgo'!$C$14+LEFT(U309,1)*'Criterios de Riesgo'!$C$15),2))/5))","v":""},""]
[null,null,null,null,null,null,null,null,null,null,null,null,null,null,null,null,{"$f":"IF(COUNTA(I310:P310)<8,\"\",VLOOKUP(ROUND((LEFT(I310,1)*'Criterios de Riesgo'!$F$8+LEFT(J310,1)*'Criterios de Riesgo'!$F$9+LEFT(K310,1)*'Criterios de Riesgo'!$F$10+LEFT(L310,1)*'Criterios de Riesgo'!$F$11+LEFT(M310,1)*'Criterios de Riesgo'!$F$12+LEFT(N310,1)*'Criterios de Riesgo'!$F$13+LEFT(O310,1)*'Criterios de Riesgo'!$F$14+LEFT(P310,1)*'Criterios de Riesgo'!$F$15),2),Calif_Control,2,1))","v":""},{"$f":"IF(COUNTA(I310:P310)<8,\"\",(ROUND((LEFT(I310,1)*'Criterios de Riesgo'!$F$8+LEFT(J310,1)*'Criterios de Riesgo'!$F$9+LEFT(K310,1)*'Criterios de Riesgo'!$F$10+LEFT(L310,1)*'Criterios de Riesgo'!$F$11+LEFT(M310,1)*'Criterios de Riesgo'!$F$12+LEFT(N310,1)*'Criterios de Riesgo'!$F$13+LEFT(O310,1)*'Criterios de Riesgo'!$F$14+LEFT(P310,1)*'Criterios de Riesgo'!$F$15),2))/5)","v":""},null,null,null,null,{"$f":"IF(COUNTA(S310:V310)<4,\"\",IF(V310=\"No\",\"No se usa\",VLOOKUP(ROUND((LEFT(S310,1)*'Criterios de Riesgo'!$C$13+LEFT(T310,1)*'Criterios de Riesgo'!$C$14+LEFT(U310,1)*'Criterios de Riesgo'!$C$15),2),Calif_Covertura,2,1)))","v":""},{"$f":"IF(COUNTA(S310:V310)<4,\"\",IF(V310=\"No\",0,(ROUND((LEFT(S310,1)*'Criterios de Riesgo'!$C$13+LEFT(T310,1)*'Criterios de Riesgo'!$C$14+LEFT(U310,1)*'Criterios de Riesgo'!$C$15),2))/5))","v":""},""]
[null,null,null,null,null,null,null,null,null,null,null,null,null,null,null,null,{"$f":"IF(COUNTA(I311:P311)<8,\"\",VLOOKUP(ROUND((LEFT(I311,1)*'Criterios de Riesgo'!$F$8+LEFT(J311,1)*'Criterios de Riesgo'!$F$9+LEFT(K311,1)*'Criterios de Riesgo'!$F$10+LEFT(L311,1)*'Criterios de Riesgo'!$F$11+LEFT(M311,1)*'Criterios de Riesgo'!$F$12+LEFT(N311,1)*'Criterios de Riesgo'!$F$13+LEFT(O311,1)*'Criterios de Riesgo'!$F$14+LEFT(P311,1)*'Criterios de Riesgo'!$F$15),2),Calif_Control,2,1))","v":""},{"$f":"IF(COUNTA(I311:P311)<8,\"\",(ROUND((LEFT(I311,1)*'Criterios de Riesgo'!$F$8+LEFT(J311,1)*'Criterios de Riesgo'!$F$9+LEFT(K311,1)*'Criterios de Riesgo'!$F$10+LEFT(L311,1)*'Criterios de Riesgo'!$F$11+LEFT(M311,1)*'Criterios de Riesgo'!$F$12+LEFT(N311,1)*'Criterios de Riesgo'!$F$13+LEFT(O311,1)*'Criterios de Riesgo'!$F$14+LEFT(P311,1)*'Criterios de Riesgo'!$F$15),2))/5)","v":""},null,null,null,null,{"$f":"IF(COUNTA(S311:V311)<4,\"\",IF(V311=\"No\",\"No se usa\",VLOOKUP(ROUND((LEFT(S311,1)*'Criterios de Riesgo'!$C$13+LEFT(T311,1)*'Criterios de Riesgo'!$C$14+LEFT(U311,1)*'Criterios de Riesgo'!$C$15),2),Calif_Covertura,2,1)))","v":""},{"$f":"IF(COUNTA(S311:V311)<4,\"\",IF(V311=\"No\",0,(ROUND((LEFT(S311,1)*'Criterios de Riesgo'!$C$13+LEFT(T311,1)*'Criterios de Riesgo'!$C$14+LEFT(U311,1)*'Criterios de Riesgo'!$C$15),2))/5))","v":""},""]
[null,null,null,null,null,null,null,null,null,null,null,null,null,null,null,null,{"$f":"IF(COUNTA(I312:P312)<8,\"\",VLOOKUP(ROUND((LEFT(I312,1)*'Criterios de Riesgo'!$F$8+LEFT(J312,1)*'Criterios de Riesgo'!$F$9+LEFT(K312,1)*'Criterios de Riesgo'!$F$10+LEFT(L312,1)*'Criterios de Riesgo'!$F$11+LEFT(M312,1)*'Criterios de Riesgo'!$F$12+LEFT(N312,1)*'Criterios de Riesgo'!$F$13+LEFT(O312,1)*'Criterios de Riesgo'!$F$14+LEFT(P312,1)*'Criterios de Riesgo'!$F$15),2),Calif_Control,2,1))","v":""},{"$f":"IF(COUNTA(I312:P312)<8,\"\",(ROUND((LEFT(I312,1)*'Criterios de Riesgo'!$F$8+LEFT(J312,1)*'Criterios de Riesgo'!$F$9+LEFT(K312,1)*'Criterios de Riesgo'!$F$10+LEFT(L312,1)*'Criterios de Riesgo'!$F$11+LEFT(M312,1)*'Criterios de Riesgo'!$F$12+LEFT(N312,1)*'Criterios de Riesgo'!$F$13+LEFT(O312,1)*'Criterios de Riesgo'!$F$14+LEFT(P312,1)*'Criterios de Riesgo'!$F$15),2))/5)","v":""},null,null,null,null,{"$f":"IF(COUNTA(S312:V312)<4,\"\",IF(V312=\"No\",\"No se usa\",VLOOKUP(ROUND((LEFT(S312,1)*'Criterios de Riesgo'!$C$13+LEFT(T312,1)*'Criterios de Riesgo'!$C$14+LEFT(U312,1)*'Criterios de Riesgo'!$C$15),2),Calif_Covertura,2,1)))","v":""},{"$f":"IF(COUNTA(S312:V312)<4,\"\",IF(V312=\"No\",0,(ROUND((LEFT(S312,1)*'Criterios de Riesgo'!$C$13+LEFT(T312,1)*'Criterios de Riesgo'!$C$14+LEFT(U312,1)*'Criterios de Riesgo'!$C$15),2))/5))","v":""},""]
[null,null,null,null,null,null,null,null,null,null,null,null,null,null,null,null,{"$f":"IF(COUNTA(I313:P313)<8,\"\",VLOOKUP(ROUND((LEFT(I313,1)*'Criterios de Riesgo'!$F$8+LEFT(J313,1)*'Criterios de Riesgo'!$F$9+LEFT(K313,1)*'Criterios de Riesgo'!$F$10+LEFT(L313,1)*'Criterios de Riesgo'!$F$11+LEFT(M313,1)*'Criterios de Riesgo'!$F$12+LEFT(N313,1)*'Criterios de Riesgo'!$F$13+LEFT(O313,1)*'Criterios de Riesgo'!$F$14+LEFT(P313,1)*'Criterios de Riesgo'!$F$15),2),Calif_Control,2,1))","v":""},{"$f":"IF(COUNTA(I313:P313)<8,\"\",(ROUND((LEFT(I313,1)*'Criterios de Riesgo'!$F$8+LEFT(J313,1)*'Criterios de Riesgo'!$F$9+LEFT(K313,1)*'Criterios de Riesgo'!$F$10+LEFT(L313,1)*'Criterios de Riesgo'!$F$11+LEFT(M313,1)*'Criterios de Riesgo'!$F$12+LEFT(N313,1)*'Criterios de Riesgo'!$F$13+LEFT(O313,1)*'Criterios de Riesgo'!$F$14+LEFT(P313,1)*'Criterios de Riesgo'!$F$15),2))/5)","v":""},null,null,null,null,{"$f":"IF(COUNTA(S313:V313)<4,\"\",IF(V313=\"No\",\"No se usa\",VLOOKUP(ROUND((LEFT(S313,1)*'Criterios de Riesgo'!$C$13+LEFT(T313,1)*'Criterios de Riesgo'!$C$14+LEFT(U313,1)*'Criterios de Riesgo'!$C$15),2),Calif_Covertura,2,1)))","v":""},{"$f":"IF(COUNTA(S313:V313)<4,\"\",IF(V313=\"No\",0,(ROUND((LEFT(S313,1)*'Criterios de Riesgo'!$C$13+LEFT(T313,1)*'Criterios de Riesgo'!$C$14+LEFT(U313,1)*'Criterios de Riesgo'!$C$15),2))/5))","v":""},""]
[null,null,null,null,null,null,null,null,null,null,null,null,null,null,null,null,{"$f":"IF(COUNTA(I314:P314)<8,\"\",VLOOKUP(ROUND((LEFT(I314,1)*'Criterios de Riesgo'!$F$8+LEFT(J314,1)*'Criterios de Riesgo'!$F$9+LEFT(K314,1)*'Criterios de Riesgo'!$F$10+LEFT(L314,1)*'Criterios de Riesgo'!$F$11+LEFT(M314,1)*'Criterios de Riesgo'!$F$12+LEFT(N314,1)*'Criterios de Riesgo'!$F$13+LEFT(O314,1)*'Criterios de Riesgo'!$F$14+LEFT(P314,1)*'Criterios de Riesgo'!$F$15),2),Calif_Control,2,1))","v":""},{"$f":"IF(COUNTA(I314:P314)<8,\"\",(ROUND((LEFT(I314,1)*'Criterios de Riesgo'!$F$8+LEFT(J314,1)*'Criterios de Riesgo'!$F$9+LEFT(K314,1)*'Criterios de Riesgo'!$F$10+LEFT(L314,1)*'Criterios de Riesgo'!$F$11+LEFT(M314,1)*'Criterios de Riesgo'!$F$12+LEFT(N314,1)*'Criterios de Riesgo'!$F$13+LEFT(O314,1)*'Criterios de Riesgo'!$F$14+LEFT(P314,1)*'Criterios de Riesgo'!$F$15),2))/5)","v":""},null,null,null,null,{"$f":"IF(COUNTA(S314:V314)<4,\"\",IF(V314=\"No\",\"No se usa\",VLOOKUP(ROUND((LEFT(S314,1)*'Criterios de Riesgo'!$C$13+LEFT(T314,1)*'Criterios de Riesgo'!$C$14+LEFT(U314,1)*'Criterios de Riesgo'!$C$15),2),Calif_Covertura,2,1)))","v":""},{"$f":"IF(COUNTA(S314:V314)<4,\"\",IF(V314=\"No\",0,(ROUND((LEFT(S314,1)*'Criterios de Riesgo'!$C$13+LEFT(T314,1)*'Criterios de Riesgo'!$C$14+LEFT(U314,1)*'Criterios de Riesgo'!$C$15),2))/5))","v":""},""]
["R",null,null,null,null,null,null,null,null,null,null,null,null,null,null,null,{"$f":"IF(COUNTA(I315:P315)<8,\"\",VLOOKUP(ROUND((LEFT(I315,1)*'Criterios de Riesgo'!$F$8+LEFT(J315,1)*'Criterios de Riesgo'!$F$9+LEFT(K315,1)*'Criterios de Riesgo'!$F$10+LEFT(L315,1)*'Criterios de Riesgo'!$F$11+LEFT(M315,1)*'Criterios de Riesgo'!$F$12+LEFT(N315,1)*'Criterios de Riesgo'!$F$13+LEFT(O315,1)*'Criterios de Riesgo'!$F$14+LEFT(P315,1)*'Criterios de Riesgo'!$F$15),2),Calif_Control,2,1))","v":""},{"$f":"IF(COUNTA(I315:P315)<8,\"\",(ROUND((LEFT(I315,1)*'Criterios de Riesgo'!$F$8+LEFT(J315,1)*'Criterios de Riesgo'!$F$9+LEFT(K315,1)*'Criterios de Riesgo'!$F$10+LEFT(L315,1)*'Criterios de Riesgo'!$F$11+LEFT(M315,1)*'Criterios de Riesgo'!$F$12+LEFT(N315,1)*'Criterios de Riesgo'!$F$13+LEFT(O315,1)*'Criterios de Riesgo'!$F$14+LEFT(P315,1)*'Criterios de Riesgo'!$F$15),2))/5)","v":""},null,null,null,null,{"$f":"IF(COUNTA(S315:V315)<4,\"\",IF(V315=\"No\",\"No se usa\",VLOOKUP(ROUND((LEFT(S315,1)*'Criterios de Riesgo'!$C$13+LEFT(T315,1)*'Criterios de Riesgo'!$C$14+LEFT(U315,1)*'Criterios de Riesgo'!$C$15),2),Calif_Covertura,2,1)))","v":""},{"$f":"IF(COUNTA(S315:V315)<4,\"\",IF(V315=\"No\",0,(ROUND((LEFT(S315,1)*'Criterios de Riesgo'!$C$13+LEFT(T315,1)*'Criterios de Riesgo'!$C$14+LEFT(U315,1)*'Criterios de Riesgo'!$C$15),2))/5))","v":""},"",null,{"$f":"IF(ISERROR((SUMIF(Z315:Z324,\"=impacto\",Y315:Y324)+SUMIF(Z315:Z324,\"=Ambos\",Y315:Y324))/(COUNTIF(Z315:Z324,\"Impacto\")+COUNTIF(Z315:Z324,\"Ambos\"))),\"\",(SUMIF(Z315:Z324,\"=impacto\",Y315:Y324)+SUMIF(Z315:Z324,\"=Ambos\",Y315:Y324))/(COUNTIF(Z315:Z324,\"Impacto\")+COUNTIF(Z315:Z324,\"Ambos\")))","v":""},{"$f":"IF(ISERROR((SUMIF(Z315:Z324,\"=Probabilidad\",Y315:Y324)+SUMIF(Z315:Z324,\"=Ambos\",Y315:Y324))/(COUNTIF(Z315:Z324,\"Probabilidad\")+COUNTIF(Z315:Z324,\"Ambos\"))),\"\",(SUMIF(Z315:Z324,\"=Probabilidad\",Y315:Y324)+SUMIF(Z315:Z324,\"=Ambos\",Y315:Y324))/(COUNTIF(Z315:Z324,\"Probabilidad\")+COUNTIF(Z315:Z324,\"Ambos\")))","v":""},{"$f":"IF(ISERROR(ROUND(IF(AB315=\"\",AA315,IF(AA315=\"\",AB315,IF(AND(AB315=\"\",AA315=\"\"),\"\",AB315*AA315)))*100,0)/100),\"\",ROUND(IF(AB315=\"\",AA315,IF(AA315=\"\",AB315,IF(AND(AB315=\"\",AA315=\"\"),\"\",AB315*AA315)))*100,0)/100)","v":""},{"$f":"IF(AC315=\"\",\"\",VLOOKUP(AC315*5,Calif_Control,2,1))","v":""}]
[null,null,null,null,null,null,null,null,null,null,null,null,null,null,null,null,{"$f":"IF(COUNTA(I316:P316)<8,\"\",VLOOKUP(ROUND((LEFT(I316,1)*'Criterios de Riesgo'!$F$8+LEFT(J316,1)*'Criterios de Riesgo'!$F$9+LEFT(K316,1)*'Criterios de Riesgo'!$F$10+LEFT(L316,1)*'Criterios de Riesgo'!$F$11+LEFT(M316,1)*'Criterios de Riesgo'!$F$12+LEFT(N316,1)*'Criterios de Riesgo'!$F$13+LEFT(O316,1)*'Criterios de Riesgo'!$F$14+LEFT(P316,1)*'Criterios de Riesgo'!$F$15),2),Calif_Control,2,1))","v":""},{"$f":"IF(COUNTA(I316:P316)<8,\"\",(ROUND((LEFT(I316,1)*'Criterios de Riesgo'!$F$8+LEFT(J316,1)*'Criterios de Riesgo'!$F$9+LEFT(K316,1)*'Criterios de Riesgo'!$F$10+LEFT(L316,1)*'Criterios de Riesgo'!$F$11+LEFT(M316,1)*'Criterios de Riesgo'!$F$12+LEFT(N316,1)*'Criterios de Riesgo'!$F$13+LEFT(O316,1)*'Criterios de Riesgo'!$F$14+LEFT(P316,1)*'Criterios de Riesgo'!$F$15),2))/5)","v":""},null,null,null,null,{"$f":"IF(COUNTA(S316:V316)<4,\"\",IF(V316=\"No\",\"No se usa\",VLOOKUP(ROUND((LEFT(S316,1)*'Criterios de Riesgo'!$C$13+LEFT(T316,1)*'Criterios de Riesgo'!$C$14+LEFT(U316,1)*'Criterios de Riesgo'!$C$15),2),Calif_Covertura,2,1)))","v":""},{"$f":"IF(COUNTA(S316:V316)<4,\"\",IF(V316=\"No\",0,(ROUND((LEFT(S316,1)*'Criterios de Riesgo'!$C$13+LEFT(T316,1)*'Criterios de Riesgo'!$C$14+LEFT(U316,1)*'Criterios de Riesgo'!$C$15),2))/5))","v":""},""]
[null,null,null,null,null,null,null,null,null,null,null,null,null,null,null,null,{"$f":"IF(COUNTA(I317:P317)<8,\"\",VLOOKUP(ROUND((LEFT(I317,1)*'Criterios de Riesgo'!$F$8+LEFT(J317,1)*'Criterios de Riesgo'!$F$9+LEFT(K317,1)*'Criterios de Riesgo'!$F$10+LEFT(L317,1)*'Criterios de Riesgo'!$F$11+LEFT(M317,1)*'Criterios de Riesgo'!$F$12+LEFT(N317,1)*'Criterios de Riesgo'!$F$13+LEFT(O317,1)*'Criterios de Riesgo'!$F$14+LEFT(P317,1)*'Criterios de Riesgo'!$F$15),2),Calif_Control,2,1))","v":""},{"$f":"IF(COUNTA(I317:P317)<8,\"\",(ROUND((LEFT(I317,1)*'Criterios de Riesgo'!$F$8+LEFT(J317,1)*'Criterios de Riesgo'!$F$9+LEFT(K317,1)*'Criterios de Riesgo'!$F$10+LEFT(L317,1)*'Criterios de Riesgo'!$F$11+LEFT(M317,1)*'Criterios de Riesgo'!$F$12+LEFT(N317,1)*'Criterios de Riesgo'!$F$13+LEFT(O317,1)*'Criterios de Riesgo'!$F$14+LEFT(P317,1)*'Criterios de Riesgo'!$F$15),2))/5)","v":""},null,null,null,null,{"$f":"IF(COUNTA(S317:V317)<4,\"\",IF(V317=\"No\",\"No se usa\",VLOOKUP(ROUND((LEFT(S317,1)*'Criterios de Riesgo'!$C$13+LEFT(T317,1)*'Criterios de Riesgo'!$C$14+LEFT(U317,1)*'Criterios de Riesgo'!$C$15),2),Calif_Covertura,2,1)))","v":""},{"$f":"IF(COUNTA(S317:V317)<4,\"\",IF(V317=\"No\",0,(ROUND((LEFT(S317,1)*'Criterios de Riesgo'!$C$13+LEFT(T317,1)*'Criterios de Riesgo'!$C$14+LEFT(U317,1)*'Criterios de Riesgo'!$C$15),2))/5))","v":""},""]
[null,null,null,null,null,null,null,null,null,null,null,null,null,null,null,null,{"$f":"IF(COUNTA(I318:P318)<8,\"\",VLOOKUP(ROUND((LEFT(I318,1)*'Criterios de Riesgo'!$F$8+LEFT(J318,1)*'Criterios de Riesgo'!$F$9+LEFT(K318,1)*'Criterios de Riesgo'!$F$10+LEFT(L318,1)*'Criterios de Riesgo'!$F$11+LEFT(M318,1)*'Criterios de Riesgo'!$F$12+LEFT(N318,1)*'Criterios de Riesgo'!$F$13+LEFT(O318,1)*'Criterios de Riesgo'!$F$14+LEFT(P318,1)*'Criterios de Riesgo'!$F$15),2),Calif_Control,2,1))","v":""},{"$f":"IF(COUNTA(I318:P318)<8,\"\",(ROUND((LEFT(I318,1)*'Criterios de Riesgo'!$F$8+LEFT(J318,1)*'Criterios de Riesgo'!$F$9+LEFT(K318,1)*'Criterios de Riesgo'!$F$10+LEFT(L318,1)*'Criterios de Riesgo'!$F$11+LEFT(M318,1)*'Criterios de Riesgo'!$F$12+LEFT(N318,1)*'Criterios de Riesgo'!$F$13+LEFT(O318,1)*'Criterios de Riesgo'!$F$14+LEFT(P318,1)*'Criterios de Riesgo'!$F$15),2))/5)","v":""},null,null,null,null,{"$f":"IF(COUNTA(S318:V318)<4,\"\",IF(V318=\"No\",\"No se usa\",VLOOKUP(ROUND((LEFT(S318,1)*'Criterios de Riesgo'!$C$13+LEFT(T318,1)*'Criterios de Riesgo'!$C$14+LEFT(U318,1)*'Criterios de Riesgo'!$C$15),2),Calif_Covertura,2,1)))","v":""},{"$f":"IF(COUNTA(S318:V318)<4,\"\",IF(V318=\"No\",0,(ROUND((LEFT(S318,1)*'Criterios de Riesgo'!$C$13+LEFT(T318,1)*'Criterios de Riesgo'!$C$14+LEFT(U318,1)*'Criterios de Riesgo'!$C$15),2))/5))","v":""},""]
[null,null,null,null,null,null,null,null,null,null,null,null,null,null,null,null,{"$f":"IF(COUNTA(I319:P319)<8,\"\",VLOOKUP(ROUND((LEFT(I319,1)*'Criterios de Riesgo'!$F$8+LEFT(J319,1)*'Criterios de Riesgo'!$F$9+LEFT(K319,1)*'Criterios de Riesgo'!$F$10+LEFT(L319,1)*'Criterios de Riesgo'!$F$11+LEFT(M319,1)*'Criterios de Riesgo'!$F$12+LEFT(N319,1)*'Criterios de Riesgo'!$F$13+LEFT(O319,1)*'Criterios de Riesgo'!$F$14+LEFT(P319,1)*'Criterios de Riesgo'!$F$15),2),Calif_Control,2,1))","v":""},{"$f":"IF(COUNTA(I319:P319)<8,\"\",(ROUND((LEFT(I319,1)*'Criterios de Riesgo'!$F$8+LEFT(J319,1)*'Criterios de Riesgo'!$F$9+LEFT(K319,1)*'Criterios de Riesgo'!$F$10+LEFT(L319,1)*'Criterios de Riesgo'!$F$11+LEFT(M319,1)*'Criterios de Riesgo'!$F$12+LEFT(N319,1)*'Criterios de Riesgo'!$F$13+LEFT(O319,1)*'Criterios de Riesgo'!$F$14+LEFT(P319,1)*'Criterios de Riesgo'!$F$15),2))/5)","v":""},null,null,null,null,{"$f":"IF(COUNTA(S319:V319)<4,\"\",IF(V319=\"No\",\"No se usa\",VLOOKUP(ROUND((LEFT(S319,1)*'Criterios de Riesgo'!$C$13+LEFT(T319,1)*'Criterios de Riesgo'!$C$14+LEFT(U319,1)*'Criterios de Riesgo'!$C$15),2),Calif_Covertura,2,1)))","v":""},{"$f":"IF(COUNTA(S319:V319)<4,\"\",IF(V319=\"No\",0,(ROUND((LEFT(S319,1)*'Criterios de Riesgo'!$C$13+LEFT(T319,1)*'Criterios de Riesgo'!$C$14+LEFT(U319,1)*'Criterios de Riesgo'!$C$15),2))/5))","v":""},""]
[null,null,null,null,null,null,null,null,null,null,null,null,null,null,null,null,{"$f":"IF(COUNTA(I320:P320)<8,\"\",VLOOKUP(ROUND((LEFT(I320,1)*'Criterios de Riesgo'!$F$8+LEFT(J320,1)*'Criterios de Riesgo'!$F$9+LEFT(K320,1)*'Criterios de Riesgo'!$F$10+LEFT(L320,1)*'Criterios de Riesgo'!$F$11+LEFT(M320,1)*'Criterios de Riesgo'!$F$12+LEFT(N320,1)*'Criterios de Riesgo'!$F$13+LEFT(O320,1)*'Criterios de Riesgo'!$F$14+LEFT(P320,1)*'Criterios de Riesgo'!$F$15),2),Calif_Control,2,1))","v":""},{"$f":"IF(COUNTA(I320:P320)<8,\"\",(ROUND((LEFT(I320,1)*'Criterios de Riesgo'!$F$8+LEFT(J320,1)*'Criterios de Riesgo'!$F$9+LEFT(K320,1)*'Criterios de Riesgo'!$F$10+LEFT(L320,1)*'Criterios de Riesgo'!$F$11+LEFT(M320,1)*'Criterios de Riesgo'!$F$12+LEFT(N320,1)*'Criterios de Riesgo'!$F$13+LEFT(O320,1)*'Criterios de Riesgo'!$F$14+LEFT(P320,1)*'Criterios de Riesgo'!$F$15),2))/5)","v":""},null,null,null,null,{"$f":"IF(COUNTA(S320:V320)<4,\"\",IF(V320=\"No\",\"No se usa\",VLOOKUP(ROUND((LEFT(S320,1)*'Criterios de Riesgo'!$C$13+LEFT(T320,1)*'Criterios de Riesgo'!$C$14+LEFT(U320,1)*'Criterios de Riesgo'!$C$15),2),Calif_Covertura,2,1)))","v":""},{"$f":"IF(COUNTA(S320:V320)<4,\"\",IF(V320=\"No\",0,(ROUND((LEFT(S320,1)*'Criterios de Riesgo'!$C$13+LEFT(T320,1)*'Criterios de Riesgo'!$C$14+LEFT(U320,1)*'Criterios de Riesgo'!$C$15),2))/5))","v":""},""]
[null,null,null,null,null,null,null,null,null,null,null,null,null,null,null,null,{"$f":"IF(COUNTA(I321:P321)<8,\"\",VLOOKUP(ROUND((LEFT(I321,1)*'Criterios de Riesgo'!$F$8+LEFT(J321,1)*'Criterios de Riesgo'!$F$9+LEFT(K321,1)*'Criterios de Riesgo'!$F$10+LEFT(L321,1)*'Criterios de Riesgo'!$F$11+LEFT(M321,1)*'Criterios de Riesgo'!$F$12+LEFT(N321,1)*'Criterios de Riesgo'!$F$13+LEFT(O321,1)*'Criterios de Riesgo'!$F$14+LEFT(P321,1)*'Criterios de Riesgo'!$F$15),2),Calif_Control,2,1))","v":""},{"$f":"IF(COUNTA(I321:P321)<8,\"\",(ROUND((LEFT(I321,1)*'Criterios de Riesgo'!$F$8+LEFT(J321,1)*'Criterios de Riesgo'!$F$9+LEFT(K321,1)*'Criterios de Riesgo'!$F$10+LEFT(L321,1)*'Criterios de Riesgo'!$F$11+LEFT(M321,1)*'Criterios de Riesgo'!$F$12+LEFT(N321,1)*'Criterios de Riesgo'!$F$13+LEFT(O321,1)*'Criterios de Riesgo'!$F$14+LEFT(P321,1)*'Criterios de Riesgo'!$F$15),2))/5)","v":""},null,null,null,null,{"$f":"IF(COUNTA(S321:V321)<4,\"\",IF(V321=\"No\",\"No se usa\",VLOOKUP(ROUND((LEFT(S321,1)*'Criterios de Riesgo'!$C$13+LEFT(T321,1)*'Criterios de Riesgo'!$C$14+LEFT(U321,1)*'Criterios de Riesgo'!$C$15),2),Calif_Covertura,2,1)))","v":""},{"$f":"IF(COUNTA(S321:V321)<4,\"\",IF(V321=\"No\",0,(ROUND((LEFT(S321,1)*'Criterios de Riesgo'!$C$13+LEFT(T321,1)*'Criterios de Riesgo'!$C$14+LEFT(U321,1)*'Criterios de Riesgo'!$C$15),2))/5))","v":""},""]
[null,null,null,null,null,null,null,null,null,null,null,null,null,null,null,null,{"$f":"IF(COUNTA(I322:P322)<8,\"\",VLOOKUP(ROUND((LEFT(I322,1)*'Criterios de Riesgo'!$F$8+LEFT(J322,1)*'Criterios de Riesgo'!$F$9+LEFT(K322,1)*'Criterios de Riesgo'!$F$10+LEFT(L322,1)*'Criterios de Riesgo'!$F$11+LEFT(M322,1)*'Criterios de Riesgo'!$F$12+LEFT(N322,1)*'Criterios de Riesgo'!$F$13+LEFT(O322,1)*'Criterios de Riesgo'!$F$14+LEFT(P322,1)*'Criterios de Riesgo'!$F$15),2),Calif_Control,2,1))","v":""},{"$f":"IF(COUNTA(I322:P322)<8,\"\",(ROUND((LEFT(I322,1)*'Criterios de Riesgo'!$F$8+LEFT(J322,1)*'Criterios de Riesgo'!$F$9+LEFT(K322,1)*'Criterios de Riesgo'!$F$10+LEFT(L322,1)*'Criterios de Riesgo'!$F$11+LEFT(M322,1)*'Criterios de Riesgo'!$F$12+LEFT(N322,1)*'Criterios de Riesgo'!$F$13+LEFT(O322,1)*'Criterios de Riesgo'!$F$14+LEFT(P322,1)*'Criterios de Riesgo'!$F$15),2))/5)","v":""},null,null,null,null,{"$f":"IF(COUNTA(S322:V322)<4,\"\",IF(V322=\"No\",\"No se usa\",VLOOKUP(ROUND((LEFT(S322,1)*'Criterios de Riesgo'!$C$13+LEFT(T322,1)*'Criterios de Riesgo'!$C$14+LEFT(U322,1)*'Criterios de Riesgo'!$C$15),2),Calif_Covertura,2,1)))","v":""},{"$f":"IF(COUNTA(S322:V322)<4,\"\",IF(V322=\"No\",0,(ROUND((LEFT(S322,1)*'Criterios de Riesgo'!$C$13+LEFT(T322,1)*'Criterios de Riesgo'!$C$14+LEFT(U322,1)*'Criterios de Riesgo'!$C$15),2))/5))","v":""},""]
[null,null,null,null,null,null,null,null,null,null,null,null,null,null,null,null,{"$f":"IF(COUNTA(I323:P323)<8,\"\",VLOOKUP(ROUND((LEFT(I323,1)*'Criterios de Riesgo'!$F$8+LEFT(J323,1)*'Criterios de Riesgo'!$F$9+LEFT(K323,1)*'Criterios de Riesgo'!$F$10+LEFT(L323,1)*'Criterios de Riesgo'!$F$11+LEFT(M323,1)*'Criterios de Riesgo'!$F$12+LEFT(N323,1)*'Criterios de Riesgo'!$F$13+LEFT(O323,1)*'Criterios de Riesgo'!$F$14+LEFT(P323,1)*'Criterios de Riesgo'!$F$15),2),Calif_Control,2,1))","v":""},{"$f":"IF(COUNTA(I323:P323)<8,\"\",(ROUND((LEFT(I323,1)*'Criterios de Riesgo'!$F$8+LEFT(J323,1)*'Criterios de Riesgo'!$F$9+LEFT(K323,1)*'Criterios de Riesgo'!$F$10+LEFT(L323,1)*'Criterios de Riesgo'!$F$11+LEFT(M323,1)*'Criterios de Riesgo'!$F$12+LEFT(N323,1)*'Criterios de Riesgo'!$F$13+LEFT(O323,1)*'Criterios de Riesgo'!$F$14+LEFT(P323,1)*'Criterios de Riesgo'!$F$15),2))/5)","v":""},null,null,null,null,{"$f":"IF(COUNTA(S323:V323)<4,\"\",IF(V323=\"No\",\"No se usa\",VLOOKUP(ROUND((LEFT(S323,1)*'Criterios de Riesgo'!$C$13+LEFT(T323,1)*'Criterios de Riesgo'!$C$14+LEFT(U323,1)*'Criterios de Riesgo'!$C$15),2),Calif_Covertura,2,1)))","v":""},{"$f":"IF(COUNTA(S323:V323)<4,\"\",IF(V323=\"No\",0,(ROUND((LEFT(S323,1)*'Criterios de Riesgo'!$C$13+LEFT(T323,1)*'Criterios de Riesgo'!$C$14+LEFT(U323,1)*'Criterios de Riesgo'!$C$15),2))/5))","v":""},""]
[null,null,null,null,null,null,null,null,null,null,null,null,null,null,null,null,{"$f":"IF(COUNTA(I324:P324)<8,\"\",VLOOKUP(ROUND((LEFT(I324,1)*'Criterios de Riesgo'!$F$8+LEFT(J324,1)*'Criterios de Riesgo'!$F$9+LEFT(K324,1)*'Criterios de Riesgo'!$F$10+LEFT(L324,1)*'Criterios de Riesgo'!$F$11+LEFT(M324,1)*'Criterios de Riesgo'!$F$12+LEFT(N324,1)*'Criterios de Riesgo'!$F$13+LEFT(O324,1)*'Criterios de Riesgo'!$F$14+LEFT(P324,1)*'Criterios de Riesgo'!$F$15),2),Calif_Control,2,1))","v":""},{"$f":"IF(COUNTA(I324:P324)<8,\"\",(ROUND((LEFT(I324,1)*'Criterios de Riesgo'!$F$8+LEFT(J324,1)*'Criterios de Riesgo'!$F$9+LEFT(K324,1)*'Criterios de Riesgo'!$F$10+LEFT(L324,1)*'Criterios de Riesgo'!$F$11+LEFT(M324,1)*'Criterios de Riesgo'!$F$12+LEFT(N324,1)*'Criterios de Riesgo'!$F$13+LEFT(O324,1)*'Criterios de Riesgo'!$F$14+LEFT(P324,1)*'Criterios de Riesgo'!$F$15),2))/5)","v":""},null,null,null,null,{"$f":"IF(COUNTA(S324:V324)<4,\"\",IF(V324=\"No\",\"No se usa\",VLOOKUP(ROUND((LEFT(S324,1)*'Criterios de Riesgo'!$C$13+LEFT(T324,1)*'Criterios de Riesgo'!$C$14+LEFT(U324,1)*'Criterios de Riesgo'!$C$15),2),Calif_Covertura,2,1)))","v":""},{"$f":"IF(COUNTA(S324:V324)<4,\"\",IF(V324=\"No\",0,(ROUND((LEFT(S324,1)*'Criterios de Riesgo'!$C$13+LEFT(T324,1)*'Criterios de Riesgo'!$C$14+LEFT(U324,1)*'Criterios de Riesgo'!$C$15),2))/5))","v":""},""]
["R",null,null,null,null,null,null,null,null,null,null,null,null,null,null,null,{"$f":"IF(COUNTA(I325:P325)<8,\"\",VLOOKUP(ROUND((LEFT(I325,1)*'Criterios de Riesgo'!$F$8+LEFT(J325,1)*'Criterios de Riesgo'!$F$9+LEFT(K325,1)*'Criterios de Riesgo'!$F$10+LEFT(L325,1)*'Criterios de Riesgo'!$F$11+LEFT(M325,1)*'Criterios de Riesgo'!$F$12+LEFT(N325,1)*'Criterios de Riesgo'!$F$13+LEFT(O325,1)*'Criterios de Riesgo'!$F$14+LEFT(P325,1)*'Criterios de Riesgo'!$F$15),2),Calif_Control,2,1))","v":""},{"$f":"IF(COUNTA(I325:P325)<8,\"\",(ROUND((LEFT(I325,1)*'Criterios de Riesgo'!$F$8+LEFT(J325,1)*'Criterios de Riesgo'!$F$9+LEFT(K325,1)*'Criterios de Riesgo'!$F$10+LEFT(L325,1)*'Criterios de Riesgo'!$F$11+LEFT(M325,1)*'Criterios de Riesgo'!$F$12+LEFT(N325,1)*'Criterios de Riesgo'!$F$13+LEFT(O325,1)*'Criterios de Riesgo'!$F$14+LEFT(P325,1)*'Criterios de Riesgo'!$F$15),2))/5)","v":""},null,null,null,null,{"$f":"IF(COUNTA(S325:V325)<4,\"\",IF(V325=\"No\",\"No se usa\",VLOOKUP(ROUND((LEFT(S325,1)*'Criterios de Riesgo'!$C$13+LEFT(T325,1)*'Criterios de Riesgo'!$C$14+LEFT(U325,1)*'Criterios de Riesgo'!$C$15),2),Calif_Covertura,2,1)))","v":""},{"$f":"IF(COUNTA(S325:V325)<4,\"\",IF(V325=\"No\",0,(ROUND((LEFT(S325,1)*'Criterios de Riesgo'!$C$13+LEFT(T325,1)*'Criterios de Riesgo'!$C$14+LEFT(U325,1)*'Criterios de Riesgo'!$C$15),2))/5))","v":""},"",null,{"$f":"IF(ISERROR((SUMIF(Z325:Z334,\"=impacto\",Y325:Y334)+SUMIF(Z325:Z334,\"=Ambos\",Y325:Y334))/(COUNTIF(Z325:Z334,\"Impacto\")+COUNTIF(Z325:Z334,\"Ambos\"))),\"\",(SUMIF(Z325:Z334,\"=impacto\",Y325:Y334)+SUMIF(Z325:Z334,\"=Ambos\",Y325:Y334))/(COUNTIF(Z325:Z334,\"Impacto\")+COUNTIF(Z325:Z334,\"Ambos\")))","v":""},{"$f":"IF(ISERROR((SUMIF(Z325:Z334,\"=Probabilidad\",Y325:Y334)+SUMIF(Z325:Z334,\"=Ambos\",Y325:Y334))/(COUNTIF(Z325:Z334,\"Probabilidad\")+COUNTIF(Z325:Z334,\"Ambos\"))),\"\",(SUMIF(Z325:Z334,\"=Probabilidad\",Y325:Y334)+SUMIF(Z325:Z334,\"=Ambos\",Y325:Y334))/(COUNTIF(Z325:Z334,\"Probabilidad\")+COUNTIF(Z325:Z334,\"Ambos\")))","v":""},{"$f":"IF(ISERROR(ROUND(IF(AB325=\"\",AA325,IF(AA325=\"\",AB325,IF(AND(AB325=\"\",AA325=\"\"),\"\",AB325*AA325)))*100,0)/100),\"\",ROUND(IF(AB325=\"\",AA325,IF(AA325=\"\",AB325,IF(AND(AB325=\"\",AA325=\"\"),\"\",AB325*AA325)))*100,0)/100)","v":""},{"$f":"IF(AC325=\"\",\"\",VLOOKUP(AC325*5,Calif_Control,2,1))","v":""}]
[null,null,null,null,null,null,null,null,null,null,null,null,null,null,null,null,{"$f":"IF(COUNTA(I326:P326)<8,\"\",VLOOKUP(ROUND((LEFT(I326,1)*'Criterios de Riesgo'!$F$8+LEFT(J326,1)*'Criterios de Riesgo'!$F$9+LEFT(K326,1)*'Criterios de Riesgo'!$F$10+LEFT(L326,1)*'Criterios de Riesgo'!$F$11+LEFT(M326,1)*'Criterios de Riesgo'!$F$12+LEFT(N326,1)*'Criterios de Riesgo'!$F$13+LEFT(O326,1)*'Criterios de Riesgo'!$F$14+LEFT(P326,1)*'Criterios de Riesgo'!$F$15),2),Calif_Control,2,1))","v":""},{"$f":"IF(COUNTA(I326:P326)<8,\"\",(ROUND((LEFT(I326,1)*'Criterios de Riesgo'!$F$8+LEFT(J326,1)*'Criterios de Riesgo'!$F$9+LEFT(K326,1)*'Criterios de Riesgo'!$F$10+LEFT(L326,1)*'Criterios de Riesgo'!$F$11+LEFT(M326,1)*'Criterios de Riesgo'!$F$12+LEFT(N326,1)*'Criterios de Riesgo'!$F$13+LEFT(O326,1)*'Criterios de Riesgo'!$F$14+LEFT(P326,1)*'Criterios de Riesgo'!$F$15),2))/5)","v":""},null,null,null,null,{"$f":"IF(COUNTA(S326:V326)<4,\"\",IF(V326=\"No\",\"No se usa\",VLOOKUP(ROUND((LEFT(S326,1)*'Criterios de Riesgo'!$C$13+LEFT(T326,1)*'Criterios de Riesgo'!$C$14+LEFT(U326,1)*'Criterios de Riesgo'!$C$15),2),Calif_Covertura,2,1)))","v":""},{"$f":"IF(COUNTA(S326:V326)<4,\"\",IF(V326=\"No\",0,(ROUND((LEFT(S326,1)*'Criterios de Riesgo'!$C$13+LEFT(T326,1)*'Criterios de Riesgo'!$C$14+LEFT(U326,1)*'Criterios de Riesgo'!$C$15),2))/5))","v":""},{"$f":"IF(ISERROR(R326*X326),\"\",R326*X326)","v":""}]
[null,null,null,null,null,null,null,null,null,null,null,null,null,null,null,null,{"$f":"IF(COUNTA(I327:P327)<8,\"\",VLOOKUP(ROUND((LEFT(I327,1)*'Criterios de Riesgo'!$F$8+LEFT(J327,1)*'Criterios de Riesgo'!$F$9+LEFT(K327,1)*'Criterios de Riesgo'!$F$10+LEFT(L327,1)*'Criterios de Riesgo'!$F$11+LEFT(M327,1)*'Criterios de Riesgo'!$F$12+LEFT(N327,1)*'Criterios de Riesgo'!$F$13+LEFT(O327,1)*'Criterios de Riesgo'!$F$14+LEFT(P327,1)*'Criterios de Riesgo'!$F$15),2),Calif_Control,2,1))","v":""},{"$f":"IF(COUNTA(I327:P327)<8,\"\",(ROUND((LEFT(I327,1)*'Criterios de Riesgo'!$F$8+LEFT(J327,1)*'Criterios de Riesgo'!$F$9+LEFT(K327,1)*'Criterios de Riesgo'!$F$10+LEFT(L327,1)*'Criterios de Riesgo'!$F$11+LEFT(M327,1)*'Criterios de Riesgo'!$F$12+LEFT(N327,1)*'Criterios de Riesgo'!$F$13+LEFT(O327,1)*'Criterios de Riesgo'!$F$14+LEFT(P327,1)*'Criterios de Riesgo'!$F$15),2))/5)","v":""},null,null,null,null,{"$f":"IF(COUNTA(S327:V327)<4,\"\",IF(V327=\"No\",\"No se usa\",VLOOKUP(ROUND((LEFT(S327,1)*'Criterios de Riesgo'!$C$13+LEFT(T327,1)*'Criterios de Riesgo'!$C$14+LEFT(U327,1)*'Criterios de Riesgo'!$C$15),2),Calif_Covertura,2,1)))","v":""},{"$f":"IF(COUNTA(S327:V327)<4,\"\",IF(V327=\"No\",0,(ROUND((LEFT(S327,1)*'Criterios de Riesgo'!$C$13+LEFT(T327,1)*'Criterios de Riesgo'!$C$14+LEFT(U327,1)*'Criterios de Riesgo'!$C$15),2))/5))","v":""},""]
[null,null,null,null,null,null,null,null,null,null,null,null,null,null,null,null,{"$f":"IF(COUNTA(I328:P328)<8,\"\",VLOOKUP(ROUND((LEFT(I328,1)*'Criterios de Riesgo'!$F$8+LEFT(J328,1)*'Criterios de Riesgo'!$F$9+LEFT(K328,1)*'Criterios de Riesgo'!$F$10+LEFT(L328,1)*'Criterios de Riesgo'!$F$11+LEFT(M328,1)*'Criterios de Riesgo'!$F$12+LEFT(N328,1)*'Criterios de Riesgo'!$F$13+LEFT(O328,1)*'Criterios de Riesgo'!$F$14+LEFT(P328,1)*'Criterios de Riesgo'!$F$15),2),Calif_Control,2,1))","v":""},{"$f":"IF(COUNTA(I328:P328)<8,\"\",(ROUND((LEFT(I328,1)*'Criterios de Riesgo'!$F$8+LEFT(J328,1)*'Criterios de Riesgo'!$F$9+LEFT(K328,1)*'Criterios de Riesgo'!$F$10+LEFT(L328,1)*'Criterios de Riesgo'!$F$11+LEFT(M328,1)*'Criterios de Riesgo'!$F$12+LEFT(N328,1)*'Criterios de Riesgo'!$F$13+LEFT(O328,1)*'Criterios de Riesgo'!$F$14+LEFT(P328,1)*'Criterios de Riesgo'!$F$15),2))/5)","v":""},null,null,null,null,{"$f":"IF(COUNTA(S328:V328)<4,\"\",IF(V328=\"No\",\"No se usa\",VLOOKUP(ROUND((LEFT(S328,1)*'Criterios de Riesgo'!$C$13+LEFT(T328,1)*'Criterios de Riesgo'!$C$14+LEFT(U328,1)*'Criterios de Riesgo'!$C$15),2),Calif_Covertura,2,1)))","v":""},{"$f":"IF(COUNTA(S328:V328)<4,\"\",IF(V328=\"No\",0,(ROUND((LEFT(S328,1)*'Criterios de Riesgo'!$C$13+LEFT(T328,1)*'Criterios de Riesgo'!$C$14+LEFT(U328,1)*'Criterios de Riesgo'!$C$15),2))/5))","v":""},""]
[null,null,null,null,null,null,null,null,null,null,null,null,null,null,null,null,{"$f":"IF(COUNTA(I329:P329)<8,\"\",VLOOKUP(ROUND((LEFT(I329,1)*'Criterios de Riesgo'!$F$8+LEFT(J329,1)*'Criterios de Riesgo'!$F$9+LEFT(K329,1)*'Criterios de Riesgo'!$F$10+LEFT(L329,1)*'Criterios de Riesgo'!$F$11+LEFT(M329,1)*'Criterios de Riesgo'!$F$12+LEFT(N329,1)*'Criterios de Riesgo'!$F$13+LEFT(O329,1)*'Criterios de Riesgo'!$F$14+LEFT(P329,1)*'Criterios de Riesgo'!$F$15),2),Calif_Control,2,1))","v":""},{"$f":"IF(COUNTA(I329:P329)<8,\"\",(ROUND((LEFT(I329,1)*'Criterios de Riesgo'!$F$8+LEFT(J329,1)*'Criterios de Riesgo'!$F$9+LEFT(K329,1)*'Criterios de Riesgo'!$F$10+LEFT(L329,1)*'Criterios de Riesgo'!$F$11+LEFT(M329,1)*'Criterios de Riesgo'!$F$12+LEFT(N329,1)*'Criterios de Riesgo'!$F$13+LEFT(O329,1)*'Criterios de Riesgo'!$F$14+LEFT(P329,1)*'Criterios de Riesgo'!$F$15),2))/5)","v":""},null,null,null,null,{"$f":"IF(COUNTA(S329:V329)<4,\"\",IF(V329=\"No\",\"No se usa\",VLOOKUP(ROUND((LEFT(S329,1)*'Criterios de Riesgo'!$C$13+LEFT(T329,1)*'Criterios de Riesgo'!$C$14+LEFT(U329,1)*'Criterios de Riesgo'!$C$15),2),Calif_Covertura,2,1)))","v":""},{"$f":"IF(COUNTA(S329:V329)<4,\"\",IF(V329=\"No\",0,(ROUND((LEFT(S329,1)*'Criterios de Riesgo'!$C$13+LEFT(T329,1)*'Criterios de Riesgo'!$C$14+LEFT(U329,1)*'Criterios de Riesgo'!$C$15),2))/5))","v":""},""]
[null,null,null,null,null,null,null,null,null,null,null,null,null,null,null,null,{"$f":"IF(COUNTA(I330:P330)<8,\"\",VLOOKUP(ROUND((LEFT(I330,1)*'Criterios de Riesgo'!$F$8+LEFT(J330,1)*'Criterios de Riesgo'!$F$9+LEFT(K330,1)*'Criterios de Riesgo'!$F$10+LEFT(L330,1)*'Criterios de Riesgo'!$F$11+LEFT(M330,1)*'Criterios de Riesgo'!$F$12+LEFT(N330,1)*'Criterios de Riesgo'!$F$13+LEFT(O330,1)*'Criterios de Riesgo'!$F$14+LEFT(P330,1)*'Criterios de Riesgo'!$F$15),2),Calif_Control,2,1))","v":""},{"$f":"IF(COUNTA(I330:P330)<8,\"\",(ROUND((LEFT(I330,1)*'Criterios de Riesgo'!$F$8+LEFT(J330,1)*'Criterios de Riesgo'!$F$9+LEFT(K330,1)*'Criterios de Riesgo'!$F$10+LEFT(L330,1)*'Criterios de Riesgo'!$F$11+LEFT(M330,1)*'Criterios de Riesgo'!$F$12+LEFT(N330,1)*'Criterios de Riesgo'!$F$13+LEFT(O330,1)*'Criterios de Riesgo'!$F$14+LEFT(P330,1)*'Criterios de Riesgo'!$F$15),2))/5)","v":""},null,null,null,null,{"$f":"IF(COUNTA(S330:V330)<4,\"\",IF(V330=\"No\",\"No se usa\",VLOOKUP(ROUND((LEFT(S330,1)*'Criterios de Riesgo'!$C$13+LEFT(T330,1)*'Criterios de Riesgo'!$C$14+LEFT(U330,1)*'Criterios de Riesgo'!$C$15),2),Calif_Covertura,2,1)))","v":""},{"$f":"IF(COUNTA(S330:V330)<4,\"\",IF(V330=\"No\",0,(ROUND((LEFT(S330,1)*'Criterios de Riesgo'!$C$13+LEFT(T330,1)*'Criterios de Riesgo'!$C$14+LEFT(U330,1)*'Criterios de Riesgo'!$C$15),2))/5))","v":""},""]
[null,null,null,null,null,null,null,null,null,null,null,null,null,null,null,null,{"$f":"IF(COUNTA(I331:P331)<8,\"\",VLOOKUP(ROUND((LEFT(I331,1)*'Criterios de Riesgo'!$F$8+LEFT(J331,1)*'Criterios de Riesgo'!$F$9+LEFT(K331,1)*'Criterios de Riesgo'!$F$10+LEFT(L331,1)*'Criterios de Riesgo'!$F$11+LEFT(M331,1)*'Criterios de Riesgo'!$F$12+LEFT(N331,1)*'Criterios de Riesgo'!$F$13+LEFT(O331,1)*'Criterios de Riesgo'!$F$14+LEFT(P331,1)*'Criterios de Riesgo'!$F$15),2),Calif_Control,2,1))","v":""},{"$f":"IF(COUNTA(I331:P331)<8,\"\",(ROUND((LEFT(I331,1)*'Criterios de Riesgo'!$F$8+LEFT(J331,1)*'Criterios de Riesgo'!$F$9+LEFT(K331,1)*'Criterios de Riesgo'!$F$10+LEFT(L331,1)*'Criterios de Riesgo'!$F$11+LEFT(M331,1)*'Criterios de Riesgo'!$F$12+LEFT(N331,1)*'Criterios de Riesgo'!$F$13+LEFT(O331,1)*'Criterios de Riesgo'!$F$14+LEFT(P331,1)*'Criterios de Riesgo'!$F$15),2))/5)","v":""},null,null,null,null,{"$f":"IF(COUNTA(S331:V331)<4,\"\",IF(V331=\"No\",\"No se usa\",VLOOKUP(ROUND((LEFT(S331,1)*'Criterios de Riesgo'!$C$13+LEFT(T331,1)*'Criterios de Riesgo'!$C$14+LEFT(U331,1)*'Criterios de Riesgo'!$C$15),2),Calif_Covertura,2,1)))","v":""},{"$f":"IF(COUNTA(S331:V331)<4,\"\",IF(V331=\"No\",0,(ROUND((LEFT(S331,1)*'Criterios de Riesgo'!$C$13+LEFT(T331,1)*'Criterios de Riesgo'!$C$14+LEFT(U331,1)*'Criterios de Riesgo'!$C$15),2))/5))","v":""},""]
[null,null,null,null,null,null,null,null,null,null,null,null,null,null,null,null,{"$f":"IF(COUNTA(I332:P332)<8,\"\",VLOOKUP(ROUND((LEFT(I332,1)*'Criterios de Riesgo'!$F$8+LEFT(J332,1)*'Criterios de Riesgo'!$F$9+LEFT(K332,1)*'Criterios de Riesgo'!$F$10+LEFT(L332,1)*'Criterios de Riesgo'!$F$11+LEFT(M332,1)*'Criterios de Riesgo'!$F$12+LEFT(N332,1)*'Criterios de Riesgo'!$F$13+LEFT(O332,1)*'Criterios de Riesgo'!$F$14+LEFT(P332,1)*'Criterios de Riesgo'!$F$15),2),Calif_Control,2,1))","v":""},{"$f":"IF(COUNTA(I332:P332)<8,\"\",(ROUND((LEFT(I332,1)*'Criterios de Riesgo'!$F$8+LEFT(J332,1)*'Criterios de Riesgo'!$F$9+LEFT(K332,1)*'Criterios de Riesgo'!$F$10+LEFT(L332,1)*'Criterios de Riesgo'!$F$11+LEFT(M332,1)*'Criterios de Riesgo'!$F$12+LEFT(N332,1)*'Criterios de Riesgo'!$F$13+LEFT(O332,1)*'Criterios de Riesgo'!$F$14+LEFT(P332,1)*'Criterios de Riesgo'!$F$15),2))/5)","v":""},null,null,null,null,{"$f":"IF(COUNTA(S332:V332)<4,\"\",IF(V332=\"No\",\"No se usa\",VLOOKUP(ROUND((LEFT(S332,1)*'Criterios de Riesgo'!$C$13+LEFT(T332,1)*'Criterios de Riesgo'!$C$14+LEFT(U332,1)*'Criterios de Riesgo'!$C$15),2),Calif_Covertura,2,1)))","v":""},{"$f":"IF(COUNTA(S332:V332)<4,\"\",IF(V332=\"No\",0,(ROUND((LEFT(S332,1)*'Criterios de Riesgo'!$C$13+LEFT(T332,1)*'Criterios de Riesgo'!$C$14+LEFT(U332,1)*'Criterios de Riesgo'!$C$15),2))/5))","v":""},""]
[null,null,null,null,null,null,null,null,null,null,null,null,null,null,null,null,{"$f":"IF(COUNTA(I333:P333)<8,\"\",VLOOKUP(ROUND((LEFT(I333,1)*'Criterios de Riesgo'!$F$8+LEFT(J333,1)*'Criterios de Riesgo'!$F$9+LEFT(K333,1)*'Criterios de Riesgo'!$F$10+LEFT(L333,1)*'Criterios de Riesgo'!$F$11+LEFT(M333,1)*'Criterios de Riesgo'!$F$12+LEFT(N333,1)*'Criterios de Riesgo'!$F$13+LEFT(O333,1)*'Criterios de Riesgo'!$F$14+LEFT(P333,1)*'Criterios de Riesgo'!$F$15),2),Calif_Control,2,1))","v":""},{"$f":"IF(COUNTA(I333:P333)<8,\"\",(ROUND((LEFT(I333,1)*'Criterios de Riesgo'!$F$8+LEFT(J333,1)*'Criterios de Riesgo'!$F$9+LEFT(K333,1)*'Criterios de Riesgo'!$F$10+LEFT(L333,1)*'Criterios de Riesgo'!$F$11+LEFT(M333,1)*'Criterios de Riesgo'!$F$12+LEFT(N333,1)*'Criterios de Riesgo'!$F$13+LEFT(O333,1)*'Criterios de Riesgo'!$F$14+LEFT(P333,1)*'Criterios de Riesgo'!$F$15),2))/5)","v":""},null,null,null,null,{"$f":"IF(COUNTA(S333:V333)<4,\"\",IF(V333=\"No\",\"No se usa\",VLOOKUP(ROUND((LEFT(S333,1)*'Criterios de Riesgo'!$C$13+LEFT(T333,1)*'Criterios de Riesgo'!$C$14+LEFT(U333,1)*'Criterios de Riesgo'!$C$15),2),Calif_Covertura,2,1)))","v":""},{"$f":"IF(COUNTA(S333:V333)<4,\"\",IF(V333=\"No\",0,(ROUND((LEFT(S333,1)*'Criterios de Riesgo'!$C$13+LEFT(T333,1)*'Criterios de Riesgo'!$C$14+LEFT(U333,1)*'Criterios de Riesgo'!$C$15),2))/5))","v":""},""]
[null,null,null,null,null,null,null,null,null,null,null,null,null,null,null,null,{"$f":"IF(COUNTA(I334:P334)<8,\"\",VLOOKUP(ROUND((LEFT(I334,1)*'Criterios de Riesgo'!$F$8+LEFT(J334,1)*'Criterios de Riesgo'!$F$9+LEFT(K334,1)*'Criterios de Riesgo'!$F$10+LEFT(L334,1)*'Criterios de Riesgo'!$F$11+LEFT(M334,1)*'Criterios de Riesgo'!$F$12+LEFT(N334,1)*'Criterios de Riesgo'!$F$13+LEFT(O334,1)*'Criterios de Riesgo'!$F$14+LEFT(P334,1)*'Criterios de Riesgo'!$F$15),2),Calif_Control,2,1))","v":""},{"$f":"IF(COUNTA(I334:P334)<8,\"\",(ROUND((LEFT(I334,1)*'Criterios de Riesgo'!$F$8+LEFT(J334,1)*'Criterios de Riesgo'!$F$9+LEFT(K334,1)*'Criterios de Riesgo'!$F$10+LEFT(L334,1)*'Criterios de Riesgo'!$F$11+LEFT(M334,1)*'Criterios de Riesgo'!$F$12+LEFT(N334,1)*'Criterios de Riesgo'!$F$13+LEFT(O334,1)*'Criterios de Riesgo'!$F$14+LEFT(P334,1)*'Criterios de Riesgo'!$F$15),2))/5)","v":""},null,null,null,null,{"$f":"IF(COUNTA(S334:V334)<4,\"\",IF(V334=\"No\",\"No se usa\",VLOOKUP(ROUND((LEFT(S334,1)*'Criterios de Riesgo'!$C$13+LEFT(T334,1)*'Criterios de Riesgo'!$C$14+LEFT(U334,1)*'Criterios de Riesgo'!$C$15),2),Calif_Covertura,2,1)))","v":""},{"$f":"IF(COUNTA(S334:V334)<4,\"\",IF(V334=\"No\",0,(ROUND((LEFT(S334,1)*'Criterios de Riesgo'!$C$13+LEFT(T334,1)*'Criterios de Riesgo'!$C$14+LEFT(U334,1)*'Criterios de Riesgo'!$C$15),2))/5))","v":""},""]
["R",null,null,null,null,null,null,null,null,null,null,null,null,null,null,null,{"$f":"IF(COUNTA(I335:P335)<8,\"\",VLOOKUP(ROUND((LEFT(I335,1)*'Criterios de Riesgo'!$F$8+LEFT(J335,1)*'Criterios de Riesgo'!$F$9+LEFT(K335,1)*'Criterios de Riesgo'!$F$10+LEFT(L335,1)*'Criterios de Riesgo'!$F$11+LEFT(M335,1)*'Criterios de Riesgo'!$F$12+LEFT(N335,1)*'Criterios de Riesgo'!$F$13+LEFT(O335,1)*'Criterios de Riesgo'!$F$14+LEFT(P335,1)*'Criterios de Riesgo'!$F$15),2),Calif_Control,2,1))","v":""},{"$f":"IF(COUNTA(I335:P335)<8,\"\",(ROUND((LEFT(I335,1)*'Criterios de Riesgo'!$F$8+LEFT(J335,1)*'Criterios de Riesgo'!$F$9+LEFT(K335,1)*'Criterios de Riesgo'!$F$10+LEFT(L335,1)*'Criterios de Riesgo'!$F$11+LEFT(M335,1)*'Criterios de Riesgo'!$F$12+LEFT(N335,1)*'Criterios de Riesgo'!$F$13+LEFT(O335,1)*'Criterios de Riesgo'!$F$14+LEFT(P335,1)*'Criterios de Riesgo'!$F$15),2))/5)","v":""},null,null,null,null,{"$f":"IF(COUNTA(S335:V335)<4,\"\",IF(V335=\"No\",\"No se usa\",VLOOKUP(ROUND((LEFT(S335,1)*'Criterios de Riesgo'!$C$13+LEFT(T335,1)*'Criterios de Riesgo'!$C$14+LEFT(U335,1)*'Criterios de Riesgo'!$C$15),2),Calif_Covertura,2,1)))","v":""},{"$f":"IF(COUNTA(S335:V335)<4,\"\",IF(V335=\"No\",0,(ROUND((LEFT(S335,1)*'Criterios de Riesgo'!$C$13+LEFT(T335,1)*'Criterios de Riesgo'!$C$14+LEFT(U335,1)*'Criterios de Riesgo'!$C$15),2))/5))","v":""},"",null,{"$f":"IF(ISERROR((SUMIF(Z335:Z344,\"=impacto\",Y335:Y344)+SUMIF(Z335:Z344,\"=Ambos\",Y335:Y344))/(COUNTIF(Z335:Z344,\"Impacto\")+COUNTIF(Z335:Z344,\"Ambos\"))),\"\",(SUMIF(Z335:Z344,\"=impacto\",Y335:Y344)+SUMIF(Z335:Z344,\"=Ambos\",Y335:Y344))/(COUNTIF(Z335:Z344,\"Impacto\")+COUNTIF(Z335:Z344,\"Ambos\")))","v":""},{"$f":"IF(ISERROR((SUMIF(Z335:Z344,\"=Probabilidad\",Y335:Y344)+SUMIF(Z335:Z344,\"=Ambos\",Y335:Y344))/(COUNTIF(Z335:Z344,\"Probabilidad\")+COUNTIF(Z335:Z344,\"Ambos\"))),\"\",(SUMIF(Z335:Z344,\"=Probabilidad\",Y335:Y344)+SUMIF(Z335:Z344,\"=Ambos\",Y335:Y344))/(COUNTIF(Z335:Z344,\"Probabilidad\")+COUNTIF(Z335:Z344,\"Ambos\")))","v":""},{"$f":"IF(ISERROR(ROUND(IF(AB335=\"\",AA335,IF(AA335=\"\",AB335,IF(AND(AB335=\"\",AA335=\"\"),\"\",AB335*AA335)))*100,0)/100),\"\",ROUND(IF(AB335=\"\",AA335,IF(AA335=\"\",AB335,IF(AND(AB335=\"\",AA335=\"\"),\"\",AB335*AA335)))*100,0)/100)","v":""},{"$f":"IF(AC335=\"\",\"\",VLOOKUP(AC335*5,Calif_Control,2,1))","v":""}]
[null,null,null,null,null,null,null,null,null,null,null,null,null,null,null,null,{"$f":"IF(COUNTA(I336:P336)<8,\"\",VLOOKUP(ROUND((LEFT(I336,1)*'Criterios de Riesgo'!$F$8+LEFT(J336,1)*'Criterios de Riesgo'!$F$9+LEFT(K336,1)*'Criterios de Riesgo'!$F$10+LEFT(L336,1)*'Criterios de Riesgo'!$F$11+LEFT(M336,1)*'Criterios de Riesgo'!$F$12+LEFT(N336,1)*'Criterios de Riesgo'!$F$13+LEFT(O336,1)*'Criterios de Riesgo'!$F$14+LEFT(P336,1)*'Criterios de Riesgo'!$F$15),2),Calif_Control,2,1))","v":""},{"$f":"IF(COUNTA(I336:P336)<8,\"\",(ROUND((LEFT(I336,1)*'Criterios de Riesgo'!$F$8+LEFT(J336,1)*'Criterios de Riesgo'!$F$9+LEFT(K336,1)*'Criterios de Riesgo'!$F$10+LEFT(L336,1)*'Criterios de Riesgo'!$F$11+LEFT(M336,1)*'Criterios de Riesgo'!$F$12+LEFT(N336,1)*'Criterios de Riesgo'!$F$13+LEFT(O336,1)*'Criterios de Riesgo'!$F$14+LEFT(P336,1)*'Criterios de Riesgo'!$F$15),2))/5)","v":""},null,null,null,null,{"$f":"IF(COUNTA(S336:V336)<4,\"\",IF(V336=\"No\",\"No se usa\",VLOOKUP(ROUND((LEFT(S336,1)*'Criterios de Riesgo'!$C$13+LEFT(T336,1)*'Criterios de Riesgo'!$C$14+LEFT(U336,1)*'Criterios de Riesgo'!$C$15),2),Calif_Covertura,2,1)))","v":""},{"$f":"IF(COUNTA(S336:V336)<4,\"\",IF(V336=\"No\",0,(ROUND((LEFT(S336,1)*'Criterios de Riesgo'!$C$13+LEFT(T336,1)*'Criterios de Riesgo'!$C$14+LEFT(U336,1)*'Criterios de Riesgo'!$C$15),2))/5))","v":""},""]
[null,null,null,null,null,null,null,null,null,null,null,null,null,null,null,null,{"$f":"IF(COUNTA(I337:P337)<8,\"\",VLOOKUP(ROUND((LEFT(I337,1)*'Criterios de Riesgo'!$F$8+LEFT(J337,1)*'Criterios de Riesgo'!$F$9+LEFT(K337,1)*'Criterios de Riesgo'!$F$10+LEFT(L337,1)*'Criterios de Riesgo'!$F$11+LEFT(M337,1)*'Criterios de Riesgo'!$F$12+LEFT(N337,1)*'Criterios de Riesgo'!$F$13+LEFT(O337,1)*'Criterios de Riesgo'!$F$14+LEFT(P337,1)*'Criterios de Riesgo'!$F$15),2),Calif_Control,2,1))","v":""},{"$f":"IF(COUNTA(I337:P337)<8,\"\",(ROUND((LEFT(I337,1)*'Criterios de Riesgo'!$F$8+LEFT(J337,1)*'Criterios de Riesgo'!$F$9+LEFT(K337,1)*'Criterios de Riesgo'!$F$10+LEFT(L337,1)*'Criterios de Riesgo'!$F$11+LEFT(M337,1)*'Criterios de Riesgo'!$F$12+LEFT(N337,1)*'Criterios de Riesgo'!$F$13+LEFT(O337,1)*'Criterios de Riesgo'!$F$14+LEFT(P337,1)*'Criterios de Riesgo'!$F$15),2))/5)","v":""},null,null,null,null,{"$f":"IF(COUNTA(S337:V337)<4,\"\",IF(V337=\"No\",\"No se usa\",VLOOKUP(ROUND((LEFT(S337,1)*'Criterios de Riesgo'!$C$13+LEFT(T337,1)*'Criterios de Riesgo'!$C$14+LEFT(U337,1)*'Criterios de Riesgo'!$C$15),2),Calif_Covertura,2,1)))","v":""},{"$f":"IF(COUNTA(S337:V337)<4,\"\",IF(V337=\"No\",0,(ROUND((LEFT(S337,1)*'Criterios de Riesgo'!$C$13+LEFT(T337,1)*'Criterios de Riesgo'!$C$14+LEFT(U337,1)*'Criterios de Riesgo'!$C$15),2))/5))","v":""},""]
[null,null,null,null,null,null,null,null,null,null,null,null,null,null,null,null,{"$f":"IF(COUNTA(I338:P338)<8,\"\",VLOOKUP(ROUND((LEFT(I338,1)*'Criterios de Riesgo'!$F$8+LEFT(J338,1)*'Criterios de Riesgo'!$F$9+LEFT(K338,1)*'Criterios de Riesgo'!$F$10+LEFT(L338,1)*'Criterios de Riesgo'!$F$11+LEFT(M338,1)*'Criterios de Riesgo'!$F$12+LEFT(N338,1)*'Criterios de Riesgo'!$F$13+LEFT(O338,1)*'Criterios de Riesgo'!$F$14+LEFT(P338,1)*'Criterios de Riesgo'!$F$15),2),Calif_Control,2,1))","v":""},{"$f":"IF(COUNTA(I338:P338)<8,\"\",(ROUND((LEFT(I338,1)*'Criterios de Riesgo'!$F$8+LEFT(J338,1)*'Criterios de Riesgo'!$F$9+LEFT(K338,1)*'Criterios de Riesgo'!$F$10+LEFT(L338,1)*'Criterios de Riesgo'!$F$11+LEFT(M338,1)*'Criterios de Riesgo'!$F$12+LEFT(N338,1)*'Criterios de Riesgo'!$F$13+LEFT(O338,1)*'Criterios de Riesgo'!$F$14+LEFT(P338,1)*'Criterios de Riesgo'!$F$15),2))/5)","v":""},null,null,null,null,{"$f":"IF(COUNTA(S338:V338)<4,\"\",IF(V338=\"No\",\"No se usa\",VLOOKUP(ROUND((LEFT(S338,1)*'Criterios de Riesgo'!$C$13+LEFT(T338,1)*'Criterios de Riesgo'!$C$14+LEFT(U338,1)*'Criterios de Riesgo'!$C$15),2),Calif_Covertura,2,1)))","v":""},{"$f":"IF(COUNTA(S338:V338)<4,\"\",IF(V338=\"No\",0,(ROUND((LEFT(S338,1)*'Criterios de Riesgo'!$C$13+LEFT(T338,1)*'Criterios de Riesgo'!$C$14+LEFT(U338,1)*'Criterios de Riesgo'!$C$15),2))/5))","v":""},""]
[null,null,null,null,null,null,null,null,null,null,null,null,null,null,null,null,{"$f":"IF(COUNTA(I339:P339)<8,\"\",VLOOKUP(ROUND((LEFT(I339,1)*'Criterios de Riesgo'!$F$8+LEFT(J339,1)*'Criterios de Riesgo'!$F$9+LEFT(K339,1)*'Criterios de Riesgo'!$F$10+LEFT(L339,1)*'Criterios de Riesgo'!$F$11+LEFT(M339,1)*'Criterios de Riesgo'!$F$12+LEFT(N339,1)*'Criterios de Riesgo'!$F$13+LEFT(O339,1)*'Criterios de Riesgo'!$F$14+LEFT(P339,1)*'Criterios de Riesgo'!$F$15),2),Calif_Control,2,1))","v":""},{"$f":"IF(COUNTA(I339:P339)<8,\"\",(ROUND((LEFT(I339,1)*'Criterios de Riesgo'!$F$8+LEFT(J339,1)*'Criterios de Riesgo'!$F$9+LEFT(K339,1)*'Criterios de Riesgo'!$F$10+LEFT(L339,1)*'Criterios de Riesgo'!$F$11+LEFT(M339,1)*'Criterios de Riesgo'!$F$12+LEFT(N339,1)*'Criterios de Riesgo'!$F$13+LEFT(O339,1)*'Criterios de Riesgo'!$F$14+LEFT(P339,1)*'Criterios de Riesgo'!$F$15),2))/5)","v":""},null,null,null,null,{"$f":"IF(COUNTA(S339:V339)<4,\"\",IF(V339=\"No\",\"No se usa\",VLOOKUP(ROUND((LEFT(S339,1)*'Criterios de Riesgo'!$C$13+LEFT(T339,1)*'Criterios de Riesgo'!$C$14+LEFT(U339,1)*'Criterios de Riesgo'!$C$15),2),Calif_Covertura,2,1)))","v":""},{"$f":"IF(COUNTA(S339:V339)<4,\"\",IF(V339=\"No\",0,(ROUND((LEFT(S339,1)*'Criterios de Riesgo'!$C$13+LEFT(T339,1)*'Criterios de Riesgo'!$C$14+LEFT(U339,1)*'Criterios de Riesgo'!$C$15),2))/5))","v":""},""]
[null,null,null,null,null,null,null,null,null,null,null,null,null,null,null,null,{"$f":"IF(COUNTA(I340:P340)<8,\"\",VLOOKUP(ROUND((LEFT(I340,1)*'Criterios de Riesgo'!$F$8+LEFT(J340,1)*'Criterios de Riesgo'!$F$9+LEFT(K340,1)*'Criterios de Riesgo'!$F$10+LEFT(L340,1)*'Criterios de Riesgo'!$F$11+LEFT(M340,1)*'Criterios de Riesgo'!$F$12+LEFT(N340,1)*'Criterios de Riesgo'!$F$13+LEFT(O340,1)*'Criterios de Riesgo'!$F$14+LEFT(P340,1)*'Criterios de Riesgo'!$F$15),2),Calif_Control,2,1))","v":""},{"$f":"IF(COUNTA(I340:P340)<8,\"\",(ROUND((LEFT(I340,1)*'Criterios de Riesgo'!$F$8+LEFT(J340,1)*'Criterios de Riesgo'!$F$9+LEFT(K340,1)*'Criterios de Riesgo'!$F$10+LEFT(L340,1)*'Criterios de Riesgo'!$F$11+LEFT(M340,1)*'Criterios de Riesgo'!$F$12+LEFT(N340,1)*'Criterios de Riesgo'!$F$13+LEFT(O340,1)*'Criterios de Riesgo'!$F$14+LEFT(P340,1)*'Criterios de Riesgo'!$F$15),2))/5)","v":""},null,null,null,null,{"$f":"IF(COUNTA(S340:V340)<4,\"\",IF(V340=\"No\",\"No se usa\",VLOOKUP(ROUND((LEFT(S340,1)*'Criterios de Riesgo'!$C$13+LEFT(T340,1)*'Criterios de Riesgo'!$C$14+LEFT(U340,1)*'Criterios de Riesgo'!$C$15),2),Calif_Covertura,2,1)))","v":""},{"$f":"IF(COUNTA(S340:V340)<4,\"\",IF(V340=\"No\",0,(ROUND((LEFT(S340,1)*'Criterios de Riesgo'!$C$13+LEFT(T340,1)*'Criterios de Riesgo'!$C$14+LEFT(U340,1)*'Criterios de Riesgo'!$C$15),2))/5))","v":""},""]
[null,null,null,null,null,null,null,null,null,null,null,null,null,null,null,null,{"$f":"IF(COUNTA(I341:P341)<8,\"\",VLOOKUP(ROUND((LEFT(I341,1)*'Criterios de Riesgo'!$F$8+LEFT(J341,1)*'Criterios de Riesgo'!$F$9+LEFT(K341,1)*'Criterios de Riesgo'!$F$10+LEFT(L341,1)*'Criterios de Riesgo'!$F$11+LEFT(M341,1)*'Criterios de Riesgo'!$F$12+LEFT(N341,1)*'Criterios de Riesgo'!$F$13+LEFT(O341,1)*'Criterios de Riesgo'!$F$14+LEFT(P341,1)*'Criterios de Riesgo'!$F$15),2),Calif_Control,2,1))","v":""},{"$f":"IF(COUNTA(I341:P341)<8,\"\",(ROUND((LEFT(I341,1)*'Criterios de Riesgo'!$F$8+LEFT(J341,1)*'Criterios de Riesgo'!$F$9+LEFT(K341,1)*'Criterios de Riesgo'!$F$10+LEFT(L341,1)*'Criterios de Riesgo'!$F$11+LEFT(M341,1)*'Criterios de Riesgo'!$F$12+LEFT(N341,1)*'Criterios de Riesgo'!$F$13+LEFT(O341,1)*'Criterios de Riesgo'!$F$14+LEFT(P341,1)*'Criterios de Riesgo'!$F$15),2))/5)","v":""},null,null,null,null,{"$f":"IF(COUNTA(S341:V341)<4,\"\",IF(V341=\"No\",\"No se usa\",VLOOKUP(ROUND((LEFT(S341,1)*'Criterios de Riesgo'!$C$13+LEFT(T341,1)*'Criterios de Riesgo'!$C$14+LEFT(U341,1)*'Criterios de Riesgo'!$C$15),2),Calif_Covertura,2,1)))","v":""},{"$f":"IF(COUNTA(S341:V341)<4,\"\",IF(V341=\"No\",0,(ROUND((LEFT(S341,1)*'Criterios de Riesgo'!$C$13+LEFT(T341,1)*'Criterios de Riesgo'!$C$14+LEFT(U341,1)*'Criterios de Riesgo'!$C$15),2))/5))","v":""},""]
[null,null,null,null,null,null,null,null,null,null,null,null,null,null,null,null,{"$f":"IF(COUNTA(I342:P342)<8,\"\",VLOOKUP(ROUND((LEFT(I342,1)*'Criterios de Riesgo'!$F$8+LEFT(J342,1)*'Criterios de Riesgo'!$F$9+LEFT(K342,1)*'Criterios de Riesgo'!$F$10+LEFT(L342,1)*'Criterios de Riesgo'!$F$11+LEFT(M342,1)*'Criterios de Riesgo'!$F$12+LEFT(N342,1)*'Criterios de Riesgo'!$F$13+LEFT(O342,1)*'Criterios de Riesgo'!$F$14+LEFT(P342,1)*'Criterios de Riesgo'!$F$15),2),Calif_Control,2,1))","v":""},{"$f":"IF(COUNTA(I342:P342)<8,\"\",(ROUND((LEFT(I342,1)*'Criterios de Riesgo'!$F$8+LEFT(J342,1)*'Criterios de Riesgo'!$F$9+LEFT(K342,1)*'Criterios de Riesgo'!$F$10+LEFT(L342,1)*'Criterios de Riesgo'!$F$11+LEFT(M342,1)*'Criterios de Riesgo'!$F$12+LEFT(N342,1)*'Criterios de Riesgo'!$F$13+LEFT(O342,1)*'Criterios de Riesgo'!$F$14+LEFT(P342,1)*'Criterios de Riesgo'!$F$15),2))/5)","v":""},null,null,null,null,{"$f":"IF(COUNTA(S342:V342)<4,\"\",IF(V342=\"No\",\"No se usa\",VLOOKUP(ROUND((LEFT(S342,1)*'Criterios de Riesgo'!$C$13+LEFT(T342,1)*'Criterios de Riesgo'!$C$14+LEFT(U342,1)*'Criterios de Riesgo'!$C$15),2),Calif_Covertura,2,1)))","v":""},{"$f":"IF(COUNTA(S342:V342)<4,\"\",IF(V342=\"No\",0,(ROUND((LEFT(S342,1)*'Criterios de Riesgo'!$C$13+LEFT(T342,1)*'Criterios de Riesgo'!$C$14+LEFT(U342,1)*'Criterios de Riesgo'!$C$15),2))/5))","v":""},""]
[null,null,null,null,null,null,null,null,null,null,null,null,null,null,null,null,{"$f":"IF(COUNTA(I343:P343)<8,\"\",VLOOKUP(ROUND((LEFT(I343,1)*'Criterios de Riesgo'!$F$8+LEFT(J343,1)*'Criterios de Riesgo'!$F$9+LEFT(K343,1)*'Criterios de Riesgo'!$F$10+LEFT(L343,1)*'Criterios de Riesgo'!$F$11+LEFT(M343,1)*'Criterios de Riesgo'!$F$12+LEFT(N343,1)*'Criterios de Riesgo'!$F$13+LEFT(O343,1)*'Criterios de Riesgo'!$F$14+LEFT(P343,1)*'Criterios de Riesgo'!$F$15),2),Calif_Control,2,1))","v":""},{"$f":"IF(COUNTA(I343:P343)<8,\"\",(ROUND((LEFT(I343,1)*'Criterios de Riesgo'!$F$8+LEFT(J343,1)*'Criterios de Riesgo'!$F$9+LEFT(K343,1)*'Criterios de Riesgo'!$F$10+LEFT(L343,1)*'Criterios de Riesgo'!$F$11+LEFT(M343,1)*'Criterios de Riesgo'!$F$12+LEFT(N343,1)*'Criterios de Riesgo'!$F$13+LEFT(O343,1)*'Criterios de Riesgo'!$F$14+LEFT(P343,1)*'Criterios de Riesgo'!$F$15),2))/5)","v":""},null,null,null,null,{"$f":"IF(COUNTA(S343:V343)<4,\"\",IF(V343=\"No\",\"No se usa\",VLOOKUP(ROUND((LEFT(S343,1)*'Criterios de Riesgo'!$C$13+LEFT(T343,1)*'Criterios de Riesgo'!$C$14+LEFT(U343,1)*'Criterios de Riesgo'!$C$15),2),Calif_Covertura,2,1)))","v":""},{"$f":"IF(COUNTA(S343:V343)<4,\"\",IF(V343=\"No\",0,(ROUND((LEFT(S343,1)*'Criterios de Riesgo'!$C$13+LEFT(T343,1)*'Criterios de Riesgo'!$C$14+LEFT(U343,1)*'Criterios de Riesgo'!$C$15),2))/5))","v":""},""]
[null,null,null,null,null,null,null,null,null,null,null,null,null,null,null,null,{"$f":"IF(COUNTA(I344:P344)<8,\"\",VLOOKUP(ROUND((LEFT(I344,1)*'Criterios de Riesgo'!$F$8+LEFT(J344,1)*'Criterios de Riesgo'!$F$9+LEFT(K344,1)*'Criterios de Riesgo'!$F$10+LEFT(L344,1)*'Criterios de Riesgo'!$F$11+LEFT(M344,1)*'Criterios de Riesgo'!$F$12+LEFT(N344,1)*'Criterios de Riesgo'!$F$13+LEFT(O344,1)*'Criterios de Riesgo'!$F$14+LEFT(P344,1)*'Criterios de Riesgo'!$F$15),2),Calif_Control,2,1))","v":""},{"$f":"IF(COUNTA(I344:P344)<8,\"\",(ROUND((LEFT(I344,1)*'Criterios de Riesgo'!$F$8+LEFT(J344,1)*'Criterios de Riesgo'!$F$9+LEFT(K344,1)*'Criterios de Riesgo'!$F$10+LEFT(L344,1)*'Criterios de Riesgo'!$F$11+LEFT(M344,1)*'Criterios de Riesgo'!$F$12+LEFT(N344,1)*'Criterios de Riesgo'!$F$13+LEFT(O344,1)*'Criterios de Riesgo'!$F$14+LEFT(P344,1)*'Criterios de Riesgo'!$F$15),2))/5)","v":""},null,null,null,null,{"$f":"IF(COUNTA(S344:V344)<4,\"\",IF(V344=\"No\",\"No se usa\",VLOOKUP(ROUND((LEFT(S344,1)*'Criterios de Riesgo'!$C$13+LEFT(T344,1)*'Criterios de Riesgo'!$C$14+LEFT(U344,1)*'Criterios de Riesgo'!$C$15),2),Calif_Covertura,2,1)))","v":""},{"$f":"IF(COUNTA(S344:V344)<4,\"\",IF(V344=\"No\",0,(ROUND((LEFT(S344,1)*'Criterios de Riesgo'!$C$13+LEFT(T344,1)*'Criterios de Riesgo'!$C$14+LEFT(U344,1)*'Criterios de Riesgo'!$C$15),2))/5))","v":""},""]
["R",null,null,null,null,null,null,null,null,null,null,null,null,null,null,null,{"$f":"IF(COUNTA(I345:P345)<8,\"\",VLOOKUP(ROUND((LEFT(I345,1)*'Criterios de Riesgo'!$F$8+LEFT(J345,1)*'Criterios de Riesgo'!$F$9+LEFT(K345,1)*'Criterios de Riesgo'!$F$10+LEFT(L345,1)*'Criterios de Riesgo'!$F$11+LEFT(M345,1)*'Criterios de Riesgo'!$F$12+LEFT(N345,1)*'Criterios de Riesgo'!$F$13+LEFT(O345,1)*'Criterios de Riesgo'!$F$14+LEFT(P345,1)*'Criterios de Riesgo'!$F$15),2),Calif_Control,2,1))","v":""},{"$f":"IF(COUNTA(I345:P345)<8,\"\",(ROUND((LEFT(I345,1)*'Criterios de Riesgo'!$F$8+LEFT(J345,1)*'Criterios de Riesgo'!$F$9+LEFT(K345,1)*'Criterios de Riesgo'!$F$10+LEFT(L345,1)*'Criterios de Riesgo'!$F$11+LEFT(M345,1)*'Criterios de Riesgo'!$F$12+LEFT(N345,1)*'Criterios de Riesgo'!$F$13+LEFT(O345,1)*'Criterios de Riesgo'!$F$14+LEFT(P345,1)*'Criterios de Riesgo'!$F$15),2))/5)","v":""},null,null,null,null,{"$f":"IF(COUNTA(S345:V345)<4,\"\",IF(V345=\"No\",\"No se usa\",VLOOKUP(ROUND((LEFT(S345,1)*'Criterios de Riesgo'!$C$13+LEFT(T345,1)*'Criterios de Riesgo'!$C$14+LEFT(U345,1)*'Criterios de Riesgo'!$C$15),2),Calif_Covertura,2,1)))","v":""},{"$f":"IF(COUNTA(S345:V345)<4,\"\",IF(V345=\"No\",0,(ROUND((LEFT(S345,1)*'Criterios de Riesgo'!$C$13+LEFT(T345,1)*'Criterios de Riesgo'!$C$14+LEFT(U345,1)*'Criterios de Riesgo'!$C$15),2))/5))","v":""},"",null,{"$f":"IF(ISERROR((SUMIF(Z345:Z354,\"=impacto\",Y345:Y354)+SUMIF(Z345:Z354,\"=Ambos\",Y345:Y354))/(COUNTIF(Z345:Z354,\"Impacto\")+COUNTIF(Z345:Z354,\"Ambos\"))),\"\",(SUMIF(Z345:Z354,\"=impacto\",Y345:Y354)+SUMIF(Z345:Z354,\"=Ambos\",Y345:Y354))/(COUNTIF(Z345:Z354,\"Impacto\")+COUNTIF(Z345:Z354,\"Ambos\")))","v":""},{"$f":"IF(ISERROR((SUMIF(Z345:Z354,\"=Probabilidad\",Y345:Y354)+SUMIF(Z345:Z354,\"=Ambos\",Y345:Y354))/(COUNTIF(Z345:Z354,\"Probabilidad\")+COUNTIF(Z345:Z354,\"Ambos\"))),\"\",(SUMIF(Z345:Z354,\"=Probabilidad\",Y345:Y354)+SUMIF(Z345:Z354,\"=Ambos\",Y345:Y354))/(COUNTIF(Z345:Z354,\"Probabilidad\")+COUNTIF(Z345:Z354,\"Ambos\")))","v":""},{"$f":"IF(ISERROR(ROUND(IF(AB345=\"\",AA345,IF(AA345=\"\",AB345,IF(AND(AB345=\"\",AA345=\"\"),\"\",AB345*AA345)))*100,0)/100),\"\",ROUND(IF(AB345=\"\",AA345,IF(AA345=\"\",AB345,IF(AND(AB345=\"\",AA345=\"\"),\"\",AB345*AA345)))*100,0)/100)","v":""},{"$f":"IF(AC345=\"\",\"\",VLOOKUP(AC345*5,Calif_Control,2,1))","v":""}]
[null,null,null,null,null,null,null,null,null,null,null,null,null,null,null,null,{"$f":"IF(COUNTA(I346:P346)<8,\"\",VLOOKUP(ROUND((LEFT(I346,1)*'Criterios de Riesgo'!$F$8+LEFT(J346,1)*'Criterios de Riesgo'!$F$9+LEFT(K346,1)*'Criterios de Riesgo'!$F$10+LEFT(L346,1)*'Criterios de Riesgo'!$F$11+LEFT(M346,1)*'Criterios de Riesgo'!$F$12+LEFT(N346,1)*'Criterios de Riesgo'!$F$13+LEFT(O346,1)*'Criterios de Riesgo'!$F$14+LEFT(P346,1)*'Criterios de Riesgo'!$F$15),2),Calif_Control,2,1))","v":""},{"$f":"IF(COUNTA(I346:P346)<8,\"\",(ROUND((LEFT(I346,1)*'Criterios de Riesgo'!$F$8+LEFT(J346,1)*'Criterios de Riesgo'!$F$9+LEFT(K346,1)*'Criterios de Riesgo'!$F$10+LEFT(L346,1)*'Criterios de Riesgo'!$F$11+LEFT(M346,1)*'Criterios de Riesgo'!$F$12+LEFT(N346,1)*'Criterios de Riesgo'!$F$13+LEFT(O346,1)*'Criterios de Riesgo'!$F$14+LEFT(P346,1)*'Criterios de Riesgo'!$F$15),2))/5)","v":""},null,null,null,null,{"$f":"IF(COUNTA(S346:V346)<4,\"\",IF(V346=\"No\",\"No se usa\",VLOOKUP(ROUND((LEFT(S346,1)*'Criterios de Riesgo'!$C$13+LEFT(T346,1)*'Criterios de Riesgo'!$C$14+LEFT(U346,1)*'Criterios de Riesgo'!$C$15),2),Calif_Covertura,2,1)))","v":""},{"$f":"IF(COUNTA(S346:V346)<4,\"\",IF(V346=\"No\",0,(ROUND((LEFT(S346,1)*'Criterios de Riesgo'!$C$13+LEFT(T346,1)*'Criterios de Riesgo'!$C$14+LEFT(U346,1)*'Criterios de Riesgo'!$C$15),2))/5))","v":""},""]
[null,null,null,null,null,null,null,null,null,null,null,null,null,null,null,null,{"$f":"IF(COUNTA(I347:P347)<8,\"\",VLOOKUP(ROUND((LEFT(I347,1)*'Criterios de Riesgo'!$F$8+LEFT(J347,1)*'Criterios de Riesgo'!$F$9+LEFT(K347,1)*'Criterios de Riesgo'!$F$10+LEFT(L347,1)*'Criterios de Riesgo'!$F$11+LEFT(M347,1)*'Criterios de Riesgo'!$F$12+LEFT(N347,1)*'Criterios de Riesgo'!$F$13+LEFT(O347,1)*'Criterios de Riesgo'!$F$14+LEFT(P347,1)*'Criterios de Riesgo'!$F$15),2),Calif_Control,2,1))","v":""},{"$f":"IF(COUNTA(I347:P347)<8,\"\",(ROUND((LEFT(I347,1)*'Criterios de Riesgo'!$F$8+LEFT(J347,1)*'Criterios de Riesgo'!$F$9+LEFT(K347,1)*'Criterios de Riesgo'!$F$10+LEFT(L347,1)*'Criterios de Riesgo'!$F$11+LEFT(M347,1)*'Criterios de Riesgo'!$F$12+LEFT(N347,1)*'Criterios de Riesgo'!$F$13+LEFT(O347,1)*'Criterios de Riesgo'!$F$14+LEFT(P347,1)*'Criterios de Riesgo'!$F$15),2))/5)","v":""},null,null,null,null,{"$f":"IF(COUNTA(S347:V347)<4,\"\",IF(V347=\"No\",\"No se usa\",VLOOKUP(ROUND((LEFT(S347,1)*'Criterios de Riesgo'!$C$13+LEFT(T347,1)*'Criterios de Riesgo'!$C$14+LEFT(U347,1)*'Criterios de Riesgo'!$C$15),2),Calif_Covertura,2,1)))","v":""},{"$f":"IF(COUNTA(S347:V347)<4,\"\",IF(V347=\"No\",0,(ROUND((LEFT(S347,1)*'Criterios de Riesgo'!$C$13+LEFT(T347,1)*'Criterios de Riesgo'!$C$14+LEFT(U347,1)*'Criterios de Riesgo'!$C$15),2))/5))","v":""},""]
[null,null,null,null,null,null,null,null,null,null,null,null,null,null,null,null,{"$f":"IF(COUNTA(I348:P348)<8,\"\",VLOOKUP(ROUND((LEFT(I348,1)*'Criterios de Riesgo'!$F$8+LEFT(J348,1)*'Criterios de Riesgo'!$F$9+LEFT(K348,1)*'Criterios de Riesgo'!$F$10+LEFT(L348,1)*'Criterios de Riesgo'!$F$11+LEFT(M348,1)*'Criterios de Riesgo'!$F$12+LEFT(N348,1)*'Criterios de Riesgo'!$F$13+LEFT(O348,1)*'Criterios de Riesgo'!$F$14+LEFT(P348,1)*'Criterios de Riesgo'!$F$15),2),Calif_Control,2,1))","v":""},{"$f":"IF(COUNTA(I348:P348)<8,\"\",(ROUND((LEFT(I348,1)*'Criterios de Riesgo'!$F$8+LEFT(J348,1)*'Criterios de Riesgo'!$F$9+LEFT(K348,1)*'Criterios de Riesgo'!$F$10+LEFT(L348,1)*'Criterios de Riesgo'!$F$11+LEFT(M348,1)*'Criterios de Riesgo'!$F$12+LEFT(N348,1)*'Criterios de Riesgo'!$F$13+LEFT(O348,1)*'Criterios de Riesgo'!$F$14+LEFT(P348,1)*'Criterios de Riesgo'!$F$15),2))/5)","v":""},null,null,null,null,{"$f":"IF(COUNTA(S348:V348)<4,\"\",IF(V348=\"No\",\"No se usa\",VLOOKUP(ROUND((LEFT(S348,1)*'Criterios de Riesgo'!$C$13+LEFT(T348,1)*'Criterios de Riesgo'!$C$14+LEFT(U348,1)*'Criterios de Riesgo'!$C$15),2),Calif_Covertura,2,1)))","v":""},{"$f":"IF(COUNTA(S348:V348)<4,\"\",IF(V348=\"No\",0,(ROUND((LEFT(S348,1)*'Criterios de Riesgo'!$C$13+LEFT(T348,1)*'Criterios de Riesgo'!$C$14+LEFT(U348,1)*'Criterios de Riesgo'!$C$15),2))/5))","v":""},""]
[null,null,null,null,null,null,null,null,null,null,null,null,null,null,null,null,{"$f":"IF(COUNTA(I349:P349)<8,\"\",VLOOKUP(ROUND((LEFT(I349,1)*'Criterios de Riesgo'!$F$8+LEFT(J349,1)*'Criterios de Riesgo'!$F$9+LEFT(K349,1)*'Criterios de Riesgo'!$F$10+LEFT(L349,1)*'Criterios de Riesgo'!$F$11+LEFT(M349,1)*'Criterios de Riesgo'!$F$12+LEFT(N349,1)*'Criterios de Riesgo'!$F$13+LEFT(O349,1)*'Criterios de Riesgo'!$F$14+LEFT(P349,1)*'Criterios de Riesgo'!$F$15),2),Calif_Control,2,1))","v":""},{"$f":"IF(COUNTA(I349:P349)<8,\"\",(ROUND((LEFT(I349,1)*'Criterios de Riesgo'!$F$8+LEFT(J349,1)*'Criterios de Riesgo'!$F$9+LEFT(K349,1)*'Criterios de Riesgo'!$F$10+LEFT(L349,1)*'Criterios de Riesgo'!$F$11+LEFT(M349,1)*'Criterios de Riesgo'!$F$12+LEFT(N349,1)*'Criterios de Riesgo'!$F$13+LEFT(O349,1)*'Criterios de Riesgo'!$F$14+LEFT(P349,1)*'Criterios de Riesgo'!$F$15),2))/5)","v":""},null,null,null,null,{"$f":"IF(COUNTA(S349:V349)<4,\"\",IF(V349=\"No\",\"No se usa\",VLOOKUP(ROUND((LEFT(S349,1)*'Criterios de Riesgo'!$C$13+LEFT(T349,1)*'Criterios de Riesgo'!$C$14+LEFT(U349,1)*'Criterios de Riesgo'!$C$15),2),Calif_Covertura,2,1)))","v":""},{"$f":"IF(COUNTA(S349:V349)<4,\"\",IF(V349=\"No\",0,(ROUND((LEFT(S349,1)*'Criterios de Riesgo'!$C$13+LEFT(T349,1)*'Criterios de Riesgo'!$C$14+LEFT(U349,1)*'Criterios de Riesgo'!$C$15),2))/5))","v":""},""]
[null,null,null,null,null,null,null,null,null,null,null,null,null,null,null,null,{"$f":"IF(COUNTA(I350:P350)<8,\"\",VLOOKUP(ROUND((LEFT(I350,1)*'Criterios de Riesgo'!$F$8+LEFT(J350,1)*'Criterios de Riesgo'!$F$9+LEFT(K350,1)*'Criterios de Riesgo'!$F$10+LEFT(L350,1)*'Criterios de Riesgo'!$F$11+LEFT(M350,1)*'Criterios de Riesgo'!$F$12+LEFT(N350,1)*'Criterios de Riesgo'!$F$13+LEFT(O350,1)*'Criterios de Riesgo'!$F$14+LEFT(P350,1)*'Criterios de Riesgo'!$F$15),2),Calif_Control,2,1))","v":""},{"$f":"IF(COUNTA(I350:P350)<8,\"\",(ROUND((LEFT(I350,1)*'Criterios de Riesgo'!$F$8+LEFT(J350,1)*'Criterios de Riesgo'!$F$9+LEFT(K350,1)*'Criterios de Riesgo'!$F$10+LEFT(L350,1)*'Criterios de Riesgo'!$F$11+LEFT(M350,1)*'Criterios de Riesgo'!$F$12+LEFT(N350,1)*'Criterios de Riesgo'!$F$13+LEFT(O350,1)*'Criterios de Riesgo'!$F$14+LEFT(P350,1)*'Criterios de Riesgo'!$F$15),2))/5)","v":""},null,null,null,null,{"$f":"IF(COUNTA(S350:V350)<4,\"\",IF(V350=\"No\",\"No se usa\",VLOOKUP(ROUND((LEFT(S350,1)*'Criterios de Riesgo'!$C$13+LEFT(T350,1)*'Criterios de Riesgo'!$C$14+LEFT(U350,1)*'Criterios de Riesgo'!$C$15),2),Calif_Covertura,2,1)))","v":""},{"$f":"IF(COUNTA(S350:V350)<4,\"\",IF(V350=\"No\",0,(ROUND((LEFT(S350,1)*'Criterios de Riesgo'!$C$13+LEFT(T350,1)*'Criterios de Riesgo'!$C$14+LEFT(U350,1)*'Criterios de Riesgo'!$C$15),2))/5))","v":""},""]
[null,null,null,null,null,null,null,null,null,null,null,null,null,null,null,null,{"$f":"IF(COUNTA(I351:P351)<8,\"\",VLOOKUP(ROUND((LEFT(I351,1)*'Criterios de Riesgo'!$F$8+LEFT(J351,1)*'Criterios de Riesgo'!$F$9+LEFT(K351,1)*'Criterios de Riesgo'!$F$10+LEFT(L351,1)*'Criterios de Riesgo'!$F$11+LEFT(M351,1)*'Criterios de Riesgo'!$F$12+LEFT(N351,1)*'Criterios de Riesgo'!$F$13+LEFT(O351,1)*'Criterios de Riesgo'!$F$14+LEFT(P351,1)*'Criterios de Riesgo'!$F$15),2),Calif_Control,2,1))","v":""},{"$f":"IF(COUNTA(I351:P351)<8,\"\",(ROUND((LEFT(I351,1)*'Criterios de Riesgo'!$F$8+LEFT(J351,1)*'Criterios de Riesgo'!$F$9+LEFT(K351,1)*'Criterios de Riesgo'!$F$10+LEFT(L351,1)*'Criterios de Riesgo'!$F$11+LEFT(M351,1)*'Criterios de Riesgo'!$F$12+LEFT(N351,1)*'Criterios de Riesgo'!$F$13+LEFT(O351,1)*'Criterios de Riesgo'!$F$14+LEFT(P351,1)*'Criterios de Riesgo'!$F$15),2))/5)","v":""},null,null,null,null,{"$f":"IF(COUNTA(S351:V351)<4,\"\",IF(V351=\"No\",\"No se usa\",VLOOKUP(ROUND((LEFT(S351,1)*'Criterios de Riesgo'!$C$13+LEFT(T351,1)*'Criterios de Riesgo'!$C$14+LEFT(U351,1)*'Criterios de Riesgo'!$C$15),2),Calif_Covertura,2,1)))","v":""},{"$f":"IF(COUNTA(S351:V351)<4,\"\",IF(V351=\"No\",0,(ROUND((LEFT(S351,1)*'Criterios de Riesgo'!$C$13+LEFT(T351,1)*'Criterios de Riesgo'!$C$14+LEFT(U351,1)*'Criterios de Riesgo'!$C$15),2))/5))","v":""},""]
[null,null,null,null,null,null,null,null,null,null,null,null,null,null,null,null,{"$f":"IF(COUNTA(I352:P352)<8,\"\",VLOOKUP(ROUND((LEFT(I352,1)*'Criterios de Riesgo'!$F$8+LEFT(J352,1)*'Criterios de Riesgo'!$F$9+LEFT(K352,1)*'Criterios de Riesgo'!$F$10+LEFT(L352,1)*'Criterios de Riesgo'!$F$11+LEFT(M352,1)*'Criterios de Riesgo'!$F$12+LEFT(N352,1)*'Criterios de Riesgo'!$F$13+LEFT(O352,1)*'Criterios de Riesgo'!$F$14+LEFT(P352,1)*'Criterios de Riesgo'!$F$15),2),Calif_Control,2,1))","v":""},{"$f":"IF(COUNTA(I352:P352)<8,\"\",(ROUND((LEFT(I352,1)*'Criterios de Riesgo'!$F$8+LEFT(J352,1)*'Criterios de Riesgo'!$F$9+LEFT(K352,1)*'Criterios de Riesgo'!$F$10+LEFT(L352,1)*'Criterios de Riesgo'!$F$11+LEFT(M352,1)*'Criterios de Riesgo'!$F$12+LEFT(N352,1)*'Criterios de Riesgo'!$F$13+LEFT(O352,1)*'Criterios de Riesgo'!$F$14+LEFT(P352,1)*'Criterios de Riesgo'!$F$15),2))/5)","v":""},null,null,null,null,{"$f":"IF(COUNTA(S352:V352)<4,\"\",IF(V352=\"No\",\"No se usa\",VLOOKUP(ROUND((LEFT(S352,1)*'Criterios de Riesgo'!$C$13+LEFT(T352,1)*'Criterios de Riesgo'!$C$14+LEFT(U352,1)*'Criterios de Riesgo'!$C$15),2),Calif_Covertura,2,1)))","v":""},{"$f":"IF(COUNTA(S352:V352)<4,\"\",IF(V352=\"No\",0,(ROUND((LEFT(S352,1)*'Criterios de Riesgo'!$C$13+LEFT(T352,1)*'Criterios de Riesgo'!$C$14+LEFT(U352,1)*'Criterios de Riesgo'!$C$15),2))/5))","v":""},""]
[null,null,null,null,null,null,null,null,null,null,null,null,null,null,null,null,{"$f":"IF(COUNTA(I353:P353)<8,\"\",VLOOKUP(ROUND((LEFT(I353,1)*'Criterios de Riesgo'!$F$8+LEFT(J353,1)*'Criterios de Riesgo'!$F$9+LEFT(K353,1)*'Criterios de Riesgo'!$F$10+LEFT(L353,1)*'Criterios de Riesgo'!$F$11+LEFT(M353,1)*'Criterios de Riesgo'!$F$12+LEFT(N353,1)*'Criterios de Riesgo'!$F$13+LEFT(O353,1)*'Criterios de Riesgo'!$F$14+LEFT(P353,1)*'Criterios de Riesgo'!$F$15),2),Calif_Control,2,1))","v":""},{"$f":"IF(COUNTA(I353:P353)<8,\"\",(ROUND((LEFT(I353,1)*'Criterios de Riesgo'!$F$8+LEFT(J353,1)*'Criterios de Riesgo'!$F$9+LEFT(K353,1)*'Criterios de Riesgo'!$F$10+LEFT(L353,1)*'Criterios de Riesgo'!$F$11+LEFT(M353,1)*'Criterios de Riesgo'!$F$12+LEFT(N353,1)*'Criterios de Riesgo'!$F$13+LEFT(O353,1)*'Criterios de Riesgo'!$F$14+LEFT(P353,1)*'Criterios de Riesgo'!$F$15),2))/5)","v":""},null,null,null,null,{"$f":"IF(COUNTA(S353:V353)<4,\"\",IF(V353=\"No\",\"No se usa\",VLOOKUP(ROUND((LEFT(S353,1)*'Criterios de Riesgo'!$C$13+LEFT(T353,1)*'Criterios de Riesgo'!$C$14+LEFT(U353,1)*'Criterios de Riesgo'!$C$15),2),Calif_Covertura,2,1)))","v":""},{"$f":"IF(COUNTA(S353:V353)<4,\"\",IF(V353=\"No\",0,(ROUND((LEFT(S353,1)*'Criterios de Riesgo'!$C$13+LEFT(T353,1)*'Criterios de Riesgo'!$C$14+LEFT(U353,1)*'Criterios de Riesgo'!$C$15),2))/5))","v":""},""]
[null,null,null,null,null,null,null,null,null,null,null,null,null,null,null,null,{"$f":"IF(COUNTA(I354:P354)<8,\"\",VLOOKUP(ROUND((LEFT(I354,1)*'Criterios de Riesgo'!$F$8+LEFT(J354,1)*'Criterios de Riesgo'!$F$9+LEFT(K354,1)*'Criterios de Riesgo'!$F$10+LEFT(L354,1)*'Criterios de Riesgo'!$F$11+LEFT(M354,1)*'Criterios de Riesgo'!$F$12+LEFT(N354,1)*'Criterios de Riesgo'!$F$13+LEFT(O354,1)*'Criterios de Riesgo'!$F$14+LEFT(P354,1)*'Criterios de Riesgo'!$F$15),2),Calif_Control,2,1))","v":""},{"$f":"IF(COUNTA(I354:P354)<8,\"\",(ROUND((LEFT(I354,1)*'Criterios de Riesgo'!$F$8+LEFT(J354,1)*'Criterios de Riesgo'!$F$9+LEFT(K354,1)*'Criterios de Riesgo'!$F$10+LEFT(L354,1)*'Criterios de Riesgo'!$F$11+LEFT(M354,1)*'Criterios de Riesgo'!$F$12+LEFT(N354,1)*'Criterios de Riesgo'!$F$13+LEFT(O354,1)*'Criterios de Riesgo'!$F$14+LEFT(P354,1)*'Criterios de Riesgo'!$F$15),2))/5)","v":""},null,null,null,null,{"$f":"IF(COUNTA(S354:V354)<4,\"\",IF(V354=\"No\",\"No se usa\",VLOOKUP(ROUND((LEFT(S354,1)*'Criterios de Riesgo'!$C$13+LEFT(T354,1)*'Criterios de Riesgo'!$C$14+LEFT(U354,1)*'Criterios de Riesgo'!$C$15),2),Calif_Covertura,2,1)))","v":""},{"$f":"IF(COUNTA(S354:V354)<4,\"\",IF(V354=\"No\",0,(ROUND((LEFT(S354,1)*'Criterios de Riesgo'!$C$13+LEFT(T354,1)*'Criterios de Riesgo'!$C$14+LEFT(U354,1)*'Criterios de Riesgo'!$C$15),2))/5))","v":""},""]
["R",null,null,null,null,null,null,null,null,null,null,null,null,null,null,null,{"$f":"IF(COUNTA(I355:P355)<8,\"\",VLOOKUP(ROUND((LEFT(I355,1)*'Criterios de Riesgo'!$F$8+LEFT(J355,1)*'Criterios de Riesgo'!$F$9+LEFT(K355,1)*'Criterios de Riesgo'!$F$10+LEFT(L355,1)*'Criterios de Riesgo'!$F$11+LEFT(M355,1)*'Criterios de Riesgo'!$F$12+LEFT(N355,1)*'Criterios de Riesgo'!$F$13+LEFT(O355,1)*'Criterios de Riesgo'!$F$14+LEFT(P355,1)*'Criterios de Riesgo'!$F$15),2),Calif_Control,2,1))","v":""},{"$f":"IF(COUNTA(I355:P355)<8,\"\",(ROUND((LEFT(I355,1)*'Criterios de Riesgo'!$F$8+LEFT(J355,1)*'Criterios de Riesgo'!$F$9+LEFT(K355,1)*'Criterios de Riesgo'!$F$10+LEFT(L355,1)*'Criterios de Riesgo'!$F$11+LEFT(M355,1)*'Criterios de Riesgo'!$F$12+LEFT(N355,1)*'Criterios de Riesgo'!$F$13+LEFT(O355,1)*'Criterios de Riesgo'!$F$14+LEFT(P355,1)*'Criterios de Riesgo'!$F$15),2))/5)","v":""},null,null,null,null,{"$f":"IF(COUNTA(S355:V355)<4,\"\",IF(V355=\"No\",\"No se usa\",VLOOKUP(ROUND((LEFT(S355,1)*'Criterios de Riesgo'!$C$13+LEFT(T355,1)*'Criterios de Riesgo'!$C$14+LEFT(U355,1)*'Criterios de Riesgo'!$C$15),2),Calif_Covertura,2,1)))","v":""},{"$f":"IF(COUNTA(S355:V355)<4,\"\",IF(V355=\"No\",0,(ROUND((LEFT(S355,1)*'Criterios de Riesgo'!$C$13+LEFT(T355,1)*'Criterios de Riesgo'!$C$14+LEFT(U355,1)*'Criterios de Riesgo'!$C$15),2))/5))","v":""},"",null,{"$f":"IF(ISERROR((SUMIF(Z355:Z364,\"=impacto\",Y355:Y364)+SUMIF(Z355:Z364,\"=Ambos\",Y355:Y364))/(COUNTIF(Z355:Z364,\"Impacto\")+COUNTIF(Z355:Z364,\"Ambos\"))),\"\",(SUMIF(Z355:Z364,\"=impacto\",Y355:Y364)+SUMIF(Z355:Z364,\"=Ambos\",Y355:Y364))/(COUNTIF(Z355:Z364,\"Impacto\")+COUNTIF(Z355:Z364,\"Ambos\")))","v":""},{"$f":"IF(ISERROR((SUMIF(Z355:Z364,\"=Probabilidad\",Y355:Y364)+SUMIF(Z355:Z364,\"=Ambos\",Y355:Y364))/(COUNTIF(Z355:Z364,\"Probabilidad\")+COUNTIF(Z355:Z364,\"Ambos\"))),\"\",(SUMIF(Z355:Z364,\"=Probabilidad\",Y355:Y364)+SUMIF(Z355:Z364,\"=Ambos\",Y355:Y364))/(COUNTIF(Z355:Z364,\"Probabilidad\")+COUNTIF(Z355:Z364,\"Ambos\")))","v":""},{"$f":"IF(ISERROR(ROUND(IF(AB355=\"\",AA355,IF(AA355=\"\",AB355,IF(AND(AB355=\"\",AA355=\"\"),\"\",AB355*AA355)))*100,0)/100),\"\",ROUND(IF(AB355=\"\",AA355,IF(AA355=\"\",AB355,IF(AND(AB355=\"\",AA355=\"\"),\"\",AB355*AA355)))*100,0)/100)","v":""},{"$f":"IF(AC355=\"\",\"\",VLOOKUP(AC355*5,Calif_Control,2,1))","v":""}]
[null,null,null,null,null,null,null,null,null,null,null,null,null,null,null,null,{"$f":"IF(COUNTA(I356:P356)<8,\"\",VLOOKUP(ROUND((LEFT(I356,1)*'Criterios de Riesgo'!$F$8+LEFT(J356,1)*'Criterios de Riesgo'!$F$9+LEFT(K356,1)*'Criterios de Riesgo'!$F$10+LEFT(L356,1)*'Criterios de Riesgo'!$F$11+LEFT(M356,1)*'Criterios de Riesgo'!$F$12+LEFT(N356,1)*'Criterios de Riesgo'!$F$13+LEFT(O356,1)*'Criterios de Riesgo'!$F$14+LEFT(P356,1)*'Criterios de Riesgo'!$F$15),2),Calif_Control,2,1))","v":""},{"$f":"IF(COUNTA(I356:P356)<8,\"\",(ROUND((LEFT(I356,1)*'Criterios de Riesgo'!$F$8+LEFT(J356,1)*'Criterios de Riesgo'!$F$9+LEFT(K356,1)*'Criterios de Riesgo'!$F$10+LEFT(L356,1)*'Criterios de Riesgo'!$F$11+LEFT(M356,1)*'Criterios de Riesgo'!$F$12+LEFT(N356,1)*'Criterios de Riesgo'!$F$13+LEFT(O356,1)*'Criterios de Riesgo'!$F$14+LEFT(P356,1)*'Criterios de Riesgo'!$F$15),2))/5)","v":""},null,null,null,null,{"$f":"IF(COUNTA(S356:V356)<4,\"\",IF(V356=\"No\",\"No se usa\",VLOOKUP(ROUND((LEFT(S356,1)*'Criterios de Riesgo'!$C$13+LEFT(T356,1)*'Criterios de Riesgo'!$C$14+LEFT(U356,1)*'Criterios de Riesgo'!$C$15),2),Calif_Covertura,2,1)))","v":""},{"$f":"IF(COUNTA(S356:V356)<4,\"\",IF(V356=\"No\",0,(ROUND((LEFT(S356,1)*'Criterios de Riesgo'!$C$13+LEFT(T356,1)*'Criterios de Riesgo'!$C$14+LEFT(U356,1)*'Criterios de Riesgo'!$C$15),2))/5))","v":""},""]
[null,null,null,null,null,null,null,null,null,null,null,null,null,null,null,null,{"$f":"IF(COUNTA(I357:P357)<8,\"\",VLOOKUP(ROUND((LEFT(I357,1)*'Criterios de Riesgo'!$F$8+LEFT(J357,1)*'Criterios de Riesgo'!$F$9+LEFT(K357,1)*'Criterios de Riesgo'!$F$10+LEFT(L357,1)*'Criterios de Riesgo'!$F$11+LEFT(M357,1)*'Criterios de Riesgo'!$F$12+LEFT(N357,1)*'Criterios de Riesgo'!$F$13+LEFT(O357,1)*'Criterios de Riesgo'!$F$14+LEFT(P357,1)*'Criterios de Riesgo'!$F$15),2),Calif_Control,2,1))","v":""},{"$f":"IF(COUNTA(I357:P357)<8,\"\",(ROUND((LEFT(I357,1)*'Criterios de Riesgo'!$F$8+LEFT(J357,1)*'Criterios de Riesgo'!$F$9+LEFT(K357,1)*'Criterios de Riesgo'!$F$10+LEFT(L357,1)*'Criterios de Riesgo'!$F$11+LEFT(M357,1)*'Criterios de Riesgo'!$F$12+LEFT(N357,1)*'Criterios de Riesgo'!$F$13+LEFT(O357,1)*'Criterios de Riesgo'!$F$14+LEFT(P357,1)*'Criterios de Riesgo'!$F$15),2))/5)","v":""},null,null,null,null,{"$f":"IF(COUNTA(S357:V357)<4,\"\",IF(V357=\"No\",\"No se usa\",VLOOKUP(ROUND((LEFT(S357,1)*'Criterios de Riesgo'!$C$13+LEFT(T357,1)*'Criterios de Riesgo'!$C$14+LEFT(U357,1)*'Criterios de Riesgo'!$C$15),2),Calif_Covertura,2,1)))","v":""},{"$f":"IF(COUNTA(S357:V357)<4,\"\",IF(V357=\"No\",0,(ROUND((LEFT(S357,1)*'Criterios de Riesgo'!$C$13+LEFT(T357,1)*'Criterios de Riesgo'!$C$14+LEFT(U357,1)*'Criterios de Riesgo'!$C$15),2))/5))","v":""},""]
[null,null,null,null,null,null,null,null,null,null,null,null,null,null,null,null,{"$f":"IF(COUNTA(I358:P358)<8,\"\",VLOOKUP(ROUND((LEFT(I358,1)*'Criterios de Riesgo'!$F$8+LEFT(J358,1)*'Criterios de Riesgo'!$F$9+LEFT(K358,1)*'Criterios de Riesgo'!$F$10+LEFT(L358,1)*'Criterios de Riesgo'!$F$11+LEFT(M358,1)*'Criterios de Riesgo'!$F$12+LEFT(N358,1)*'Criterios de Riesgo'!$F$13+LEFT(O358,1)*'Criterios de Riesgo'!$F$14+LEFT(P358,1)*'Criterios de Riesgo'!$F$15),2),Calif_Control,2,1))","v":""},{"$f":"IF(COUNTA(I358:P358)<8,\"\",(ROUND((LEFT(I358,1)*'Criterios de Riesgo'!$F$8+LEFT(J358,1)*'Criterios de Riesgo'!$F$9+LEFT(K358,1)*'Criterios de Riesgo'!$F$10+LEFT(L358,1)*'Criterios de Riesgo'!$F$11+LEFT(M358,1)*'Criterios de Riesgo'!$F$12+LEFT(N358,1)*'Criterios de Riesgo'!$F$13+LEFT(O358,1)*'Criterios de Riesgo'!$F$14+LEFT(P358,1)*'Criterios de Riesgo'!$F$15),2))/5)","v":""},null,null,null,null,{"$f":"IF(COUNTA(S358:V358)<4,\"\",IF(V358=\"No\",\"No se usa\",VLOOKUP(ROUND((LEFT(S358,1)*'Criterios de Riesgo'!$C$13+LEFT(T358,1)*'Criterios de Riesgo'!$C$14+LEFT(U358,1)*'Criterios de Riesgo'!$C$15),2),Calif_Covertura,2,1)))","v":""},{"$f":"IF(COUNTA(S358:V358)<4,\"\",IF(V358=\"No\",0,(ROUND((LEFT(S358,1)*'Criterios de Riesgo'!$C$13+LEFT(T358,1)*'Criterios de Riesgo'!$C$14+LEFT(U358,1)*'Criterios de Riesgo'!$C$15),2))/5))","v":""},""]
[null,null,null,null,null,null,null,null,null,null,null,null,null,null,null,null,{"$f":"IF(COUNTA(I359:P359)<8,\"\",VLOOKUP(ROUND((LEFT(I359,1)*'Criterios de Riesgo'!$F$8+LEFT(J359,1)*'Criterios de Riesgo'!$F$9+LEFT(K359,1)*'Criterios de Riesgo'!$F$10+LEFT(L359,1)*'Criterios de Riesgo'!$F$11+LEFT(M359,1)*'Criterios de Riesgo'!$F$12+LEFT(N359,1)*'Criterios de Riesgo'!$F$13+LEFT(O359,1)*'Criterios de Riesgo'!$F$14+LEFT(P359,1)*'Criterios de Riesgo'!$F$15),2),Calif_Control,2,1))","v":""},{"$f":"IF(COUNTA(I359:P359)<8,\"\",(ROUND((LEFT(I359,1)*'Criterios de Riesgo'!$F$8+LEFT(J359,1)*'Criterios de Riesgo'!$F$9+LEFT(K359,1)*'Criterios de Riesgo'!$F$10+LEFT(L359,1)*'Criterios de Riesgo'!$F$11+LEFT(M359,1)*'Criterios de Riesgo'!$F$12+LEFT(N359,1)*'Criterios de Riesgo'!$F$13+LEFT(O359,1)*'Criterios de Riesgo'!$F$14+LEFT(P359,1)*'Criterios de Riesgo'!$F$15),2))/5)","v":""},null,null,null,null,{"$f":"IF(COUNTA(S359:V359)<4,\"\",IF(V359=\"No\",\"No se usa\",VLOOKUP(ROUND((LEFT(S359,1)*'Criterios de Riesgo'!$C$13+LEFT(T359,1)*'Criterios de Riesgo'!$C$14+LEFT(U359,1)*'Criterios de Riesgo'!$C$15),2),Calif_Covertura,2,1)))","v":""},{"$f":"IF(COUNTA(S359:V359)<4,\"\",IF(V359=\"No\",0,(ROUND((LEFT(S359,1)*'Criterios de Riesgo'!$C$13+LEFT(T359,1)*'Criterios de Riesgo'!$C$14+LEFT(U359,1)*'Criterios de Riesgo'!$C$15),2))/5))","v":""},""]
[null,null,null,null,null,null,null,null,null,null,null,null,null,null,null,null,{"$f":"IF(COUNTA(I360:P360)<8,\"\",VLOOKUP(ROUND((LEFT(I360,1)*'Criterios de Riesgo'!$F$8+LEFT(J360,1)*'Criterios de Riesgo'!$F$9+LEFT(K360,1)*'Criterios de Riesgo'!$F$10+LEFT(L360,1)*'Criterios de Riesgo'!$F$11+LEFT(M360,1)*'Criterios de Riesgo'!$F$12+LEFT(N360,1)*'Criterios de Riesgo'!$F$13+LEFT(O360,1)*'Criterios de Riesgo'!$F$14+LEFT(P360,1)*'Criterios de Riesgo'!$F$15),2),Calif_Control,2,1))","v":""},{"$f":"IF(COUNTA(I360:P360)<8,\"\",(ROUND((LEFT(I360,1)*'Criterios de Riesgo'!$F$8+LEFT(J360,1)*'Criterios de Riesgo'!$F$9+LEFT(K360,1)*'Criterios de Riesgo'!$F$10+LEFT(L360,1)*'Criterios de Riesgo'!$F$11+LEFT(M360,1)*'Criterios de Riesgo'!$F$12+LEFT(N360,1)*'Criterios de Riesgo'!$F$13+LEFT(O360,1)*'Criterios de Riesgo'!$F$14+LEFT(P360,1)*'Criterios de Riesgo'!$F$15),2))/5)","v":""},null,null,null,null,{"$f":"IF(COUNTA(S360:V360)<4,\"\",IF(V360=\"No\",\"No se usa\",VLOOKUP(ROUND((LEFT(S360,1)*'Criterios de Riesgo'!$C$13+LEFT(T360,1)*'Criterios de Riesgo'!$C$14+LEFT(U360,1)*'Criterios de Riesgo'!$C$15),2),Calif_Covertura,2,1)))","v":""},{"$f":"IF(COUNTA(S360:V360)<4,\"\",IF(V360=\"No\",0,(ROUND((LEFT(S360,1)*'Criterios de Riesgo'!$C$13+LEFT(T360,1)*'Criterios de Riesgo'!$C$14+LEFT(U360,1)*'Criterios de Riesgo'!$C$15),2))/5))","v":""},""]
[null,null,null,null,null,null,null,null,null,null,null,null,null,null,null,null,{"$f":"IF(COUNTA(I361:P361)<8,\"\",VLOOKUP(ROUND((LEFT(I361,1)*'Criterios de Riesgo'!$F$8+LEFT(J361,1)*'Criterios de Riesgo'!$F$9+LEFT(K361,1)*'Criterios de Riesgo'!$F$10+LEFT(L361,1)*'Criterios de Riesgo'!$F$11+LEFT(M361,1)*'Criterios de Riesgo'!$F$12+LEFT(N361,1)*'Criterios de Riesgo'!$F$13+LEFT(O361,1)*'Criterios de Riesgo'!$F$14+LEFT(P361,1)*'Criterios de Riesgo'!$F$15),2),Calif_Control,2,1))","v":""},{"$f":"IF(COUNTA(I361:P361)<8,\"\",(ROUND((LEFT(I361,1)*'Criterios de Riesgo'!$F$8+LEFT(J361,1)*'Criterios de Riesgo'!$F$9+LEFT(K361,1)*'Criterios de Riesgo'!$F$10+LEFT(L361,1)*'Criterios de Riesgo'!$F$11+LEFT(M361,1)*'Criterios de Riesgo'!$F$12+LEFT(N361,1)*'Criterios de Riesgo'!$F$13+LEFT(O361,1)*'Criterios de Riesgo'!$F$14+LEFT(P361,1)*'Criterios de Riesgo'!$F$15),2))/5)","v":""},null,null,null,null,{"$f":"IF(COUNTA(S361:V361)<4,\"\",IF(V361=\"No\",\"No se usa\",VLOOKUP(ROUND((LEFT(S361,1)*'Criterios de Riesgo'!$C$13+LEFT(T361,1)*'Criterios de Riesgo'!$C$14+LEFT(U361,1)*'Criterios de Riesgo'!$C$15),2),Calif_Covertura,2,1)))","v":""},{"$f":"IF(COUNTA(S361:V361)<4,\"\",IF(V361=\"No\",0,(ROUND((LEFT(S361,1)*'Criterios de Riesgo'!$C$13+LEFT(T361,1)*'Criterios de Riesgo'!$C$14+LEFT(U361,1)*'Criterios de Riesgo'!$C$15),2))/5))","v":""},""]
[null,null,null,null,null,null,null,null,null,null,null,null,null,null,null,null,{"$f":"IF(COUNTA(I362:P362)<8,\"\",VLOOKUP(ROUND((LEFT(I362,1)*'Criterios de Riesgo'!$F$8+LEFT(J362,1)*'Criterios de Riesgo'!$F$9+LEFT(K362,1)*'Criterios de Riesgo'!$F$10+LEFT(L362,1)*'Criterios de Riesgo'!$F$11+LEFT(M362,1)*'Criterios de Riesgo'!$F$12+LEFT(N362,1)*'Criterios de Riesgo'!$F$13+LEFT(O362,1)*'Criterios de Riesgo'!$F$14+LEFT(P362,1)*'Criterios de Riesgo'!$F$15),2),Calif_Control,2,1))","v":""},{"$f":"IF(COUNTA(I362:P362)<8,\"\",(ROUND((LEFT(I362,1)*'Criterios de Riesgo'!$F$8+LEFT(J362,1)*'Criterios de Riesgo'!$F$9+LEFT(K362,1)*'Criterios de Riesgo'!$F$10+LEFT(L362,1)*'Criterios de Riesgo'!$F$11+LEFT(M362,1)*'Criterios de Riesgo'!$F$12+LEFT(N362,1)*'Criterios de Riesgo'!$F$13+LEFT(O362,1)*'Criterios de Riesgo'!$F$14+LEFT(P362,1)*'Criterios de Riesgo'!$F$15),2))/5)","v":""},null,null,null,null,{"$f":"IF(COUNTA(S362:V362)<4,\"\",IF(V362=\"No\",\"No se usa\",VLOOKUP(ROUND((LEFT(S362,1)*'Criterios de Riesgo'!$C$13+LEFT(T362,1)*'Criterios de Riesgo'!$C$14+LEFT(U362,1)*'Criterios de Riesgo'!$C$15),2),Calif_Covertura,2,1)))","v":""},{"$f":"IF(COUNTA(S362:V362)<4,\"\",IF(V362=\"No\",0,(ROUND((LEFT(S362,1)*'Criterios de Riesgo'!$C$13+LEFT(T362,1)*'Criterios de Riesgo'!$C$14+LEFT(U362,1)*'Criterios de Riesgo'!$C$15),2))/5))","v":""},""]
[null,null,null,null,null,null,null,null,null,null,null,null,null,null,null,null,{"$f":"IF(COUNTA(I363:P363)<8,\"\",VLOOKUP(ROUND((LEFT(I363,1)*'Criterios de Riesgo'!$F$8+LEFT(J363,1)*'Criterios de Riesgo'!$F$9+LEFT(K363,1)*'Criterios de Riesgo'!$F$10+LEFT(L363,1)*'Criterios de Riesgo'!$F$11+LEFT(M363,1)*'Criterios de Riesgo'!$F$12+LEFT(N363,1)*'Criterios de Riesgo'!$F$13+LEFT(O363,1)*'Criterios de Riesgo'!$F$14+LEFT(P363,1)*'Criterios de Riesgo'!$F$15),2),Calif_Control,2,1))","v":""},{"$f":"IF(COUNTA(I363:P363)<8,\"\",(ROUND((LEFT(I363,1)*'Criterios de Riesgo'!$F$8+LEFT(J363,1)*'Criterios de Riesgo'!$F$9+LEFT(K363,1)*'Criterios de Riesgo'!$F$10+LEFT(L363,1)*'Criterios de Riesgo'!$F$11+LEFT(M363,1)*'Criterios de Riesgo'!$F$12+LEFT(N363,1)*'Criterios de Riesgo'!$F$13+LEFT(O363,1)*'Criterios de Riesgo'!$F$14+LEFT(P363,1)*'Criterios de Riesgo'!$F$15),2))/5)","v":""},null,null,null,null,{"$f":"IF(COUNTA(S363:V363)<4,\"\",IF(V363=\"No\",\"No se usa\",VLOOKUP(ROUND((LEFT(S363,1)*'Criterios de Riesgo'!$C$13+LEFT(T363,1)*'Criterios de Riesgo'!$C$14+LEFT(U363,1)*'Criterios de Riesgo'!$C$15),2),Calif_Covertura,2,1)))","v":""},{"$f":"IF(COUNTA(S363:V363)<4,\"\",IF(V363=\"No\",0,(ROUND((LEFT(S363,1)*'Criterios de Riesgo'!$C$13+LEFT(T363,1)*'Criterios de Riesgo'!$C$14+LEFT(U363,1)*'Criterios de Riesgo'!$C$15),2))/5))","v":""},""]
[null,null,null,null,null,null,null,null,null,null,null,null,null,null,null,null,{"$f":"IF(COUNTA(I364:P364)<8,\"\",VLOOKUP(ROUND((LEFT(I364,1)*'Criterios de Riesgo'!$F$8+LEFT(J364,1)*'Criterios de Riesgo'!$F$9+LEFT(K364,1)*'Criterios de Riesgo'!$F$10+LEFT(L364,1)*'Criterios de Riesgo'!$F$11+LEFT(M364,1)*'Criterios de Riesgo'!$F$12+LEFT(N364,1)*'Criterios de Riesgo'!$F$13+LEFT(O364,1)*'Criterios de Riesgo'!$F$14+LEFT(P364,1)*'Criterios de Riesgo'!$F$15),2),Calif_Control,2,1))","v":""},{"$f":"IF(COUNTA(I364:P364)<8,\"\",(ROUND((LEFT(I364,1)*'Criterios de Riesgo'!$F$8+LEFT(J364,1)*'Criterios de Riesgo'!$F$9+LEFT(K364,1)*'Criterios de Riesgo'!$F$10+LEFT(L364,1)*'Criterios de Riesgo'!$F$11+LEFT(M364,1)*'Criterios de Riesgo'!$F$12+LEFT(N364,1)*'Criterios de Riesgo'!$F$13+LEFT(O364,1)*'Criterios de Riesgo'!$F$14+LEFT(P364,1)*'Criterios de Riesgo'!$F$15),2))/5)","v":""},null,null,null,null,{"$f":"IF(COUNTA(S364:V364)<4,\"\",IF(V364=\"No\",\"No se usa\",VLOOKUP(ROUND((LEFT(S364,1)*'Criterios de Riesgo'!$C$13+LEFT(T364,1)*'Criterios de Riesgo'!$C$14+LEFT(U364,1)*'Criterios de Riesgo'!$C$15),2),Calif_Covertura,2,1)))","v":""},{"$f":"IF(COUNTA(S364:V364)<4,\"\",IF(V364=\"No\",0,(ROUND((LEFT(S364,1)*'Criterios de Riesgo'!$C$13+LEFT(T364,1)*'Criterios de Riesgo'!$C$14+LEFT(U364,1)*'Criterios de Riesgo'!$C$15),2))/5))","v":""},""]
["R",null,null,null,null,null,null,null,null,null,null,null,null,null,null,null,{"$f":"IF(COUNTA(I365:P365)<8,\"\",VLOOKUP(ROUND((LEFT(I365,1)*'Criterios de Riesgo'!$F$8+LEFT(J365,1)*'Criterios de Riesgo'!$F$9+LEFT(K365,1)*'Criterios de Riesgo'!$F$10+LEFT(L365,1)*'Criterios de Riesgo'!$F$11+LEFT(M365,1)*'Criterios de Riesgo'!$F$12+LEFT(N365,1)*'Criterios de Riesgo'!$F$13+LEFT(O365,1)*'Criterios de Riesgo'!$F$14+LEFT(P365,1)*'Criterios de Riesgo'!$F$15),2),Calif_Control,2,1))","v":""},{"$f":"IF(COUNTA(I365:P365)<8,\"\",(ROUND((LEFT(I365,1)*'Criterios de Riesgo'!$F$8+LEFT(J365,1)*'Criterios de Riesgo'!$F$9+LEFT(K365,1)*'Criterios de Riesgo'!$F$10+LEFT(L365,1)*'Criterios de Riesgo'!$F$11+LEFT(M365,1)*'Criterios de Riesgo'!$F$12+LEFT(N365,1)*'Criterios de Riesgo'!$F$13+LEFT(O365,1)*'Criterios de Riesgo'!$F$14+LEFT(P365,1)*'Criterios de Riesgo'!$F$15),2))/5)","v":""},null,null,null,null,{"$f":"IF(COUNTA(S365:V365)<4,\"\",IF(V365=\"No\",\"No se usa\",VLOOKUP(ROUND((LEFT(S365,1)*'Criterios de Riesgo'!$C$13+LEFT(T365,1)*'Criterios de Riesgo'!$C$14+LEFT(U365,1)*'Criterios de Riesgo'!$C$15),2),Calif_Covertura,2,1)))","v":""},{"$f":"IF(COUNTA(S365:V365)<4,\"\",IF(V365=\"No\",0,(ROUND((LEFT(S365,1)*'Criterios de Riesgo'!$C$13+LEFT(T365,1)*'Criterios de Riesgo'!$C$14+LEFT(U365,1)*'Criterios de Riesgo'!$C$15),2))/5))","v":""},"",null,{"$f":"IF(ISERROR((SUMIF(Z365:Z374,\"=impacto\",Y365:Y374)+SUMIF(Z365:Z374,\"=Ambos\",Y365:Y374))/(COUNTIF(Z365:Z374,\"Impacto\")+COUNTIF(Z365:Z374,\"Ambos\"))),\"\",(SUMIF(Z365:Z374,\"=impacto\",Y365:Y374)+SUMIF(Z365:Z374,\"=Ambos\",Y365:Y374))/(COUNTIF(Z365:Z374,\"Impacto\")+COUNTIF(Z365:Z374,\"Ambos\")))","v":""},{"$f":"IF(ISERROR((SUMIF(Z365:Z374,\"=Probabilidad\",Y365:Y374)+SUMIF(Z365:Z374,\"=Ambos\",Y365:Y374))/(COUNTIF(Z365:Z374,\"Probabilidad\")+COUNTIF(Z365:Z374,\"Ambos\"))),\"\",(SUMIF(Z365:Z374,\"=Probabilidad\",Y365:Y374)+SUMIF(Z365:Z374,\"=Ambos\",Y365:Y374))/(COUNTIF(Z365:Z374,\"Probabilidad\")+COUNTIF(Z365:Z374,\"Ambos\")))","v":""},{"$f":"IF(ISERROR(ROUND(IF(AB365=\"\",AA365,IF(AA365=\"\",AB365,IF(AND(AB365=\"\",AA365=\"\"),\"\",AB365*AA365)))*100,0)/100),\"\",ROUND(IF(AB365=\"\",AA365,IF(AA365=\"\",AB365,IF(AND(AB365=\"\",AA365=\"\"),\"\",AB365*AA365)))*100,0)/100)","v":""},{"$f":"IF(AC365=\"\",\"\",VLOOKUP(AC365*5,Calif_Control,2,1))","v":""}]
[null,null,null,null,null,null,null,null,null,null,null,null,null,null,null,null,{"$f":"IF(COUNTA(I366:P366)<8,\"\",VLOOKUP(ROUND((LEFT(I366,1)*'Criterios de Riesgo'!$F$8+LEFT(J366,1)*'Criterios de Riesgo'!$F$9+LEFT(K366,1)*'Criterios de Riesgo'!$F$10+LEFT(L366,1)*'Criterios de Riesgo'!$F$11+LEFT(M366,1)*'Criterios de Riesgo'!$F$12+LEFT(N366,1)*'Criterios de Riesgo'!$F$13+LEFT(O366,1)*'Criterios de Riesgo'!$F$14+LEFT(P366,1)*'Criterios de Riesgo'!$F$15),2),Calif_Control,2,1))","v":""},{"$f":"IF(COUNTA(I366:P366)<8,\"\",(ROUND((LEFT(I366,1)*'Criterios de Riesgo'!$F$8+LEFT(J366,1)*'Criterios de Riesgo'!$F$9+LEFT(K366,1)*'Criterios de Riesgo'!$F$10+LEFT(L366,1)*'Criterios de Riesgo'!$F$11+LEFT(M366,1)*'Criterios de Riesgo'!$F$12+LEFT(N366,1)*'Criterios de Riesgo'!$F$13+LEFT(O366,1)*'Criterios de Riesgo'!$F$14+LEFT(P366,1)*'Criterios de Riesgo'!$F$15),2))/5)","v":""},null,null,null,null,{"$f":"IF(COUNTA(S366:V366)<4,\"\",IF(V366=\"No\",\"No se usa\",VLOOKUP(ROUND((LEFT(S366,1)*'Criterios de Riesgo'!$C$13+LEFT(T366,1)*'Criterios de Riesgo'!$C$14+LEFT(U366,1)*'Criterios de Riesgo'!$C$15),2),Calif_Covertura,2,1)))","v":""},{"$f":"IF(COUNTA(S366:V366)<4,\"\",IF(V366=\"No\",0,(ROUND((LEFT(S366,1)*'Criterios de Riesgo'!$C$13+LEFT(T366,1)*'Criterios de Riesgo'!$C$14+LEFT(U366,1)*'Criterios de Riesgo'!$C$15),2))/5))","v":""},""]
[null,null,null,null,null,null,null,null,null,null,null,null,null,null,null,null,{"$f":"IF(COUNTA(I367:P367)<8,\"\",VLOOKUP(ROUND((LEFT(I367,1)*'Criterios de Riesgo'!$F$8+LEFT(J367,1)*'Criterios de Riesgo'!$F$9+LEFT(K367,1)*'Criterios de Riesgo'!$F$10+LEFT(L367,1)*'Criterios de Riesgo'!$F$11+LEFT(M367,1)*'Criterios de Riesgo'!$F$12+LEFT(N367,1)*'Criterios de Riesgo'!$F$13+LEFT(O367,1)*'Criterios de Riesgo'!$F$14+LEFT(P367,1)*'Criterios de Riesgo'!$F$15),2),Calif_Control,2,1))","v":""},{"$f":"IF(COUNTA(I367:P367)<8,\"\",(ROUND((LEFT(I367,1)*'Criterios de Riesgo'!$F$8+LEFT(J367,1)*'Criterios de Riesgo'!$F$9+LEFT(K367,1)*'Criterios de Riesgo'!$F$10+LEFT(L367,1)*'Criterios de Riesgo'!$F$11+LEFT(M367,1)*'Criterios de Riesgo'!$F$12+LEFT(N367,1)*'Criterios de Riesgo'!$F$13+LEFT(O367,1)*'Criterios de Riesgo'!$F$14+LEFT(P367,1)*'Criterios de Riesgo'!$F$15),2))/5)","v":""},null,null,null,null,{"$f":"IF(COUNTA(S367:V367)<4,\"\",IF(V367=\"No\",\"No se usa\",VLOOKUP(ROUND((LEFT(S367,1)*'Criterios de Riesgo'!$C$13+LEFT(T367,1)*'Criterios de Riesgo'!$C$14+LEFT(U367,1)*'Criterios de Riesgo'!$C$15),2),Calif_Covertura,2,1)))","v":""},{"$f":"IF(COUNTA(S367:V367)<4,\"\",IF(V367=\"No\",0,(ROUND((LEFT(S367,1)*'Criterios de Riesgo'!$C$13+LEFT(T367,1)*'Criterios de Riesgo'!$C$14+LEFT(U367,1)*'Criterios de Riesgo'!$C$15),2))/5))","v":""},""]
[null,null,null,null,null,null,null,null,null,null,null,null,null,null,null,null,{"$f":"IF(COUNTA(I368:P368)<8,\"\",VLOOKUP(ROUND((LEFT(I368,1)*'Criterios de Riesgo'!$F$8+LEFT(J368,1)*'Criterios de Riesgo'!$F$9+LEFT(K368,1)*'Criterios de Riesgo'!$F$10+LEFT(L368,1)*'Criterios de Riesgo'!$F$11+LEFT(M368,1)*'Criterios de Riesgo'!$F$12+LEFT(N368,1)*'Criterios de Riesgo'!$F$13+LEFT(O368,1)*'Criterios de Riesgo'!$F$14+LEFT(P368,1)*'Criterios de Riesgo'!$F$15),2),Calif_Control,2,1))","v":""},{"$f":"IF(COUNTA(I368:P368)<8,\"\",(ROUND((LEFT(I368,1)*'Criterios de Riesgo'!$F$8+LEFT(J368,1)*'Criterios de Riesgo'!$F$9+LEFT(K368,1)*'Criterios de Riesgo'!$F$10+LEFT(L368,1)*'Criterios de Riesgo'!$F$11+LEFT(M368,1)*'Criterios de Riesgo'!$F$12+LEFT(N368,1)*'Criterios de Riesgo'!$F$13+LEFT(O368,1)*'Criterios de Riesgo'!$F$14+LEFT(P368,1)*'Criterios de Riesgo'!$F$15),2))/5)","v":""},null,null,null,null,{"$f":"IF(COUNTA(S368:V368)<4,\"\",IF(V368=\"No\",\"No se usa\",VLOOKUP(ROUND((LEFT(S368,1)*'Criterios de Riesgo'!$C$13+LEFT(T368,1)*'Criterios de Riesgo'!$C$14+LEFT(U368,1)*'Criterios de Riesgo'!$C$15),2),Calif_Covertura,2,1)))","v":""},{"$f":"IF(COUNTA(S368:V368)<4,\"\",IF(V368=\"No\",0,(ROUND((LEFT(S368,1)*'Criterios de Riesgo'!$C$13+LEFT(T368,1)*'Criterios de Riesgo'!$C$14+LEFT(U368,1)*'Criterios de Riesgo'!$C$15),2))/5))","v":""},""]
[null,null,null,null,null,null,null,null,null,null,null,null,null,null,null,null,{"$f":"IF(COUNTA(I369:P369)<8,\"\",VLOOKUP(ROUND((LEFT(I369,1)*'Criterios de Riesgo'!$F$8+LEFT(J369,1)*'Criterios de Riesgo'!$F$9+LEFT(K369,1)*'Criterios de Riesgo'!$F$10+LEFT(L369,1)*'Criterios de Riesgo'!$F$11+LEFT(M369,1)*'Criterios de Riesgo'!$F$12+LEFT(N369,1)*'Criterios de Riesgo'!$F$13+LEFT(O369,1)*'Criterios de Riesgo'!$F$14+LEFT(P369,1)*'Criterios de Riesgo'!$F$15),2),Calif_Control,2,1))","v":""},{"$f":"IF(COUNTA(I369:P369)<8,\"\",(ROUND((LEFT(I369,1)*'Criterios de Riesgo'!$F$8+LEFT(J369,1)*'Criterios de Riesgo'!$F$9+LEFT(K369,1)*'Criterios de Riesgo'!$F$10+LEFT(L369,1)*'Criterios de Riesgo'!$F$11+LEFT(M369,1)*'Criterios de Riesgo'!$F$12+LEFT(N369,1)*'Criterios de Riesgo'!$F$13+LEFT(O369,1)*'Criterios de Riesgo'!$F$14+LEFT(P369,1)*'Criterios de Riesgo'!$F$15),2))/5)","v":""},null,null,null,null,{"$f":"IF(COUNTA(S369:V369)<4,\"\",IF(V369=\"No\",\"No se usa\",VLOOKUP(ROUND((LEFT(S369,1)*'Criterios de Riesgo'!$C$13+LEFT(T369,1)*'Criterios de Riesgo'!$C$14+LEFT(U369,1)*'Criterios de Riesgo'!$C$15),2),Calif_Covertura,2,1)))","v":""},{"$f":"IF(COUNTA(S369:V369)<4,\"\",IF(V369=\"No\",0,(ROUND((LEFT(S369,1)*'Criterios de Riesgo'!$C$13+LEFT(T369,1)*'Criterios de Riesgo'!$C$14+LEFT(U369,1)*'Criterios de Riesgo'!$C$15),2))/5))","v":""},""]
[null,null,null,null,null,null,null,null,null,null,null,null,null,null,null,null,{"$f":"IF(COUNTA(I370:P370)<8,\"\",VLOOKUP(ROUND((LEFT(I370,1)*'Criterios de Riesgo'!$F$8+LEFT(J370,1)*'Criterios de Riesgo'!$F$9+LEFT(K370,1)*'Criterios de Riesgo'!$F$10+LEFT(L370,1)*'Criterios de Riesgo'!$F$11+LEFT(M370,1)*'Criterios de Riesgo'!$F$12+LEFT(N370,1)*'Criterios de Riesgo'!$F$13+LEFT(O370,1)*'Criterios de Riesgo'!$F$14+LEFT(P370,1)*'Criterios de Riesgo'!$F$15),2),Calif_Control,2,1))","v":""},{"$f":"IF(COUNTA(I370:P370)<8,\"\",(ROUND((LEFT(I370,1)*'Criterios de Riesgo'!$F$8+LEFT(J370,1)*'Criterios de Riesgo'!$F$9+LEFT(K370,1)*'Criterios de Riesgo'!$F$10+LEFT(L370,1)*'Criterios de Riesgo'!$F$11+LEFT(M370,1)*'Criterios de Riesgo'!$F$12+LEFT(N370,1)*'Criterios de Riesgo'!$F$13+LEFT(O370,1)*'Criterios de Riesgo'!$F$14+LEFT(P370,1)*'Criterios de Riesgo'!$F$15),2))/5)","v":""},null,null,null,null,{"$f":"IF(COUNTA(S370:V370)<4,\"\",IF(V370=\"No\",\"No se usa\",VLOOKUP(ROUND((LEFT(S370,1)*'Criterios de Riesgo'!$C$13+LEFT(T370,1)*'Criterios de Riesgo'!$C$14+LEFT(U370,1)*'Criterios de Riesgo'!$C$15),2),Calif_Covertura,2,1)))","v":""},{"$f":"IF(COUNTA(S370:V370)<4,\"\",IF(V370=\"No\",0,(ROUND((LEFT(S370,1)*'Criterios de Riesgo'!$C$13+LEFT(T370,1)*'Criterios de Riesgo'!$C$14+LEFT(U370,1)*'Criterios de Riesgo'!$C$15),2))/5))","v":""},""]
[null,null,null,null,null,null,null,null,null,null,null,null,null,null,null,null,{"$f":"IF(COUNTA(I371:P371)<8,\"\",VLOOKUP(ROUND((LEFT(I371,1)*'Criterios de Riesgo'!$F$8+LEFT(J371,1)*'Criterios de Riesgo'!$F$9+LEFT(K371,1)*'Criterios de Riesgo'!$F$10+LEFT(L371,1)*'Criterios de Riesgo'!$F$11+LEFT(M371,1)*'Criterios de Riesgo'!$F$12+LEFT(N371,1)*'Criterios de Riesgo'!$F$13+LEFT(O371,1)*'Criterios de Riesgo'!$F$14+LEFT(P371,1)*'Criterios de Riesgo'!$F$15),2),Calif_Control,2,1))","v":""},{"$f":"IF(COUNTA(I371:P371)<8,\"\",(ROUND((LEFT(I371,1)*'Criterios de Riesgo'!$F$8+LEFT(J371,1)*'Criterios de Riesgo'!$F$9+LEFT(K371,1)*'Criterios de Riesgo'!$F$10+LEFT(L371,1)*'Criterios de Riesgo'!$F$11+LEFT(M371,1)*'Criterios de Riesgo'!$F$12+LEFT(N371,1)*'Criterios de Riesgo'!$F$13+LEFT(O371,1)*'Criterios de Riesgo'!$F$14+LEFT(P371,1)*'Criterios de Riesgo'!$F$15),2))/5)","v":""},null,null,null,null,{"$f":"IF(COUNTA(S371:V371)<4,\"\",IF(V371=\"No\",\"No se usa\",VLOOKUP(ROUND((LEFT(S371,1)*'Criterios de Riesgo'!$C$13+LEFT(T371,1)*'Criterios de Riesgo'!$C$14+LEFT(U371,1)*'Criterios de Riesgo'!$C$15),2),Calif_Covertura,2,1)))","v":""},{"$f":"IF(COUNTA(S371:V371)<4,\"\",IF(V371=\"No\",0,(ROUND((LEFT(S371,1)*'Criterios de Riesgo'!$C$13+LEFT(T371,1)*'Criterios de Riesgo'!$C$14+LEFT(U371,1)*'Criterios de Riesgo'!$C$15),2))/5))","v":""},""]
[null,null,null,null,null,null,null,null,null,null,null,null,null,null,null,null,{"$f":"IF(COUNTA(I372:P372)<8,\"\",VLOOKUP(ROUND((LEFT(I372,1)*'Criterios de Riesgo'!$F$8+LEFT(J372,1)*'Criterios de Riesgo'!$F$9+LEFT(K372,1)*'Criterios de Riesgo'!$F$10+LEFT(L372,1)*'Criterios de Riesgo'!$F$11+LEFT(M372,1)*'Criterios de Riesgo'!$F$12+LEFT(N372,1)*'Criterios de Riesgo'!$F$13+LEFT(O372,1)*'Criterios de Riesgo'!$F$14+LEFT(P372,1)*'Criterios de Riesgo'!$F$15),2),Calif_Control,2,1))","v":""},{"$f":"IF(COUNTA(I372:P372)<8,\"\",(ROUND((LEFT(I372,1)*'Criterios de Riesgo'!$F$8+LEFT(J372,1)*'Criterios de Riesgo'!$F$9+LEFT(K372,1)*'Criterios de Riesgo'!$F$10+LEFT(L372,1)*'Criterios de Riesgo'!$F$11+LEFT(M372,1)*'Criterios de Riesgo'!$F$12+LEFT(N372,1)*'Criterios de Riesgo'!$F$13+LEFT(O372,1)*'Criterios de Riesgo'!$F$14+LEFT(P372,1)*'Criterios de Riesgo'!$F$15),2))/5)","v":""},null,null,null,null,{"$f":"IF(COUNTA(S372:V372)<4,\"\",IF(V372=\"No\",\"No se usa\",VLOOKUP(ROUND((LEFT(S372,1)*'Criterios de Riesgo'!$C$13+LEFT(T372,1)*'Criterios de Riesgo'!$C$14+LEFT(U372,1)*'Criterios de Riesgo'!$C$15),2),Calif_Covertura,2,1)))","v":""},{"$f":"IF(COUNTA(S372:V372)<4,\"\",IF(V372=\"No\",0,(ROUND((LEFT(S372,1)*'Criterios de Riesgo'!$C$13+LEFT(T372,1)*'Criterios de Riesgo'!$C$14+LEFT(U372,1)*'Criterios de Riesgo'!$C$15),2))/5))","v":""},""]
[null,null,null,null,null,null,null,null,null,null,null,null,null,null,null,null,{"$f":"IF(COUNTA(I373:P373)<8,\"\",VLOOKUP(ROUND((LEFT(I373,1)*'Criterios de Riesgo'!$F$8+LEFT(J373,1)*'Criterios de Riesgo'!$F$9+LEFT(K373,1)*'Criterios de Riesgo'!$F$10+LEFT(L373,1)*'Criterios de Riesgo'!$F$11+LEFT(M373,1)*'Criterios de Riesgo'!$F$12+LEFT(N373,1)*'Criterios de Riesgo'!$F$13+LEFT(O373,1)*'Criterios de Riesgo'!$F$14+LEFT(P373,1)*'Criterios de Riesgo'!$F$15),2),Calif_Control,2,1))","v":""},{"$f":"IF(COUNTA(I373:P373)<8,\"\",(ROUND((LEFT(I373,1)*'Criterios de Riesgo'!$F$8+LEFT(J373,1)*'Criterios de Riesgo'!$F$9+LEFT(K373,1)*'Criterios de Riesgo'!$F$10+LEFT(L373,1)*'Criterios de Riesgo'!$F$11+LEFT(M373,1)*'Criterios de Riesgo'!$F$12+LEFT(N373,1)*'Criterios de Riesgo'!$F$13+LEFT(O373,1)*'Criterios de Riesgo'!$F$14+LEFT(P373,1)*'Criterios de Riesgo'!$F$15),2))/5)","v":""},null,null,null,null,{"$f":"IF(COUNTA(S373:V373)<4,\"\",IF(V373=\"No\",\"No se usa\",VLOOKUP(ROUND((LEFT(S373,1)*'Criterios de Riesgo'!$C$13+LEFT(T373,1)*'Criterios de Riesgo'!$C$14+LEFT(U373,1)*'Criterios de Riesgo'!$C$15),2),Calif_Covertura,2,1)))","v":""},{"$f":"IF(COUNTA(S373:V373)<4,\"\",IF(V373=\"No\",0,(ROUND((LEFT(S373,1)*'Criterios de Riesgo'!$C$13+LEFT(T373,1)*'Criterios de Riesgo'!$C$14+LEFT(U373,1)*'Criterios de Riesgo'!$C$15),2))/5))","v":""},""]
[null,null,null,null,null,null,null,null,null,null,null,null,null,null,null,null,{"$f":"IF(COUNTA(I374:P374)<8,\"\",VLOOKUP(ROUND((LEFT(I374,1)*'Criterios de Riesgo'!$F$8+LEFT(J374,1)*'Criterios de Riesgo'!$F$9+LEFT(K374,1)*'Criterios de Riesgo'!$F$10+LEFT(L374,1)*'Criterios de Riesgo'!$F$11+LEFT(M374,1)*'Criterios de Riesgo'!$F$12+LEFT(N374,1)*'Criterios de Riesgo'!$F$13+LEFT(O374,1)*'Criterios de Riesgo'!$F$14+LEFT(P374,1)*'Criterios de Riesgo'!$F$15),2),Calif_Control,2,1))","v":""},{"$f":"IF(COUNTA(I374:P374)<8,\"\",(ROUND((LEFT(I374,1)*'Criterios de Riesgo'!$F$8+LEFT(J374,1)*'Criterios de Riesgo'!$F$9+LEFT(K374,1)*'Criterios de Riesgo'!$F$10+LEFT(L374,1)*'Criterios de Riesgo'!$F$11+LEFT(M374,1)*'Criterios de Riesgo'!$F$12+LEFT(N374,1)*'Criterios de Riesgo'!$F$13+LEFT(O374,1)*'Criterios de Riesgo'!$F$14+LEFT(P374,1)*'Criterios de Riesgo'!$F$15),2))/5)","v":""},null,null,null,null,{"$f":"IF(COUNTA(S374:V374)<4,\"\",IF(V374=\"No\",\"No se usa\",VLOOKUP(ROUND((LEFT(S374,1)*'Criterios de Riesgo'!$C$13+LEFT(T374,1)*'Criterios de Riesgo'!$C$14+LEFT(U374,1)*'Criterios de Riesgo'!$C$15),2),Calif_Covertura,2,1)))","v":""},{"$f":"IF(COUNTA(S374:V374)<4,\"\",IF(V374=\"No\",0,(ROUND((LEFT(S374,1)*'Criterios de Riesgo'!$C$13+LEFT(T374,1)*'Criterios de Riesgo'!$C$14+LEFT(U374,1)*'Criterios de Riesgo'!$C$15),2))/5))","v":""},""]
["R",null,null,null,null,null,null,null,null,null,null,null,null,null,null,null,{"$f":"IF(COUNTA(I375:P375)<8,\"\",VLOOKUP(ROUND((LEFT(I375,1)*'Criterios de Riesgo'!$F$8+LEFT(J375,1)*'Criterios de Riesgo'!$F$9+LEFT(K375,1)*'Criterios de Riesgo'!$F$10+LEFT(L375,1)*'Criterios de Riesgo'!$F$11+LEFT(M375,1)*'Criterios de Riesgo'!$F$12+LEFT(N375,1)*'Criterios de Riesgo'!$F$13+LEFT(O375,1)*'Criterios de Riesgo'!$F$14+LEFT(P375,1)*'Criterios de Riesgo'!$F$15),2),Calif_Control,2,1))","v":""},{"$f":"IF(COUNTA(I375:P375)<8,\"\",(ROUND((LEFT(I375,1)*'Criterios de Riesgo'!$F$8+LEFT(J375,1)*'Criterios de Riesgo'!$F$9+LEFT(K375,1)*'Criterios de Riesgo'!$F$10+LEFT(L375,1)*'Criterios de Riesgo'!$F$11+LEFT(M375,1)*'Criterios de Riesgo'!$F$12+LEFT(N375,1)*'Criterios de Riesgo'!$F$13+LEFT(O375,1)*'Criterios de Riesgo'!$F$14+LEFT(P375,1)*'Criterios de Riesgo'!$F$15),2))/5)","v":""},null,null,null,null,{"$f":"IF(COUNTA(S375:V375)<4,\"\",IF(V375=\"No\",\"No se usa\",VLOOKUP(ROUND((LEFT(S375,1)*'Criterios de Riesgo'!$C$13+LEFT(T375,1)*'Criterios de Riesgo'!$C$14+LEFT(U375,1)*'Criterios de Riesgo'!$C$15),2),Calif_Covertura,2,1)))","v":""},{"$f":"IF(COUNTA(S375:V375)<4,\"\",IF(V375=\"No\",0,(ROUND((LEFT(S375,1)*'Criterios de Riesgo'!$C$13+LEFT(T375,1)*'Criterios de Riesgo'!$C$14+LEFT(U375,1)*'Criterios de Riesgo'!$C$15),2))/5))","v":""},"",null,{"$f":"IF(ISERROR((SUMIF(Z375:Z384,\"=impacto\",Y375:Y384)+SUMIF(Z375:Z384,\"=Ambos\",Y375:Y384))/(COUNTIF(Z375:Z384,\"Impacto\")+COUNTIF(Z375:Z384,\"Ambos\"))),\"\",(SUMIF(Z375:Z384,\"=impacto\",Y375:Y384)+SUMIF(Z375:Z384,\"=Ambos\",Y375:Y384))/(COUNTIF(Z375:Z384,\"Impacto\")+COUNTIF(Z375:Z384,\"Ambos\")))","v":""},{"$f":"IF(ISERROR((SUMIF(Z375:Z384,\"=Probabilidad\",Y375:Y384)+SUMIF(Z375:Z384,\"=Ambos\",Y375:Y384))/(COUNTIF(Z375:Z384,\"Probabilidad\")+COUNTIF(Z375:Z384,\"Ambos\"))),\"\",(SUMIF(Z375:Z384,\"=Probabilidad\",Y375:Y384)+SUMIF(Z375:Z384,\"=Ambos\",Y375:Y384))/(COUNTIF(Z375:Z384,\"Probabilidad\")+COUNTIF(Z375:Z384,\"Ambos\")))","v":""},{"$f":"IF(ISERROR(ROUND(IF(AB375=\"\",AA375,IF(AA375=\"\",AB375,IF(AND(AB375=\"\",AA375=\"\"),\"\",AB375*AA375)))*100,0)/100),\"\",ROUND(IF(AB375=\"\",AA375,IF(AA375=\"\",AB375,IF(AND(AB375=\"\",AA375=\"\"),\"\",AB375*AA375)))*100,0)/100)","v":""},{"$f":"IF(AC375=\"\",\"\",VLOOKUP(AC375*5,Calif_Control,2,1))","v":""}]
[null,null,null,null,null,null,null,null,null,null,null,null,null,null,null,null,{"$f":"IF(COUNTA(I376:P376)<8,\"\",VLOOKUP(ROUND((LEFT(I376,1)*'Criterios de Riesgo'!$F$8+LEFT(J376,1)*'Criterios de Riesgo'!$F$9+LEFT(K376,1)*'Criterios de Riesgo'!$F$10+LEFT(L376,1)*'Criterios de Riesgo'!$F$11+LEFT(M376,1)*'Criterios de Riesgo'!$F$12+LEFT(N376,1)*'Criterios de Riesgo'!$F$13+LEFT(O376,1)*'Criterios de Riesgo'!$F$14+LEFT(P376,1)*'Criterios de Riesgo'!$F$15),2),Calif_Control,2,1))","v":""},{"$f":"IF(COUNTA(I376:P376)<8,\"\",(ROUND((LEFT(I376,1)*'Criterios de Riesgo'!$F$8+LEFT(J376,1)*'Criterios de Riesgo'!$F$9+LEFT(K376,1)*'Criterios de Riesgo'!$F$10+LEFT(L376,1)*'Criterios de Riesgo'!$F$11+LEFT(M376,1)*'Criterios de Riesgo'!$F$12+LEFT(N376,1)*'Criterios de Riesgo'!$F$13+LEFT(O376,1)*'Criterios de Riesgo'!$F$14+LEFT(P376,1)*'Criterios de Riesgo'!$F$15),2))/5)","v":""},null,null,null,null,{"$f":"IF(COUNTA(S376:V376)<4,\"\",IF(V376=\"No\",\"No se usa\",VLOOKUP(ROUND((LEFT(S376,1)*'Criterios de Riesgo'!$C$13+LEFT(T376,1)*'Criterios de Riesgo'!$C$14+LEFT(U376,1)*'Criterios de Riesgo'!$C$15),2),Calif_Covertura,2,1)))","v":""},{"$f":"IF(COUNTA(S376:V376)<4,\"\",IF(V376=\"No\",0,(ROUND((LEFT(S376,1)*'Criterios de Riesgo'!$C$13+LEFT(T376,1)*'Criterios de Riesgo'!$C$14+LEFT(U376,1)*'Criterios de Riesgo'!$C$15),2))/5))","v":""},""]
[null,null,null,null,null,null,null,null,null,null,null,null,null,null,null,null,{"$f":"IF(COUNTA(I377:P377)<8,\"\",VLOOKUP(ROUND((LEFT(I377,1)*'Criterios de Riesgo'!$F$8+LEFT(J377,1)*'Criterios de Riesgo'!$F$9+LEFT(K377,1)*'Criterios de Riesgo'!$F$10+LEFT(L377,1)*'Criterios de Riesgo'!$F$11+LEFT(M377,1)*'Criterios de Riesgo'!$F$12+LEFT(N377,1)*'Criterios de Riesgo'!$F$13+LEFT(O377,1)*'Criterios de Riesgo'!$F$14+LEFT(P377,1)*'Criterios de Riesgo'!$F$15),2),Calif_Control,2,1))","v":""},{"$f":"IF(COUNTA(I377:P377)<8,\"\",(ROUND((LEFT(I377,1)*'Criterios de Riesgo'!$F$8+LEFT(J377,1)*'Criterios de Riesgo'!$F$9+LEFT(K377,1)*'Criterios de Riesgo'!$F$10+LEFT(L377,1)*'Criterios de Riesgo'!$F$11+LEFT(M377,1)*'Criterios de Riesgo'!$F$12+LEFT(N377,1)*'Criterios de Riesgo'!$F$13+LEFT(O377,1)*'Criterios de Riesgo'!$F$14+LEFT(P377,1)*'Criterios de Riesgo'!$F$15),2))/5)","v":""},null,null,null,null,{"$f":"IF(COUNTA(S377:V377)<4,\"\",IF(V377=\"No\",\"No se usa\",VLOOKUP(ROUND((LEFT(S377,1)*'Criterios de Riesgo'!$C$13+LEFT(T377,1)*'Criterios de Riesgo'!$C$14+LEFT(U377,1)*'Criterios de Riesgo'!$C$15),2),Calif_Covertura,2,1)))","v":""},{"$f":"IF(COUNTA(S377:V377)<4,\"\",IF(V377=\"No\",0,(ROUND((LEFT(S377,1)*'Criterios de Riesgo'!$C$13+LEFT(T377,1)*'Criterios de Riesgo'!$C$14+LEFT(U377,1)*'Criterios de Riesgo'!$C$15),2))/5))","v":""},""]
[null,null,null,null,null,null,null,null,null,null,null,null,null,null,null,null,{"$f":"IF(COUNTA(I378:P378)<8,\"\",VLOOKUP(ROUND((LEFT(I378,1)*'Criterios de Riesgo'!$F$8+LEFT(J378,1)*'Criterios de Riesgo'!$F$9+LEFT(K378,1)*'Criterios de Riesgo'!$F$10+LEFT(L378,1)*'Criterios de Riesgo'!$F$11+LEFT(M378,1)*'Criterios de Riesgo'!$F$12+LEFT(N378,1)*'Criterios de Riesgo'!$F$13+LEFT(O378,1)*'Criterios de Riesgo'!$F$14+LEFT(P378,1)*'Criterios de Riesgo'!$F$15),2),Calif_Control,2,1))","v":""},{"$f":"IF(COUNTA(I378:P378)<8,\"\",(ROUND((LEFT(I378,1)*'Criterios de Riesgo'!$F$8+LEFT(J378,1)*'Criterios de Riesgo'!$F$9+LEFT(K378,1)*'Criterios de Riesgo'!$F$10+LEFT(L378,1)*'Criterios de Riesgo'!$F$11+LEFT(M378,1)*'Criterios de Riesgo'!$F$12+LEFT(N378,1)*'Criterios de Riesgo'!$F$13+LEFT(O378,1)*'Criterios de Riesgo'!$F$14+LEFT(P378,1)*'Criterios de Riesgo'!$F$15),2))/5)","v":""},null,null,null,null,{"$f":"IF(COUNTA(S378:V378)<4,\"\",IF(V378=\"No\",\"No se usa\",VLOOKUP(ROUND((LEFT(S378,1)*'Criterios de Riesgo'!$C$13+LEFT(T378,1)*'Criterios de Riesgo'!$C$14+LEFT(U378,1)*'Criterios de Riesgo'!$C$15),2),Calif_Covertura,2,1)))","v":""},{"$f":"IF(COUNTA(S378:V378)<4,\"\",IF(V378=\"No\",0,(ROUND((LEFT(S378,1)*'Criterios de Riesgo'!$C$13+LEFT(T378,1)*'Criterios de Riesgo'!$C$14+LEFT(U378,1)*'Criterios de Riesgo'!$C$15),2))/5))","v":""},""]
[null,null,null,null,null,null,null,null,null,null,null,null,null,null,null,null,{"$f":"IF(COUNTA(I379:P379)<8,\"\",VLOOKUP(ROUND((LEFT(I379,1)*'Criterios de Riesgo'!$F$8+LEFT(J379,1)*'Criterios de Riesgo'!$F$9+LEFT(K379,1)*'Criterios de Riesgo'!$F$10+LEFT(L379,1)*'Criterios de Riesgo'!$F$11+LEFT(M379,1)*'Criterios de Riesgo'!$F$12+LEFT(N379,1)*'Criterios de Riesgo'!$F$13+LEFT(O379,1)*'Criterios de Riesgo'!$F$14+LEFT(P379,1)*'Criterios de Riesgo'!$F$15),2),Calif_Control,2,1))","v":""},{"$f":"IF(COUNTA(I379:P379)<8,\"\",(ROUND((LEFT(I379,1)*'Criterios de Riesgo'!$F$8+LEFT(J379,1)*'Criterios de Riesgo'!$F$9+LEFT(K379,1)*'Criterios de Riesgo'!$F$10+LEFT(L379,1)*'Criterios de Riesgo'!$F$11+LEFT(M379,1)*'Criterios de Riesgo'!$F$12+LEFT(N379,1)*'Criterios de Riesgo'!$F$13+LEFT(O379,1)*'Criterios de Riesgo'!$F$14+LEFT(P379,1)*'Criterios de Riesgo'!$F$15),2))/5)","v":""},null,null,null,null,{"$f":"IF(COUNTA(S379:V379)<4,\"\",IF(V379=\"No\",\"No se usa\",VLOOKUP(ROUND((LEFT(S379,1)*'Criterios de Riesgo'!$C$13+LEFT(T379,1)*'Criterios de Riesgo'!$C$14+LEFT(U379,1)*'Criterios de Riesgo'!$C$15),2),Calif_Covertura,2,1)))","v":""},{"$f":"IF(COUNTA(S379:V379)<4,\"\",IF(V379=\"No\",0,(ROUND((LEFT(S379,1)*'Criterios de Riesgo'!$C$13+LEFT(T379,1)*'Criterios de Riesgo'!$C$14+LEFT(U379,1)*'Criterios de Riesgo'!$C$15),2))/5))","v":""},""]
[null,null,null,null,null,null,null,null,null,null,null,null,null,null,null,null,{"$f":"IF(COUNTA(I380:P380)<8,\"\",VLOOKUP(ROUND((LEFT(I380,1)*'Criterios de Riesgo'!$F$8+LEFT(J380,1)*'Criterios de Riesgo'!$F$9+LEFT(K380,1)*'Criterios de Riesgo'!$F$10+LEFT(L380,1)*'Criterios de Riesgo'!$F$11+LEFT(M380,1)*'Criterios de Riesgo'!$F$12+LEFT(N380,1)*'Criterios de Riesgo'!$F$13+LEFT(O380,1)*'Criterios de Riesgo'!$F$14+LEFT(P380,1)*'Criterios de Riesgo'!$F$15),2),Calif_Control,2,1))","v":""},{"$f":"IF(COUNTA(I380:P380)<8,\"\",(ROUND((LEFT(I380,1)*'Criterios de Riesgo'!$F$8+LEFT(J380,1)*'Criterios de Riesgo'!$F$9+LEFT(K380,1)*'Criterios de Riesgo'!$F$10+LEFT(L380,1)*'Criterios de Riesgo'!$F$11+LEFT(M380,1)*'Criterios de Riesgo'!$F$12+LEFT(N380,1)*'Criterios de Riesgo'!$F$13+LEFT(O380,1)*'Criterios de Riesgo'!$F$14+LEFT(P380,1)*'Criterios de Riesgo'!$F$15),2))/5)","v":""},null,null,null,null,{"$f":"IF(COUNTA(S380:V380)<4,\"\",IF(V380=\"No\",\"No se usa\",VLOOKUP(ROUND((LEFT(S380,1)*'Criterios de Riesgo'!$C$13+LEFT(T380,1)*'Criterios de Riesgo'!$C$14+LEFT(U380,1)*'Criterios de Riesgo'!$C$15),2),Calif_Covertura,2,1)))","v":""},{"$f":"IF(COUNTA(S380:V380)<4,\"\",IF(V380=\"No\",0,(ROUND((LEFT(S380,1)*'Criterios de Riesgo'!$C$13+LEFT(T380,1)*'Criterios de Riesgo'!$C$14+LEFT(U380,1)*'Criterios de Riesgo'!$C$15),2))/5))","v":""},""]
[null,null,null,null,null,null,null,null,null,null,null,null,null,null,null,null,{"$f":"IF(COUNTA(I381:P381)<8,\"\",VLOOKUP(ROUND((LEFT(I381,1)*'Criterios de Riesgo'!$F$8+LEFT(J381,1)*'Criterios de Riesgo'!$F$9+LEFT(K381,1)*'Criterios de Riesgo'!$F$10+LEFT(L381,1)*'Criterios de Riesgo'!$F$11+LEFT(M381,1)*'Criterios de Riesgo'!$F$12+LEFT(N381,1)*'Criterios de Riesgo'!$F$13+LEFT(O381,1)*'Criterios de Riesgo'!$F$14+LEFT(P381,1)*'Criterios de Riesgo'!$F$15),2),Calif_Control,2,1))","v":""},{"$f":"IF(COUNTA(I381:P381)<8,\"\",(ROUND((LEFT(I381,1)*'Criterios de Riesgo'!$F$8+LEFT(J381,1)*'Criterios de Riesgo'!$F$9+LEFT(K381,1)*'Criterios de Riesgo'!$F$10+LEFT(L381,1)*'Criterios de Riesgo'!$F$11+LEFT(M381,1)*'Criterios de Riesgo'!$F$12+LEFT(N381,1)*'Criterios de Riesgo'!$F$13+LEFT(O381,1)*'Criterios de Riesgo'!$F$14+LEFT(P381,1)*'Criterios de Riesgo'!$F$15),2))/5)","v":""},null,null,null,null,{"$f":"IF(COUNTA(S381:V381)<4,\"\",IF(V381=\"No\",\"No se usa\",VLOOKUP(ROUND((LEFT(S381,1)*'Criterios de Riesgo'!$C$13+LEFT(T381,1)*'Criterios de Riesgo'!$C$14+LEFT(U381,1)*'Criterios de Riesgo'!$C$15),2),Calif_Covertura,2,1)))","v":""},{"$f":"IF(COUNTA(S381:V381)<4,\"\",IF(V381=\"No\",0,(ROUND((LEFT(S381,1)*'Criterios de Riesgo'!$C$13+LEFT(T381,1)*'Criterios de Riesgo'!$C$14+LEFT(U381,1)*'Criterios de Riesgo'!$C$15),2))/5))","v":""},""]
[null,null,null,null,null,null,null,null,null,null,null,null,null,null,null,null,{"$f":"IF(COUNTA(I382:P382)<8,\"\",VLOOKUP(ROUND((LEFT(I382,1)*'Criterios de Riesgo'!$F$8+LEFT(J382,1)*'Criterios de Riesgo'!$F$9+LEFT(K382,1)*'Criterios de Riesgo'!$F$10+LEFT(L382,1)*'Criterios de Riesgo'!$F$11+LEFT(M382,1)*'Criterios de Riesgo'!$F$12+LEFT(N382,1)*'Criterios de Riesgo'!$F$13+LEFT(O382,1)*'Criterios de Riesgo'!$F$14+LEFT(P382,1)*'Criterios de Riesgo'!$F$15),2),Calif_Control,2,1))","v":""},{"$f":"IF(COUNTA(I382:P382)<8,\"\",(ROUND((LEFT(I382,1)*'Criterios de Riesgo'!$F$8+LEFT(J382,1)*'Criterios de Riesgo'!$F$9+LEFT(K382,1)*'Criterios de Riesgo'!$F$10+LEFT(L382,1)*'Criterios de Riesgo'!$F$11+LEFT(M382,1)*'Criterios de Riesgo'!$F$12+LEFT(N382,1)*'Criterios de Riesgo'!$F$13+LEFT(O382,1)*'Criterios de Riesgo'!$F$14+LEFT(P382,1)*'Criterios de Riesgo'!$F$15),2))/5)","v":""},null,null,null,null,{"$f":"IF(COUNTA(S382:V382)<4,\"\",IF(V382=\"No\",\"No se usa\",VLOOKUP(ROUND((LEFT(S382,1)*'Criterios de Riesgo'!$C$13+LEFT(T382,1)*'Criterios de Riesgo'!$C$14+LEFT(U382,1)*'Criterios de Riesgo'!$C$15),2),Calif_Covertura,2,1)))","v":""},{"$f":"IF(COUNTA(S382:V382)<4,\"\",IF(V382=\"No\",0,(ROUND((LEFT(S382,1)*'Criterios de Riesgo'!$C$13+LEFT(T382,1)*'Criterios de Riesgo'!$C$14+LEFT(U382,1)*'Criterios de Riesgo'!$C$15),2))/5))","v":""},""]
[null,null,null,null,null,null,null,null,null,null,null,null,null,null,null,null,{"$f":"IF(COUNTA(I383:P383)<8,\"\",VLOOKUP(ROUND((LEFT(I383,1)*'Criterios de Riesgo'!$F$8+LEFT(J383,1)*'Criterios de Riesgo'!$F$9+LEFT(K383,1)*'Criterios de Riesgo'!$F$10+LEFT(L383,1)*'Criterios de Riesgo'!$F$11+LEFT(M383,1)*'Criterios de Riesgo'!$F$12+LEFT(N383,1)*'Criterios de Riesgo'!$F$13+LEFT(O383,1)*'Criterios de Riesgo'!$F$14+LEFT(P383,1)*'Criterios de Riesgo'!$F$15),2),Calif_Control,2,1))","v":""},{"$f":"IF(COUNTA(I383:P383)<8,\"\",(ROUND((LEFT(I383,1)*'Criterios de Riesgo'!$F$8+LEFT(J383,1)*'Criterios de Riesgo'!$F$9+LEFT(K383,1)*'Criterios de Riesgo'!$F$10+LEFT(L383,1)*'Criterios de Riesgo'!$F$11+LEFT(M383,1)*'Criterios de Riesgo'!$F$12+LEFT(N383,1)*'Criterios de Riesgo'!$F$13+LEFT(O383,1)*'Criterios de Riesgo'!$F$14+LEFT(P383,1)*'Criterios de Riesgo'!$F$15),2))/5)","v":""},null,null,null,null,{"$f":"IF(COUNTA(S383:V383)<4,\"\",IF(V383=\"No\",\"No se usa\",VLOOKUP(ROUND((LEFT(S383,1)*'Criterios de Riesgo'!$C$13+LEFT(T383,1)*'Criterios de Riesgo'!$C$14+LEFT(U383,1)*'Criterios de Riesgo'!$C$15),2),Calif_Covertura,2,1)))","v":""},{"$f":"IF(COUNTA(S383:V383)<4,\"\",IF(V383=\"No\",0,(ROUND((LEFT(S383,1)*'Criterios de Riesgo'!$C$13+LEFT(T383,1)*'Criterios de Riesgo'!$C$14+LEFT(U383,1)*'Criterios de Riesgo'!$C$15),2))/5))","v":""},""]
[null,null,null,null,null,null,null,null,null,null,null,null,null,null,null,null,{"$f":"IF(COUNTA(I384:P384)<8,\"\",VLOOKUP(ROUND((LEFT(I384,1)*'Criterios de Riesgo'!$F$8+LEFT(J384,1)*'Criterios de Riesgo'!$F$9+LEFT(K384,1)*'Criterios de Riesgo'!$F$10+LEFT(L384,1)*'Criterios de Riesgo'!$F$11+LEFT(M384,1)*'Criterios de Riesgo'!$F$12+LEFT(N384,1)*'Criterios de Riesgo'!$F$13+LEFT(O384,1)*'Criterios de Riesgo'!$F$14+LEFT(P384,1)*'Criterios de Riesgo'!$F$15),2),Calif_Control,2,1))","v":""},{"$f":"IF(COUNTA(I384:P384)<8,\"\",(ROUND((LEFT(I384,1)*'Criterios de Riesgo'!$F$8+LEFT(J384,1)*'Criterios de Riesgo'!$F$9+LEFT(K384,1)*'Criterios de Riesgo'!$F$10+LEFT(L384,1)*'Criterios de Riesgo'!$F$11+LEFT(M384,1)*'Criterios de Riesgo'!$F$12+LEFT(N384,1)*'Criterios de Riesgo'!$F$13+LEFT(O384,1)*'Criterios de Riesgo'!$F$14+LEFT(P384,1)*'Criterios de Riesgo'!$F$15),2))/5)","v":""},null,null,null,null,{"$f":"IF(COUNTA(S384:V384)<4,\"\",IF(V384=\"No\",\"No se usa\",VLOOKUP(ROUND((LEFT(S384,1)*'Criterios de Riesgo'!$C$13+LEFT(T384,1)*'Criterios de Riesgo'!$C$14+LEFT(U384,1)*'Criterios de Riesgo'!$C$15),2),Calif_Covertura,2,1)))","v":""},{"$f":"IF(COUNTA(S384:V384)<4,\"\",IF(V384=\"No\",0,(ROUND((LEFT(S384,1)*'Criterios de Riesgo'!$C$13+LEFT(T384,1)*'Criterios de Riesgo'!$C$14+LEFT(U384,1)*'Criterios de Riesgo'!$C$15),2))/5))","v":""},""]
["R",null,null,null,null,null,null,null,null,null,null,null,null,null,null,null,{"$f":"IF(COUNTA(I385:P385)<8,\"\",VLOOKUP(ROUND((LEFT(I385,1)*'Criterios de Riesgo'!$F$8+LEFT(J385,1)*'Criterios de Riesgo'!$F$9+LEFT(K385,1)*'Criterios de Riesgo'!$F$10+LEFT(L385,1)*'Criterios de Riesgo'!$F$11+LEFT(M385,1)*'Criterios de Riesgo'!$F$12+LEFT(N385,1)*'Criterios de Riesgo'!$F$13+LEFT(O385,1)*'Criterios de Riesgo'!$F$14+LEFT(P385,1)*'Criterios de Riesgo'!$F$15),2),Calif_Control,2,1))","v":""},{"$f":"IF(COUNTA(I385:P385)<8,\"\",(ROUND((LEFT(I385,1)*'Criterios de Riesgo'!$F$8+LEFT(J385,1)*'Criterios de Riesgo'!$F$9+LEFT(K385,1)*'Criterios de Riesgo'!$F$10+LEFT(L385,1)*'Criterios de Riesgo'!$F$11+LEFT(M385,1)*'Criterios de Riesgo'!$F$12+LEFT(N385,1)*'Criterios de Riesgo'!$F$13+LEFT(O385,1)*'Criterios de Riesgo'!$F$14+LEFT(P385,1)*'Criterios de Riesgo'!$F$15),2))/5)","v":""},null,null,null,null,{"$f":"IF(COUNTA(S385:V385)<4,\"\",IF(V385=\"No\",\"No se usa\",VLOOKUP(ROUND((LEFT(S385,1)*'Criterios de Riesgo'!$C$13+LEFT(T385,1)*'Criterios de Riesgo'!$C$14+LEFT(U385,1)*'Criterios de Riesgo'!$C$15),2),Calif_Covertura,2,1)))","v":""},{"$f":"IF(COUNTA(S385:V385)<4,\"\",IF(V385=\"No\",0,(ROUND((LEFT(S385,1)*'Criterios de Riesgo'!$C$13+LEFT(T385,1)*'Criterios de Riesgo'!$C$14+LEFT(U385,1)*'Criterios de Riesgo'!$C$15),2))/5))","v":""},"",null,{"$f":"IF(ISERROR((SUMIF(Z385:Z394,\"=impacto\",Y385:Y394)+SUMIF(Z385:Z394,\"=Ambos\",Y385:Y394))/(COUNTIF(Z385:Z394,\"Impacto\")+COUNTIF(Z385:Z394,\"Ambos\"))),\"\",(SUMIF(Z385:Z394,\"=impacto\",Y385:Y394)+SUMIF(Z385:Z394,\"=Ambos\",Y385:Y394))/(COUNTIF(Z385:Z394,\"Impacto\")+COUNTIF(Z385:Z394,\"Ambos\")))","v":""},{"$f":"IF(ISERROR((SUMIF(Z385:Z394,\"=Probabilidad\",Y385:Y394)+SUMIF(Z385:Z394,\"=Ambos\",Y385:Y394))/(COUNTIF(Z385:Z394,\"Probabilidad\")+COUNTIF(Z385:Z394,\"Ambos\"))),\"\",(SUMIF(Z385:Z394,\"=Probabilidad\",Y385:Y394)+SUMIF(Z385:Z394,\"=Ambos\",Y385:Y394))/(COUNTIF(Z385:Z394,\"Probabilidad\")+COUNTIF(Z385:Z394,\"Ambos\")))","v":""},{"$f":"IF(ISERROR(ROUND(IF(AB385=\"\",AA385,IF(AA385=\"\",AB385,IF(AND(AB385=\"\",AA385=\"\"),\"\",AB385*AA385)))*100,0)/100),\"\",ROUND(IF(AB385=\"\",AA385,IF(AA385=\"\",AB385,IF(AND(AB385=\"\",AA385=\"\"),\"\",AB385*AA385)))*100,0)/100)","v":""},{"$f":"IF(AC385=\"\",\"\",VLOOKUP(AC385*5,Calif_Control,2,1))","v":""}]
[null,null,null,null,null,null,null,null,null,null,null,null,null,null,null,null,{"$f":"IF(COUNTA(I386:P386)<8,\"\",VLOOKUP(ROUND((LEFT(I386,1)*'Criterios de Riesgo'!$F$8+LEFT(J386,1)*'Criterios de Riesgo'!$F$9+LEFT(K386,1)*'Criterios de Riesgo'!$F$10+LEFT(L386,1)*'Criterios de Riesgo'!$F$11+LEFT(M386,1)*'Criterios de Riesgo'!$F$12+LEFT(N386,1)*'Criterios de Riesgo'!$F$13+LEFT(O386,1)*'Criterios de Riesgo'!$F$14+LEFT(P386,1)*'Criterios de Riesgo'!$F$15),2),Calif_Control,2,1))","v":""},{"$f":"IF(COUNTA(I386:P386)<8,\"\",(ROUND((LEFT(I386,1)*'Criterios de Riesgo'!$F$8+LEFT(J386,1)*'Criterios de Riesgo'!$F$9+LEFT(K386,1)*'Criterios de Riesgo'!$F$10+LEFT(L386,1)*'Criterios de Riesgo'!$F$11+LEFT(M386,1)*'Criterios de Riesgo'!$F$12+LEFT(N386,1)*'Criterios de Riesgo'!$F$13+LEFT(O386,1)*'Criterios de Riesgo'!$F$14+LEFT(P386,1)*'Criterios de Riesgo'!$F$15),2))/5)","v":""},null,null,null,null,{"$f":"IF(COUNTA(S386:V386)<4,\"\",IF(V386=\"No\",\"No se usa\",VLOOKUP(ROUND((LEFT(S386,1)*'Criterios de Riesgo'!$C$13+LEFT(T386,1)*'Criterios de Riesgo'!$C$14+LEFT(U386,1)*'Criterios de Riesgo'!$C$15),2),Calif_Covertura,2,1)))","v":""},{"$f":"IF(COUNTA(S386:V386)<4,\"\",IF(V386=\"No\",0,(ROUND((LEFT(S386,1)*'Criterios de Riesgo'!$C$13+LEFT(T386,1)*'Criterios de Riesgo'!$C$14+LEFT(U386,1)*'Criterios de Riesgo'!$C$15),2))/5))","v":""},""]
[null,null,null,null,null,null,null,null,null,null,null,null,null,null,null,null,{"$f":"IF(COUNTA(I387:P387)<8,\"\",VLOOKUP(ROUND((LEFT(I387,1)*'Criterios de Riesgo'!$F$8+LEFT(J387,1)*'Criterios de Riesgo'!$F$9+LEFT(K387,1)*'Criterios de Riesgo'!$F$10+LEFT(L387,1)*'Criterios de Riesgo'!$F$11+LEFT(M387,1)*'Criterios de Riesgo'!$F$12+LEFT(N387,1)*'Criterios de Riesgo'!$F$13+LEFT(O387,1)*'Criterios de Riesgo'!$F$14+LEFT(P387,1)*'Criterios de Riesgo'!$F$15),2),Calif_Control,2,1))","v":""},{"$f":"IF(COUNTA(I387:P387)<8,\"\",(ROUND((LEFT(I387,1)*'Criterios de Riesgo'!$F$8+LEFT(J387,1)*'Criterios de Riesgo'!$F$9+LEFT(K387,1)*'Criterios de Riesgo'!$F$10+LEFT(L387,1)*'Criterios de Riesgo'!$F$11+LEFT(M387,1)*'Criterios de Riesgo'!$F$12+LEFT(N387,1)*'Criterios de Riesgo'!$F$13+LEFT(O387,1)*'Criterios de Riesgo'!$F$14+LEFT(P387,1)*'Criterios de Riesgo'!$F$15),2))/5)","v":""},null,null,null,null,{"$f":"IF(COUNTA(S387:V387)<4,\"\",IF(V387=\"No\",\"No se usa\",VLOOKUP(ROUND((LEFT(S387,1)*'Criterios de Riesgo'!$C$13+LEFT(T387,1)*'Criterios de Riesgo'!$C$14+LEFT(U387,1)*'Criterios de Riesgo'!$C$15),2),Calif_Covertura,2,1)))","v":""},{"$f":"IF(COUNTA(S387:V387)<4,\"\",IF(V387=\"No\",0,(ROUND((LEFT(S387,1)*'Criterios de Riesgo'!$C$13+LEFT(T387,1)*'Criterios de Riesgo'!$C$14+LEFT(U387,1)*'Criterios de Riesgo'!$C$15),2))/5))","v":""},""]
[null,null,null,null,null,null,null,null,null,null,null,null,null,null,null,null,{"$f":"IF(COUNTA(I388:P388)<8,\"\",VLOOKUP(ROUND((LEFT(I388,1)*'Criterios de Riesgo'!$F$8+LEFT(J388,1)*'Criterios de Riesgo'!$F$9+LEFT(K388,1)*'Criterios de Riesgo'!$F$10+LEFT(L388,1)*'Criterios de Riesgo'!$F$11+LEFT(M388,1)*'Criterios de Riesgo'!$F$12+LEFT(N388,1)*'Criterios de Riesgo'!$F$13+LEFT(O388,1)*'Criterios de Riesgo'!$F$14+LEFT(P388,1)*'Criterios de Riesgo'!$F$15),2),Calif_Control,2,1))","v":""},{"$f":"IF(COUNTA(I388:P388)<8,\"\",(ROUND((LEFT(I388,1)*'Criterios de Riesgo'!$F$8+LEFT(J388,1)*'Criterios de Riesgo'!$F$9+LEFT(K388,1)*'Criterios de Riesgo'!$F$10+LEFT(L388,1)*'Criterios de Riesgo'!$F$11+LEFT(M388,1)*'Criterios de Riesgo'!$F$12+LEFT(N388,1)*'Criterios de Riesgo'!$F$13+LEFT(O388,1)*'Criterios de Riesgo'!$F$14+LEFT(P388,1)*'Criterios de Riesgo'!$F$15),2))/5)","v":""},null,null,null,null,{"$f":"IF(COUNTA(S388:V388)<4,\"\",IF(V388=\"No\",\"No se usa\",VLOOKUP(ROUND((LEFT(S388,1)*'Criterios de Riesgo'!$C$13+LEFT(T388,1)*'Criterios de Riesgo'!$C$14+LEFT(U388,1)*'Criterios de Riesgo'!$C$15),2),Calif_Covertura,2,1)))","v":""},{"$f":"IF(COUNTA(S388:V388)<4,\"\",IF(V388=\"No\",0,(ROUND((LEFT(S388,1)*'Criterios de Riesgo'!$C$13+LEFT(T388,1)*'Criterios de Riesgo'!$C$14+LEFT(U388,1)*'Criterios de Riesgo'!$C$15),2))/5))","v":""},""]
[null,null,null,null,null,null,null,null,null,null,null,null,null,null,null,null,{"$f":"IF(COUNTA(I389:P389)<8,\"\",VLOOKUP(ROUND((LEFT(I389,1)*'Criterios de Riesgo'!$F$8+LEFT(J389,1)*'Criterios de Riesgo'!$F$9+LEFT(K389,1)*'Criterios de Riesgo'!$F$10+LEFT(L389,1)*'Criterios de Riesgo'!$F$11+LEFT(M389,1)*'Criterios de Riesgo'!$F$12+LEFT(N389,1)*'Criterios de Riesgo'!$F$13+LEFT(O389,1)*'Criterios de Riesgo'!$F$14+LEFT(P389,1)*'Criterios de Riesgo'!$F$15),2),Calif_Control,2,1))","v":""},{"$f":"IF(COUNTA(I389:P389)<8,\"\",(ROUND((LEFT(I389,1)*'Criterios de Riesgo'!$F$8+LEFT(J389,1)*'Criterios de Riesgo'!$F$9+LEFT(K389,1)*'Criterios de Riesgo'!$F$10+LEFT(L389,1)*'Criterios de Riesgo'!$F$11+LEFT(M389,1)*'Criterios de Riesgo'!$F$12+LEFT(N389,1)*'Criterios de Riesgo'!$F$13+LEFT(O389,1)*'Criterios de Riesgo'!$F$14+LEFT(P389,1)*'Criterios de Riesgo'!$F$15),2))/5)","v":""},null,null,null,null,{"$f":"IF(COUNTA(S389:V389)<4,\"\",IF(V389=\"No\",\"No se usa\",VLOOKUP(ROUND((LEFT(S389,1)*'Criterios de Riesgo'!$C$13+LEFT(T389,1)*'Criterios de Riesgo'!$C$14+LEFT(U389,1)*'Criterios de Riesgo'!$C$15),2),Calif_Covertura,2,1)))","v":""},{"$f":"IF(COUNTA(S389:V389)<4,\"\",IF(V389=\"No\",0,(ROUND((LEFT(S389,1)*'Criterios de Riesgo'!$C$13+LEFT(T389,1)*'Criterios de Riesgo'!$C$14+LEFT(U389,1)*'Criterios de Riesgo'!$C$15),2))/5))","v":""},""]
[null,null,null,null,null,null,null,null,null,null,null,null,null,null,null,null,{"$f":"IF(COUNTA(I390:P390)<8,\"\",VLOOKUP(ROUND((LEFT(I390,1)*'Criterios de Riesgo'!$F$8+LEFT(J390,1)*'Criterios de Riesgo'!$F$9+LEFT(K390,1)*'Criterios de Riesgo'!$F$10+LEFT(L390,1)*'Criterios de Riesgo'!$F$11+LEFT(M390,1)*'Criterios de Riesgo'!$F$12+LEFT(N390,1)*'Criterios de Riesgo'!$F$13+LEFT(O390,1)*'Criterios de Riesgo'!$F$14+LEFT(P390,1)*'Criterios de Riesgo'!$F$15),2),Calif_Control,2,1))","v":""},{"$f":"IF(COUNTA(I390:P390)<8,\"\",(ROUND((LEFT(I390,1)*'Criterios de Riesgo'!$F$8+LEFT(J390,1)*'Criterios de Riesgo'!$F$9+LEFT(K390,1)*'Criterios de Riesgo'!$F$10+LEFT(L390,1)*'Criterios de Riesgo'!$F$11+LEFT(M390,1)*'Criterios de Riesgo'!$F$12+LEFT(N390,1)*'Criterios de Riesgo'!$F$13+LEFT(O390,1)*'Criterios de Riesgo'!$F$14+LEFT(P390,1)*'Criterios de Riesgo'!$F$15),2))/5)","v":""},null,null,null,null,{"$f":"IF(COUNTA(S390:V390)<4,\"\",IF(V390=\"No\",\"No se usa\",VLOOKUP(ROUND((LEFT(S390,1)*'Criterios de Riesgo'!$C$13+LEFT(T390,1)*'Criterios de Riesgo'!$C$14+LEFT(U390,1)*'Criterios de Riesgo'!$C$15),2),Calif_Covertura,2,1)))","v":""},{"$f":"IF(COUNTA(S390:V390)<4,\"\",IF(V390=\"No\",0,(ROUND((LEFT(S390,1)*'Criterios de Riesgo'!$C$13+LEFT(T390,1)*'Criterios de Riesgo'!$C$14+LEFT(U390,1)*'Criterios de Riesgo'!$C$15),2))/5))","v":""},{"$f":"IF(ISERROR(R390*X390),\"\",R390*X390)","v":""}]
[null,null,null,null,null,null,null,null,null,null,null,null,null,null,null,null,{"$f":"IF(COUNTA(I391:P391)<8,\"\",VLOOKUP(ROUND((LEFT(I391,1)*'Criterios de Riesgo'!$F$8+LEFT(J391,1)*'Criterios de Riesgo'!$F$9+LEFT(K391,1)*'Criterios de Riesgo'!$F$10+LEFT(L391,1)*'Criterios de Riesgo'!$F$11+LEFT(M391,1)*'Criterios de Riesgo'!$F$12+LEFT(N391,1)*'Criterios de Riesgo'!$F$13+LEFT(O391,1)*'Criterios de Riesgo'!$F$14+LEFT(P391,1)*'Criterios de Riesgo'!$F$15),2),Calif_Control,2,1))","v":""},{"$f":"IF(COUNTA(I391:P391)<8,\"\",(ROUND((LEFT(I391,1)*'Criterios de Riesgo'!$F$8+LEFT(J391,1)*'Criterios de Riesgo'!$F$9+LEFT(K391,1)*'Criterios de Riesgo'!$F$10+LEFT(L391,1)*'Criterios de Riesgo'!$F$11+LEFT(M391,1)*'Criterios de Riesgo'!$F$12+LEFT(N391,1)*'Criterios de Riesgo'!$F$13+LEFT(O391,1)*'Criterios de Riesgo'!$F$14+LEFT(P391,1)*'Criterios de Riesgo'!$F$15),2))/5)","v":""},null,null,null,null,{"$f":"IF(COUNTA(S391:V391)<4,\"\",IF(V391=\"No\",\"No se usa\",VLOOKUP(ROUND((LEFT(S391,1)*'Criterios de Riesgo'!$C$13+LEFT(T391,1)*'Criterios de Riesgo'!$C$14+LEFT(U391,1)*'Criterios de Riesgo'!$C$15),2),Calif_Covertura,2,1)))","v":""},{"$f":"IF(COUNTA(S391:V391)<4,\"\",IF(V391=\"No\",0,(ROUND((LEFT(S391,1)*'Criterios de Riesgo'!$C$13+LEFT(T391,1)*'Criterios de Riesgo'!$C$14+LEFT(U391,1)*'Criterios de Riesgo'!$C$15),2))/5))","v":""},""]
[null,null,null,null,null,null,null,null,null,null,null,null,null,null,null,null,{"$f":"IF(COUNTA(I392:P392)<8,\"\",VLOOKUP(ROUND((LEFT(I392,1)*'Criterios de Riesgo'!$F$8+LEFT(J392,1)*'Criterios de Riesgo'!$F$9+LEFT(K392,1)*'Criterios de Riesgo'!$F$10+LEFT(L392,1)*'Criterios de Riesgo'!$F$11+LEFT(M392,1)*'Criterios de Riesgo'!$F$12+LEFT(N392,1)*'Criterios de Riesgo'!$F$13+LEFT(O392,1)*'Criterios de Riesgo'!$F$14+LEFT(P392,1)*'Criterios de Riesgo'!$F$15),2),Calif_Control,2,1))","v":""},{"$f":"IF(COUNTA(I392:P392)<8,\"\",(ROUND((LEFT(I392,1)*'Criterios de Riesgo'!$F$8+LEFT(J392,1)*'Criterios de Riesgo'!$F$9+LEFT(K392,1)*'Criterios de Riesgo'!$F$10+LEFT(L392,1)*'Criterios de Riesgo'!$F$11+LEFT(M392,1)*'Criterios de Riesgo'!$F$12+LEFT(N392,1)*'Criterios de Riesgo'!$F$13+LEFT(O392,1)*'Criterios de Riesgo'!$F$14+LEFT(P392,1)*'Criterios de Riesgo'!$F$15),2))/5)","v":""},null,null,null,null,{"$f":"IF(COUNTA(S392:V392)<4,\"\",IF(V392=\"No\",\"No se usa\",VLOOKUP(ROUND((LEFT(S392,1)*'Criterios de Riesgo'!$C$13+LEFT(T392,1)*'Criterios de Riesgo'!$C$14+LEFT(U392,1)*'Criterios de Riesgo'!$C$15),2),Calif_Covertura,2,1)))","v":""},{"$f":"IF(COUNTA(S392:V392)<4,\"\",IF(V392=\"No\",0,(ROUND((LEFT(S392,1)*'Criterios de Riesgo'!$C$13+LEFT(T392,1)*'Criterios de Riesgo'!$C$14+LEFT(U392,1)*'Criterios de Riesgo'!$C$15),2))/5))","v":""},""]
[null,null,null,null,null,null,null,null,null,null,null,null,null,null,null,null,{"$f":"IF(COUNTA(I393:P393)<8,\"\",VLOOKUP(ROUND((LEFT(I393,1)*'Criterios de Riesgo'!$F$8+LEFT(J393,1)*'Criterios de Riesgo'!$F$9+LEFT(K393,1)*'Criterios de Riesgo'!$F$10+LEFT(L393,1)*'Criterios de Riesgo'!$F$11+LEFT(M393,1)*'Criterios de Riesgo'!$F$12+LEFT(N393,1)*'Criterios de Riesgo'!$F$13+LEFT(O393,1)*'Criterios de Riesgo'!$F$14+LEFT(P393,1)*'Criterios de Riesgo'!$F$15),2),Calif_Control,2,1))","v":""},{"$f":"IF(COUNTA(I393:P393)<8,\"\",(ROUND((LEFT(I393,1)*'Criterios de Riesgo'!$F$8+LEFT(J393,1)*'Criterios de Riesgo'!$F$9+LEFT(K393,1)*'Criterios de Riesgo'!$F$10+LEFT(L393,1)*'Criterios de Riesgo'!$F$11+LEFT(M393,1)*'Criterios de Riesgo'!$F$12+LEFT(N393,1)*'Criterios de Riesgo'!$F$13+LEFT(O393,1)*'Criterios de Riesgo'!$F$14+LEFT(P393,1)*'Criterios de Riesgo'!$F$15),2))/5)","v":""},null,null,null,null,{"$f":"IF(COUNTA(S393:V393)<4,\"\",IF(V393=\"No\",\"No se usa\",VLOOKUP(ROUND((LEFT(S393,1)*'Criterios de Riesgo'!$C$13+LEFT(T393,1)*'Criterios de Riesgo'!$C$14+LEFT(U393,1)*'Criterios de Riesgo'!$C$15),2),Calif_Covertura,2,1)))","v":""},{"$f":"IF(COUNTA(S393:V393)<4,\"\",IF(V393=\"No\",0,(ROUND((LEFT(S393,1)*'Criterios de Riesgo'!$C$13+LEFT(T393,1)*'Criterios de Riesgo'!$C$14+LEFT(U393,1)*'Criterios de Riesgo'!$C$15),2))/5))","v":""},""]
[null,null,null,null,null,null,null,null,null,null,null,null,null,null,null,null,{"$f":"IF(COUNTA(I394:P394)<8,\"\",VLOOKUP(ROUND((LEFT(I394,1)*'Criterios de Riesgo'!$F$8+LEFT(J394,1)*'Criterios de Riesgo'!$F$9+LEFT(K394,1)*'Criterios de Riesgo'!$F$10+LEFT(L394,1)*'Criterios de Riesgo'!$F$11+LEFT(M394,1)*'Criterios de Riesgo'!$F$12+LEFT(N394,1)*'Criterios de Riesgo'!$F$13+LEFT(O394,1)*'Criterios de Riesgo'!$F$14+LEFT(P394,1)*'Criterios de Riesgo'!$F$15),2),Calif_Control,2,1))","v":""},{"$f":"IF(COUNTA(I394:P394)<8,\"\",(ROUND((LEFT(I394,1)*'Criterios de Riesgo'!$F$8+LEFT(J394,1)*'Criterios de Riesgo'!$F$9+LEFT(K394,1)*'Criterios de Riesgo'!$F$10+LEFT(L394,1)*'Criterios de Riesgo'!$F$11+LEFT(M394,1)*'Criterios de Riesgo'!$F$12+LEFT(N394,1)*'Criterios de Riesgo'!$F$13+LEFT(O394,1)*'Criterios de Riesgo'!$F$14+LEFT(P394,1)*'Criterios de Riesgo'!$F$15),2))/5)","v":""},null,null,null,null,{"$f":"IF(COUNTA(S394:V394)<4,\"\",IF(V394=\"No\",\"No se usa\",VLOOKUP(ROUND((LEFT(S394,1)*'Criterios de Riesgo'!$C$13+LEFT(T394,1)*'Criterios de Riesgo'!$C$14+LEFT(U394,1)*'Criterios de Riesgo'!$C$15),2),Calif_Covertura,2,1)))","v":""},{"$f":"IF(COUNTA(S394:V394)<4,\"\",IF(V394=\"No\",0,(ROUND((LEFT(S394,1)*'Criterios de Riesgo'!$C$13+LEFT(T394,1)*'Criterios de Riesgo'!$C$14+LEFT(U394,1)*'Criterios de Riesgo'!$C$15),2))/5))","v":""},""]
["R",null,null,null,null,null,null,null,null,null,null,null,null,null,null,null,{"$f":"IF(COUNTA(I395:P395)<8,\"\",VLOOKUP(ROUND((LEFT(I395,1)*'Criterios de Riesgo'!$F$8+LEFT(J395,1)*'Criterios de Riesgo'!$F$9+LEFT(K395,1)*'Criterios de Riesgo'!$F$10+LEFT(L395,1)*'Criterios de Riesgo'!$F$11+LEFT(M395,1)*'Criterios de Riesgo'!$F$12+LEFT(N395,1)*'Criterios de Riesgo'!$F$13+LEFT(O395,1)*'Criterios de Riesgo'!$F$14+LEFT(P395,1)*'Criterios de Riesgo'!$F$15),2),Calif_Control,2,1))","v":""},{"$f":"IF(COUNTA(I395:P395)<8,\"\",(ROUND((LEFT(I395,1)*'Criterios de Riesgo'!$F$8+LEFT(J395,1)*'Criterios de Riesgo'!$F$9+LEFT(K395,1)*'Criterios de Riesgo'!$F$10+LEFT(L395,1)*'Criterios de Riesgo'!$F$11+LEFT(M395,1)*'Criterios de Riesgo'!$F$12+LEFT(N395,1)*'Criterios de Riesgo'!$F$13+LEFT(O395,1)*'Criterios de Riesgo'!$F$14+LEFT(P395,1)*'Criterios de Riesgo'!$F$15),2))/5)","v":""},null,null,null,null,{"$f":"IF(COUNTA(S395:V395)<4,\"\",IF(V395=\"No\",\"No se usa\",VLOOKUP(ROUND((LEFT(S395,1)*'Criterios de Riesgo'!$C$13+LEFT(T395,1)*'Criterios de Riesgo'!$C$14+LEFT(U395,1)*'Criterios de Riesgo'!$C$15),2),Calif_Covertura,2,1)))","v":""},{"$f":"IF(COUNTA(S395:V395)<4,\"\",IF(V395=\"No\",0,(ROUND((LEFT(S395,1)*'Criterios de Riesgo'!$C$13+LEFT(T395,1)*'Criterios de Riesgo'!$C$14+LEFT(U395,1)*'Criterios de Riesgo'!$C$15),2))/5))","v":""},"",null,{"$f":"IF(ISERROR((SUMIF(Z395:Z404,\"=impacto\",Y395:Y404)+SUMIF(Z395:Z404,\"=Ambos\",Y395:Y404))/(COUNTIF(Z395:Z404,\"Impacto\")+COUNTIF(Z395:Z404,\"Ambos\"))),\"\",(SUMIF(Z395:Z404,\"=impacto\",Y395:Y404)+SUMIF(Z395:Z404,\"=Ambos\",Y395:Y404))/(COUNTIF(Z395:Z404,\"Impacto\")+COUNTIF(Z395:Z404,\"Ambos\")))","v":""},{"$f":"IF(ISERROR((SUMIF(Z395:Z404,\"=Probabilidad\",Y395:Y404)+SUMIF(Z395:Z404,\"=Ambos\",Y395:Y404))/(COUNTIF(Z395:Z404,\"Probabilidad\")+COUNTIF(Z395:Z404,\"Ambos\"))),\"\",(SUMIF(Z395:Z404,\"=Probabilidad\",Y395:Y404)+SUMIF(Z395:Z404,\"=Ambos\",Y395:Y404))/(COUNTIF(Z395:Z404,\"Probabilidad\")+COUNTIF(Z395:Z404,\"Ambos\")))","v":""},{"$f":"IF(ISERROR(ROUND(IF(AB395=\"\",AA395,IF(AA395=\"\",AB395,IF(AND(AB395=\"\",AA395=\"\"),\"\",AB395*AA395)))*100,0)/100),\"\",ROUND(IF(AB395=\"\",AA395,IF(AA395=\"\",AB395,IF(AND(AB395=\"\",AA395=\"\"),\"\",AB395*AA395)))*100,0)/100)","v":""},{"$f":"IF(AC395=\"\",\"\",VLOOKUP(AC395*5,Calif_Control,2,1))","v":""}]
[null,null,null,null,null,null,null,null,null,null,null,null,null,null,null,null,{"$f":"IF(COUNTA(I396:P396)<8,\"\",VLOOKUP(ROUND((LEFT(I396,1)*'Criterios de Riesgo'!$F$8+LEFT(J396,1)*'Criterios de Riesgo'!$F$9+LEFT(K396,1)*'Criterios de Riesgo'!$F$10+LEFT(L396,1)*'Criterios de Riesgo'!$F$11+LEFT(M396,1)*'Criterios de Riesgo'!$F$12+LEFT(N396,1)*'Criterios de Riesgo'!$F$13+LEFT(O396,1)*'Criterios de Riesgo'!$F$14+LEFT(P396,1)*'Criterios de Riesgo'!$F$15),2),Calif_Control,2,1))","v":""},{"$f":"IF(COUNTA(I396:P396)<8,\"\",(ROUND((LEFT(I396,1)*'Criterios de Riesgo'!$F$8+LEFT(J396,1)*'Criterios de Riesgo'!$F$9+LEFT(K396,1)*'Criterios de Riesgo'!$F$10+LEFT(L396,1)*'Criterios de Riesgo'!$F$11+LEFT(M396,1)*'Criterios de Riesgo'!$F$12+LEFT(N396,1)*'Criterios de Riesgo'!$F$13+LEFT(O396,1)*'Criterios de Riesgo'!$F$14+LEFT(P396,1)*'Criterios de Riesgo'!$F$15),2))/5)","v":""},null,null,null,null,{"$f":"IF(COUNTA(S396:V396)<4,\"\",IF(V396=\"No\",\"No se usa\",VLOOKUP(ROUND((LEFT(S396,1)*'Criterios de Riesgo'!$C$13+LEFT(T396,1)*'Criterios de Riesgo'!$C$14+LEFT(U396,1)*'Criterios de Riesgo'!$C$15),2),Calif_Covertura,2,1)))","v":""},{"$f":"IF(COUNTA(S396:V396)<4,\"\",IF(V396=\"No\",0,(ROUND((LEFT(S396,1)*'Criterios de Riesgo'!$C$13+LEFT(T396,1)*'Criterios de Riesgo'!$C$14+LEFT(U396,1)*'Criterios de Riesgo'!$C$15),2))/5))","v":""},""]
[null,null,null,null,null,null,null,null,null,null,null,null,null,null,null,null,{"$f":"IF(COUNTA(I397:P397)<8,\"\",VLOOKUP(ROUND((LEFT(I397,1)*'Criterios de Riesgo'!$F$8+LEFT(J397,1)*'Criterios de Riesgo'!$F$9+LEFT(K397,1)*'Criterios de Riesgo'!$F$10+LEFT(L397,1)*'Criterios de Riesgo'!$F$11+LEFT(M397,1)*'Criterios de Riesgo'!$F$12+LEFT(N397,1)*'Criterios de Riesgo'!$F$13+LEFT(O397,1)*'Criterios de Riesgo'!$F$14+LEFT(P397,1)*'Criterios de Riesgo'!$F$15),2),Calif_Control,2,1))","v":""},{"$f":"IF(COUNTA(I397:P397)<8,\"\",(ROUND((LEFT(I397,1)*'Criterios de Riesgo'!$F$8+LEFT(J397,1)*'Criterios de Riesgo'!$F$9+LEFT(K397,1)*'Criterios de Riesgo'!$F$10+LEFT(L397,1)*'Criterios de Riesgo'!$F$11+LEFT(M397,1)*'Criterios de Riesgo'!$F$12+LEFT(N397,1)*'Criterios de Riesgo'!$F$13+LEFT(O397,1)*'Criterios de Riesgo'!$F$14+LEFT(P397,1)*'Criterios de Riesgo'!$F$15),2))/5)","v":""},null,null,null,null,{"$f":"IF(COUNTA(S397:V397)<4,\"\",IF(V397=\"No\",\"No se usa\",VLOOKUP(ROUND((LEFT(S397,1)*'Criterios de Riesgo'!$C$13+LEFT(T397,1)*'Criterios de Riesgo'!$C$14+LEFT(U397,1)*'Criterios de Riesgo'!$C$15),2),Calif_Covertura,2,1)))","v":""},{"$f":"IF(COUNTA(S397:V397)<4,\"\",IF(V397=\"No\",0,(ROUND((LEFT(S397,1)*'Criterios de Riesgo'!$C$13+LEFT(T397,1)*'Criterios de Riesgo'!$C$14+LEFT(U397,1)*'Criterios de Riesgo'!$C$15),2))/5))","v":""},""]
[null,null,null,null,null,null,null,null,null,null,null,null,null,null,null,null,{"$f":"IF(COUNTA(I398:P398)<8,\"\",VLOOKUP(ROUND((LEFT(I398,1)*'Criterios de Riesgo'!$F$8+LEFT(J398,1)*'Criterios de Riesgo'!$F$9+LEFT(K398,1)*'Criterios de Riesgo'!$F$10+LEFT(L398,1)*'Criterios de Riesgo'!$F$11+LEFT(M398,1)*'Criterios de Riesgo'!$F$12+LEFT(N398,1)*'Criterios de Riesgo'!$F$13+LEFT(O398,1)*'Criterios de Riesgo'!$F$14+LEFT(P398,1)*'Criterios de Riesgo'!$F$15),2),Calif_Control,2,1))","v":""},{"$f":"IF(COUNTA(I398:P398)<8,\"\",(ROUND((LEFT(I398,1)*'Criterios de Riesgo'!$F$8+LEFT(J398,1)*'Criterios de Riesgo'!$F$9+LEFT(K398,1)*'Criterios de Riesgo'!$F$10+LEFT(L398,1)*'Criterios de Riesgo'!$F$11+LEFT(M398,1)*'Criterios de Riesgo'!$F$12+LEFT(N398,1)*'Criterios de Riesgo'!$F$13+LEFT(O398,1)*'Criterios de Riesgo'!$F$14+LEFT(P398,1)*'Criterios de Riesgo'!$F$15),2))/5)","v":""},null,null,null,null,{"$f":"IF(COUNTA(S398:V398)<4,\"\",IF(V398=\"No\",\"No se usa\",VLOOKUP(ROUND((LEFT(S398,1)*'Criterios de Riesgo'!$C$13+LEFT(T398,1)*'Criterios de Riesgo'!$C$14+LEFT(U398,1)*'Criterios de Riesgo'!$C$15),2),Calif_Covertura,2,1)))","v":""},{"$f":"IF(COUNTA(S398:V398)<4,\"\",IF(V398=\"No\",0,(ROUND((LEFT(S398,1)*'Criterios de Riesgo'!$C$13+LEFT(T398,1)*'Criterios de Riesgo'!$C$14+LEFT(U398,1)*'Criterios de Riesgo'!$C$15),2))/5))","v":""},""]
[null,null,null,null,null,null,null,null,null,null,null,null,null,null,null,null,{"$f":"IF(COUNTA(I399:P399)<8,\"\",VLOOKUP(ROUND((LEFT(I399,1)*'Criterios de Riesgo'!$F$8+LEFT(J399,1)*'Criterios de Riesgo'!$F$9+LEFT(K399,1)*'Criterios de Riesgo'!$F$10+LEFT(L399,1)*'Criterios de Riesgo'!$F$11+LEFT(M399,1)*'Criterios de Riesgo'!$F$12+LEFT(N399,1)*'Criterios de Riesgo'!$F$13+LEFT(O399,1)*'Criterios de Riesgo'!$F$14+LEFT(P399,1)*'Criterios de Riesgo'!$F$15),2),Calif_Control,2,1))","v":""},{"$f":"IF(COUNTA(I399:P399)<8,\"\",(ROUND((LEFT(I399,1)*'Criterios de Riesgo'!$F$8+LEFT(J399,1)*'Criterios de Riesgo'!$F$9+LEFT(K399,1)*'Criterios de Riesgo'!$F$10+LEFT(L399,1)*'Criterios de Riesgo'!$F$11+LEFT(M399,1)*'Criterios de Riesgo'!$F$12+LEFT(N399,1)*'Criterios de Riesgo'!$F$13+LEFT(O399,1)*'Criterios de Riesgo'!$F$14+LEFT(P399,1)*'Criterios de Riesgo'!$F$15),2))/5)","v":""},null,null,null,null,{"$f":"IF(COUNTA(S399:V399)<4,\"\",IF(V399=\"No\",\"No se usa\",VLOOKUP(ROUND((LEFT(S399,1)*'Criterios de Riesgo'!$C$13+LEFT(T399,1)*'Criterios de Riesgo'!$C$14+LEFT(U399,1)*'Criterios de Riesgo'!$C$15),2),Calif_Covertura,2,1)))","v":""},{"$f":"IF(COUNTA(S399:V399)<4,\"\",IF(V399=\"No\",0,(ROUND((LEFT(S399,1)*'Criterios de Riesgo'!$C$13+LEFT(T399,1)*'Criterios de Riesgo'!$C$14+LEFT(U399,1)*'Criterios de Riesgo'!$C$15),2))/5))","v":""},""]
[null,null,null,null,null,null,null,null,null,null,null,null,null,null,null,null,{"$f":"IF(COUNTA(I400:P400)<8,\"\",VLOOKUP(ROUND((LEFT(I400,1)*'Criterios de Riesgo'!$F$8+LEFT(J400,1)*'Criterios de Riesgo'!$F$9+LEFT(K400,1)*'Criterios de Riesgo'!$F$10+LEFT(L400,1)*'Criterios de Riesgo'!$F$11+LEFT(M400,1)*'Criterios de Riesgo'!$F$12+LEFT(N400,1)*'Criterios de Riesgo'!$F$13+LEFT(O400,1)*'Criterios de Riesgo'!$F$14+LEFT(P400,1)*'Criterios de Riesgo'!$F$15),2),Calif_Control,2,1))","v":""},{"$f":"IF(COUNTA(I400:P400)<8,\"\",(ROUND((LEFT(I400,1)*'Criterios de Riesgo'!$F$8+LEFT(J400,1)*'Criterios de Riesgo'!$F$9+LEFT(K400,1)*'Criterios de Riesgo'!$F$10+LEFT(L400,1)*'Criterios de Riesgo'!$F$11+LEFT(M400,1)*'Criterios de Riesgo'!$F$12+LEFT(N400,1)*'Criterios de Riesgo'!$F$13+LEFT(O400,1)*'Criterios de Riesgo'!$F$14+LEFT(P400,1)*'Criterios de Riesgo'!$F$15),2))/5)","v":""},null,null,null,null,{"$f":"IF(COUNTA(S400:V400)<4,\"\",IF(V400=\"No\",\"No se usa\",VLOOKUP(ROUND((LEFT(S400,1)*'Criterios de Riesgo'!$C$13+LEFT(T400,1)*'Criterios de Riesgo'!$C$14+LEFT(U400,1)*'Criterios de Riesgo'!$C$15),2),Calif_Covertura,2,1)))","v":""},{"$f":"IF(COUNTA(S400:V400)<4,\"\",IF(V400=\"No\",0,(ROUND((LEFT(S400,1)*'Criterios de Riesgo'!$C$13+LEFT(T400,1)*'Criterios de Riesgo'!$C$14+LEFT(U400,1)*'Criterios de Riesgo'!$C$15),2))/5))","v":""},""]
[null,null,null,null,null,null,null,null,null,null,null,null,null,null,null,null,{"$f":"IF(COUNTA(I401:P401)<8,\"\",VLOOKUP(ROUND((LEFT(I401,1)*'Criterios de Riesgo'!$F$8+LEFT(J401,1)*'Criterios de Riesgo'!$F$9+LEFT(K401,1)*'Criterios de Riesgo'!$F$10+LEFT(L401,1)*'Criterios de Riesgo'!$F$11+LEFT(M401,1)*'Criterios de Riesgo'!$F$12+LEFT(N401,1)*'Criterios de Riesgo'!$F$13+LEFT(O401,1)*'Criterios de Riesgo'!$F$14+LEFT(P401,1)*'Criterios de Riesgo'!$F$15),2),Calif_Control,2,1))","v":""},{"$f":"IF(COUNTA(I401:P401)<8,\"\",(ROUND((LEFT(I401,1)*'Criterios de Riesgo'!$F$8+LEFT(J401,1)*'Criterios de Riesgo'!$F$9+LEFT(K401,1)*'Criterios de Riesgo'!$F$10+LEFT(L401,1)*'Criterios de Riesgo'!$F$11+LEFT(M401,1)*'Criterios de Riesgo'!$F$12+LEFT(N401,1)*'Criterios de Riesgo'!$F$13+LEFT(O401,1)*'Criterios de Riesgo'!$F$14+LEFT(P401,1)*'Criterios de Riesgo'!$F$15),2))/5)","v":""},null,null,null,null,{"$f":"IF(COUNTA(S401:V401)<4,\"\",IF(V401=\"No\",\"No se usa\",VLOOKUP(ROUND((LEFT(S401,1)*'Criterios de Riesgo'!$C$13+LEFT(T401,1)*'Criterios de Riesgo'!$C$14+LEFT(U401,1)*'Criterios de Riesgo'!$C$15),2),Calif_Covertura,2,1)))","v":""},{"$f":"IF(COUNTA(S401:V401)<4,\"\",IF(V401=\"No\",0,(ROUND((LEFT(S401,1)*'Criterios de Riesgo'!$C$13+LEFT(T401,1)*'Criterios de Riesgo'!$C$14+LEFT(U401,1)*'Criterios de Riesgo'!$C$15),2))/5))","v":""},""]
[null,null,null,null,null,null,null,null,null,null,null,null,null,null,null,null,{"$f":"IF(COUNTA(I402:P402)<8,\"\",VLOOKUP(ROUND((LEFT(I402,1)*'Criterios de Riesgo'!$F$8+LEFT(J402,1)*'Criterios de Riesgo'!$F$9+LEFT(K402,1)*'Criterios de Riesgo'!$F$10+LEFT(L402,1)*'Criterios de Riesgo'!$F$11+LEFT(M402,1)*'Criterios de Riesgo'!$F$12+LEFT(N402,1)*'Criterios de Riesgo'!$F$13+LEFT(O402,1)*'Criterios de Riesgo'!$F$14+LEFT(P402,1)*'Criterios de Riesgo'!$F$15),2),Calif_Control,2,1))","v":""},{"$f":"IF(COUNTA(I402:P402)<8,\"\",(ROUND((LEFT(I402,1)*'Criterios de Riesgo'!$F$8+LEFT(J402,1)*'Criterios de Riesgo'!$F$9+LEFT(K402,1)*'Criterios de Riesgo'!$F$10+LEFT(L402,1)*'Criterios de Riesgo'!$F$11+LEFT(M402,1)*'Criterios de Riesgo'!$F$12+LEFT(N402,1)*'Criterios de Riesgo'!$F$13+LEFT(O402,1)*'Criterios de Riesgo'!$F$14+LEFT(P402,1)*'Criterios de Riesgo'!$F$15),2))/5)","v":""},null,null,null,null,{"$f":"IF(COUNTA(S402:V402)<4,\"\",IF(V402=\"No\",\"No se usa\",VLOOKUP(ROUND((LEFT(S402,1)*'Criterios de Riesgo'!$C$13+LEFT(T402,1)*'Criterios de Riesgo'!$C$14+LEFT(U402,1)*'Criterios de Riesgo'!$C$15),2),Calif_Covertura,2,1)))","v":""},{"$f":"IF(COUNTA(S402:V402)<4,\"\",IF(V402=\"No\",0,(ROUND((LEFT(S402,1)*'Criterios de Riesgo'!$C$13+LEFT(T402,1)*'Criterios de Riesgo'!$C$14+LEFT(U402,1)*'Criterios de Riesgo'!$C$15),2))/5))","v":""},""]
[null,null,null,null,null,null,null,null,null,null,null,null,null,null,null,null,{"$f":"IF(COUNTA(I403:P403)<8,\"\",VLOOKUP(ROUND((LEFT(I403,1)*'Criterios de Riesgo'!$F$8+LEFT(J403,1)*'Criterios de Riesgo'!$F$9+LEFT(K403,1)*'Criterios de Riesgo'!$F$10+LEFT(L403,1)*'Criterios de Riesgo'!$F$11+LEFT(M403,1)*'Criterios de Riesgo'!$F$12+LEFT(N403,1)*'Criterios de Riesgo'!$F$13+LEFT(O403,1)*'Criterios de Riesgo'!$F$14+LEFT(P403,1)*'Criterios de Riesgo'!$F$15),2),Calif_Control,2,1))","v":""},{"$f":"IF(COUNTA(I403:P403)<8,\"\",(ROUND((LEFT(I403,1)*'Criterios de Riesgo'!$F$8+LEFT(J403,1)*'Criterios de Riesgo'!$F$9+LEFT(K403,1)*'Criterios de Riesgo'!$F$10+LEFT(L403,1)*'Criterios de Riesgo'!$F$11+LEFT(M403,1)*'Criterios de Riesgo'!$F$12+LEFT(N403,1)*'Criterios de Riesgo'!$F$13+LEFT(O403,1)*'Criterios de Riesgo'!$F$14+LEFT(P403,1)*'Criterios de Riesgo'!$F$15),2))/5)","v":""},null,null,null,null,{"$f":"IF(COUNTA(S403:V403)<4,\"\",IF(V403=\"No\",\"No se usa\",VLOOKUP(ROUND((LEFT(S403,1)*'Criterios de Riesgo'!$C$13+LEFT(T403,1)*'Criterios de Riesgo'!$C$14+LEFT(U403,1)*'Criterios de Riesgo'!$C$15),2),Calif_Covertura,2,1)))","v":""},{"$f":"IF(COUNTA(S403:V403)<4,\"\",IF(V403=\"No\",0,(ROUND((LEFT(S403,1)*'Criterios de Riesgo'!$C$13+LEFT(T403,1)*'Criterios de Riesgo'!$C$14+LEFT(U403,1)*'Criterios de Riesgo'!$C$15),2))/5))","v":""},""]
[null,null,null,null,null,null,null,null,null,null,null,null,null,null,null,null,{"$f":"IF(COUNTA(I404:P404)<8,\"\",VLOOKUP(ROUND((LEFT(I404,1)*'Criterios de Riesgo'!$F$8+LEFT(J404,1)*'Criterios de Riesgo'!$F$9+LEFT(K404,1)*'Criterios de Riesgo'!$F$10+LEFT(L404,1)*'Criterios de Riesgo'!$F$11+LEFT(M404,1)*'Criterios de Riesgo'!$F$12+LEFT(N404,1)*'Criterios de Riesgo'!$F$13+LEFT(O404,1)*'Criterios de Riesgo'!$F$14+LEFT(P404,1)*'Criterios de Riesgo'!$F$15),2),Calif_Control,2,1))","v":""},{"$f":"IF(COUNTA(I404:P404)<8,\"\",(ROUND((LEFT(I404,1)*'Criterios de Riesgo'!$F$8+LEFT(J404,1)*'Criterios de Riesgo'!$F$9+LEFT(K404,1)*'Criterios de Riesgo'!$F$10+LEFT(L404,1)*'Criterios de Riesgo'!$F$11+LEFT(M404,1)*'Criterios de Riesgo'!$F$12+LEFT(N404,1)*'Criterios de Riesgo'!$F$13+LEFT(O404,1)*'Criterios de Riesgo'!$F$14+LEFT(P404,1)*'Criterios de Riesgo'!$F$15),2))/5)","v":""},null,null,null,null,{"$f":"IF(COUNTA(S404:V404)<4,\"\",IF(V404=\"No\",\"No se usa\",VLOOKUP(ROUND((LEFT(S404,1)*'Criterios de Riesgo'!$C$13+LEFT(T404,1)*'Criterios de Riesgo'!$C$14+LEFT(U404,1)*'Criterios de Riesgo'!$C$15),2),Calif_Covertura,2,1)))","v":""},{"$f":"IF(COUNTA(S404:V404)<4,\"\",IF(V404=\"No\",0,(ROUND((LEFT(S404,1)*'Criterios de Riesgo'!$C$13+LEFT(T404,1)*'Criterios de Riesgo'!$C$14+LEFT(U404,1)*'Criterios de Riesgo'!$C$15),2))/5))","v":""},""]
["R",null,null,null,null,null,null,null,null,null,null,null,null,null,null,null,{"$f":"IF(COUNTA(I405:P405)<8,\"\",VLOOKUP(ROUND((LEFT(I405,1)*'Criterios de Riesgo'!$F$8+LEFT(J405,1)*'Criterios de Riesgo'!$F$9+LEFT(K405,1)*'Criterios de Riesgo'!$F$10+LEFT(L405,1)*'Criterios de Riesgo'!$F$11+LEFT(M405,1)*'Criterios de Riesgo'!$F$12+LEFT(N405,1)*'Criterios de Riesgo'!$F$13+LEFT(O405,1)*'Criterios de Riesgo'!$F$14+LEFT(P405,1)*'Criterios de Riesgo'!$F$15),2),Calif_Control,2,1))","v":""},{"$f":"IF(COUNTA(I405:P405)<8,\"\",(ROUND((LEFT(I405,1)*'Criterios de Riesgo'!$F$8+LEFT(J405,1)*'Criterios de Riesgo'!$F$9+LEFT(K405,1)*'Criterios de Riesgo'!$F$10+LEFT(L405,1)*'Criterios de Riesgo'!$F$11+LEFT(M405,1)*'Criterios de Riesgo'!$F$12+LEFT(N405,1)*'Criterios de Riesgo'!$F$13+LEFT(O405,1)*'Criterios de Riesgo'!$F$14+LEFT(P405,1)*'Criterios de Riesgo'!$F$15),2))/5)","v":""},null,null,null,null,{"$f":"IF(COUNTA(S405:V405)<4,\"\",IF(V405=\"No\",\"No se usa\",VLOOKUP(ROUND((LEFT(S405,1)*'Criterios de Riesgo'!$C$13+LEFT(T405,1)*'Criterios de Riesgo'!$C$14+LEFT(U405,1)*'Criterios de Riesgo'!$C$15),2),Calif_Covertura,2,1)))","v":""},{"$f":"IF(COUNTA(S405:V405)<4,\"\",IF(V405=\"No\",0,(ROUND((LEFT(S405,1)*'Criterios de Riesgo'!$C$13+LEFT(T405,1)*'Criterios de Riesgo'!$C$14+LEFT(U405,1)*'Criterios de Riesgo'!$C$15),2))/5))","v":""},"",null,{"$f":"IF(ISERROR((SUMIF(Z405:Z414,\"=impacto\",Y405:Y414)+SUMIF(Z405:Z414,\"=Ambos\",Y405:Y414))/(COUNTIF(Z405:Z414,\"Impacto\")+COUNTIF(Z405:Z414,\"Ambos\"))),\"\",(SUMIF(Z405:Z414,\"=impacto\",Y405:Y414)+SUMIF(Z405:Z414,\"=Ambos\",Y405:Y414))/(COUNTIF(Z405:Z414,\"Impacto\")+COUNTIF(Z405:Z414,\"Ambos\")))","v":""},{"$f":"IF(ISERROR((SUMIF(Z405:Z414,\"=Probabilidad\",Y405:Y414)+SUMIF(Z405:Z414,\"=Ambos\",Y405:Y414))/(COUNTIF(Z405:Z414,\"Probabilidad\")+COUNTIF(Z405:Z414,\"Ambos\"))),\"\",(SUMIF(Z405:Z414,\"=Probabilidad\",Y405:Y414)+SUMIF(Z405:Z414,\"=Ambos\",Y405:Y414))/(COUNTIF(Z405:Z414,\"Probabilidad\")+COUNTIF(Z405:Z414,\"Ambos\")))","v":""},{"$f":"IF(ISERROR(ROUND(IF(AB405=\"\",AA405,IF(AA405=\"\",AB405,IF(AND(AB405=\"\",AA405=\"\"),\"\",AB405*AA405)))*100,0)/100),\"\",ROUND(IF(AB405=\"\",AA405,IF(AA405=\"\",AB405,IF(AND(AB405=\"\",AA405=\"\"),\"\",AB405*AA405)))*100,0)/100)","v":""},{"$f":"IF(AC405=\"\",\"\",VLOOKUP(AC405*5,Calif_Control,2,1))","v":""}]
[null,null,null,null,null,null,null,null,null,null,null,null,null,null,null,null,{"$f":"IF(COUNTA(I406:P406)<8,\"\",VLOOKUP(ROUND((LEFT(I406,1)*'Criterios de Riesgo'!$F$8+LEFT(J406,1)*'Criterios de Riesgo'!$F$9+LEFT(K406,1)*'Criterios de Riesgo'!$F$10+LEFT(L406,1)*'Criterios de Riesgo'!$F$11+LEFT(M406,1)*'Criterios de Riesgo'!$F$12+LEFT(N406,1)*'Criterios de Riesgo'!$F$13+LEFT(O406,1)*'Criterios de Riesgo'!$F$14+LEFT(P406,1)*'Criterios de Riesgo'!$F$15),2),Calif_Control,2,1))","v":""},{"$f":"IF(COUNTA(I406:P406)<8,\"\",(ROUND((LEFT(I406,1)*'Criterios de Riesgo'!$F$8+LEFT(J406,1)*'Criterios de Riesgo'!$F$9+LEFT(K406,1)*'Criterios de Riesgo'!$F$10+LEFT(L406,1)*'Criterios de Riesgo'!$F$11+LEFT(M406,1)*'Criterios de Riesgo'!$F$12+LEFT(N406,1)*'Criterios de Riesgo'!$F$13+LEFT(O406,1)*'Criterios de Riesgo'!$F$14+LEFT(P406,1)*'Criterios de Riesgo'!$F$15),2))/5)","v":""},null,null,null,null,{"$f":"IF(COUNTA(S406:V406)<4,\"\",IF(V406=\"No\",\"No se usa\",VLOOKUP(ROUND((LEFT(S406,1)*'Criterios de Riesgo'!$C$13+LEFT(T406,1)*'Criterios de Riesgo'!$C$14+LEFT(U406,1)*'Criterios de Riesgo'!$C$15),2),Calif_Covertura,2,1)))","v":""},{"$f":"IF(COUNTA(S406:V406)<4,\"\",IF(V406=\"No\",0,(ROUND((LEFT(S406,1)*'Criterios de Riesgo'!$C$13+LEFT(T406,1)*'Criterios de Riesgo'!$C$14+LEFT(U406,1)*'Criterios de Riesgo'!$C$15),2))/5))","v":""},""]
[null,null,null,null,null,null,null,null,null,null,null,null,null,null,null,null,{"$f":"IF(COUNTA(I407:P407)<8,\"\",VLOOKUP(ROUND((LEFT(I407,1)*'Criterios de Riesgo'!$F$8+LEFT(J407,1)*'Criterios de Riesgo'!$F$9+LEFT(K407,1)*'Criterios de Riesgo'!$F$10+LEFT(L407,1)*'Criterios de Riesgo'!$F$11+LEFT(M407,1)*'Criterios de Riesgo'!$F$12+LEFT(N407,1)*'Criterios de Riesgo'!$F$13+LEFT(O407,1)*'Criterios de Riesgo'!$F$14+LEFT(P407,1)*'Criterios de Riesgo'!$F$15),2),Calif_Control,2,1))","v":""},{"$f":"IF(COUNTA(I407:P407)<8,\"\",(ROUND((LEFT(I407,1)*'Criterios de Riesgo'!$F$8+LEFT(J407,1)*'Criterios de Riesgo'!$F$9+LEFT(K407,1)*'Criterios de Riesgo'!$F$10+LEFT(L407,1)*'Criterios de Riesgo'!$F$11+LEFT(M407,1)*'Criterios de Riesgo'!$F$12+LEFT(N407,1)*'Criterios de Riesgo'!$F$13+LEFT(O407,1)*'Criterios de Riesgo'!$F$14+LEFT(P407,1)*'Criterios de Riesgo'!$F$15),2))/5)","v":""},null,null,null,null,{"$f":"IF(COUNTA(S407:V407)<4,\"\",IF(V407=\"No\",\"No se usa\",VLOOKUP(ROUND((LEFT(S407,1)*'Criterios de Riesgo'!$C$13+LEFT(T407,1)*'Criterios de Riesgo'!$C$14+LEFT(U407,1)*'Criterios de Riesgo'!$C$15),2),Calif_Covertura,2,1)))","v":""},{"$f":"IF(COUNTA(S407:V407)<4,\"\",IF(V407=\"No\",0,(ROUND((LEFT(S407,1)*'Criterios de Riesgo'!$C$13+LEFT(T407,1)*'Criterios de Riesgo'!$C$14+LEFT(U407,1)*'Criterios de Riesgo'!$C$15),2))/5))","v":""},""]
[null,null,null,null,null,null,null,null,null,null,null,null,null,null,null,null,{"$f":"IF(COUNTA(I408:P408)<8,\"\",VLOOKUP(ROUND((LEFT(I408,1)*'Criterios de Riesgo'!$F$8+LEFT(J408,1)*'Criterios de Riesgo'!$F$9+LEFT(K408,1)*'Criterios de Riesgo'!$F$10+LEFT(L408,1)*'Criterios de Riesgo'!$F$11+LEFT(M408,1)*'Criterios de Riesgo'!$F$12+LEFT(N408,1)*'Criterios de Riesgo'!$F$13+LEFT(O408,1)*'Criterios de Riesgo'!$F$14+LEFT(P408,1)*'Criterios de Riesgo'!$F$15),2),Calif_Control,2,1))","v":""},{"$f":"IF(COUNTA(I408:P408)<8,\"\",(ROUND((LEFT(I408,1)*'Criterios de Riesgo'!$F$8+LEFT(J408,1)*'Criterios de Riesgo'!$F$9+LEFT(K408,1)*'Criterios de Riesgo'!$F$10+LEFT(L408,1)*'Criterios de Riesgo'!$F$11+LEFT(M408,1)*'Criterios de Riesgo'!$F$12+LEFT(N408,1)*'Criterios de Riesgo'!$F$13+LEFT(O408,1)*'Criterios de Riesgo'!$F$14+LEFT(P408,1)*'Criterios de Riesgo'!$F$15),2))/5)","v":""},null,null,null,null,{"$f":"IF(COUNTA(S408:V408)<4,\"\",IF(V408=\"No\",\"No se usa\",VLOOKUP(ROUND((LEFT(S408,1)*'Criterios de Riesgo'!$C$13+LEFT(T408,1)*'Criterios de Riesgo'!$C$14+LEFT(U408,1)*'Criterios de Riesgo'!$C$15),2),Calif_Covertura,2,1)))","v":""},{"$f":"IF(COUNTA(S408:V408)<4,\"\",IF(V408=\"No\",0,(ROUND((LEFT(S408,1)*'Criterios de Riesgo'!$C$13+LEFT(T408,1)*'Criterios de Riesgo'!$C$14+LEFT(U408,1)*'Criterios de Riesgo'!$C$15),2))/5))","v":""},""]
[null,null,null,null,null,null,null,null,null,null,null,null,null,null,null,null,{"$f":"IF(COUNTA(I409:P409)<8,\"\",VLOOKUP(ROUND((LEFT(I409,1)*'Criterios de Riesgo'!$F$8+LEFT(J409,1)*'Criterios de Riesgo'!$F$9+LEFT(K409,1)*'Criterios de Riesgo'!$F$10+LEFT(L409,1)*'Criterios de Riesgo'!$F$11+LEFT(M409,1)*'Criterios de Riesgo'!$F$12+LEFT(N409,1)*'Criterios de Riesgo'!$F$13+LEFT(O409,1)*'Criterios de Riesgo'!$F$14+LEFT(P409,1)*'Criterios de Riesgo'!$F$15),2),Calif_Control,2,1))","v":""},{"$f":"IF(COUNTA(I409:P409)<8,\"\",(ROUND((LEFT(I409,1)*'Criterios de Riesgo'!$F$8+LEFT(J409,1)*'Criterios de Riesgo'!$F$9+LEFT(K409,1)*'Criterios de Riesgo'!$F$10+LEFT(L409,1)*'Criterios de Riesgo'!$F$11+LEFT(M409,1)*'Criterios de Riesgo'!$F$12+LEFT(N409,1)*'Criterios de Riesgo'!$F$13+LEFT(O409,1)*'Criterios de Riesgo'!$F$14+LEFT(P409,1)*'Criterios de Riesgo'!$F$15),2))/5)","v":""},null,null,null,null,{"$f":"IF(COUNTA(S409:V409)<4,\"\",IF(V409=\"No\",\"No se usa\",VLOOKUP(ROUND((LEFT(S409,1)*'Criterios de Riesgo'!$C$13+LEFT(T409,1)*'Criterios de Riesgo'!$C$14+LEFT(U409,1)*'Criterios de Riesgo'!$C$15),2),Calif_Covertura,2,1)))","v":""},{"$f":"IF(COUNTA(S409:V409)<4,\"\",IF(V409=\"No\",0,(ROUND((LEFT(S409,1)*'Criterios de Riesgo'!$C$13+LEFT(T409,1)*'Criterios de Riesgo'!$C$14+LEFT(U409,1)*'Criterios de Riesgo'!$C$15),2))/5))","v":""},""]
[null,null,null,null,null,null,null,null,null,null,null,null,null,null,null,null,{"$f":"IF(COUNTA(I410:P410)<8,\"\",VLOOKUP(ROUND((LEFT(I410,1)*'Criterios de Riesgo'!$F$8+LEFT(J410,1)*'Criterios de Riesgo'!$F$9+LEFT(K410,1)*'Criterios de Riesgo'!$F$10+LEFT(L410,1)*'Criterios de Riesgo'!$F$11+LEFT(M410,1)*'Criterios de Riesgo'!$F$12+LEFT(N410,1)*'Criterios de Riesgo'!$F$13+LEFT(O410,1)*'Criterios de Riesgo'!$F$14+LEFT(P410,1)*'Criterios de Riesgo'!$F$15),2),Calif_Control,2,1))","v":""},{"$f":"IF(COUNTA(I410:P410)<8,\"\",(ROUND((LEFT(I410,1)*'Criterios de Riesgo'!$F$8+LEFT(J410,1)*'Criterios de Riesgo'!$F$9+LEFT(K410,1)*'Criterios de Riesgo'!$F$10+LEFT(L410,1)*'Criterios de Riesgo'!$F$11+LEFT(M410,1)*'Criterios de Riesgo'!$F$12+LEFT(N410,1)*'Criterios de Riesgo'!$F$13+LEFT(O410,1)*'Criterios de Riesgo'!$F$14+LEFT(P410,1)*'Criterios de Riesgo'!$F$15),2))/5)","v":""},null,null,null,null,{"$f":"IF(COUNTA(S410:V410)<4,\"\",IF(V410=\"No\",\"No se usa\",VLOOKUP(ROUND((LEFT(S410,1)*'Criterios de Riesgo'!$C$13+LEFT(T410,1)*'Criterios de Riesgo'!$C$14+LEFT(U410,1)*'Criterios de Riesgo'!$C$15),2),Calif_Covertura,2,1)))","v":""},{"$f":"IF(COUNTA(S410:V410)<4,\"\",IF(V410=\"No\",0,(ROUND((LEFT(S410,1)*'Criterios de Riesgo'!$C$13+LEFT(T410,1)*'Criterios de Riesgo'!$C$14+LEFT(U410,1)*'Criterios de Riesgo'!$C$15),2))/5))","v":""},""]
[null,null,null,null,null,null,null,null,null,null,null,null,null,null,null,null,{"$f":"IF(COUNTA(I411:P411)<8,\"\",VLOOKUP(ROUND((LEFT(I411,1)*'Criterios de Riesgo'!$F$8+LEFT(J411,1)*'Criterios de Riesgo'!$F$9+LEFT(K411,1)*'Criterios de Riesgo'!$F$10+LEFT(L411,1)*'Criterios de Riesgo'!$F$11+LEFT(M411,1)*'Criterios de Riesgo'!$F$12+LEFT(N411,1)*'Criterios de Riesgo'!$F$13+LEFT(O411,1)*'Criterios de Riesgo'!$F$14+LEFT(P411,1)*'Criterios de Riesgo'!$F$15),2),Calif_Control,2,1))","v":""},{"$f":"IF(COUNTA(I411:P411)<8,\"\",(ROUND((LEFT(I411,1)*'Criterios de Riesgo'!$F$8+LEFT(J411,1)*'Criterios de Riesgo'!$F$9+LEFT(K411,1)*'Criterios de Riesgo'!$F$10+LEFT(L411,1)*'Criterios de Riesgo'!$F$11+LEFT(M411,1)*'Criterios de Riesgo'!$F$12+LEFT(N411,1)*'Criterios de Riesgo'!$F$13+LEFT(O411,1)*'Criterios de Riesgo'!$F$14+LEFT(P411,1)*'Criterios de Riesgo'!$F$15),2))/5)","v":""},null,null,null,null,{"$f":"IF(COUNTA(S411:V411)<4,\"\",IF(V411=\"No\",\"No se usa\",VLOOKUP(ROUND((LEFT(S411,1)*'Criterios de Riesgo'!$C$13+LEFT(T411,1)*'Criterios de Riesgo'!$C$14+LEFT(U411,1)*'Criterios de Riesgo'!$C$15),2),Calif_Covertura,2,1)))","v":""},{"$f":"IF(COUNTA(S411:V411)<4,\"\",IF(V411=\"No\",0,(ROUND((LEFT(S411,1)*'Criterios de Riesgo'!$C$13+LEFT(T411,1)*'Criterios de Riesgo'!$C$14+LEFT(U411,1)*'Criterios de Riesgo'!$C$15),2))/5))","v":""},""]
[null,null,null,null,null,null,null,null,null,null,null,null,null,null,null,null,{"$f":"IF(COUNTA(I412:P412)<8,\"\",VLOOKUP(ROUND((LEFT(I412,1)*'Criterios de Riesgo'!$F$8+LEFT(J412,1)*'Criterios de Riesgo'!$F$9+LEFT(K412,1)*'Criterios de Riesgo'!$F$10+LEFT(L412,1)*'Criterios de Riesgo'!$F$11+LEFT(M412,1)*'Criterios de Riesgo'!$F$12+LEFT(N412,1)*'Criterios de Riesgo'!$F$13+LEFT(O412,1)*'Criterios de Riesgo'!$F$14+LEFT(P412,1)*'Criterios de Riesgo'!$F$15),2),Calif_Control,2,1))","v":""},{"$f":"IF(COUNTA(I412:P412)<8,\"\",(ROUND((LEFT(I412,1)*'Criterios de Riesgo'!$F$8+LEFT(J412,1)*'Criterios de Riesgo'!$F$9+LEFT(K412,1)*'Criterios de Riesgo'!$F$10+LEFT(L412,1)*'Criterios de Riesgo'!$F$11+LEFT(M412,1)*'Criterios de Riesgo'!$F$12+LEFT(N412,1)*'Criterios de Riesgo'!$F$13+LEFT(O412,1)*'Criterios de Riesgo'!$F$14+LEFT(P412,1)*'Criterios de Riesgo'!$F$15),2))/5)","v":""},null,null,null,null,{"$f":"IF(COUNTA(S412:V412)<4,\"\",IF(V412=\"No\",\"No se usa\",VLOOKUP(ROUND((LEFT(S412,1)*'Criterios de Riesgo'!$C$13+LEFT(T412,1)*'Criterios de Riesgo'!$C$14+LEFT(U412,1)*'Criterios de Riesgo'!$C$15),2),Calif_Covertura,2,1)))","v":""},{"$f":"IF(COUNTA(S412:V412)<4,\"\",IF(V412=\"No\",0,(ROUND((LEFT(S412,1)*'Criterios de Riesgo'!$C$13+LEFT(T412,1)*'Criterios de Riesgo'!$C$14+LEFT(U412,1)*'Criterios de Riesgo'!$C$15),2))/5))","v":""},""]
[null,null,null,null,null,null,null,null,null,null,null,null,null,null,null,null,{"$f":"IF(COUNTA(I413:P413)<8,\"\",VLOOKUP(ROUND((LEFT(I413,1)*'Criterios de Riesgo'!$F$8+LEFT(J413,1)*'Criterios de Riesgo'!$F$9+LEFT(K413,1)*'Criterios de Riesgo'!$F$10+LEFT(L413,1)*'Criterios de Riesgo'!$F$11+LEFT(M413,1)*'Criterios de Riesgo'!$F$12+LEFT(N413,1)*'Criterios de Riesgo'!$F$13+LEFT(O413,1)*'Criterios de Riesgo'!$F$14+LEFT(P413,1)*'Criterios de Riesgo'!$F$15),2),Calif_Control,2,1))","v":""},{"$f":"IF(COUNTA(I413:P413)<8,\"\",(ROUND((LEFT(I413,1)*'Criterios de Riesgo'!$F$8+LEFT(J413,1)*'Criterios de Riesgo'!$F$9+LEFT(K413,1)*'Criterios de Riesgo'!$F$10+LEFT(L413,1)*'Criterios de Riesgo'!$F$11+LEFT(M413,1)*'Criterios de Riesgo'!$F$12+LEFT(N413,1)*'Criterios de Riesgo'!$F$13+LEFT(O413,1)*'Criterios de Riesgo'!$F$14+LEFT(P413,1)*'Criterios de Riesgo'!$F$15),2))/5)","v":""},null,null,null,null,{"$f":"IF(COUNTA(S413:V413)<4,\"\",IF(V413=\"No\",\"No se usa\",VLOOKUP(ROUND((LEFT(S413,1)*'Criterios de Riesgo'!$C$13+LEFT(T413,1)*'Criterios de Riesgo'!$C$14+LEFT(U413,1)*'Criterios de Riesgo'!$C$15),2),Calif_Covertura,2,1)))","v":""},{"$f":"IF(COUNTA(S413:V413)<4,\"\",IF(V413=\"No\",0,(ROUND((LEFT(S413,1)*'Criterios de Riesgo'!$C$13+LEFT(T413,1)*'Criterios de Riesgo'!$C$14+LEFT(U413,1)*'Criterios de Riesgo'!$C$15),2))/5))","v":""},""]
[null,null,null,null,null,null,null,null,null,null,null,null,null,null,null,null,{"$f":"IF(COUNTA(I414:P414)<8,\"\",VLOOKUP(ROUND((LEFT(I414,1)*'Criterios de Riesgo'!$F$8+LEFT(J414,1)*'Criterios de Riesgo'!$F$9+LEFT(K414,1)*'Criterios de Riesgo'!$F$10+LEFT(L414,1)*'Criterios de Riesgo'!$F$11+LEFT(M414,1)*'Criterios de Riesgo'!$F$12+LEFT(N414,1)*'Criterios de Riesgo'!$F$13+LEFT(O414,1)*'Criterios de Riesgo'!$F$14+LEFT(P414,1)*'Criterios de Riesgo'!$F$15),2),Calif_Control,2,1))","v":""},{"$f":"IF(COUNTA(I414:P414)<8,\"\",(ROUND((LEFT(I414,1)*'Criterios de Riesgo'!$F$8+LEFT(J414,1)*'Criterios de Riesgo'!$F$9+LEFT(K414,1)*'Criterios de Riesgo'!$F$10+LEFT(L414,1)*'Criterios de Riesgo'!$F$11+LEFT(M414,1)*'Criterios de Riesgo'!$F$12+LEFT(N414,1)*'Criterios de Riesgo'!$F$13+LEFT(O414,1)*'Criterios de Riesgo'!$F$14+LEFT(P414,1)*'Criterios de Riesgo'!$F$15),2))/5)","v":""},null,null,null,null,{"$f":"IF(COUNTA(S414:V414)<4,\"\",IF(V414=\"No\",\"No se usa\",VLOOKUP(ROUND((LEFT(S414,1)*'Criterios de Riesgo'!$C$13+LEFT(T414,1)*'Criterios de Riesgo'!$C$14+LEFT(U414,1)*'Criterios de Riesgo'!$C$15),2),Calif_Covertura,2,1)))","v":""},{"$f":"IF(COUNTA(S414:V414)<4,\"\",IF(V414=\"No\",0,(ROUND((LEFT(S414,1)*'Criterios de Riesgo'!$C$13+LEFT(T414,1)*'Criterios de Riesgo'!$C$14+LEFT(U414,1)*'Criterios de Riesgo'!$C$15),2))/5))","v":""},""]
["R",null,null,null,null,null,null,null,null,null,null,null,null,null,null,null,{"$f":"IF(COUNTA(I415:P415)<8,\"\",VLOOKUP(ROUND((LEFT(I415,1)*'Criterios de Riesgo'!$F$8+LEFT(J415,1)*'Criterios de Riesgo'!$F$9+LEFT(K415,1)*'Criterios de Riesgo'!$F$10+LEFT(L415,1)*'Criterios de Riesgo'!$F$11+LEFT(M415,1)*'Criterios de Riesgo'!$F$12+LEFT(N415,1)*'Criterios de Riesgo'!$F$13+LEFT(O415,1)*'Criterios de Riesgo'!$F$14+LEFT(P415,1)*'Criterios de Riesgo'!$F$15),2),Calif_Control,2,1))","v":""},{"$f":"IF(COUNTA(I415:P415)<8,\"\",(ROUND((LEFT(I415,1)*'Criterios de Riesgo'!$F$8+LEFT(J415,1)*'Criterios de Riesgo'!$F$9+LEFT(K415,1)*'Criterios de Riesgo'!$F$10+LEFT(L415,1)*'Criterios de Riesgo'!$F$11+LEFT(M415,1)*'Criterios de Riesgo'!$F$12+LEFT(N415,1)*'Criterios de Riesgo'!$F$13+LEFT(O415,1)*'Criterios de Riesgo'!$F$14+LEFT(P415,1)*'Criterios de Riesgo'!$F$15),2))/5)","v":""},null,null,null,null,{"$f":"IF(COUNTA(S415:V415)<4,\"\",IF(V415=\"No\",\"No se usa\",VLOOKUP(ROUND((LEFT(S415,1)*'Criterios de Riesgo'!$C$13+LEFT(T415,1)*'Criterios de Riesgo'!$C$14+LEFT(U415,1)*'Criterios de Riesgo'!$C$15),2),Calif_Covertura,2,1)))","v":""},{"$f":"IF(COUNTA(S415:V415)<4,\"\",IF(V415=\"No\",0,(ROUND((LEFT(S415,1)*'Criterios de Riesgo'!$C$13+LEFT(T415,1)*'Criterios de Riesgo'!$C$14+LEFT(U415,1)*'Criterios de Riesgo'!$C$15),2))/5))","v":""},{"$f":"IF(ISERROR(R415*X415),\"\",R415*X415)","v":""},null,{"$f":"IF(ISERROR((SUMIF(Z415:Z424,\"=impacto\",Y415:Y424)+SUMIF(Z415:Z424,\"=Ambos\",Y415:Y424))/(COUNTIF(Z415:Z424,\"Impacto\")+COUNTIF(Z415:Z424,\"Ambos\"))),\"\",(SUMIF(Z415:Z424,\"=impacto\",Y415:Y424)+SUMIF(Z415:Z424,\"=Ambos\",Y415:Y424))/(COUNTIF(Z415:Z424,\"Impacto\")+COUNTIF(Z415:Z424,\"Ambos\")))","v":""},{"$f":"IF(ISERROR((SUMIF(Z415:Z424,\"=Probabilidad\",Y415:Y424)+SUMIF(Z415:Z424,\"=Ambos\",Y415:Y424))/(COUNTIF(Z415:Z424,\"Probabilidad\")+COUNTIF(Z415:Z424,\"Ambos\"))),\"\",(SUMIF(Z415:Z424,\"=Probabilidad\",Y415:Y424)+SUMIF(Z415:Z424,\"=Ambos\",Y415:Y424))/(COUNTIF(Z415:Z424,\"Probabilidad\")+COUNTIF(Z415:Z424,\"Ambos\")))","v":""},{"$f":"IF(ISERROR(ROUND(IF(AB415=\"\",AA415,IF(AA415=\"\",AB415,IF(AND(AB415=\"\",AA415=\"\"),\"\",AB415*AA415)))*100,0)/100),\"\",ROUND(IF(AB415=\"\",AA415,IF(AA415=\"\",AB415,IF(AND(AB415=\"\",AA415=\"\"),\"\",AB415*AA415)))*100,0)/100)","v":""},{"$f":"IF(AC415=\"\",\"\",VLOOKUP(AC415*5,Calif_Control,2,1))","v":""}]
[null,null,null,null,null,null,null,null,null,null,null,null,null,null,null,null,{"$f":"IF(COUNTA(I416:P416)<8,\"\",VLOOKUP(ROUND((LEFT(I416,1)*'Criterios de Riesgo'!$F$8+LEFT(J416,1)*'Criterios de Riesgo'!$F$9+LEFT(K416,1)*'Criterios de Riesgo'!$F$10+LEFT(L416,1)*'Criterios de Riesgo'!$F$11+LEFT(M416,1)*'Criterios de Riesgo'!$F$12+LEFT(N416,1)*'Criterios de Riesgo'!$F$13+LEFT(O416,1)*'Criterios de Riesgo'!$F$14+LEFT(P416,1)*'Criterios de Riesgo'!$F$15),2),Calif_Control,2,1))","v":""},{"$f":"IF(COUNTA(I416:P416)<8,\"\",(ROUND((LEFT(I416,1)*'Criterios de Riesgo'!$F$8+LEFT(J416,1)*'Criterios de Riesgo'!$F$9+LEFT(K416,1)*'Criterios de Riesgo'!$F$10+LEFT(L416,1)*'Criterios de Riesgo'!$F$11+LEFT(M416,1)*'Criterios de Riesgo'!$F$12+LEFT(N416,1)*'Criterios de Riesgo'!$F$13+LEFT(O416,1)*'Criterios de Riesgo'!$F$14+LEFT(P416,1)*'Criterios de Riesgo'!$F$15),2))/5)","v":""},null,null,null,null,{"$f":"IF(COUNTA(S416:V416)<4,\"\",IF(V416=\"No\",\"No se usa\",VLOOKUP(ROUND((LEFT(S416,1)*'Criterios de Riesgo'!$C$13+LEFT(T416,1)*'Criterios de Riesgo'!$C$14+LEFT(U416,1)*'Criterios de Riesgo'!$C$15),2),Calif_Covertura,2,1)))","v":""},{"$f":"IF(COUNTA(S416:V416)<4,\"\",IF(V416=\"No\",0,(ROUND((LEFT(S416,1)*'Criterios de Riesgo'!$C$13+LEFT(T416,1)*'Criterios de Riesgo'!$C$14+LEFT(U416,1)*'Criterios de Riesgo'!$C$15),2))/5))","v":""},""]
[null,null,null,null,null,null,null,null,null,null,null,null,null,null,null,null,{"$f":"IF(COUNTA(I417:P417)<8,\"\",VLOOKUP(ROUND((LEFT(I417,1)*'Criterios de Riesgo'!$F$8+LEFT(J417,1)*'Criterios de Riesgo'!$F$9+LEFT(K417,1)*'Criterios de Riesgo'!$F$10+LEFT(L417,1)*'Criterios de Riesgo'!$F$11+LEFT(M417,1)*'Criterios de Riesgo'!$F$12+LEFT(N417,1)*'Criterios de Riesgo'!$F$13+LEFT(O417,1)*'Criterios de Riesgo'!$F$14+LEFT(P417,1)*'Criterios de Riesgo'!$F$15),2),Calif_Control,2,1))","v":""},{"$f":"IF(COUNTA(I417:P417)<8,\"\",(ROUND((LEFT(I417,1)*'Criterios de Riesgo'!$F$8+LEFT(J417,1)*'Criterios de Riesgo'!$F$9+LEFT(K417,1)*'Criterios de Riesgo'!$F$10+LEFT(L417,1)*'Criterios de Riesgo'!$F$11+LEFT(M417,1)*'Criterios de Riesgo'!$F$12+LEFT(N417,1)*'Criterios de Riesgo'!$F$13+LEFT(O417,1)*'Criterios de Riesgo'!$F$14+LEFT(P417,1)*'Criterios de Riesgo'!$F$15),2))/5)","v":""},null,null,null,null,{"$f":"IF(COUNTA(S417:V417)<4,\"\",IF(V417=\"No\",\"No se usa\",VLOOKUP(ROUND((LEFT(S417,1)*'Criterios de Riesgo'!$C$13+LEFT(T417,1)*'Criterios de Riesgo'!$C$14+LEFT(U417,1)*'Criterios de Riesgo'!$C$15),2),Calif_Covertura,2,1)))","v":""},{"$f":"IF(COUNTA(S417:V417)<4,\"\",IF(V417=\"No\",0,(ROUND((LEFT(S417,1)*'Criterios de Riesgo'!$C$13+LEFT(T417,1)*'Criterios de Riesgo'!$C$14+LEFT(U417,1)*'Criterios de Riesgo'!$C$15),2))/5))","v":""},""]
[null,null,null,null,null,null,null,null,null,null,null,null,null,null,null,null,{"$f":"IF(COUNTA(I418:P418)<8,\"\",VLOOKUP(ROUND((LEFT(I418,1)*'Criterios de Riesgo'!$F$8+LEFT(J418,1)*'Criterios de Riesgo'!$F$9+LEFT(K418,1)*'Criterios de Riesgo'!$F$10+LEFT(L418,1)*'Criterios de Riesgo'!$F$11+LEFT(M418,1)*'Criterios de Riesgo'!$F$12+LEFT(N418,1)*'Criterios de Riesgo'!$F$13+LEFT(O418,1)*'Criterios de Riesgo'!$F$14+LEFT(P418,1)*'Criterios de Riesgo'!$F$15),2),Calif_Control,2,1))","v":""},{"$f":"IF(COUNTA(I418:P418)<8,\"\",(ROUND((LEFT(I418,1)*'Criterios de Riesgo'!$F$8+LEFT(J418,1)*'Criterios de Riesgo'!$F$9+LEFT(K418,1)*'Criterios de Riesgo'!$F$10+LEFT(L418,1)*'Criterios de Riesgo'!$F$11+LEFT(M418,1)*'Criterios de Riesgo'!$F$12+LEFT(N418,1)*'Criterios de Riesgo'!$F$13+LEFT(O418,1)*'Criterios de Riesgo'!$F$14+LEFT(P418,1)*'Criterios de Riesgo'!$F$15),2))/5)","v":""},null,null,null,null,{"$f":"IF(COUNTA(S418:V418)<4,\"\",IF(V418=\"No\",\"No se usa\",VLOOKUP(ROUND((LEFT(S418,1)*'Criterios de Riesgo'!$C$13+LEFT(T418,1)*'Criterios de Riesgo'!$C$14+LEFT(U418,1)*'Criterios de Riesgo'!$C$15),2),Calif_Covertura,2,1)))","v":""},{"$f":"IF(COUNTA(S418:V418)<4,\"\",IF(V418=\"No\",0,(ROUND((LEFT(S418,1)*'Criterios de Riesgo'!$C$13+LEFT(T418,1)*'Criterios de Riesgo'!$C$14+LEFT(U418,1)*'Criterios de Riesgo'!$C$15),2))/5))","v":""},""]
[null,null,null,null,null,null,null,null,null,null,null,null,null,null,null,null,{"$f":"IF(COUNTA(I419:P419)<8,\"\",VLOOKUP(ROUND((LEFT(I419,1)*'Criterios de Riesgo'!$F$8+LEFT(J419,1)*'Criterios de Riesgo'!$F$9+LEFT(K419,1)*'Criterios de Riesgo'!$F$10+LEFT(L419,1)*'Criterios de Riesgo'!$F$11+LEFT(M419,1)*'Criterios de Riesgo'!$F$12+LEFT(N419,1)*'Criterios de Riesgo'!$F$13+LEFT(O419,1)*'Criterios de Riesgo'!$F$14+LEFT(P419,1)*'Criterios de Riesgo'!$F$15),2),Calif_Control,2,1))","v":""},{"$f":"IF(COUNTA(I419:P419)<8,\"\",(ROUND((LEFT(I419,1)*'Criterios de Riesgo'!$F$8+LEFT(J419,1)*'Criterios de Riesgo'!$F$9+LEFT(K419,1)*'Criterios de Riesgo'!$F$10+LEFT(L419,1)*'Criterios de Riesgo'!$F$11+LEFT(M419,1)*'Criterios de Riesgo'!$F$12+LEFT(N419,1)*'Criterios de Riesgo'!$F$13+LEFT(O419,1)*'Criterios de Riesgo'!$F$14+LEFT(P419,1)*'Criterios de Riesgo'!$F$15),2))/5)","v":""},null,null,null,null,{"$f":"IF(COUNTA(S419:V419)<4,\"\",IF(V419=\"No\",\"No se usa\",VLOOKUP(ROUND((LEFT(S419,1)*'Criterios de Riesgo'!$C$13+LEFT(T419,1)*'Criterios de Riesgo'!$C$14+LEFT(U419,1)*'Criterios de Riesgo'!$C$15),2),Calif_Covertura,2,1)))","v":""},{"$f":"IF(COUNTA(S419:V419)<4,\"\",IF(V419=\"No\",0,(ROUND((LEFT(S419,1)*'Criterios de Riesgo'!$C$13+LEFT(T419,1)*'Criterios de Riesgo'!$C$14+LEFT(U419,1)*'Criterios de Riesgo'!$C$15),2))/5))","v":""},""]
[null,null,null,null,null,null,null,null,null,null,null,null,null,null,null,null,{"$f":"IF(COUNTA(I420:P420)<8,\"\",VLOOKUP(ROUND((LEFT(I420,1)*'Criterios de Riesgo'!$F$8+LEFT(J420,1)*'Criterios de Riesgo'!$F$9+LEFT(K420,1)*'Criterios de Riesgo'!$F$10+LEFT(L420,1)*'Criterios de Riesgo'!$F$11+LEFT(M420,1)*'Criterios de Riesgo'!$F$12+LEFT(N420,1)*'Criterios de Riesgo'!$F$13+LEFT(O420,1)*'Criterios de Riesgo'!$F$14+LEFT(P420,1)*'Criterios de Riesgo'!$F$15),2),Calif_Control,2,1))","v":""},{"$f":"IF(COUNTA(I420:P420)<8,\"\",(ROUND((LEFT(I420,1)*'Criterios de Riesgo'!$F$8+LEFT(J420,1)*'Criterios de Riesgo'!$F$9+LEFT(K420,1)*'Criterios de Riesgo'!$F$10+LEFT(L420,1)*'Criterios de Riesgo'!$F$11+LEFT(M420,1)*'Criterios de Riesgo'!$F$12+LEFT(N420,1)*'Criterios de Riesgo'!$F$13+LEFT(O420,1)*'Criterios de Riesgo'!$F$14+LEFT(P420,1)*'Criterios de Riesgo'!$F$15),2))/5)","v":""},null,null,null,null,{"$f":"IF(COUNTA(S420:V420)<4,\"\",IF(V420=\"No\",\"No se usa\",VLOOKUP(ROUND((LEFT(S420,1)*'Criterios de Riesgo'!$C$13+LEFT(T420,1)*'Criterios de Riesgo'!$C$14+LEFT(U420,1)*'Criterios de Riesgo'!$C$15),2),Calif_Covertura,2,1)))","v":""},{"$f":"IF(COUNTA(S420:V420)<4,\"\",IF(V420=\"No\",0,(ROUND((LEFT(S420,1)*'Criterios de Riesgo'!$C$13+LEFT(T420,1)*'Criterios de Riesgo'!$C$14+LEFT(U420,1)*'Criterios de Riesgo'!$C$15),2))/5))","v":""},""]
[null,null,null,null,null,null,null,null,null,null,null,null,null,null,null,null,{"$f":"IF(COUNTA(I421:P421)<8,\"\",VLOOKUP(ROUND((LEFT(I421,1)*'Criterios de Riesgo'!$F$8+LEFT(J421,1)*'Criterios de Riesgo'!$F$9+LEFT(K421,1)*'Criterios de Riesgo'!$F$10+LEFT(L421,1)*'Criterios de Riesgo'!$F$11+LEFT(M421,1)*'Criterios de Riesgo'!$F$12+LEFT(N421,1)*'Criterios de Riesgo'!$F$13+LEFT(O421,1)*'Criterios de Riesgo'!$F$14+LEFT(P421,1)*'Criterios de Riesgo'!$F$15),2),Calif_Control,2,1))","v":""},{"$f":"IF(COUNTA(I421:P421)<8,\"\",(ROUND((LEFT(I421,1)*'Criterios de Riesgo'!$F$8+LEFT(J421,1)*'Criterios de Riesgo'!$F$9+LEFT(K421,1)*'Criterios de Riesgo'!$F$10+LEFT(L421,1)*'Criterios de Riesgo'!$F$11+LEFT(M421,1)*'Criterios de Riesgo'!$F$12+LEFT(N421,1)*'Criterios de Riesgo'!$F$13+LEFT(O421,1)*'Criterios de Riesgo'!$F$14+LEFT(P421,1)*'Criterios de Riesgo'!$F$15),2))/5)","v":""},null,null,null,null,{"$f":"IF(COUNTA(S421:V421)<4,\"\",IF(V421=\"No\",\"No se usa\",VLOOKUP(ROUND((LEFT(S421,1)*'Criterios de Riesgo'!$C$13+LEFT(T421,1)*'Criterios de Riesgo'!$C$14+LEFT(U421,1)*'Criterios de Riesgo'!$C$15),2),Calif_Covertura,2,1)))","v":""},{"$f":"IF(COUNTA(S421:V421)<4,\"\",IF(V421=\"No\",0,(ROUND((LEFT(S421,1)*'Criterios de Riesgo'!$C$13+LEFT(T421,1)*'Criterios de Riesgo'!$C$14+LEFT(U421,1)*'Criterios de Riesgo'!$C$15),2))/5))","v":""},""]
[null,null,null,null,null,null,null,null,null,null,null,null,null,null,null,null,{"$f":"IF(COUNTA(I422:P422)<8,\"\",VLOOKUP(ROUND((LEFT(I422,1)*'Criterios de Riesgo'!$F$8+LEFT(J422,1)*'Criterios de Riesgo'!$F$9+LEFT(K422,1)*'Criterios de Riesgo'!$F$10+LEFT(L422,1)*'Criterios de Riesgo'!$F$11+LEFT(M422,1)*'Criterios de Riesgo'!$F$12+LEFT(N422,1)*'Criterios de Riesgo'!$F$13+LEFT(O422,1)*'Criterios de Riesgo'!$F$14+LEFT(P422,1)*'Criterios de Riesgo'!$F$15),2),Calif_Control,2,1))","v":""},{"$f":"IF(COUNTA(I422:P422)<8,\"\",(ROUND((LEFT(I422,1)*'Criterios de Riesgo'!$F$8+LEFT(J422,1)*'Criterios de Riesgo'!$F$9+LEFT(K422,1)*'Criterios de Riesgo'!$F$10+LEFT(L422,1)*'Criterios de Riesgo'!$F$11+LEFT(M422,1)*'Criterios de Riesgo'!$F$12+LEFT(N422,1)*'Criterios de Riesgo'!$F$13+LEFT(O422,1)*'Criterios de Riesgo'!$F$14+LEFT(P422,1)*'Criterios de Riesgo'!$F$15),2))/5)","v":""},null,null,null,null,{"$f":"IF(COUNTA(S422:V422)<4,\"\",IF(V422=\"No\",\"No se usa\",VLOOKUP(ROUND((LEFT(S422,1)*'Criterios de Riesgo'!$C$13+LEFT(T422,1)*'Criterios de Riesgo'!$C$14+LEFT(U422,1)*'Criterios de Riesgo'!$C$15),2),Calif_Covertura,2,1)))","v":""},{"$f":"IF(COUNTA(S422:V422)<4,\"\",IF(V422=\"No\",0,(ROUND((LEFT(S422,1)*'Criterios de Riesgo'!$C$13+LEFT(T422,1)*'Criterios de Riesgo'!$C$14+LEFT(U422,1)*'Criterios de Riesgo'!$C$15),2))/5))","v":""},""]
[null,null,null,null,null,null,null,null,null,null,null,null,null,null,null,null,{"$f":"IF(COUNTA(I423:P423)<8,\"\",VLOOKUP(ROUND((LEFT(I423,1)*'Criterios de Riesgo'!$F$8+LEFT(J423,1)*'Criterios de Riesgo'!$F$9+LEFT(K423,1)*'Criterios de Riesgo'!$F$10+LEFT(L423,1)*'Criterios de Riesgo'!$F$11+LEFT(M423,1)*'Criterios de Riesgo'!$F$12+LEFT(N423,1)*'Criterios de Riesgo'!$F$13+LEFT(O423,1)*'Criterios de Riesgo'!$F$14+LEFT(P423,1)*'Criterios de Riesgo'!$F$15),2),Calif_Control,2,1))","v":""},{"$f":"IF(COUNTA(I423:P423)<8,\"\",(ROUND((LEFT(I423,1)*'Criterios de Riesgo'!$F$8+LEFT(J423,1)*'Criterios de Riesgo'!$F$9+LEFT(K423,1)*'Criterios de Riesgo'!$F$10+LEFT(L423,1)*'Criterios de Riesgo'!$F$11+LEFT(M423,1)*'Criterios de Riesgo'!$F$12+LEFT(N423,1)*'Criterios de Riesgo'!$F$13+LEFT(O423,1)*'Criterios de Riesgo'!$F$14+LEFT(P423,1)*'Criterios de Riesgo'!$F$15),2))/5)","v":""},null,null,null,null,{"$f":"IF(COUNTA(S423:V423)<4,\"\",IF(V423=\"No\",\"No se usa\",VLOOKUP(ROUND((LEFT(S423,1)*'Criterios de Riesgo'!$C$13+LEFT(T423,1)*'Criterios de Riesgo'!$C$14+LEFT(U423,1)*'Criterios de Riesgo'!$C$15),2),Calif_Covertura,2,1)))","v":""},{"$f":"IF(COUNTA(S423:V423)<4,\"\",IF(V423=\"No\",0,(ROUND((LEFT(S423,1)*'Criterios de Riesgo'!$C$13+LEFT(T423,1)*'Criterios de Riesgo'!$C$14+LEFT(U423,1)*'Criterios de Riesgo'!$C$15),2))/5))","v":""},""]
[null,null,null,null,null,null,null,null,null,null,null,null,null,null,null,null,{"$f":"IF(COUNTA(I424:P424)<8,\"\",VLOOKUP(ROUND((LEFT(I424,1)*'Criterios de Riesgo'!$F$8+LEFT(J424,1)*'Criterios de Riesgo'!$F$9+LEFT(K424,1)*'Criterios de Riesgo'!$F$10+LEFT(L424,1)*'Criterios de Riesgo'!$F$11+LEFT(M424,1)*'Criterios de Riesgo'!$F$12+LEFT(N424,1)*'Criterios de Riesgo'!$F$13+LEFT(O424,1)*'Criterios de Riesgo'!$F$14+LEFT(P424,1)*'Criterios de Riesgo'!$F$15),2),Calif_Control,2,1))","v":""},{"$f":"IF(COUNTA(I424:P424)<8,\"\",(ROUND((LEFT(I424,1)*'Criterios de Riesgo'!$F$8+LEFT(J424,1)*'Criterios de Riesgo'!$F$9+LEFT(K424,1)*'Criterios de Riesgo'!$F$10+LEFT(L424,1)*'Criterios de Riesgo'!$F$11+LEFT(M424,1)*'Criterios de Riesgo'!$F$12+LEFT(N424,1)*'Criterios de Riesgo'!$F$13+LEFT(O424,1)*'Criterios de Riesgo'!$F$14+LEFT(P424,1)*'Criterios de Riesgo'!$F$15),2))/5)","v":""},null,null,null,null,{"$f":"IF(COUNTA(S424:V424)<4,\"\",IF(V424=\"No\",\"No se usa\",VLOOKUP(ROUND((LEFT(S424,1)*'Criterios de Riesgo'!$C$13+LEFT(T424,1)*'Criterios de Riesgo'!$C$14+LEFT(U424,1)*'Criterios de Riesgo'!$C$15),2),Calif_Covertura,2,1)))","v":""},{"$f":"IF(COUNTA(S424:V424)<4,\"\",IF(V424=\"No\",0,(ROUND((LEFT(S424,1)*'Criterios de Riesgo'!$C$13+LEFT(T424,1)*'Criterios de Riesgo'!$C$14+LEFT(U424,1)*'Criterios de Riesgo'!$C$15),2))/5))","v":""},""]
["R",null,null,null,null,null,null,null,null,null,null,null,null,null,null,null,{"$f":"IF(COUNTA(I425:P425)<8,\"\",VLOOKUP(ROUND((LEFT(I425,1)*'Criterios de Riesgo'!$F$8+LEFT(J425,1)*'Criterios de Riesgo'!$F$9+LEFT(K425,1)*'Criterios de Riesgo'!$F$10+LEFT(L425,1)*'Criterios de Riesgo'!$F$11+LEFT(M425,1)*'Criterios de Riesgo'!$F$12+LEFT(N425,1)*'Criterios de Riesgo'!$F$13+LEFT(O425,1)*'Criterios de Riesgo'!$F$14+LEFT(P425,1)*'Criterios de Riesgo'!$F$15),2),Calif_Control,2,1))","v":""},{"$f":"IF(COUNTA(I425:P425)<8,\"\",(ROUND((LEFT(I425,1)*'Criterios de Riesgo'!$F$8+LEFT(J425,1)*'Criterios de Riesgo'!$F$9+LEFT(K425,1)*'Criterios de Riesgo'!$F$10+LEFT(L425,1)*'Criterios de Riesgo'!$F$11+LEFT(M425,1)*'Criterios de Riesgo'!$F$12+LEFT(N425,1)*'Criterios de Riesgo'!$F$13+LEFT(O425,1)*'Criterios de Riesgo'!$F$14+LEFT(P425,1)*'Criterios de Riesgo'!$F$15),2))/5)","v":""},null,null,null,null,{"$f":"IF(COUNTA(S425:V425)<4,\"\",IF(V425=\"No\",\"No se usa\",VLOOKUP(ROUND((LEFT(S425,1)*'Criterios de Riesgo'!$C$13+LEFT(T425,1)*'Criterios de Riesgo'!$C$14+LEFT(U425,1)*'Criterios de Riesgo'!$C$15),2),Calif_Covertura,2,1)))","v":""},{"$f":"IF(COUNTA(S425:V425)<4,\"\",IF(V425=\"No\",0,(ROUND((LEFT(S425,1)*'Criterios de Riesgo'!$C$13+LEFT(T425,1)*'Criterios de Riesgo'!$C$14+LEFT(U425,1)*'Criterios de Riesgo'!$C$15),2))/5))","v":""},"",null,{"$f":"IF(ISERROR((SUMIF(Z425:Z434,\"=impacto\",Y425:Y434)+SUMIF(Z425:Z434,\"=Ambos\",Y425:Y434))/(COUNTIF(Z425:Z434,\"Impacto\")+COUNTIF(Z425:Z434,\"Ambos\"))),\"\",(SUMIF(Z425:Z434,\"=impacto\",Y425:Y434)+SUMIF(Z425:Z434,\"=Ambos\",Y425:Y434))/(COUNTIF(Z425:Z434,\"Impacto\")+COUNTIF(Z425:Z434,\"Ambos\")))","v":""},{"$f":"IF(ISERROR((SUMIF(Z425:Z434,\"=Probabilidad\",Y425:Y434)+SUMIF(Z425:Z434,\"=Ambos\",Y425:Y434))/(COUNTIF(Z425:Z434,\"Probabilidad\")+COUNTIF(Z425:Z434,\"Ambos\"))),\"\",(SUMIF(Z425:Z434,\"=Probabilidad\",Y425:Y434)+SUMIF(Z425:Z434,\"=Ambos\",Y425:Y434))/(COUNTIF(Z425:Z434,\"Probabilidad\")+COUNTIF(Z425:Z434,\"Ambos\")))","v":""},{"$f":"IF(ISERROR(ROUND(IF(AB425=\"\",AA425,IF(AA425=\"\",AB425,IF(AND(AB425=\"\",AA425=\"\"),\"\",AB425*AA425)))*100,0)/100),\"\",ROUND(IF(AB425=\"\",AA425,IF(AA425=\"\",AB425,IF(AND(AB425=\"\",AA425=\"\"),\"\",AB425*AA425)))*100,0)/100)","v":""},{"$f":"IF(AC425=\"\",\"\",VLOOKUP(AC425*5,Calif_Control,2,1))","v":""}]
[null,null,null,null,null,null,null,null,null,null,null,null,null,null,null,null,{"$f":"IF(COUNTA(I426:P426)<8,\"\",VLOOKUP(ROUND((LEFT(I426,1)*'Criterios de Riesgo'!$F$8+LEFT(J426,1)*'Criterios de Riesgo'!$F$9+LEFT(K426,1)*'Criterios de Riesgo'!$F$10+LEFT(L426,1)*'Criterios de Riesgo'!$F$11+LEFT(M426,1)*'Criterios de Riesgo'!$F$12+LEFT(N426,1)*'Criterios de Riesgo'!$F$13+LEFT(O426,1)*'Criterios de Riesgo'!$F$14+LEFT(P426,1)*'Criterios de Riesgo'!$F$15),2),Calif_Control,2,1))","v":""},{"$f":"IF(COUNTA(I426:P426)<8,\"\",(ROUND((LEFT(I426,1)*'Criterios de Riesgo'!$F$8+LEFT(J426,1)*'Criterios de Riesgo'!$F$9+LEFT(K426,1)*'Criterios de Riesgo'!$F$10+LEFT(L426,1)*'Criterios de Riesgo'!$F$11+LEFT(M426,1)*'Criterios de Riesgo'!$F$12+LEFT(N426,1)*'Criterios de Riesgo'!$F$13+LEFT(O426,1)*'Criterios de Riesgo'!$F$14+LEFT(P426,1)*'Criterios de Riesgo'!$F$15),2))/5)","v":""},null,null,null,null,{"$f":"IF(COUNTA(S426:V426)<4,\"\",IF(V426=\"No\",\"No se usa\",VLOOKUP(ROUND((LEFT(S426,1)*'Criterios de Riesgo'!$C$13+LEFT(T426,1)*'Criterios de Riesgo'!$C$14+LEFT(U426,1)*'Criterios de Riesgo'!$C$15),2),Calif_Covertura,2,1)))","v":""},{"$f":"IF(COUNTA(S426:V426)<4,\"\",IF(V426=\"No\",0,(ROUND((LEFT(S426,1)*'Criterios de Riesgo'!$C$13+LEFT(T426,1)*'Criterios de Riesgo'!$C$14+LEFT(U426,1)*'Criterios de Riesgo'!$C$15),2))/5))","v":""},""]
[null,null,null,null,null,null,null,null,null,null,null,null,null,null,null,null,{"$f":"IF(COUNTA(I427:P427)<8,\"\",VLOOKUP(ROUND((LEFT(I427,1)*'Criterios de Riesgo'!$F$8+LEFT(J427,1)*'Criterios de Riesgo'!$F$9+LEFT(K427,1)*'Criterios de Riesgo'!$F$10+LEFT(L427,1)*'Criterios de Riesgo'!$F$11+LEFT(M427,1)*'Criterios de Riesgo'!$F$12+LEFT(N427,1)*'Criterios de Riesgo'!$F$13+LEFT(O427,1)*'Criterios de Riesgo'!$F$14+LEFT(P427,1)*'Criterios de Riesgo'!$F$15),2),Calif_Control,2,1))","v":""},{"$f":"IF(COUNTA(I427:P427)<8,\"\",(ROUND((LEFT(I427,1)*'Criterios de Riesgo'!$F$8+LEFT(J427,1)*'Criterios de Riesgo'!$F$9+LEFT(K427,1)*'Criterios de Riesgo'!$F$10+LEFT(L427,1)*'Criterios de Riesgo'!$F$11+LEFT(M427,1)*'Criterios de Riesgo'!$F$12+LEFT(N427,1)*'Criterios de Riesgo'!$F$13+LEFT(O427,1)*'Criterios de Riesgo'!$F$14+LEFT(P427,1)*'Criterios de Riesgo'!$F$15),2))/5)","v":""},null,null,null,null,{"$f":"IF(COUNTA(S427:V427)<4,\"\",IF(V427=\"No\",\"No se usa\",VLOOKUP(ROUND((LEFT(S427,1)*'Criterios de Riesgo'!$C$13+LEFT(T427,1)*'Criterios de Riesgo'!$C$14+LEFT(U427,1)*'Criterios de Riesgo'!$C$15),2),Calif_Covertura,2,1)))","v":""},{"$f":"IF(COUNTA(S427:V427)<4,\"\",IF(V427=\"No\",0,(ROUND((LEFT(S427,1)*'Criterios de Riesgo'!$C$13+LEFT(T427,1)*'Criterios de Riesgo'!$C$14+LEFT(U427,1)*'Criterios de Riesgo'!$C$15),2))/5))","v":""},""]
[null,null,null,null,null,null,null,null,null,null,null,null,null,null,null,null,{"$f":"IF(COUNTA(I428:P428)<8,\"\",VLOOKUP(ROUND((LEFT(I428,1)*'Criterios de Riesgo'!$F$8+LEFT(J428,1)*'Criterios de Riesgo'!$F$9+LEFT(K428,1)*'Criterios de Riesgo'!$F$10+LEFT(L428,1)*'Criterios de Riesgo'!$F$11+LEFT(M428,1)*'Criterios de Riesgo'!$F$12+LEFT(N428,1)*'Criterios de Riesgo'!$F$13+LEFT(O428,1)*'Criterios de Riesgo'!$F$14+LEFT(P428,1)*'Criterios de Riesgo'!$F$15),2),Calif_Control,2,1))","v":""},{"$f":"IF(COUNTA(I428:P428)<8,\"\",(ROUND((LEFT(I428,1)*'Criterios de Riesgo'!$F$8+LEFT(J428,1)*'Criterios de Riesgo'!$F$9+LEFT(K428,1)*'Criterios de Riesgo'!$F$10+LEFT(L428,1)*'Criterios de Riesgo'!$F$11+LEFT(M428,1)*'Criterios de Riesgo'!$F$12+LEFT(N428,1)*'Criterios de Riesgo'!$F$13+LEFT(O428,1)*'Criterios de Riesgo'!$F$14+LEFT(P428,1)*'Criterios de Riesgo'!$F$15),2))/5)","v":""},null,null,null,null,{"$f":"IF(COUNTA(S428:V428)<4,\"\",IF(V428=\"No\",\"No se usa\",VLOOKUP(ROUND((LEFT(S428,1)*'Criterios de Riesgo'!$C$13+LEFT(T428,1)*'Criterios de Riesgo'!$C$14+LEFT(U428,1)*'Criterios de Riesgo'!$C$15),2),Calif_Covertura,2,1)))","v":""},{"$f":"IF(COUNTA(S428:V428)<4,\"\",IF(V428=\"No\",0,(ROUND((LEFT(S428,1)*'Criterios de Riesgo'!$C$13+LEFT(T428,1)*'Criterios de Riesgo'!$C$14+LEFT(U428,1)*'Criterios de Riesgo'!$C$15),2))/5))","v":""},""]
[null,null,null,null,null,null,null,null,null,null,null,null,null,null,null,null,{"$f":"IF(COUNTA(I429:P429)<8,\"\",VLOOKUP(ROUND((LEFT(I429,1)*'Criterios de Riesgo'!$F$8+LEFT(J429,1)*'Criterios de Riesgo'!$F$9+LEFT(K429,1)*'Criterios de Riesgo'!$F$10+LEFT(L429,1)*'Criterios de Riesgo'!$F$11+LEFT(M429,1)*'Criterios de Riesgo'!$F$12+LEFT(N429,1)*'Criterios de Riesgo'!$F$13+LEFT(O429,1)*'Criterios de Riesgo'!$F$14+LEFT(P429,1)*'Criterios de Riesgo'!$F$15),2),Calif_Control,2,1))","v":""},{"$f":"IF(COUNTA(I429:P429)<8,\"\",(ROUND((LEFT(I429,1)*'Criterios de Riesgo'!$F$8+LEFT(J429,1)*'Criterios de Riesgo'!$F$9+LEFT(K429,1)*'Criterios de Riesgo'!$F$10+LEFT(L429,1)*'Criterios de Riesgo'!$F$11+LEFT(M429,1)*'Criterios de Riesgo'!$F$12+LEFT(N429,1)*'Criterios de Riesgo'!$F$13+LEFT(O429,1)*'Criterios de Riesgo'!$F$14+LEFT(P429,1)*'Criterios de Riesgo'!$F$15),2))/5)","v":""},null,null,null,null,{"$f":"IF(COUNTA(S429:V429)<4,\"\",IF(V429=\"No\",\"No se usa\",VLOOKUP(ROUND((LEFT(S429,1)*'Criterios de Riesgo'!$C$13+LEFT(T429,1)*'Criterios de Riesgo'!$C$14+LEFT(U429,1)*'Criterios de Riesgo'!$C$15),2),Calif_Covertura,2,1)))","v":""},{"$f":"IF(COUNTA(S429:V429)<4,\"\",IF(V429=\"No\",0,(ROUND((LEFT(S429,1)*'Criterios de Riesgo'!$C$13+LEFT(T429,1)*'Criterios de Riesgo'!$C$14+LEFT(U429,1)*'Criterios de Riesgo'!$C$15),2))/5))","v":""},""]
[null,null,null,null,null,null,null,null,null,null,null,null,null,null,null,null,{"$f":"IF(COUNTA(I430:P430)<8,\"\",VLOOKUP(ROUND((LEFT(I430,1)*'Criterios de Riesgo'!$F$8+LEFT(J430,1)*'Criterios de Riesgo'!$F$9+LEFT(K430,1)*'Criterios de Riesgo'!$F$10+LEFT(L430,1)*'Criterios de Riesgo'!$F$11+LEFT(M430,1)*'Criterios de Riesgo'!$F$12+LEFT(N430,1)*'Criterios de Riesgo'!$F$13+LEFT(O430,1)*'Criterios de Riesgo'!$F$14+LEFT(P430,1)*'Criterios de Riesgo'!$F$15),2),Calif_Control,2,1))","v":""},{"$f":"IF(COUNTA(I430:P430)<8,\"\",(ROUND((LEFT(I430,1)*'Criterios de Riesgo'!$F$8+LEFT(J430,1)*'Criterios de Riesgo'!$F$9+LEFT(K430,1)*'Criterios de Riesgo'!$F$10+LEFT(L430,1)*'Criterios de Riesgo'!$F$11+LEFT(M430,1)*'Criterios de Riesgo'!$F$12+LEFT(N430,1)*'Criterios de Riesgo'!$F$13+LEFT(O430,1)*'Criterios de Riesgo'!$F$14+LEFT(P430,1)*'Criterios de Riesgo'!$F$15),2))/5)","v":""},null,null,null,null,{"$f":"IF(COUNTA(S430:V430)<4,\"\",IF(V430=\"No\",\"No se usa\",VLOOKUP(ROUND((LEFT(S430,1)*'Criterios de Riesgo'!$C$13+LEFT(T430,1)*'Criterios de Riesgo'!$C$14+LEFT(U430,1)*'Criterios de Riesgo'!$C$15),2),Calif_Covertura,2,1)))","v":""},{"$f":"IF(COUNTA(S430:V430)<4,\"\",IF(V430=\"No\",0,(ROUND((LEFT(S430,1)*'Criterios de Riesgo'!$C$13+LEFT(T430,1)*'Criterios de Riesgo'!$C$14+LEFT(U430,1)*'Criterios de Riesgo'!$C$15),2))/5))","v":""},""]
[null,null,null,null,null,null,null,null,null,null,null,null,null,null,null,null,{"$f":"IF(COUNTA(I431:P431)<8,\"\",VLOOKUP(ROUND((LEFT(I431,1)*'Criterios de Riesgo'!$F$8+LEFT(J431,1)*'Criterios de Riesgo'!$F$9+LEFT(K431,1)*'Criterios de Riesgo'!$F$10+LEFT(L431,1)*'Criterios de Riesgo'!$F$11+LEFT(M431,1)*'Criterios de Riesgo'!$F$12+LEFT(N431,1)*'Criterios de Riesgo'!$F$13+LEFT(O431,1)*'Criterios de Riesgo'!$F$14+LEFT(P431,1)*'Criterios de Riesgo'!$F$15),2),Calif_Control,2,1))","v":""},{"$f":"IF(COUNTA(I431:P431)<8,\"\",(ROUND((LEFT(I431,1)*'Criterios de Riesgo'!$F$8+LEFT(J431,1)*'Criterios de Riesgo'!$F$9+LEFT(K431,1)*'Criterios de Riesgo'!$F$10+LEFT(L431,1)*'Criterios de Riesgo'!$F$11+LEFT(M431,1)*'Criterios de Riesgo'!$F$12+LEFT(N431,1)*'Criterios de Riesgo'!$F$13+LEFT(O431,1)*'Criterios de Riesgo'!$F$14+LEFT(P431,1)*'Criterios de Riesgo'!$F$15),2))/5)","v":""},null,null,null,null,{"$f":"IF(COUNTA(S431:V431)<4,\"\",IF(V431=\"No\",\"No se usa\",VLOOKUP(ROUND((LEFT(S431,1)*'Criterios de Riesgo'!$C$13+LEFT(T431,1)*'Criterios de Riesgo'!$C$14+LEFT(U431,1)*'Criterios de Riesgo'!$C$15),2),Calif_Covertura,2,1)))","v":""},{"$f":"IF(COUNTA(S431:V431)<4,\"\",IF(V431=\"No\",0,(ROUND((LEFT(S431,1)*'Criterios de Riesgo'!$C$13+LEFT(T431,1)*'Criterios de Riesgo'!$C$14+LEFT(U431,1)*'Criterios de Riesgo'!$C$15),2))/5))","v":""},""]
[null,null,null,null,null,null,null,null,null,null,null,null,null,null,null,null,{"$f":"IF(COUNTA(I432:P432)<8,\"\",VLOOKUP(ROUND((LEFT(I432,1)*'Criterios de Riesgo'!$F$8+LEFT(J432,1)*'Criterios de Riesgo'!$F$9+LEFT(K432,1)*'Criterios de Riesgo'!$F$10+LEFT(L432,1)*'Criterios de Riesgo'!$F$11+LEFT(M432,1)*'Criterios de Riesgo'!$F$12+LEFT(N432,1)*'Criterios de Riesgo'!$F$13+LEFT(O432,1)*'Criterios de Riesgo'!$F$14+LEFT(P432,1)*'Criterios de Riesgo'!$F$15),2),Calif_Control,2,1))","v":""},{"$f":"IF(COUNTA(I432:P432)<8,\"\",(ROUND((LEFT(I432,1)*'Criterios de Riesgo'!$F$8+LEFT(J432,1)*'Criterios de Riesgo'!$F$9+LEFT(K432,1)*'Criterios de Riesgo'!$F$10+LEFT(L432,1)*'Criterios de Riesgo'!$F$11+LEFT(M432,1)*'Criterios de Riesgo'!$F$12+LEFT(N432,1)*'Criterios de Riesgo'!$F$13+LEFT(O432,1)*'Criterios de Riesgo'!$F$14+LEFT(P432,1)*'Criterios de Riesgo'!$F$15),2))/5)","v":""},null,null,null,null,{"$f":"IF(COUNTA(S432:V432)<4,\"\",IF(V432=\"No\",\"No se usa\",VLOOKUP(ROUND((LEFT(S432,1)*'Criterios de Riesgo'!$C$13+LEFT(T432,1)*'Criterios de Riesgo'!$C$14+LEFT(U432,1)*'Criterios de Riesgo'!$C$15),2),Calif_Covertura,2,1)))","v":""},{"$f":"IF(COUNTA(S432:V432)<4,\"\",IF(V432=\"No\",0,(ROUND((LEFT(S432,1)*'Criterios de Riesgo'!$C$13+LEFT(T432,1)*'Criterios de Riesgo'!$C$14+LEFT(U432,1)*'Criterios de Riesgo'!$C$15),2))/5))","v":""},""]
[null,null,null,null,null,null,null,null,null,null,null,null,null,null,null,null,{"$f":"IF(COUNTA(I433:P433)<8,\"\",VLOOKUP(ROUND((LEFT(I433,1)*'Criterios de Riesgo'!$F$8+LEFT(J433,1)*'Criterios de Riesgo'!$F$9+LEFT(K433,1)*'Criterios de Riesgo'!$F$10+LEFT(L433,1)*'Criterios de Riesgo'!$F$11+LEFT(M433,1)*'Criterios de Riesgo'!$F$12+LEFT(N433,1)*'Criterios de Riesgo'!$F$13+LEFT(O433,1)*'Criterios de Riesgo'!$F$14+LEFT(P433,1)*'Criterios de Riesgo'!$F$15),2),Calif_Control,2,1))","v":""},{"$f":"IF(COUNTA(I433:P433)<8,\"\",(ROUND((LEFT(I433,1)*'Criterios de Riesgo'!$F$8+LEFT(J433,1)*'Criterios de Riesgo'!$F$9+LEFT(K433,1)*'Criterios de Riesgo'!$F$10+LEFT(L433,1)*'Criterios de Riesgo'!$F$11+LEFT(M433,1)*'Criterios de Riesgo'!$F$12+LEFT(N433,1)*'Criterios de Riesgo'!$F$13+LEFT(O433,1)*'Criterios de Riesgo'!$F$14+LEFT(P433,1)*'Criterios de Riesgo'!$F$15),2))/5)","v":""},null,null,null,null,{"$f":"IF(COUNTA(S433:V433)<4,\"\",IF(V433=\"No\",\"No se usa\",VLOOKUP(ROUND((LEFT(S433,1)*'Criterios de Riesgo'!$C$13+LEFT(T433,1)*'Criterios de Riesgo'!$C$14+LEFT(U433,1)*'Criterios de Riesgo'!$C$15),2),Calif_Covertura,2,1)))","v":""},{"$f":"IF(COUNTA(S433:V433)<4,\"\",IF(V433=\"No\",0,(ROUND((LEFT(S433,1)*'Criterios de Riesgo'!$C$13+LEFT(T433,1)*'Criterios de Riesgo'!$C$14+LEFT(U433,1)*'Criterios de Riesgo'!$C$15),2))/5))","v":""},""]
[null,null,null,null,null,null,null,null,null,null,null,null,null,null,null,null,{"$f":"IF(COUNTA(I434:P434)<8,\"\",VLOOKUP(ROUND((LEFT(I434,1)*'Criterios de Riesgo'!$F$8+LEFT(J434,1)*'Criterios de Riesgo'!$F$9+LEFT(K434,1)*'Criterios de Riesgo'!$F$10+LEFT(L434,1)*'Criterios de Riesgo'!$F$11+LEFT(M434,1)*'Criterios de Riesgo'!$F$12+LEFT(N434,1)*'Criterios de Riesgo'!$F$13+LEFT(O434,1)*'Criterios de Riesgo'!$F$14+LEFT(P434,1)*'Criterios de Riesgo'!$F$15),2),Calif_Control,2,1))","v":""},{"$f":"IF(COUNTA(I434:P434)<8,\"\",(ROUND((LEFT(I434,1)*'Criterios de Riesgo'!$F$8+LEFT(J434,1)*'Criterios de Riesgo'!$F$9+LEFT(K434,1)*'Criterios de Riesgo'!$F$10+LEFT(L434,1)*'Criterios de Riesgo'!$F$11+LEFT(M434,1)*'Criterios de Riesgo'!$F$12+LEFT(N434,1)*'Criterios de Riesgo'!$F$13+LEFT(O434,1)*'Criterios de Riesgo'!$F$14+LEFT(P434,1)*'Criterios de Riesgo'!$F$15),2))/5)","v":""},null,null,null,null,{"$f":"IF(COUNTA(S434:V434)<4,\"\",IF(V434=\"No\",\"No se usa\",VLOOKUP(ROUND((LEFT(S434,1)*'Criterios de Riesgo'!$C$13+LEFT(T434,1)*'Criterios de Riesgo'!$C$14+LEFT(U434,1)*'Criterios de Riesgo'!$C$15),2),Calif_Covertura,2,1)))","v":""},{"$f":"IF(COUNTA(S434:V434)<4,\"\",IF(V434=\"No\",0,(ROUND((LEFT(S434,1)*'Criterios de Riesgo'!$C$13+LEFT(T434,1)*'Criterios de Riesgo'!$C$14+LEFT(U434,1)*'Criterios de Riesgo'!$C$15),2))/5))","v":""},""]
["R",null,null,null,null,null,null,null,null,null,null,null,null,null,null,null,{"$f":"IF(COUNTA(I435:P435)<8,\"\",VLOOKUP(ROUND((LEFT(I435,1)*'Criterios de Riesgo'!$F$8+LEFT(J435,1)*'Criterios de Riesgo'!$F$9+LEFT(K435,1)*'Criterios de Riesgo'!$F$10+LEFT(L435,1)*'Criterios de Riesgo'!$F$11+LEFT(M435,1)*'Criterios de Riesgo'!$F$12+LEFT(N435,1)*'Criterios de Riesgo'!$F$13+LEFT(O435,1)*'Criterios de Riesgo'!$F$14+LEFT(P435,1)*'Criterios de Riesgo'!$F$15),2),Calif_Control,2,1))","v":""},{"$f":"IF(COUNTA(I435:P435)<8,\"\",(ROUND((LEFT(I435,1)*'Criterios de Riesgo'!$F$8+LEFT(J435,1)*'Criterios de Riesgo'!$F$9+LEFT(K435,1)*'Criterios de Riesgo'!$F$10+LEFT(L435,1)*'Criterios de Riesgo'!$F$11+LEFT(M435,1)*'Criterios de Riesgo'!$F$12+LEFT(N435,1)*'Criterios de Riesgo'!$F$13+LEFT(O435,1)*'Criterios de Riesgo'!$F$14+LEFT(P435,1)*'Criterios de Riesgo'!$F$15),2))/5)","v":""},null,null,null,null,{"$f":"IF(COUNTA(S435:V435)<4,\"\",IF(V435=\"No\",\"No se usa\",VLOOKUP(ROUND((LEFT(S435,1)*'Criterios de Riesgo'!$C$13+LEFT(T435,1)*'Criterios de Riesgo'!$C$14+LEFT(U435,1)*'Criterios de Riesgo'!$C$15),2),Calif_Covertura,2,1)))","v":""},{"$f":"IF(COUNTA(S435:V435)<4,\"\",IF(V435=\"No\",0,(ROUND((LEFT(S435,1)*'Criterios de Riesgo'!$C$13+LEFT(T435,1)*'Criterios de Riesgo'!$C$14+LEFT(U435,1)*'Criterios de Riesgo'!$C$15),2))/5))","v":""},"",null,{"$f":"IF(ISERROR((SUMIF(Z435:Z444,\"=impacto\",Y435:Y444)+SUMIF(Z435:Z444,\"=Ambos\",Y435:Y444))/(COUNTIF(Z435:Z444,\"Impacto\")+COUNTIF(Z435:Z444,\"Ambos\"))),\"\",(SUMIF(Z435:Z444,\"=impacto\",Y435:Y444)+SUMIF(Z435:Z444,\"=Ambos\",Y435:Y444))/(COUNTIF(Z435:Z444,\"Impacto\")+COUNTIF(Z435:Z444,\"Ambos\")))","v":""},{"$f":"IF(ISERROR((SUMIF(Z435:Z444,\"=Probabilidad\",Y435:Y444)+SUMIF(Z435:Z444,\"=Ambos\",Y435:Y444))/(COUNTIF(Z435:Z444,\"Probabilidad\")+COUNTIF(Z435:Z444,\"Ambos\"))),\"\",(SUMIF(Z435:Z444,\"=Probabilidad\",Y435:Y444)+SUMIF(Z435:Z444,\"=Ambos\",Y435:Y444))/(COUNTIF(Z435:Z444,\"Probabilidad\")+COUNTIF(Z435:Z444,\"Ambos\")))","v":""},{"$f":"IF(ISERROR(ROUND(IF(AB435=\"\",AA435,IF(AA435=\"\",AB435,IF(AND(AB435=\"\",AA435=\"\"),\"\",AB435*AA435)))*100,0)/100),\"\",ROUND(IF(AB435=\"\",AA435,IF(AA435=\"\",AB435,IF(AND(AB435=\"\",AA435=\"\"),\"\",AB435*AA435)))*100,0)/100)","v":""},{"$f":"IF(AC435=\"\",\"\",VLOOKUP(AC435*5,Calif_Control,2,1))","v":""}]
[null,null,null,null,null,null,null,null,null,null,null,null,null,null,null,null,{"$f":"IF(COUNTA(I436:P436)<8,\"\",VLOOKUP(ROUND((LEFT(I436,1)*'Criterios de Riesgo'!$F$8+LEFT(J436,1)*'Criterios de Riesgo'!$F$9+LEFT(K436,1)*'Criterios de Riesgo'!$F$10+LEFT(L436,1)*'Criterios de Riesgo'!$F$11+LEFT(M436,1)*'Criterios de Riesgo'!$F$12+LEFT(N436,1)*'Criterios de Riesgo'!$F$13+LEFT(O436,1)*'Criterios de Riesgo'!$F$14+LEFT(P436,1)*'Criterios de Riesgo'!$F$15),2),Calif_Control,2,1))","v":""},{"$f":"IF(COUNTA(I436:P436)<8,\"\",(ROUND((LEFT(I436,1)*'Criterios de Riesgo'!$F$8+LEFT(J436,1)*'Criterios de Riesgo'!$F$9+LEFT(K436,1)*'Criterios de Riesgo'!$F$10+LEFT(L436,1)*'Criterios de Riesgo'!$F$11+LEFT(M436,1)*'Criterios de Riesgo'!$F$12+LEFT(N436,1)*'Criterios de Riesgo'!$F$13+LEFT(O436,1)*'Criterios de Riesgo'!$F$14+LEFT(P436,1)*'Criterios de Riesgo'!$F$15),2))/5)","v":""},null,null,null,null,{"$f":"IF(COUNTA(S436:V436)<4,\"\",IF(V436=\"No\",\"No se usa\",VLOOKUP(ROUND((LEFT(S436,1)*'Criterios de Riesgo'!$C$13+LEFT(T436,1)*'Criterios de Riesgo'!$C$14+LEFT(U436,1)*'Criterios de Riesgo'!$C$15),2),Calif_Covertura,2,1)))","v":""},{"$f":"IF(COUNTA(S436:V436)<4,\"\",IF(V436=\"No\",0,(ROUND((LEFT(S436,1)*'Criterios de Riesgo'!$C$13+LEFT(T436,1)*'Criterios de Riesgo'!$C$14+LEFT(U436,1)*'Criterios de Riesgo'!$C$15),2))/5))","v":""},""]
[null,null,null,null,null,null,null,null,null,null,null,null,null,null,null,null,{"$f":"IF(COUNTA(I437:P437)<8,\"\",VLOOKUP(ROUND((LEFT(I437,1)*'Criterios de Riesgo'!$F$8+LEFT(J437,1)*'Criterios de Riesgo'!$F$9+LEFT(K437,1)*'Criterios de Riesgo'!$F$10+LEFT(L437,1)*'Criterios de Riesgo'!$F$11+LEFT(M437,1)*'Criterios de Riesgo'!$F$12+LEFT(N437,1)*'Criterios de Riesgo'!$F$13+LEFT(O437,1)*'Criterios de Riesgo'!$F$14+LEFT(P437,1)*'Criterios de Riesgo'!$F$15),2),Calif_Control,2,1))","v":""},{"$f":"IF(COUNTA(I437:P437)<8,\"\",(ROUND((LEFT(I437,1)*'Criterios de Riesgo'!$F$8+LEFT(J437,1)*'Criterios de Riesgo'!$F$9+LEFT(K437,1)*'Criterios de Riesgo'!$F$10+LEFT(L437,1)*'Criterios de Riesgo'!$F$11+LEFT(M437,1)*'Criterios de Riesgo'!$F$12+LEFT(N437,1)*'Criterios de Riesgo'!$F$13+LEFT(O437,1)*'Criterios de Riesgo'!$F$14+LEFT(P437,1)*'Criterios de Riesgo'!$F$15),2))/5)","v":""},null,null,null,null,{"$f":"IF(COUNTA(S437:V437)<4,\"\",IF(V437=\"No\",\"No se usa\",VLOOKUP(ROUND((LEFT(S437,1)*'Criterios de Riesgo'!$C$13+LEFT(T437,1)*'Criterios de Riesgo'!$C$14+LEFT(U437,1)*'Criterios de Riesgo'!$C$15),2),Calif_Covertura,2,1)))","v":""},{"$f":"IF(COUNTA(S437:V437)<4,\"\",IF(V437=\"No\",0,(ROUND((LEFT(S437,1)*'Criterios de Riesgo'!$C$13+LEFT(T437,1)*'Criterios de Riesgo'!$C$14+LEFT(U437,1)*'Criterios de Riesgo'!$C$15),2))/5))","v":""},""]
[null,null,null,null,null,null,null,null,null,null,null,null,null,null,null,null,{"$f":"IF(COUNTA(I438:P438)<8,\"\",VLOOKUP(ROUND((LEFT(I438,1)*'Criterios de Riesgo'!$F$8+LEFT(J438,1)*'Criterios de Riesgo'!$F$9+LEFT(K438,1)*'Criterios de Riesgo'!$F$10+LEFT(L438,1)*'Criterios de Riesgo'!$F$11+LEFT(M438,1)*'Criterios de Riesgo'!$F$12+LEFT(N438,1)*'Criterios de Riesgo'!$F$13+LEFT(O438,1)*'Criterios de Riesgo'!$F$14+LEFT(P438,1)*'Criterios de Riesgo'!$F$15),2),Calif_Control,2,1))","v":""},{"$f":"IF(COUNTA(I438:P438)<8,\"\",(ROUND((LEFT(I438,1)*'Criterios de Riesgo'!$F$8+LEFT(J438,1)*'Criterios de Riesgo'!$F$9+LEFT(K438,1)*'Criterios de Riesgo'!$F$10+LEFT(L438,1)*'Criterios de Riesgo'!$F$11+LEFT(M438,1)*'Criterios de Riesgo'!$F$12+LEFT(N438,1)*'Criterios de Riesgo'!$F$13+LEFT(O438,1)*'Criterios de Riesgo'!$F$14+LEFT(P438,1)*'Criterios de Riesgo'!$F$15),2))/5)","v":""},null,null,null,null,{"$f":"IF(COUNTA(S438:V438)<4,\"\",IF(V438=\"No\",\"No se usa\",VLOOKUP(ROUND((LEFT(S438,1)*'Criterios de Riesgo'!$C$13+LEFT(T438,1)*'Criterios de Riesgo'!$C$14+LEFT(U438,1)*'Criterios de Riesgo'!$C$15),2),Calif_Covertura,2,1)))","v":""},{"$f":"IF(COUNTA(S438:V438)<4,\"\",IF(V438=\"No\",0,(ROUND((LEFT(S438,1)*'Criterios de Riesgo'!$C$13+LEFT(T438,1)*'Criterios de Riesgo'!$C$14+LEFT(U438,1)*'Criterios de Riesgo'!$C$15),2))/5))","v":""},""]
[null,null,null,null,null,null,null,null,null,null,null,null,null,null,null,null,{"$f":"IF(COUNTA(I439:P439)<8,\"\",VLOOKUP(ROUND((LEFT(I439,1)*'Criterios de Riesgo'!$F$8+LEFT(J439,1)*'Criterios de Riesgo'!$F$9+LEFT(K439,1)*'Criterios de Riesgo'!$F$10+LEFT(L439,1)*'Criterios de Riesgo'!$F$11+LEFT(M439,1)*'Criterios de Riesgo'!$F$12+LEFT(N439,1)*'Criterios de Riesgo'!$F$13+LEFT(O439,1)*'Criterios de Riesgo'!$F$14+LEFT(P439,1)*'Criterios de Riesgo'!$F$15),2),Calif_Control,2,1))","v":""},{"$f":"IF(COUNTA(I439:P439)<8,\"\",(ROUND((LEFT(I439,1)*'Criterios de Riesgo'!$F$8+LEFT(J439,1)*'Criterios de Riesgo'!$F$9+LEFT(K439,1)*'Criterios de Riesgo'!$F$10+LEFT(L439,1)*'Criterios de Riesgo'!$F$11+LEFT(M439,1)*'Criterios de Riesgo'!$F$12+LEFT(N439,1)*'Criterios de Riesgo'!$F$13+LEFT(O439,1)*'Criterios de Riesgo'!$F$14+LEFT(P439,1)*'Criterios de Riesgo'!$F$15),2))/5)","v":""},null,null,null,null,{"$f":"IF(COUNTA(S439:V439)<4,\"\",IF(V439=\"No\",\"No se usa\",VLOOKUP(ROUND((LEFT(S439,1)*'Criterios de Riesgo'!$C$13+LEFT(T439,1)*'Criterios de Riesgo'!$C$14+LEFT(U439,1)*'Criterios de Riesgo'!$C$15),2),Calif_Covertura,2,1)))","v":""},{"$f":"IF(COUNTA(S439:V439)<4,\"\",IF(V439=\"No\",0,(ROUND((LEFT(S439,1)*'Criterios de Riesgo'!$C$13+LEFT(T439,1)*'Criterios de Riesgo'!$C$14+LEFT(U439,1)*'Criterios de Riesgo'!$C$15),2))/5))","v":""},""]
[null,null,null,null,null,null,null,null,null,null,null,null,null,null,null,null,{"$f":"IF(COUNTA(I440:P440)<8,\"\",VLOOKUP(ROUND((LEFT(I440,1)*'Criterios de Riesgo'!$F$8+LEFT(J440,1)*'Criterios de Riesgo'!$F$9+LEFT(K440,1)*'Criterios de Riesgo'!$F$10+LEFT(L440,1)*'Criterios de Riesgo'!$F$11+LEFT(M440,1)*'Criterios de Riesgo'!$F$12+LEFT(N440,1)*'Criterios de Riesgo'!$F$13+LEFT(O440,1)*'Criterios de Riesgo'!$F$14+LEFT(P440,1)*'Criterios de Riesgo'!$F$15),2),Calif_Control,2,1))","v":""},{"$f":"IF(COUNTA(I440:P440)<8,\"\",(ROUND((LEFT(I440,1)*'Criterios de Riesgo'!$F$8+LEFT(J440,1)*'Criterios de Riesgo'!$F$9+LEFT(K440,1)*'Criterios de Riesgo'!$F$10+LEFT(L440,1)*'Criterios de Riesgo'!$F$11+LEFT(M440,1)*'Criterios de Riesgo'!$F$12+LEFT(N440,1)*'Criterios de Riesgo'!$F$13+LEFT(O440,1)*'Criterios de Riesgo'!$F$14+LEFT(P440,1)*'Criterios de Riesgo'!$F$15),2))/5)","v":""},null,null,null,null,{"$f":"IF(COUNTA(S440:V440)<4,\"\",IF(V440=\"No\",\"No se usa\",VLOOKUP(ROUND((LEFT(S440,1)*'Criterios de Riesgo'!$C$13+LEFT(T440,1)*'Criterios de Riesgo'!$C$14+LEFT(U440,1)*'Criterios de Riesgo'!$C$15),2),Calif_Covertura,2,1)))","v":""},{"$f":"IF(COUNTA(S440:V440)<4,\"\",IF(V440=\"No\",0,(ROUND((LEFT(S440,1)*'Criterios de Riesgo'!$C$13+LEFT(T440,1)*'Criterios de Riesgo'!$C$14+LEFT(U440,1)*'Criterios de Riesgo'!$C$15),2))/5))","v":""},""]
[null,null,null,null,null,null,null,null,null,null,null,null,null,null,null,null,{"$f":"IF(COUNTA(I441:P441)<8,\"\",VLOOKUP(ROUND((LEFT(I441,1)*'Criterios de Riesgo'!$F$8+LEFT(J441,1)*'Criterios de Riesgo'!$F$9+LEFT(K441,1)*'Criterios de Riesgo'!$F$10+LEFT(L441,1)*'Criterios de Riesgo'!$F$11+LEFT(M441,1)*'Criterios de Riesgo'!$F$12+LEFT(N441,1)*'Criterios de Riesgo'!$F$13+LEFT(O441,1)*'Criterios de Riesgo'!$F$14+LEFT(P441,1)*'Criterios de Riesgo'!$F$15),2),Calif_Control,2,1))","v":""},{"$f":"IF(COUNTA(I441:P441)<8,\"\",(ROUND((LEFT(I441,1)*'Criterios de Riesgo'!$F$8+LEFT(J441,1)*'Criterios de Riesgo'!$F$9+LEFT(K441,1)*'Criterios de Riesgo'!$F$10+LEFT(L441,1)*'Criterios de Riesgo'!$F$11+LEFT(M441,1)*'Criterios de Riesgo'!$F$12+LEFT(N441,1)*'Criterios de Riesgo'!$F$13+LEFT(O441,1)*'Criterios de Riesgo'!$F$14+LEFT(P441,1)*'Criterios de Riesgo'!$F$15),2))/5)","v":""},null,null,null,null,{"$f":"IF(COUNTA(S441:V441)<4,\"\",IF(V441=\"No\",\"No se usa\",VLOOKUP(ROUND((LEFT(S441,1)*'Criterios de Riesgo'!$C$13+LEFT(T441,1)*'Criterios de Riesgo'!$C$14+LEFT(U441,1)*'Criterios de Riesgo'!$C$15),2),Calif_Covertura,2,1)))","v":""},{"$f":"IF(COUNTA(S441:V441)<4,\"\",IF(V441=\"No\",0,(ROUND((LEFT(S441,1)*'Criterios de Riesgo'!$C$13+LEFT(T441,1)*'Criterios de Riesgo'!$C$14+LEFT(U441,1)*'Criterios de Riesgo'!$C$15),2))/5))","v":""},""]
[null,null,null,null,null,null,null,null,null,null,null,null,null,null,null,null,{"$f":"IF(COUNTA(I442:P442)<8,\"\",VLOOKUP(ROUND((LEFT(I442,1)*'Criterios de Riesgo'!$F$8+LEFT(J442,1)*'Criterios de Riesgo'!$F$9+LEFT(K442,1)*'Criterios de Riesgo'!$F$10+LEFT(L442,1)*'Criterios de Riesgo'!$F$11+LEFT(M442,1)*'Criterios de Riesgo'!$F$12+LEFT(N442,1)*'Criterios de Riesgo'!$F$13+LEFT(O442,1)*'Criterios de Riesgo'!$F$14+LEFT(P442,1)*'Criterios de Riesgo'!$F$15),2),Calif_Control,2,1))","v":""},{"$f":"IF(COUNTA(I442:P442)<8,\"\",(ROUND((LEFT(I442,1)*'Criterios de Riesgo'!$F$8+LEFT(J442,1)*'Criterios de Riesgo'!$F$9+LEFT(K442,1)*'Criterios de Riesgo'!$F$10+LEFT(L442,1)*'Criterios de Riesgo'!$F$11+LEFT(M442,1)*'Criterios de Riesgo'!$F$12+LEFT(N442,1)*'Criterios de Riesgo'!$F$13+LEFT(O442,1)*'Criterios de Riesgo'!$F$14+LEFT(P442,1)*'Criterios de Riesgo'!$F$15),2))/5)","v":""},null,null,null,null,{"$f":"IF(COUNTA(S442:V442)<4,\"\",IF(V442=\"No\",\"No se usa\",VLOOKUP(ROUND((LEFT(S442,1)*'Criterios de Riesgo'!$C$13+LEFT(T442,1)*'Criterios de Riesgo'!$C$14+LEFT(U442,1)*'Criterios de Riesgo'!$C$15),2),Calif_Covertura,2,1)))","v":""},{"$f":"IF(COUNTA(S442:V442)<4,\"\",IF(V442=\"No\",0,(ROUND((LEFT(S442,1)*'Criterios de Riesgo'!$C$13+LEFT(T442,1)*'Criterios de Riesgo'!$C$14+LEFT(U442,1)*'Criterios de Riesgo'!$C$15),2))/5))","v":""},""]
[null,null,null,null,null,null,null,null,null,null,null,null,null,null,null,null,{"$f":"IF(COUNTA(I443:P443)<8,\"\",VLOOKUP(ROUND((LEFT(I443,1)*'Criterios de Riesgo'!$F$8+LEFT(J443,1)*'Criterios de Riesgo'!$F$9+LEFT(K443,1)*'Criterios de Riesgo'!$F$10+LEFT(L443,1)*'Criterios de Riesgo'!$F$11+LEFT(M443,1)*'Criterios de Riesgo'!$F$12+LEFT(N443,1)*'Criterios de Riesgo'!$F$13+LEFT(O443,1)*'Criterios de Riesgo'!$F$14+LEFT(P443,1)*'Criterios de Riesgo'!$F$15),2),Calif_Control,2,1))","v":""},{"$f":"IF(COUNTA(I443:P443)<8,\"\",(ROUND((LEFT(I443,1)*'Criterios de Riesgo'!$F$8+LEFT(J443,1)*'Criterios de Riesgo'!$F$9+LEFT(K443,1)*'Criterios de Riesgo'!$F$10+LEFT(L443,1)*'Criterios de Riesgo'!$F$11+LEFT(M443,1)*'Criterios de Riesgo'!$F$12+LEFT(N443,1)*'Criterios de Riesgo'!$F$13+LEFT(O443,1)*'Criterios de Riesgo'!$F$14+LEFT(P443,1)*'Criterios de Riesgo'!$F$15),2))/5)","v":""},null,null,null,null,{"$f":"IF(COUNTA(S443:V443)<4,\"\",IF(V443=\"No\",\"No se usa\",VLOOKUP(ROUND((LEFT(S443,1)*'Criterios de Riesgo'!$C$13+LEFT(T443,1)*'Criterios de Riesgo'!$C$14+LEFT(U443,1)*'Criterios de Riesgo'!$C$15),2),Calif_Covertura,2,1)))","v":""},{"$f":"IF(COUNTA(S443:V443)<4,\"\",IF(V443=\"No\",0,(ROUND((LEFT(S443,1)*'Criterios de Riesgo'!$C$13+LEFT(T443,1)*'Criterios de Riesgo'!$C$14+LEFT(U443,1)*'Criterios de Riesgo'!$C$15),2))/5))","v":""},""]
[null,null,null,null,null,null,null,null,null,null,null,null,null,null,null,null,{"$f":"IF(COUNTA(I444:P444)<8,\"\",VLOOKUP(ROUND((LEFT(I444,1)*'Criterios de Riesgo'!$F$8+LEFT(J444,1)*'Criterios de Riesgo'!$F$9+LEFT(K444,1)*'Criterios de Riesgo'!$F$10+LEFT(L444,1)*'Criterios de Riesgo'!$F$11+LEFT(M444,1)*'Criterios de Riesgo'!$F$12+LEFT(N444,1)*'Criterios de Riesgo'!$F$13+LEFT(O444,1)*'Criterios de Riesgo'!$F$14+LEFT(P444,1)*'Criterios de Riesgo'!$F$15),2),Calif_Control,2,1))","v":""},{"$f":"IF(COUNTA(I444:P444)<8,\"\",(ROUND((LEFT(I444,1)*'Criterios de Riesgo'!$F$8+LEFT(J444,1)*'Criterios de Riesgo'!$F$9+LEFT(K444,1)*'Criterios de Riesgo'!$F$10+LEFT(L444,1)*'Criterios de Riesgo'!$F$11+LEFT(M444,1)*'Criterios de Riesgo'!$F$12+LEFT(N444,1)*'Criterios de Riesgo'!$F$13+LEFT(O444,1)*'Criterios de Riesgo'!$F$14+LEFT(P444,1)*'Criterios de Riesgo'!$F$15),2))/5)","v":""},null,null,null,null,{"$f":"IF(COUNTA(S444:V444)<4,\"\",IF(V444=\"No\",\"No se usa\",VLOOKUP(ROUND((LEFT(S444,1)*'Criterios de Riesgo'!$C$13+LEFT(T444,1)*'Criterios de Riesgo'!$C$14+LEFT(U444,1)*'Criterios de Riesgo'!$C$15),2),Calif_Covertura,2,1)))","v":""},{"$f":"IF(COUNTA(S444:V444)<4,\"\",IF(V444=\"No\",0,(ROUND((LEFT(S444,1)*'Criterios de Riesgo'!$C$13+LEFT(T444,1)*'Criterios de Riesgo'!$C$14+LEFT(U444,1)*'Criterios de Riesgo'!$C$15),2))/5))","v":""},""]
["R",null,null,null,null,null,null,null,null,null,null,null,null,null,null,null,{"$f":"IF(COUNTA(I445:P445)<8,\"\",VLOOKUP(ROUND((LEFT(I445,1)*'Criterios de Riesgo'!$F$8+LEFT(J445,1)*'Criterios de Riesgo'!$F$9+LEFT(K445,1)*'Criterios de Riesgo'!$F$10+LEFT(L445,1)*'Criterios de Riesgo'!$F$11+LEFT(M445,1)*'Criterios de Riesgo'!$F$12+LEFT(N445,1)*'Criterios de Riesgo'!$F$13+LEFT(O445,1)*'Criterios de Riesgo'!$F$14+LEFT(P445,1)*'Criterios de Riesgo'!$F$15),2),Calif_Control,2,1))","v":""},{"$f":"IF(COUNTA(I445:P445)<8,\"\",(ROUND((LEFT(I445,1)*'Criterios de Riesgo'!$F$8+LEFT(J445,1)*'Criterios de Riesgo'!$F$9+LEFT(K445,1)*'Criterios de Riesgo'!$F$10+LEFT(L445,1)*'Criterios de Riesgo'!$F$11+LEFT(M445,1)*'Criterios de Riesgo'!$F$12+LEFT(N445,1)*'Criterios de Riesgo'!$F$13+LEFT(O445,1)*'Criterios de Riesgo'!$F$14+LEFT(P445,1)*'Criterios de Riesgo'!$F$15),2))/5)","v":""},null,null,null,null,{"$f":"IF(COUNTA(S445:V445)<4,\"\",IF(V445=\"No\",\"No se usa\",VLOOKUP(ROUND((LEFT(S445,1)*'Criterios de Riesgo'!$C$13+LEFT(T445,1)*'Criterios de Riesgo'!$C$14+LEFT(U445,1)*'Criterios de Riesgo'!$C$15),2),Calif_Covertura,2,1)))","v":""},{"$f":"IF(COUNTA(S445:V445)<4,\"\",IF(V445=\"No\",0,(ROUND((LEFT(S445,1)*'Criterios de Riesgo'!$C$13+LEFT(T445,1)*'Criterios de Riesgo'!$C$14+LEFT(U445,1)*'Criterios de Riesgo'!$C$15),2))/5))","v":""},"",null,{"$f":"IF(ISERROR((SUMIF(Z445:Z454,\"=impacto\",Y445:Y454)+SUMIF(Z445:Z454,\"=Ambos\",Y445:Y454))/(COUNTIF(Z445:Z454,\"Impacto\")+COUNTIF(Z445:Z454,\"Ambos\"))),\"\",(SUMIF(Z445:Z454,\"=impacto\",Y445:Y454)+SUMIF(Z445:Z454,\"=Ambos\",Y445:Y454))/(COUNTIF(Z445:Z454,\"Impacto\")+COUNTIF(Z445:Z454,\"Ambos\")))","v":""},{"$f":"IF(ISERROR((SUMIF(Z445:Z454,\"=Probabilidad\",Y445:Y454)+SUMIF(Z445:Z454,\"=Ambos\",Y445:Y454))/(COUNTIF(Z445:Z454,\"Probabilidad\")+COUNTIF(Z445:Z454,\"Ambos\"))),\"\",(SUMIF(Z445:Z454,\"=Probabilidad\",Y445:Y454)+SUMIF(Z445:Z454,\"=Ambos\",Y445:Y454))/(COUNTIF(Z445:Z454,\"Probabilidad\")+COUNTIF(Z445:Z454,\"Ambos\")))","v":""},{"$f":"IF(ISERROR(ROUND(IF(AB445=\"\",AA445,IF(AA445=\"\",AB445,IF(AND(AB445=\"\",AA445=\"\"),\"\",AB445*AA445)))*100,0)/100),\"\",ROUND(IF(AB445=\"\",AA445,IF(AA445=\"\",AB445,IF(AND(AB445=\"\",AA445=\"\"),\"\",AB445*AA445)))*100,0)/100)","v":""},{"$f":"IF(AC445=\"\",\"\",VLOOKUP(AC445*5,Calif_Control,2,1))","v":""}]
[null,null,null,null,null,null,null,null,null,null,null,null,null,null,null,null,{"$f":"IF(COUNTA(I446:P446)<8,\"\",VLOOKUP(ROUND((LEFT(I446,1)*'Criterios de Riesgo'!$F$8+LEFT(J446,1)*'Criterios de Riesgo'!$F$9+LEFT(K446,1)*'Criterios de Riesgo'!$F$10+LEFT(L446,1)*'Criterios de Riesgo'!$F$11+LEFT(M446,1)*'Criterios de Riesgo'!$F$12+LEFT(N446,1)*'Criterios de Riesgo'!$F$13+LEFT(O446,1)*'Criterios de Riesgo'!$F$14+LEFT(P446,1)*'Criterios de Riesgo'!$F$15),2),Calif_Control,2,1))","v":""},{"$f":"IF(COUNTA(I446:P446)<8,\"\",(ROUND((LEFT(I446,1)*'Criterios de Riesgo'!$F$8+LEFT(J446,1)*'Criterios de Riesgo'!$F$9+LEFT(K446,1)*'Criterios de Riesgo'!$F$10+LEFT(L446,1)*'Criterios de Riesgo'!$F$11+LEFT(M446,1)*'Criterios de Riesgo'!$F$12+LEFT(N446,1)*'Criterios de Riesgo'!$F$13+LEFT(O446,1)*'Criterios de Riesgo'!$F$14+LEFT(P446,1)*'Criterios de Riesgo'!$F$15),2))/5)","v":""},null,null,null,null,{"$f":"IF(COUNTA(S446:V446)<4,\"\",IF(V446=\"No\",\"No se usa\",VLOOKUP(ROUND((LEFT(S446,1)*'Criterios de Riesgo'!$C$13+LEFT(T446,1)*'Criterios de Riesgo'!$C$14+LEFT(U446,1)*'Criterios de Riesgo'!$C$15),2),Calif_Covertura,2,1)))","v":""},{"$f":"IF(COUNTA(S446:V446)<4,\"\",IF(V446=\"No\",0,(ROUND((LEFT(S446,1)*'Criterios de Riesgo'!$C$13+LEFT(T446,1)*'Criterios de Riesgo'!$C$14+LEFT(U446,1)*'Criterios de Riesgo'!$C$15),2))/5))","v":""},""]
[null,null,null,null,null,null,null,null,null,null,null,null,null,null,null,null,{"$f":"IF(COUNTA(I447:P447)<8,\"\",VLOOKUP(ROUND((LEFT(I447,1)*'Criterios de Riesgo'!$F$8+LEFT(J447,1)*'Criterios de Riesgo'!$F$9+LEFT(K447,1)*'Criterios de Riesgo'!$F$10+LEFT(L447,1)*'Criterios de Riesgo'!$F$11+LEFT(M447,1)*'Criterios de Riesgo'!$F$12+LEFT(N447,1)*'Criterios de Riesgo'!$F$13+LEFT(O447,1)*'Criterios de Riesgo'!$F$14+LEFT(P447,1)*'Criterios de Riesgo'!$F$15),2),Calif_Control,2,1))","v":""},{"$f":"IF(COUNTA(I447:P447)<8,\"\",(ROUND((LEFT(I447,1)*'Criterios de Riesgo'!$F$8+LEFT(J447,1)*'Criterios de Riesgo'!$F$9+LEFT(K447,1)*'Criterios de Riesgo'!$F$10+LEFT(L447,1)*'Criterios de Riesgo'!$F$11+LEFT(M447,1)*'Criterios de Riesgo'!$F$12+LEFT(N447,1)*'Criterios de Riesgo'!$F$13+LEFT(O447,1)*'Criterios de Riesgo'!$F$14+LEFT(P447,1)*'Criterios de Riesgo'!$F$15),2))/5)","v":""},null,null,null,null,{"$f":"IF(COUNTA(S447:V447)<4,\"\",IF(V447=\"No\",\"No se usa\",VLOOKUP(ROUND((LEFT(S447,1)*'Criterios de Riesgo'!$C$13+LEFT(T447,1)*'Criterios de Riesgo'!$C$14+LEFT(U447,1)*'Criterios de Riesgo'!$C$15),2),Calif_Covertura,2,1)))","v":""},{"$f":"IF(COUNTA(S447:V447)<4,\"\",IF(V447=\"No\",0,(ROUND((LEFT(S447,1)*'Criterios de Riesgo'!$C$13+LEFT(T447,1)*'Criterios de Riesgo'!$C$14+LEFT(U447,1)*'Criterios de Riesgo'!$C$15),2))/5))","v":""},""]
[null,null,null,null,null,null,null,null,null,null,null,null,null,null,null,null,{"$f":"IF(COUNTA(I448:P448)<8,\"\",VLOOKUP(ROUND((LEFT(I448,1)*'Criterios de Riesgo'!$F$8+LEFT(J448,1)*'Criterios de Riesgo'!$F$9+LEFT(K448,1)*'Criterios de Riesgo'!$F$10+LEFT(L448,1)*'Criterios de Riesgo'!$F$11+LEFT(M448,1)*'Criterios de Riesgo'!$F$12+LEFT(N448,1)*'Criterios de Riesgo'!$F$13+LEFT(O448,1)*'Criterios de Riesgo'!$F$14+LEFT(P448,1)*'Criterios de Riesgo'!$F$15),2),Calif_Control,2,1))","v":""},{"$f":"IF(COUNTA(I448:P448)<8,\"\",(ROUND((LEFT(I448,1)*'Criterios de Riesgo'!$F$8+LEFT(J448,1)*'Criterios de Riesgo'!$F$9+LEFT(K448,1)*'Criterios de Riesgo'!$F$10+LEFT(L448,1)*'Criterios de Riesgo'!$F$11+LEFT(M448,1)*'Criterios de Riesgo'!$F$12+LEFT(N448,1)*'Criterios de Riesgo'!$F$13+LEFT(O448,1)*'Criterios de Riesgo'!$F$14+LEFT(P448,1)*'Criterios de Riesgo'!$F$15),2))/5)","v":""},null,null,null,null,{"$f":"IF(COUNTA(S448:V448)<4,\"\",IF(V448=\"No\",\"No se usa\",VLOOKUP(ROUND((LEFT(S448,1)*'Criterios de Riesgo'!$C$13+LEFT(T448,1)*'Criterios de Riesgo'!$C$14+LEFT(U448,1)*'Criterios de Riesgo'!$C$15),2),Calif_Covertura,2,1)))","v":""},{"$f":"IF(COUNTA(S448:V448)<4,\"\",IF(V448=\"No\",0,(ROUND((LEFT(S448,1)*'Criterios de Riesgo'!$C$13+LEFT(T448,1)*'Criterios de Riesgo'!$C$14+LEFT(U448,1)*'Criterios de Riesgo'!$C$15),2))/5))","v":""},""]
[null,null,null,null,null,null,null,null,null,null,null,null,null,null,null,null,{"$f":"IF(COUNTA(I449:P449)<8,\"\",VLOOKUP(ROUND((LEFT(I449,1)*'Criterios de Riesgo'!$F$8+LEFT(J449,1)*'Criterios de Riesgo'!$F$9+LEFT(K449,1)*'Criterios de Riesgo'!$F$10+LEFT(L449,1)*'Criterios de Riesgo'!$F$11+LEFT(M449,1)*'Criterios de Riesgo'!$F$12+LEFT(N449,1)*'Criterios de Riesgo'!$F$13+LEFT(O449,1)*'Criterios de Riesgo'!$F$14+LEFT(P449,1)*'Criterios de Riesgo'!$F$15),2),Calif_Control,2,1))","v":""},{"$f":"IF(COUNTA(I449:P449)<8,\"\",(ROUND((LEFT(I449,1)*'Criterios de Riesgo'!$F$8+LEFT(J449,1)*'Criterios de Riesgo'!$F$9+LEFT(K449,1)*'Criterios de Riesgo'!$F$10+LEFT(L449,1)*'Criterios de Riesgo'!$F$11+LEFT(M449,1)*'Criterios de Riesgo'!$F$12+LEFT(N449,1)*'Criterios de Riesgo'!$F$13+LEFT(O449,1)*'Criterios de Riesgo'!$F$14+LEFT(P449,1)*'Criterios de Riesgo'!$F$15),2))/5)","v":""},null,null,null,null,{"$f":"IF(COUNTA(S449:V449)<4,\"\",IF(V449=\"No\",\"No se usa\",VLOOKUP(ROUND((LEFT(S449,1)*'Criterios de Riesgo'!$C$13+LEFT(T449,1)*'Criterios de Riesgo'!$C$14+LEFT(U449,1)*'Criterios de Riesgo'!$C$15),2),Calif_Covertura,2,1)))","v":""},{"$f":"IF(COUNTA(S449:V449)<4,\"\",IF(V449=\"No\",0,(ROUND((LEFT(S449,1)*'Criterios de Riesgo'!$C$13+LEFT(T449,1)*'Criterios de Riesgo'!$C$14+LEFT(U449,1)*'Criterios de Riesgo'!$C$15),2))/5))","v":""},""]
[null,null,null,null,null,null,null,null,null,null,null,null,null,null,null,null,{"$f":"IF(COUNTA(I450:P450)<8,\"\",VLOOKUP(ROUND((LEFT(I450,1)*'Criterios de Riesgo'!$F$8+LEFT(J450,1)*'Criterios de Riesgo'!$F$9+LEFT(K450,1)*'Criterios de Riesgo'!$F$10+LEFT(L450,1)*'Criterios de Riesgo'!$F$11+LEFT(M450,1)*'Criterios de Riesgo'!$F$12+LEFT(N450,1)*'Criterios de Riesgo'!$F$13+LEFT(O450,1)*'Criterios de Riesgo'!$F$14+LEFT(P450,1)*'Criterios de Riesgo'!$F$15),2),Calif_Control,2,1))","v":""},{"$f":"IF(COUNTA(I450:P450)<8,\"\",(ROUND((LEFT(I450,1)*'Criterios de Riesgo'!$F$8+LEFT(J450,1)*'Criterios de Riesgo'!$F$9+LEFT(K450,1)*'Criterios de Riesgo'!$F$10+LEFT(L450,1)*'Criterios de Riesgo'!$F$11+LEFT(M450,1)*'Criterios de Riesgo'!$F$12+LEFT(N450,1)*'Criterios de Riesgo'!$F$13+LEFT(O450,1)*'Criterios de Riesgo'!$F$14+LEFT(P450,1)*'Criterios de Riesgo'!$F$15),2))/5)","v":""},null,null,null,null,{"$f":"IF(COUNTA(S450:V450)<4,\"\",IF(V450=\"No\",\"No se usa\",VLOOKUP(ROUND((LEFT(S450,1)*'Criterios de Riesgo'!$C$13+LEFT(T450,1)*'Criterios de Riesgo'!$C$14+LEFT(U450,1)*'Criterios de Riesgo'!$C$15),2),Calif_Covertura,2,1)))","v":""},{"$f":"IF(COUNTA(S450:V450)<4,\"\",IF(V450=\"No\",0,(ROUND((LEFT(S450,1)*'Criterios de Riesgo'!$C$13+LEFT(T450,1)*'Criterios de Riesgo'!$C$14+LEFT(U450,1)*'Criterios de Riesgo'!$C$15),2))/5))","v":""},""]
[null,null,null,null,null,null,null,null,null,null,null,null,null,null,null,null,{"$f":"IF(COUNTA(I451:P451)<8,\"\",VLOOKUP(ROUND((LEFT(I451,1)*'Criterios de Riesgo'!$F$8+LEFT(J451,1)*'Criterios de Riesgo'!$F$9+LEFT(K451,1)*'Criterios de Riesgo'!$F$10+LEFT(L451,1)*'Criterios de Riesgo'!$F$11+LEFT(M451,1)*'Criterios de Riesgo'!$F$12+LEFT(N451,1)*'Criterios de Riesgo'!$F$13+LEFT(O451,1)*'Criterios de Riesgo'!$F$14+LEFT(P451,1)*'Criterios de Riesgo'!$F$15),2),Calif_Control,2,1))","v":""},{"$f":"IF(COUNTA(I451:P451)<8,\"\",(ROUND((LEFT(I451,1)*'Criterios de Riesgo'!$F$8+LEFT(J451,1)*'Criterios de Riesgo'!$F$9+LEFT(K451,1)*'Criterios de Riesgo'!$F$10+LEFT(L451,1)*'Criterios de Riesgo'!$F$11+LEFT(M451,1)*'Criterios de Riesgo'!$F$12+LEFT(N451,1)*'Criterios de Riesgo'!$F$13+LEFT(O451,1)*'Criterios de Riesgo'!$F$14+LEFT(P451,1)*'Criterios de Riesgo'!$F$15),2))/5)","v":""},null,null,null,null,{"$f":"IF(COUNTA(S451:V451)<4,\"\",IF(V451=\"No\",\"No se usa\",VLOOKUP(ROUND((LEFT(S451,1)*'Criterios de Riesgo'!$C$13+LEFT(T451,1)*'Criterios de Riesgo'!$C$14+LEFT(U451,1)*'Criterios de Riesgo'!$C$15),2),Calif_Covertura,2,1)))","v":""},{"$f":"IF(COUNTA(S451:V451)<4,\"\",IF(V451=\"No\",0,(ROUND((LEFT(S451,1)*'Criterios de Riesgo'!$C$13+LEFT(T451,1)*'Criterios de Riesgo'!$C$14+LEFT(U451,1)*'Criterios de Riesgo'!$C$15),2))/5))","v":""},""]
[null,null,null,null,null,null,null,null,null,null,null,null,null,null,null,null,{"$f":"IF(COUNTA(I452:P452)<8,\"\",VLOOKUP(ROUND((LEFT(I452,1)*'Criterios de Riesgo'!$F$8+LEFT(J452,1)*'Criterios de Riesgo'!$F$9+LEFT(K452,1)*'Criterios de Riesgo'!$F$10+LEFT(L452,1)*'Criterios de Riesgo'!$F$11+LEFT(M452,1)*'Criterios de Riesgo'!$F$12+LEFT(N452,1)*'Criterios de Riesgo'!$F$13+LEFT(O452,1)*'Criterios de Riesgo'!$F$14+LEFT(P452,1)*'Criterios de Riesgo'!$F$15),2),Calif_Control,2,1))","v":""},{"$f":"IF(COUNTA(I452:P452)<8,\"\",(ROUND((LEFT(I452,1)*'Criterios de Riesgo'!$F$8+LEFT(J452,1)*'Criterios de Riesgo'!$F$9+LEFT(K452,1)*'Criterios de Riesgo'!$F$10+LEFT(L452,1)*'Criterios de Riesgo'!$F$11+LEFT(M452,1)*'Criterios de Riesgo'!$F$12+LEFT(N452,1)*'Criterios de Riesgo'!$F$13+LEFT(O452,1)*'Criterios de Riesgo'!$F$14+LEFT(P452,1)*'Criterios de Riesgo'!$F$15),2))/5)","v":""},null,null,null,null,{"$f":"IF(COUNTA(S452:V452)<4,\"\",IF(V452=\"No\",\"No se usa\",VLOOKUP(ROUND((LEFT(S452,1)*'Criterios de Riesgo'!$C$13+LEFT(T452,1)*'Criterios de Riesgo'!$C$14+LEFT(U452,1)*'Criterios de Riesgo'!$C$15),2),Calif_Covertura,2,1)))","v":""},{"$f":"IF(COUNTA(S452:V452)<4,\"\",IF(V452=\"No\",0,(ROUND((LEFT(S452,1)*'Criterios de Riesgo'!$C$13+LEFT(T452,1)*'Criterios de Riesgo'!$C$14+LEFT(U452,1)*'Criterios de Riesgo'!$C$15),2))/5))","v":""},""]
[null,null,null,null,null,null,null,null,null,null,null,null,null,null,null,null,{"$f":"IF(COUNTA(I453:P453)<8,\"\",VLOOKUP(ROUND((LEFT(I453,1)*'Criterios de Riesgo'!$F$8+LEFT(J453,1)*'Criterios de Riesgo'!$F$9+LEFT(K453,1)*'Criterios de Riesgo'!$F$10+LEFT(L453,1)*'Criterios de Riesgo'!$F$11+LEFT(M453,1)*'Criterios de Riesgo'!$F$12+LEFT(N453,1)*'Criterios de Riesgo'!$F$13+LEFT(O453,1)*'Criterios de Riesgo'!$F$14+LEFT(P453,1)*'Criterios de Riesgo'!$F$15),2),Calif_Control,2,1))","v":""},{"$f":"IF(COUNTA(I453:P453)<8,\"\",(ROUND((LEFT(I453,1)*'Criterios de Riesgo'!$F$8+LEFT(J453,1)*'Criterios de Riesgo'!$F$9+LEFT(K453,1)*'Criterios de Riesgo'!$F$10+LEFT(L453,1)*'Criterios de Riesgo'!$F$11+LEFT(M453,1)*'Criterios de Riesgo'!$F$12+LEFT(N453,1)*'Criterios de Riesgo'!$F$13+LEFT(O453,1)*'Criterios de Riesgo'!$F$14+LEFT(P453,1)*'Criterios de Riesgo'!$F$15),2))/5)","v":""},null,null,null,null,{"$f":"IF(COUNTA(S453:V453)<4,\"\",IF(V453=\"No\",\"No se usa\",VLOOKUP(ROUND((LEFT(S453,1)*'Criterios de Riesgo'!$C$13+LEFT(T453,1)*'Criterios de Riesgo'!$C$14+LEFT(U453,1)*'Criterios de Riesgo'!$C$15),2),Calif_Covertura,2,1)))","v":""},{"$f":"IF(COUNTA(S453:V453)<4,\"\",IF(V453=\"No\",0,(ROUND((LEFT(S453,1)*'Criterios de Riesgo'!$C$13+LEFT(T453,1)*'Criterios de Riesgo'!$C$14+LEFT(U453,1)*'Criterios de Riesgo'!$C$15),2))/5))","v":""},""]
[null,null,null,null,null,null,null,null,null,null,null,null,null,null,null,null,{"$f":"IF(COUNTA(I454:P454)<8,\"\",VLOOKUP(ROUND((LEFT(I454,1)*'Criterios de Riesgo'!$F$8+LEFT(J454,1)*'Criterios de Riesgo'!$F$9+LEFT(K454,1)*'Criterios de Riesgo'!$F$10+LEFT(L454,1)*'Criterios de Riesgo'!$F$11+LEFT(M454,1)*'Criterios de Riesgo'!$F$12+LEFT(N454,1)*'Criterios de Riesgo'!$F$13+LEFT(O454,1)*'Criterios de Riesgo'!$F$14+LEFT(P454,1)*'Criterios de Riesgo'!$F$15),2),Calif_Control,2,1))","v":""},{"$f":"IF(COUNTA(I454:P454)<8,\"\",(ROUND((LEFT(I454,1)*'Criterios de Riesgo'!$F$8+LEFT(J454,1)*'Criterios de Riesgo'!$F$9+LEFT(K454,1)*'Criterios de Riesgo'!$F$10+LEFT(L454,1)*'Criterios de Riesgo'!$F$11+LEFT(M454,1)*'Criterios de Riesgo'!$F$12+LEFT(N454,1)*'Criterios de Riesgo'!$F$13+LEFT(O454,1)*'Criterios de Riesgo'!$F$14+LEFT(P454,1)*'Criterios de Riesgo'!$F$15),2))/5)","v":""},null,null,null,null,{"$f":"IF(COUNTA(S454:V454)<4,\"\",IF(V454=\"No\",\"No se usa\",VLOOKUP(ROUND((LEFT(S454,1)*'Criterios de Riesgo'!$C$13+LEFT(T454,1)*'Criterios de Riesgo'!$C$14+LEFT(U454,1)*'Criterios de Riesgo'!$C$15),2),Calif_Covertura,2,1)))","v":""},{"$f":"IF(COUNTA(S454:V454)<4,\"\",IF(V454=\"No\",0,(ROUND((LEFT(S454,1)*'Criterios de Riesgo'!$C$13+LEFT(T454,1)*'Criterios de Riesgo'!$C$14+LEFT(U454,1)*'Criterios de Riesgo'!$C$15),2))/5))","v":""},""]
["R",null,null,null,null,null,null,null,null,null,null,null,null,null,null,null,{"$f":"IF(COUNTA(I455:P455)<8,\"\",VLOOKUP(ROUND((LEFT(I455,1)*'Criterios de Riesgo'!$F$8+LEFT(J455,1)*'Criterios de Riesgo'!$F$9+LEFT(K455,1)*'Criterios de Riesgo'!$F$10+LEFT(L455,1)*'Criterios de Riesgo'!$F$11+LEFT(M455,1)*'Criterios de Riesgo'!$F$12+LEFT(N455,1)*'Criterios de Riesgo'!$F$13+LEFT(O455,1)*'Criterios de Riesgo'!$F$14+LEFT(P455,1)*'Criterios de Riesgo'!$F$15),2),Calif_Control,2,1))","v":""},{"$f":"IF(COUNTA(I455:P455)<8,\"\",(ROUND((LEFT(I455,1)*'Criterios de Riesgo'!$F$8+LEFT(J455,1)*'Criterios de Riesgo'!$F$9+LEFT(K455,1)*'Criterios de Riesgo'!$F$10+LEFT(L455,1)*'Criterios de Riesgo'!$F$11+LEFT(M455,1)*'Criterios de Riesgo'!$F$12+LEFT(N455,1)*'Criterios de Riesgo'!$F$13+LEFT(O455,1)*'Criterios de Riesgo'!$F$14+LEFT(P455,1)*'Criterios de Riesgo'!$F$15),2))/5)","v":""},null,null,null,null,{"$f":"IF(COUNTA(S455:V455)<4,\"\",IF(V455=\"No\",\"No se usa\",VLOOKUP(ROUND((LEFT(S455,1)*'Criterios de Riesgo'!$C$13+LEFT(T455,1)*'Criterios de Riesgo'!$C$14+LEFT(U455,1)*'Criterios de Riesgo'!$C$15),2),Calif_Covertura,2,1)))","v":""},{"$f":"IF(COUNTA(S455:V455)<4,\"\",IF(V455=\"No\",0,(ROUND((LEFT(S455,1)*'Criterios de Riesgo'!$C$13+LEFT(T455,1)*'Criterios de Riesgo'!$C$14+LEFT(U455,1)*'Criterios de Riesgo'!$C$15),2))/5))","v":""},"",null,{"$f":"IF(ISERROR((SUMIF(Z455:Z464,\"=impacto\",Y455:Y464)+SUMIF(Z455:Z464,\"=Ambos\",Y455:Y464))/(COUNTIF(Z455:Z464,\"Impacto\")+COUNTIF(Z455:Z464,\"Ambos\"))),\"\",(SUMIF(Z455:Z464,\"=impacto\",Y455:Y464)+SUMIF(Z455:Z464,\"=Ambos\",Y455:Y464))/(COUNTIF(Z455:Z464,\"Impacto\")+COUNTIF(Z455:Z464,\"Ambos\")))","v":""},{"$f":"IF(ISERROR((SUMIF(Z455:Z464,\"=Probabilidad\",Y455:Y464)+SUMIF(Z455:Z464,\"=Ambos\",Y455:Y464))/(COUNTIF(Z455:Z464,\"Probabilidad\")+COUNTIF(Z455:Z464,\"Ambos\"))),\"\",(SUMIF(Z455:Z464,\"=Probabilidad\",Y455:Y464)+SUMIF(Z455:Z464,\"=Ambos\",Y455:Y464))/(COUNTIF(Z455:Z464,\"Probabilidad\")+COUNTIF(Z455:Z464,\"Ambos\")))","v":""},{"$f":"IF(ISERROR(ROUND(IF(AB455=\"\",AA455,IF(AA455=\"\",AB455,IF(AND(AB455=\"\",AA455=\"\"),\"\",AB455*AA455)))*100,0)/100),\"\",ROUND(IF(AB455=\"\",AA455,IF(AA455=\"\",AB455,IF(AND(AB455=\"\",AA455=\"\"),\"\",AB455*AA455)))*100,0)/100)","v":""},{"$f":"IF(AC455=\"\",\"\",VLOOKUP(AC455*5,Calif_Control,2,1))","v":""}]
[null,null,null,null,null,null,null,null,null,null,null,null,null,null,null,null,{"$f":"IF(COUNTA(I456:P456)<8,\"\",VLOOKUP(ROUND((LEFT(I456,1)*'Criterios de Riesgo'!$F$8+LEFT(J456,1)*'Criterios de Riesgo'!$F$9+LEFT(K456,1)*'Criterios de Riesgo'!$F$10+LEFT(L456,1)*'Criterios de Riesgo'!$F$11+LEFT(M456,1)*'Criterios de Riesgo'!$F$12+LEFT(N456,1)*'Criterios de Riesgo'!$F$13+LEFT(O456,1)*'Criterios de Riesgo'!$F$14+LEFT(P456,1)*'Criterios de Riesgo'!$F$15),2),Calif_Control,2,1))","v":""},{"$f":"IF(COUNTA(I456:P456)<8,\"\",(ROUND((LEFT(I456,1)*'Criterios de Riesgo'!$F$8+LEFT(J456,1)*'Criterios de Riesgo'!$F$9+LEFT(K456,1)*'Criterios de Riesgo'!$F$10+LEFT(L456,1)*'Criterios de Riesgo'!$F$11+LEFT(M456,1)*'Criterios de Riesgo'!$F$12+LEFT(N456,1)*'Criterios de Riesgo'!$F$13+LEFT(O456,1)*'Criterios de Riesgo'!$F$14+LEFT(P456,1)*'Criterios de Riesgo'!$F$15),2))/5)","v":""},null,null,null,null,{"$f":"IF(COUNTA(S456:V456)<4,\"\",IF(V456=\"No\",\"No se usa\",VLOOKUP(ROUND((LEFT(S456,1)*'Criterios de Riesgo'!$C$13+LEFT(T456,1)*'Criterios de Riesgo'!$C$14+LEFT(U456,1)*'Criterios de Riesgo'!$C$15),2),Calif_Covertura,2,1)))","v":""},{"$f":"IF(COUNTA(S456:V456)<4,\"\",IF(V456=\"No\",0,(ROUND((LEFT(S456,1)*'Criterios de Riesgo'!$C$13+LEFT(T456,1)*'Criterios de Riesgo'!$C$14+LEFT(U456,1)*'Criterios de Riesgo'!$C$15),2))/5))","v":""},""]
[null,null,null,null,null,null,null,null,null,null,null,null,null,null,null,null,{"$f":"IF(COUNTA(I457:P457)<8,\"\",VLOOKUP(ROUND((LEFT(I457,1)*'Criterios de Riesgo'!$F$8+LEFT(J457,1)*'Criterios de Riesgo'!$F$9+LEFT(K457,1)*'Criterios de Riesgo'!$F$10+LEFT(L457,1)*'Criterios de Riesgo'!$F$11+LEFT(M457,1)*'Criterios de Riesgo'!$F$12+LEFT(N457,1)*'Criterios de Riesgo'!$F$13+LEFT(O457,1)*'Criterios de Riesgo'!$F$14+LEFT(P457,1)*'Criterios de Riesgo'!$F$15),2),Calif_Control,2,1))","v":""},{"$f":"IF(COUNTA(I457:P457)<8,\"\",(ROUND((LEFT(I457,1)*'Criterios de Riesgo'!$F$8+LEFT(J457,1)*'Criterios de Riesgo'!$F$9+LEFT(K457,1)*'Criterios de Riesgo'!$F$10+LEFT(L457,1)*'Criterios de Riesgo'!$F$11+LEFT(M457,1)*'Criterios de Riesgo'!$F$12+LEFT(N457,1)*'Criterios de Riesgo'!$F$13+LEFT(O457,1)*'Criterios de Riesgo'!$F$14+LEFT(P457,1)*'Criterios de Riesgo'!$F$15),2))/5)","v":""},null,null,null,null,{"$f":"IF(COUNTA(S457:V457)<4,\"\",IF(V457=\"No\",\"No se usa\",VLOOKUP(ROUND((LEFT(S457,1)*'Criterios de Riesgo'!$C$13+LEFT(T457,1)*'Criterios de Riesgo'!$C$14+LEFT(U457,1)*'Criterios de Riesgo'!$C$15),2),Calif_Covertura,2,1)))","v":""},{"$f":"IF(COUNTA(S457:V457)<4,\"\",IF(V457=\"No\",0,(ROUND((LEFT(S457,1)*'Criterios de Riesgo'!$C$13+LEFT(T457,1)*'Criterios de Riesgo'!$C$14+LEFT(U457,1)*'Criterios de Riesgo'!$C$15),2))/5))","v":""},""]
[null,null,null,null,null,null,null,null,null,null,null,null,null,null,null,null,{"$f":"IF(COUNTA(I458:P458)<8,\"\",VLOOKUP(ROUND((LEFT(I458,1)*'Criterios de Riesgo'!$F$8+LEFT(J458,1)*'Criterios de Riesgo'!$F$9+LEFT(K458,1)*'Criterios de Riesgo'!$F$10+LEFT(L458,1)*'Criterios de Riesgo'!$F$11+LEFT(M458,1)*'Criterios de Riesgo'!$F$12+LEFT(N458,1)*'Criterios de Riesgo'!$F$13+LEFT(O458,1)*'Criterios de Riesgo'!$F$14+LEFT(P458,1)*'Criterios de Riesgo'!$F$15),2),Calif_Control,2,1))","v":""},{"$f":"IF(COUNTA(I458:P458)<8,\"\",(ROUND((LEFT(I458,1)*'Criterios de Riesgo'!$F$8+LEFT(J458,1)*'Criterios de Riesgo'!$F$9+LEFT(K458,1)*'Criterios de Riesgo'!$F$10+LEFT(L458,1)*'Criterios de Riesgo'!$F$11+LEFT(M458,1)*'Criterios de Riesgo'!$F$12+LEFT(N458,1)*'Criterios de Riesgo'!$F$13+LEFT(O458,1)*'Criterios de Riesgo'!$F$14+LEFT(P458,1)*'Criterios de Riesgo'!$F$15),2))/5)","v":""},null,null,null,null,{"$f":"IF(COUNTA(S458:V458)<4,\"\",IF(V458=\"No\",\"No se usa\",VLOOKUP(ROUND((LEFT(S458,1)*'Criterios de Riesgo'!$C$13+LEFT(T458,1)*'Criterios de Riesgo'!$C$14+LEFT(U458,1)*'Criterios de Riesgo'!$C$15),2),Calif_Covertura,2,1)))","v":""},{"$f":"IF(COUNTA(S458:V458)<4,\"\",IF(V458=\"No\",0,(ROUND((LEFT(S458,1)*'Criterios de Riesgo'!$C$13+LEFT(T458,1)*'Criterios de Riesgo'!$C$14+LEFT(U458,1)*'Criterios de Riesgo'!$C$15),2))/5))","v":""},""]
[null,null,null,null,null,null,null,null,null,null,null,null,null,null,null,null,{"$f":"IF(COUNTA(I459:P459)<8,\"\",VLOOKUP(ROUND((LEFT(I459,1)*'Criterios de Riesgo'!$F$8+LEFT(J459,1)*'Criterios de Riesgo'!$F$9+LEFT(K459,1)*'Criterios de Riesgo'!$F$10+LEFT(L459,1)*'Criterios de Riesgo'!$F$11+LEFT(M459,1)*'Criterios de Riesgo'!$F$12+LEFT(N459,1)*'Criterios de Riesgo'!$F$13+LEFT(O459,1)*'Criterios de Riesgo'!$F$14+LEFT(P459,1)*'Criterios de Riesgo'!$F$15),2),Calif_Control,2,1))","v":""},{"$f":"IF(COUNTA(I459:P459)<8,\"\",(ROUND((LEFT(I459,1)*'Criterios de Riesgo'!$F$8+LEFT(J459,1)*'Criterios de Riesgo'!$F$9+LEFT(K459,1)*'Criterios de Riesgo'!$F$10+LEFT(L459,1)*'Criterios de Riesgo'!$F$11+LEFT(M459,1)*'Criterios de Riesgo'!$F$12+LEFT(N459,1)*'Criterios de Riesgo'!$F$13+LEFT(O459,1)*'Criterios de Riesgo'!$F$14+LEFT(P459,1)*'Criterios de Riesgo'!$F$15),2))/5)","v":""},null,null,null,null,{"$f":"IF(COUNTA(S459:V459)<4,\"\",IF(V459=\"No\",\"No se usa\",VLOOKUP(ROUND((LEFT(S459,1)*'Criterios de Riesgo'!$C$13+LEFT(T459,1)*'Criterios de Riesgo'!$C$14+LEFT(U459,1)*'Criterios de Riesgo'!$C$15),2),Calif_Covertura,2,1)))","v":""},{"$f":"IF(COUNTA(S459:V459)<4,\"\",IF(V459=\"No\",0,(ROUND((LEFT(S459,1)*'Criterios de Riesgo'!$C$13+LEFT(T459,1)*'Criterios de Riesgo'!$C$14+LEFT(U459,1)*'Criterios de Riesgo'!$C$15),2))/5))","v":""},""]
[null,null,null,null,null,null,null,null,null,null,null,null,null,null,null,null,{"$f":"IF(COUNTA(I460:P460)<8,\"\",VLOOKUP(ROUND((LEFT(I460,1)*'Criterios de Riesgo'!$F$8+LEFT(J460,1)*'Criterios de Riesgo'!$F$9+LEFT(K460,1)*'Criterios de Riesgo'!$F$10+LEFT(L460,1)*'Criterios de Riesgo'!$F$11+LEFT(M460,1)*'Criterios de Riesgo'!$F$12+LEFT(N460,1)*'Criterios de Riesgo'!$F$13+LEFT(O460,1)*'Criterios de Riesgo'!$F$14+LEFT(P460,1)*'Criterios de Riesgo'!$F$15),2),Calif_Control,2,1))","v":""},{"$f":"IF(COUNTA(I460:P460)<8,\"\",(ROUND((LEFT(I460,1)*'Criterios de Riesgo'!$F$8+LEFT(J460,1)*'Criterios de Riesgo'!$F$9+LEFT(K460,1)*'Criterios de Riesgo'!$F$10+LEFT(L460,1)*'Criterios de Riesgo'!$F$11+LEFT(M460,1)*'Criterios de Riesgo'!$F$12+LEFT(N460,1)*'Criterios de Riesgo'!$F$13+LEFT(O460,1)*'Criterios de Riesgo'!$F$14+LEFT(P460,1)*'Criterios de Riesgo'!$F$15),2))/5)","v":""},null,null,null,null,{"$f":"IF(COUNTA(S460:V460)<4,\"\",IF(V460=\"No\",\"No se usa\",VLOOKUP(ROUND((LEFT(S460,1)*'Criterios de Riesgo'!$C$13+LEFT(T460,1)*'Criterios de Riesgo'!$C$14+LEFT(U460,1)*'Criterios de Riesgo'!$C$15),2),Calif_Covertura,2,1)))","v":""},{"$f":"IF(COUNTA(S460:V460)<4,\"\",IF(V460=\"No\",0,(ROUND((LEFT(S460,1)*'Criterios de Riesgo'!$C$13+LEFT(T460,1)*'Criterios de Riesgo'!$C$14+LEFT(U460,1)*'Criterios de Riesgo'!$C$15),2))/5))","v":""},""]
[null,null,null,null,null,null,null,null,null,null,null,null,null,null,null,null,{"$f":"IF(COUNTA(I461:P461)<8,\"\",VLOOKUP(ROUND((LEFT(I461,1)*'Criterios de Riesgo'!$F$8+LEFT(J461,1)*'Criterios de Riesgo'!$F$9+LEFT(K461,1)*'Criterios de Riesgo'!$F$10+LEFT(L461,1)*'Criterios de Riesgo'!$F$11+LEFT(M461,1)*'Criterios de Riesgo'!$F$12+LEFT(N461,1)*'Criterios de Riesgo'!$F$13+LEFT(O461,1)*'Criterios de Riesgo'!$F$14+LEFT(P461,1)*'Criterios de Riesgo'!$F$15),2),Calif_Control,2,1))","v":""},{"$f":"IF(COUNTA(I461:P461)<8,\"\",(ROUND((LEFT(I461,1)*'Criterios de Riesgo'!$F$8+LEFT(J461,1)*'Criterios de Riesgo'!$F$9+LEFT(K461,1)*'Criterios de Riesgo'!$F$10+LEFT(L461,1)*'Criterios de Riesgo'!$F$11+LEFT(M461,1)*'Criterios de Riesgo'!$F$12+LEFT(N461,1)*'Criterios de Riesgo'!$F$13+LEFT(O461,1)*'Criterios de Riesgo'!$F$14+LEFT(P461,1)*'Criterios de Riesgo'!$F$15),2))/5)","v":""},null,null,null,null,{"$f":"IF(COUNTA(S461:V461)<4,\"\",IF(V461=\"No\",\"No se usa\",VLOOKUP(ROUND((LEFT(S461,1)*'Criterios de Riesgo'!$C$13+LEFT(T461,1)*'Criterios de Riesgo'!$C$14+LEFT(U461,1)*'Criterios de Riesgo'!$C$15),2),Calif_Covertura,2,1)))","v":""},{"$f":"IF(COUNTA(S461:V461)<4,\"\",IF(V461=\"No\",0,(ROUND((LEFT(S461,1)*'Criterios de Riesgo'!$C$13+LEFT(T461,1)*'Criterios de Riesgo'!$C$14+LEFT(U461,1)*'Criterios de Riesgo'!$C$15),2))/5))","v":""},""]
[null,null,null,null,null,null,null,null,null,null,null,null,null,null,null,null,{"$f":"IF(COUNTA(I462:P462)<8,\"\",VLOOKUP(ROUND((LEFT(I462,1)*'Criterios de Riesgo'!$F$8+LEFT(J462,1)*'Criterios de Riesgo'!$F$9+LEFT(K462,1)*'Criterios de Riesgo'!$F$10+LEFT(L462,1)*'Criterios de Riesgo'!$F$11+LEFT(M462,1)*'Criterios de Riesgo'!$F$12+LEFT(N462,1)*'Criterios de Riesgo'!$F$13+LEFT(O462,1)*'Criterios de Riesgo'!$F$14+LEFT(P462,1)*'Criterios de Riesgo'!$F$15),2),Calif_Control,2,1))","v":""},{"$f":"IF(COUNTA(I462:P462)<8,\"\",(ROUND((LEFT(I462,1)*'Criterios de Riesgo'!$F$8+LEFT(J462,1)*'Criterios de Riesgo'!$F$9+LEFT(K462,1)*'Criterios de Riesgo'!$F$10+LEFT(L462,1)*'Criterios de Riesgo'!$F$11+LEFT(M462,1)*'Criterios de Riesgo'!$F$12+LEFT(N462,1)*'Criterios de Riesgo'!$F$13+LEFT(O462,1)*'Criterios de Riesgo'!$F$14+LEFT(P462,1)*'Criterios de Riesgo'!$F$15),2))/5)","v":""},null,null,null,null,{"$f":"IF(COUNTA(S462:V462)<4,\"\",IF(V462=\"No\",\"No se usa\",VLOOKUP(ROUND((LEFT(S462,1)*'Criterios de Riesgo'!$C$13+LEFT(T462,1)*'Criterios de Riesgo'!$C$14+LEFT(U462,1)*'Criterios de Riesgo'!$C$15),2),Calif_Covertura,2,1)))","v":""},{"$f":"IF(COUNTA(S462:V462)<4,\"\",IF(V462=\"No\",0,(ROUND((LEFT(S462,1)*'Criterios de Riesgo'!$C$13+LEFT(T462,1)*'Criterios de Riesgo'!$C$14+LEFT(U462,1)*'Criterios de Riesgo'!$C$15),2))/5))","v":""},""]
[null,null,null,null,null,null,null,null,null,null,null,null,null,null,null,null,{"$f":"IF(COUNTA(I463:P463)<8,\"\",VLOOKUP(ROUND((LEFT(I463,1)*'Criterios de Riesgo'!$F$8+LEFT(J463,1)*'Criterios de Riesgo'!$F$9+LEFT(K463,1)*'Criterios de Riesgo'!$F$10+LEFT(L463,1)*'Criterios de Riesgo'!$F$11+LEFT(M463,1)*'Criterios de Riesgo'!$F$12+LEFT(N463,1)*'Criterios de Riesgo'!$F$13+LEFT(O463,1)*'Criterios de Riesgo'!$F$14+LEFT(P463,1)*'Criterios de Riesgo'!$F$15),2),Calif_Control,2,1))","v":""},{"$f":"IF(COUNTA(I463:P463)<8,\"\",(ROUND((LEFT(I463,1)*'Criterios de Riesgo'!$F$8+LEFT(J463,1)*'Criterios de Riesgo'!$F$9+LEFT(K463,1)*'Criterios de Riesgo'!$F$10+LEFT(L463,1)*'Criterios de Riesgo'!$F$11+LEFT(M463,1)*'Criterios de Riesgo'!$F$12+LEFT(N463,1)*'Criterios de Riesgo'!$F$13+LEFT(O463,1)*'Criterios de Riesgo'!$F$14+LEFT(P463,1)*'Criterios de Riesgo'!$F$15),2))/5)","v":""},null,null,null,null,{"$f":"IF(COUNTA(S463:V463)<4,\"\",IF(V463=\"No\",\"No se usa\",VLOOKUP(ROUND((LEFT(S463,1)*'Criterios de Riesgo'!$C$13+LEFT(T463,1)*'Criterios de Riesgo'!$C$14+LEFT(U463,1)*'Criterios de Riesgo'!$C$15),2),Calif_Covertura,2,1)))","v":""},{"$f":"IF(COUNTA(S463:V463)<4,\"\",IF(V463=\"No\",0,(ROUND((LEFT(S463,1)*'Criterios de Riesgo'!$C$13+LEFT(T463,1)*'Criterios de Riesgo'!$C$14+LEFT(U463,1)*'Criterios de Riesgo'!$C$15),2))/5))","v":""},""]
[null,null,null,null,null,null,null,null,null,null,null,null,null,null,null,null,{"$f":"IF(COUNTA(I464:P464)<8,\"\",VLOOKUP(ROUND((LEFT(I464,1)*'Criterios de Riesgo'!$F$8+LEFT(J464,1)*'Criterios de Riesgo'!$F$9+LEFT(K464,1)*'Criterios de Riesgo'!$F$10+LEFT(L464,1)*'Criterios de Riesgo'!$F$11+LEFT(M464,1)*'Criterios de Riesgo'!$F$12+LEFT(N464,1)*'Criterios de Riesgo'!$F$13+LEFT(O464,1)*'Criterios de Riesgo'!$F$14+LEFT(P464,1)*'Criterios de Riesgo'!$F$15),2),Calif_Control,2,1))","v":""},{"$f":"IF(COUNTA(I464:P464)<8,\"\",(ROUND((LEFT(I464,1)*'Criterios de Riesgo'!$F$8+LEFT(J464,1)*'Criterios de Riesgo'!$F$9+LEFT(K464,1)*'Criterios de Riesgo'!$F$10+LEFT(L464,1)*'Criterios de Riesgo'!$F$11+LEFT(M464,1)*'Criterios de Riesgo'!$F$12+LEFT(N464,1)*'Criterios de Riesgo'!$F$13+LEFT(O464,1)*'Criterios de Riesgo'!$F$14+LEFT(P464,1)*'Criterios de Riesgo'!$F$15),2))/5)","v":""},null,null,null,null,{"$f":"IF(COUNTA(S464:V464)<4,\"\",IF(V464=\"No\",\"No se usa\",VLOOKUP(ROUND((LEFT(S464,1)*'Criterios de Riesgo'!$C$13+LEFT(T464,1)*'Criterios de Riesgo'!$C$14+LEFT(U464,1)*'Criterios de Riesgo'!$C$15),2),Calif_Covertura,2,1)))","v":""},{"$f":"IF(COUNTA(S464:V464)<4,\"\",IF(V464=\"No\",0,(ROUND((LEFT(S464,1)*'Criterios de Riesgo'!$C$13+LEFT(T464,1)*'Criterios de Riesgo'!$C$14+LEFT(U464,1)*'Criterios de Riesgo'!$C$15),2))/5))","v":""},""]
["R",null,null,null,null,null,null,null,null,null,null,null,null,null,null,null,{"$f":"IF(COUNTA(I465:P465)<8,\"\",VLOOKUP(ROUND((LEFT(I465,1)*'Criterios de Riesgo'!$F$8+LEFT(J465,1)*'Criterios de Riesgo'!$F$9+LEFT(K465,1)*'Criterios de Riesgo'!$F$10+LEFT(L465,1)*'Criterios de Riesgo'!$F$11+LEFT(M465,1)*'Criterios de Riesgo'!$F$12+LEFT(N465,1)*'Criterios de Riesgo'!$F$13+LEFT(O465,1)*'Criterios de Riesgo'!$F$14+LEFT(P465,1)*'Criterios de Riesgo'!$F$15),2),Calif_Control,2,1))","v":""},{"$f":"IF(COUNTA(I465:P465)<8,\"\",(ROUND((LEFT(I465,1)*'Criterios de Riesgo'!$F$8+LEFT(J465,1)*'Criterios de Riesgo'!$F$9+LEFT(K465,1)*'Criterios de Riesgo'!$F$10+LEFT(L465,1)*'Criterios de Riesgo'!$F$11+LEFT(M465,1)*'Criterios de Riesgo'!$F$12+LEFT(N465,1)*'Criterios de Riesgo'!$F$13+LEFT(O465,1)*'Criterios de Riesgo'!$F$14+LEFT(P465,1)*'Criterios de Riesgo'!$F$15),2))/5)","v":""},null,null,null,null,{"$f":"IF(COUNTA(S465:V465)<4,\"\",IF(V465=\"No\",\"No se usa\",VLOOKUP(ROUND((LEFT(S465,1)*'Criterios de Riesgo'!$C$13+LEFT(T465,1)*'Criterios de Riesgo'!$C$14+LEFT(U465,1)*'Criterios de Riesgo'!$C$15),2),Calif_Covertura,2,1)))","v":""},{"$f":"IF(COUNTA(S465:V465)<4,\"\",IF(V465=\"No\",0,(ROUND((LEFT(S465,1)*'Criterios de Riesgo'!$C$13+LEFT(T465,1)*'Criterios de Riesgo'!$C$14+LEFT(U465,1)*'Criterios de Riesgo'!$C$15),2))/5))","v":""},"",null,{"$f":"IF(ISERROR((SUMIF(Z465:Z474,\"=impacto\",Y465:Y474)+SUMIF(Z465:Z474,\"=Ambos\",Y465:Y474))/(COUNTIF(Z465:Z474,\"Impacto\")+COUNTIF(Z465:Z474,\"Ambos\"))),\"\",(SUMIF(Z465:Z474,\"=impacto\",Y465:Y474)+SUMIF(Z465:Z474,\"=Ambos\",Y465:Y474))/(COUNTIF(Z465:Z474,\"Impacto\")+COUNTIF(Z465:Z474,\"Ambos\")))","v":""},{"$f":"IF(ISERROR((SUMIF(Z465:Z474,\"=Probabilidad\",Y465:Y474)+SUMIF(Z465:Z474,\"=Ambos\",Y465:Y474))/(COUNTIF(Z465:Z474,\"Probabilidad\")+COUNTIF(Z465:Z474,\"Ambos\"))),\"\",(SUMIF(Z465:Z474,\"=Probabilidad\",Y465:Y474)+SUMIF(Z465:Z474,\"=Ambos\",Y465:Y474))/(COUNTIF(Z465:Z474,\"Probabilidad\")+COUNTIF(Z465:Z474,\"Ambos\")))","v":""},{"$f":"IF(ISERROR(ROUND(IF(AB465=\"\",AA465,IF(AA465=\"\",AB465,IF(AND(AB465=\"\",AA465=\"\"),\"\",AB465*AA465)))*100,0)/100),\"\",ROUND(IF(AB465=\"\",AA465,IF(AA465=\"\",AB465,IF(AND(AB465=\"\",AA465=\"\"),\"\",AB465*AA465)))*100,0)/100)","v":""},{"$f":"IF(AC465=\"\",\"\",VLOOKUP(AC465*5,Calif_Control,2,1))","v":""}]
[null,null,null,null,null,null,null,null,null,null,null,null,null,null,null,null,{"$f":"IF(COUNTA(I466:P466)<8,\"\",VLOOKUP(ROUND((LEFT(I466,1)*'Criterios de Riesgo'!$F$8+LEFT(J466,1)*'Criterios de Riesgo'!$F$9+LEFT(K466,1)*'Criterios de Riesgo'!$F$10+LEFT(L466,1)*'Criterios de Riesgo'!$F$11+LEFT(M466,1)*'Criterios de Riesgo'!$F$12+LEFT(N466,1)*'Criterios de Riesgo'!$F$13+LEFT(O466,1)*'Criterios de Riesgo'!$F$14+LEFT(P466,1)*'Criterios de Riesgo'!$F$15),2),Calif_Control,2,1))","v":""},{"$f":"IF(COUNTA(I466:P466)<8,\"\",(ROUND((LEFT(I466,1)*'Criterios de Riesgo'!$F$8+LEFT(J466,1)*'Criterios de Riesgo'!$F$9+LEFT(K466,1)*'Criterios de Riesgo'!$F$10+LEFT(L466,1)*'Criterios de Riesgo'!$F$11+LEFT(M466,1)*'Criterios de Riesgo'!$F$12+LEFT(N466,1)*'Criterios de Riesgo'!$F$13+LEFT(O466,1)*'Criterios de Riesgo'!$F$14+LEFT(P466,1)*'Criterios de Riesgo'!$F$15),2))/5)","v":""},null,null,null,null,{"$f":"IF(COUNTA(S466:V466)<4,\"\",IF(V466=\"No\",\"No se usa\",VLOOKUP(ROUND((LEFT(S466,1)*'Criterios de Riesgo'!$C$13+LEFT(T466,1)*'Criterios de Riesgo'!$C$14+LEFT(U466,1)*'Criterios de Riesgo'!$C$15),2),Calif_Covertura,2,1)))","v":""},{"$f":"IF(COUNTA(S466:V466)<4,\"\",IF(V466=\"No\",0,(ROUND((LEFT(S466,1)*'Criterios de Riesgo'!$C$13+LEFT(T466,1)*'Criterios de Riesgo'!$C$14+LEFT(U466,1)*'Criterios de Riesgo'!$C$15),2))/5))","v":""},""]
[null,null,null,null,null,null,null,null,null,null,null,null,null,null,null,null,{"$f":"IF(COUNTA(I467:P467)<8,\"\",VLOOKUP(ROUND((LEFT(I467,1)*'Criterios de Riesgo'!$F$8+LEFT(J467,1)*'Criterios de Riesgo'!$F$9+LEFT(K467,1)*'Criterios de Riesgo'!$F$10+LEFT(L467,1)*'Criterios de Riesgo'!$F$11+LEFT(M467,1)*'Criterios de Riesgo'!$F$12+LEFT(N467,1)*'Criterios de Riesgo'!$F$13+LEFT(O467,1)*'Criterios de Riesgo'!$F$14+LEFT(P467,1)*'Criterios de Riesgo'!$F$15),2),Calif_Control,2,1))","v":""},{"$f":"IF(COUNTA(I467:P467)<8,\"\",(ROUND((LEFT(I467,1)*'Criterios de Riesgo'!$F$8+LEFT(J467,1)*'Criterios de Riesgo'!$F$9+LEFT(K467,1)*'Criterios de Riesgo'!$F$10+LEFT(L467,1)*'Criterios de Riesgo'!$F$11+LEFT(M467,1)*'Criterios de Riesgo'!$F$12+LEFT(N467,1)*'Criterios de Riesgo'!$F$13+LEFT(O467,1)*'Criterios de Riesgo'!$F$14+LEFT(P467,1)*'Criterios de Riesgo'!$F$15),2))/5)","v":""},null,null,null,null,{"$f":"IF(COUNTA(S467:V467)<4,\"\",IF(V467=\"No\",\"No se usa\",VLOOKUP(ROUND((LEFT(S467,1)*'Criterios de Riesgo'!$C$13+LEFT(T467,1)*'Criterios de Riesgo'!$C$14+LEFT(U467,1)*'Criterios de Riesgo'!$C$15),2),Calif_Covertura,2,1)))","v":""},{"$f":"IF(COUNTA(S467:V467)<4,\"\",IF(V467=\"No\",0,(ROUND((LEFT(S467,1)*'Criterios de Riesgo'!$C$13+LEFT(T467,1)*'Criterios de Riesgo'!$C$14+LEFT(U467,1)*'Criterios de Riesgo'!$C$15),2))/5))","v":""},""]
[null,null,null,null,null,null,null,null,null,null,null,null,null,null,null,null,{"$f":"IF(COUNTA(I468:P468)<8,\"\",VLOOKUP(ROUND((LEFT(I468,1)*'Criterios de Riesgo'!$F$8+LEFT(J468,1)*'Criterios de Riesgo'!$F$9+LEFT(K468,1)*'Criterios de Riesgo'!$F$10+LEFT(L468,1)*'Criterios de Riesgo'!$F$11+LEFT(M468,1)*'Criterios de Riesgo'!$F$12+LEFT(N468,1)*'Criterios de Riesgo'!$F$13+LEFT(O468,1)*'Criterios de Riesgo'!$F$14+LEFT(P468,1)*'Criterios de Riesgo'!$F$15),2),Calif_Control,2,1))","v":""},{"$f":"IF(COUNTA(I468:P468)<8,\"\",(ROUND((LEFT(I468,1)*'Criterios de Riesgo'!$F$8+LEFT(J468,1)*'Criterios de Riesgo'!$F$9+LEFT(K468,1)*'Criterios de Riesgo'!$F$10+LEFT(L468,1)*'Criterios de Riesgo'!$F$11+LEFT(M468,1)*'Criterios de Riesgo'!$F$12+LEFT(N468,1)*'Criterios de Riesgo'!$F$13+LEFT(O468,1)*'Criterios de Riesgo'!$F$14+LEFT(P468,1)*'Criterios de Riesgo'!$F$15),2))/5)","v":""},null,null,null,null,{"$f":"IF(COUNTA(S468:V468)<4,\"\",IF(V468=\"No\",\"No se usa\",VLOOKUP(ROUND((LEFT(S468,1)*'Criterios de Riesgo'!$C$13+LEFT(T468,1)*'Criterios de Riesgo'!$C$14+LEFT(U468,1)*'Criterios de Riesgo'!$C$15),2),Calif_Covertura,2,1)))","v":""},{"$f":"IF(COUNTA(S468:V468)<4,\"\",IF(V468=\"No\",0,(ROUND((LEFT(S468,1)*'Criterios de Riesgo'!$C$13+LEFT(T468,1)*'Criterios de Riesgo'!$C$14+LEFT(U468,1)*'Criterios de Riesgo'!$C$15),2))/5))","v":""},""]
[null,null,null,null,null,null,null,null,null,null,null,null,null,null,null,null,{"$f":"IF(COUNTA(I469:P469)<8,\"\",VLOOKUP(ROUND((LEFT(I469,1)*'Criterios de Riesgo'!$F$8+LEFT(J469,1)*'Criterios de Riesgo'!$F$9+LEFT(K469,1)*'Criterios de Riesgo'!$F$10+LEFT(L469,1)*'Criterios de Riesgo'!$F$11+LEFT(M469,1)*'Criterios de Riesgo'!$F$12+LEFT(N469,1)*'Criterios de Riesgo'!$F$13+LEFT(O469,1)*'Criterios de Riesgo'!$F$14+LEFT(P469,1)*'Criterios de Riesgo'!$F$15),2),Calif_Control,2,1))","v":""},{"$f":"IF(COUNTA(I469:P469)<8,\"\",(ROUND((LEFT(I469,1)*'Criterios de Riesgo'!$F$8+LEFT(J469,1)*'Criterios de Riesgo'!$F$9+LEFT(K469,1)*'Criterios de Riesgo'!$F$10+LEFT(L469,1)*'Criterios de Riesgo'!$F$11+LEFT(M469,1)*'Criterios de Riesgo'!$F$12+LEFT(N469,1)*'Criterios de Riesgo'!$F$13+LEFT(O469,1)*'Criterios de Riesgo'!$F$14+LEFT(P469,1)*'Criterios de Riesgo'!$F$15),2))/5)","v":""},null,null,null,null,{"$f":"IF(COUNTA(S469:V469)<4,\"\",IF(V469=\"No\",\"No se usa\",VLOOKUP(ROUND((LEFT(S469,1)*'Criterios de Riesgo'!$C$13+LEFT(T469,1)*'Criterios de Riesgo'!$C$14+LEFT(U469,1)*'Criterios de Riesgo'!$C$15),2),Calif_Covertura,2,1)))","v":""},{"$f":"IF(COUNTA(S469:V469)<4,\"\",IF(V469=\"No\",0,(ROUND((LEFT(S469,1)*'Criterios de Riesgo'!$C$13+LEFT(T469,1)*'Criterios de Riesgo'!$C$14+LEFT(U469,1)*'Criterios de Riesgo'!$C$15),2))/5))","v":""},{"$f":"IF(ISERROR(R469*X469),\"\",R469*X469)","v":""}]
[null,null,null,null,null,null,null,null,null,null,null,null,null,null,null,null,{"$f":"IF(COUNTA(I470:P470)<8,\"\",VLOOKUP(ROUND((LEFT(I470,1)*'Criterios de Riesgo'!$F$8+LEFT(J470,1)*'Criterios de Riesgo'!$F$9+LEFT(K470,1)*'Criterios de Riesgo'!$F$10+LEFT(L470,1)*'Criterios de Riesgo'!$F$11+LEFT(M470,1)*'Criterios de Riesgo'!$F$12+LEFT(N470,1)*'Criterios de Riesgo'!$F$13+LEFT(O470,1)*'Criterios de Riesgo'!$F$14+LEFT(P470,1)*'Criterios de Riesgo'!$F$15),2),Calif_Control,2,1))","v":""},{"$f":"IF(COUNTA(I470:P470)<8,\"\",(ROUND((LEFT(I470,1)*'Criterios de Riesgo'!$F$8+LEFT(J470,1)*'Criterios de Riesgo'!$F$9+LEFT(K470,1)*'Criterios de Riesgo'!$F$10+LEFT(L470,1)*'Criterios de Riesgo'!$F$11+LEFT(M470,1)*'Criterios de Riesgo'!$F$12+LEFT(N470,1)*'Criterios de Riesgo'!$F$13+LEFT(O470,1)*'Criterios de Riesgo'!$F$14+LEFT(P470,1)*'Criterios de Riesgo'!$F$15),2))/5)","v":""},null,null,null,null,{"$f":"IF(COUNTA(S470:V470)<4,\"\",IF(V470=\"No\",\"No se usa\",VLOOKUP(ROUND((LEFT(S470,1)*'Criterios de Riesgo'!$C$13+LEFT(T470,1)*'Criterios de Riesgo'!$C$14+LEFT(U470,1)*'Criterios de Riesgo'!$C$15),2),Calif_Covertura,2,1)))","v":""},{"$f":"IF(COUNTA(S470:V470)<4,\"\",IF(V470=\"No\",0,(ROUND((LEFT(S470,1)*'Criterios de Riesgo'!$C$13+LEFT(T470,1)*'Criterios de Riesgo'!$C$14+LEFT(U470,1)*'Criterios de Riesgo'!$C$15),2))/5))","v":""},""]
[null,null,null,null,null,null,null,null,null,null,null,null,null,null,null,null,{"$f":"IF(COUNTA(I471:P471)<8,\"\",VLOOKUP(ROUND((LEFT(I471,1)*'Criterios de Riesgo'!$F$8+LEFT(J471,1)*'Criterios de Riesgo'!$F$9+LEFT(K471,1)*'Criterios de Riesgo'!$F$10+LEFT(L471,1)*'Criterios de Riesgo'!$F$11+LEFT(M471,1)*'Criterios de Riesgo'!$F$12+LEFT(N471,1)*'Criterios de Riesgo'!$F$13+LEFT(O471,1)*'Criterios de Riesgo'!$F$14+LEFT(P471,1)*'Criterios de Riesgo'!$F$15),2),Calif_Control,2,1))","v":""},{"$f":"IF(COUNTA(I471:P471)<8,\"\",(ROUND((LEFT(I471,1)*'Criterios de Riesgo'!$F$8+LEFT(J471,1)*'Criterios de Riesgo'!$F$9+LEFT(K471,1)*'Criterios de Riesgo'!$F$10+LEFT(L471,1)*'Criterios de Riesgo'!$F$11+LEFT(M471,1)*'Criterios de Riesgo'!$F$12+LEFT(N471,1)*'Criterios de Riesgo'!$F$13+LEFT(O471,1)*'Criterios de Riesgo'!$F$14+LEFT(P471,1)*'Criterios de Riesgo'!$F$15),2))/5)","v":""},null,null,null,null,{"$f":"IF(COUNTA(S471:V471)<4,\"\",IF(V471=\"No\",\"No se usa\",VLOOKUP(ROUND((LEFT(S471,1)*'Criterios de Riesgo'!$C$13+LEFT(T471,1)*'Criterios de Riesgo'!$C$14+LEFT(U471,1)*'Criterios de Riesgo'!$C$15),2),Calif_Covertura,2,1)))","v":""},{"$f":"IF(COUNTA(S471:V471)<4,\"\",IF(V471=\"No\",0,(ROUND((LEFT(S471,1)*'Criterios de Riesgo'!$C$13+LEFT(T471,1)*'Criterios de Riesgo'!$C$14+LEFT(U471,1)*'Criterios de Riesgo'!$C$15),2))/5))","v":""},""]
[null,null,null,null,null,null,null,null,null,null,null,null,null,null,null,null,{"$f":"IF(COUNTA(I472:P472)<8,\"\",VLOOKUP(ROUND((LEFT(I472,1)*'Criterios de Riesgo'!$F$8+LEFT(J472,1)*'Criterios de Riesgo'!$F$9+LEFT(K472,1)*'Criterios de Riesgo'!$F$10+LEFT(L472,1)*'Criterios de Riesgo'!$F$11+LEFT(M472,1)*'Criterios de Riesgo'!$F$12+LEFT(N472,1)*'Criterios de Riesgo'!$F$13+LEFT(O472,1)*'Criterios de Riesgo'!$F$14+LEFT(P472,1)*'Criterios de Riesgo'!$F$15),2),Calif_Control,2,1))","v":""},{"$f":"IF(COUNTA(I472:P472)<8,\"\",(ROUND((LEFT(I472,1)*'Criterios de Riesgo'!$F$8+LEFT(J472,1)*'Criterios de Riesgo'!$F$9+LEFT(K472,1)*'Criterios de Riesgo'!$F$10+LEFT(L472,1)*'Criterios de Riesgo'!$F$11+LEFT(M472,1)*'Criterios de Riesgo'!$F$12+LEFT(N472,1)*'Criterios de Riesgo'!$F$13+LEFT(O472,1)*'Criterios de Riesgo'!$F$14+LEFT(P472,1)*'Criterios de Riesgo'!$F$15),2))/5)","v":""},null,null,null,null,{"$f":"IF(COUNTA(S472:V472)<4,\"\",IF(V472=\"No\",\"No se usa\",VLOOKUP(ROUND((LEFT(S472,1)*'Criterios de Riesgo'!$C$13+LEFT(T472,1)*'Criterios de Riesgo'!$C$14+LEFT(U472,1)*'Criterios de Riesgo'!$C$15),2),Calif_Covertura,2,1)))","v":""},{"$f":"IF(COUNTA(S472:V472)<4,\"\",IF(V472=\"No\",0,(ROUND((LEFT(S472,1)*'Criterios de Riesgo'!$C$13+LEFT(T472,1)*'Criterios de Riesgo'!$C$14+LEFT(U472,1)*'Criterios de Riesgo'!$C$15),2))/5))","v":""},""]
[null,null,null,null,null,null,null,null,null,null,null,null,null,null,null,null,{"$f":"IF(COUNTA(I473:P473)<8,\"\",VLOOKUP(ROUND((LEFT(I473,1)*'Criterios de Riesgo'!$F$8+LEFT(J473,1)*'Criterios de Riesgo'!$F$9+LEFT(K473,1)*'Criterios de Riesgo'!$F$10+LEFT(L473,1)*'Criterios de Riesgo'!$F$11+LEFT(M473,1)*'Criterios de Riesgo'!$F$12+LEFT(N473,1)*'Criterios de Riesgo'!$F$13+LEFT(O473,1)*'Criterios de Riesgo'!$F$14+LEFT(P473,1)*'Criterios de Riesgo'!$F$15),2),Calif_Control,2,1))","v":""},{"$f":"IF(COUNTA(I473:P473)<8,\"\",(ROUND((LEFT(I473,1)*'Criterios de Riesgo'!$F$8+LEFT(J473,1)*'Criterios de Riesgo'!$F$9+LEFT(K473,1)*'Criterios de Riesgo'!$F$10+LEFT(L473,1)*'Criterios de Riesgo'!$F$11+LEFT(M473,1)*'Criterios de Riesgo'!$F$12+LEFT(N473,1)*'Criterios de Riesgo'!$F$13+LEFT(O473,1)*'Criterios de Riesgo'!$F$14+LEFT(P473,1)*'Criterios de Riesgo'!$F$15),2))/5)","v":""},null,null,null,null,{"$f":"IF(COUNTA(S473:V473)<4,\"\",IF(V473=\"No\",\"No se usa\",VLOOKUP(ROUND((LEFT(S473,1)*'Criterios de Riesgo'!$C$13+LEFT(T473,1)*'Criterios de Riesgo'!$C$14+LEFT(U473,1)*'Criterios de Riesgo'!$C$15),2),Calif_Covertura,2,1)))","v":""},{"$f":"IF(COUNTA(S473:V473)<4,\"\",IF(V473=\"No\",0,(ROUND((LEFT(S473,1)*'Criterios de Riesgo'!$C$13+LEFT(T473,1)*'Criterios de Riesgo'!$C$14+LEFT(U473,1)*'Criterios de Riesgo'!$C$15),2))/5))","v":""},""]
[null,null,null,null,null,null,null,null,null,null,null,null,null,null,null,null,{"$f":"IF(COUNTA(I474:P474)<8,\"\",VLOOKUP(ROUND((LEFT(I474,1)*'Criterios de Riesgo'!$F$8+LEFT(J474,1)*'Criterios de Riesgo'!$F$9+LEFT(K474,1)*'Criterios de Riesgo'!$F$10+LEFT(L474,1)*'Criterios de Riesgo'!$F$11+LEFT(M474,1)*'Criterios de Riesgo'!$F$12+LEFT(N474,1)*'Criterios de Riesgo'!$F$13+LEFT(O474,1)*'Criterios de Riesgo'!$F$14+LEFT(P474,1)*'Criterios de Riesgo'!$F$15),2),Calif_Control,2,1))","v":""},{"$f":"IF(COUNTA(I474:P474)<8,\"\",(ROUND((LEFT(I474,1)*'Criterios de Riesgo'!$F$8+LEFT(J474,1)*'Criterios de Riesgo'!$F$9+LEFT(K474,1)*'Criterios de Riesgo'!$F$10+LEFT(L474,1)*'Criterios de Riesgo'!$F$11+LEFT(M474,1)*'Criterios de Riesgo'!$F$12+LEFT(N474,1)*'Criterios de Riesgo'!$F$13+LEFT(O474,1)*'Criterios de Riesgo'!$F$14+LEFT(P474,1)*'Criterios de Riesgo'!$F$15),2))/5)","v":""},null,null,null,null,{"$f":"IF(COUNTA(S474:V474)<4,\"\",IF(V474=\"No\",\"No se usa\",VLOOKUP(ROUND((LEFT(S474,1)*'Criterios de Riesgo'!$C$13+LEFT(T474,1)*'Criterios de Riesgo'!$C$14+LEFT(U474,1)*'Criterios de Riesgo'!$C$15),2),Calif_Covertura,2,1)))","v":""},{"$f":"IF(COUNTA(S474:V474)<4,\"\",IF(V474=\"No\",0,(ROUND((LEFT(S474,1)*'Criterios de Riesgo'!$C$13+LEFT(T474,1)*'Criterios de Riesgo'!$C$14+LEFT(U474,1)*'Criterios de Riesgo'!$C$15),2))/5))","v":""},""]
["R",null,null,null,null,null,null,null,null,null,null,null,null,null,null,null,{"$f":"IF(COUNTA(I475:P475)<8,\"\",VLOOKUP(ROUND((LEFT(I475,1)*'Criterios de Riesgo'!$F$8+LEFT(J475,1)*'Criterios de Riesgo'!$F$9+LEFT(K475,1)*'Criterios de Riesgo'!$F$10+LEFT(L475,1)*'Criterios de Riesgo'!$F$11+LEFT(M475,1)*'Criterios de Riesgo'!$F$12+LEFT(N475,1)*'Criterios de Riesgo'!$F$13+LEFT(O475,1)*'Criterios de Riesgo'!$F$14+LEFT(P475,1)*'Criterios de Riesgo'!$F$15),2),Calif_Control,2,1))","v":""},{"$f":"IF(COUNTA(I475:P475)<8,\"\",(ROUND((LEFT(I475,1)*'Criterios de Riesgo'!$F$8+LEFT(J475,1)*'Criterios de Riesgo'!$F$9+LEFT(K475,1)*'Criterios de Riesgo'!$F$10+LEFT(L475,1)*'Criterios de Riesgo'!$F$11+LEFT(M475,1)*'Criterios de Riesgo'!$F$12+LEFT(N475,1)*'Criterios de Riesgo'!$F$13+LEFT(O475,1)*'Criterios de Riesgo'!$F$14+LEFT(P475,1)*'Criterios de Riesgo'!$F$15),2))/5)","v":""},null,null,null,null,{"$f":"IF(COUNTA(S475:V475)<4,\"\",IF(V475=\"No\",\"No se usa\",VLOOKUP(ROUND((LEFT(S475,1)*'Criterios de Riesgo'!$C$13+LEFT(T475,1)*'Criterios de Riesgo'!$C$14+LEFT(U475,1)*'Criterios de Riesgo'!$C$15),2),Calif_Covertura,2,1)))","v":""},{"$f":"IF(COUNTA(S475:V475)<4,\"\",IF(V475=\"No\",0,(ROUND((LEFT(S475,1)*'Criterios de Riesgo'!$C$13+LEFT(T475,1)*'Criterios de Riesgo'!$C$14+LEFT(U475,1)*'Criterios de Riesgo'!$C$15),2))/5))","v":""},"",null,{"$f":"IF(ISERROR((SUMIF(Z475:Z484,\"=impacto\",Y475:Y484)+SUMIF(Z475:Z484,\"=Ambos\",Y475:Y484))/(COUNTIF(Z475:Z484,\"Impacto\")+COUNTIF(Z475:Z484,\"Ambos\"))),\"\",(SUMIF(Z475:Z484,\"=impacto\",Y475:Y484)+SUMIF(Z475:Z484,\"=Ambos\",Y475:Y484))/(COUNTIF(Z475:Z484,\"Impacto\")+COUNTIF(Z475:Z484,\"Ambos\")))","v":""},{"$f":"IF(ISERROR((SUMIF(Z475:Z484,\"=Probabilidad\",Y475:Y484)+SUMIF(Z475:Z484,\"=Ambos\",Y475:Y484))/(COUNTIF(Z475:Z484,\"Probabilidad\")+COUNTIF(Z475:Z484,\"Ambos\"))),\"\",(SUMIF(Z475:Z484,\"=Probabilidad\",Y475:Y484)+SUMIF(Z475:Z484,\"=Ambos\",Y475:Y484))/(COUNTIF(Z475:Z484,\"Probabilidad\")+COUNTIF(Z475:Z484,\"Ambos\")))","v":""},{"$f":"IF(ISERROR(ROUND(IF(AB475=\"\",AA475,IF(AA475=\"\",AB475,IF(AND(AB475=\"\",AA475=\"\"),\"\",AB475*AA475)))*100,0)/100),\"\",ROUND(IF(AB475=\"\",AA475,IF(AA475=\"\",AB475,IF(AND(AB475=\"\",AA475=\"\"),\"\",AB475*AA475)))*100,0)/100)","v":""},{"$f":"IF(AC475=\"\",\"\",VLOOKUP(AC475*5,Calif_Control,2,1))","v":""}]
[null,null,null,null,null,null,null,null,null,null,null,null,null,null,null,null,{"$f":"IF(COUNTA(I476:P476)<8,\"\",VLOOKUP(ROUND((LEFT(I476,1)*'Criterios de Riesgo'!$F$8+LEFT(J476,1)*'Criterios de Riesgo'!$F$9+LEFT(K476,1)*'Criterios de Riesgo'!$F$10+LEFT(L476,1)*'Criterios de Riesgo'!$F$11+LEFT(M476,1)*'Criterios de Riesgo'!$F$12+LEFT(N476,1)*'Criterios de Riesgo'!$F$13+LEFT(O476,1)*'Criterios de Riesgo'!$F$14+LEFT(P476,1)*'Criterios de Riesgo'!$F$15),2),Calif_Control,2,1))","v":""},{"$f":"IF(COUNTA(I476:P476)<8,\"\",(ROUND((LEFT(I476,1)*'Criterios de Riesgo'!$F$8+LEFT(J476,1)*'Criterios de Riesgo'!$F$9+LEFT(K476,1)*'Criterios de Riesgo'!$F$10+LEFT(L476,1)*'Criterios de Riesgo'!$F$11+LEFT(M476,1)*'Criterios de Riesgo'!$F$12+LEFT(N476,1)*'Criterios de Riesgo'!$F$13+LEFT(O476,1)*'Criterios de Riesgo'!$F$14+LEFT(P476,1)*'Criterios de Riesgo'!$F$15),2))/5)","v":""},null,null,null,null,{"$f":"IF(COUNTA(S476:V476)<4,\"\",IF(V476=\"No\",\"No se usa\",VLOOKUP(ROUND((LEFT(S476,1)*'Criterios de Riesgo'!$C$13+LEFT(T476,1)*'Criterios de Riesgo'!$C$14+LEFT(U476,1)*'Criterios de Riesgo'!$C$15),2),Calif_Covertura,2,1)))","v":""},{"$f":"IF(COUNTA(S476:V476)<4,\"\",IF(V476=\"No\",0,(ROUND((LEFT(S476,1)*'Criterios de Riesgo'!$C$13+LEFT(T476,1)*'Criterios de Riesgo'!$C$14+LEFT(U476,1)*'Criterios de Riesgo'!$C$15),2))/5))","v":""},""]
[null,null,null,null,null,null,null,null,null,null,null,null,null,null,null,null,{"$f":"IF(COUNTA(I477:P477)<8,\"\",VLOOKUP(ROUND((LEFT(I477,1)*'Criterios de Riesgo'!$F$8+LEFT(J477,1)*'Criterios de Riesgo'!$F$9+LEFT(K477,1)*'Criterios de Riesgo'!$F$10+LEFT(L477,1)*'Criterios de Riesgo'!$F$11+LEFT(M477,1)*'Criterios de Riesgo'!$F$12+LEFT(N477,1)*'Criterios de Riesgo'!$F$13+LEFT(O477,1)*'Criterios de Riesgo'!$F$14+LEFT(P477,1)*'Criterios de Riesgo'!$F$15),2),Calif_Control,2,1))","v":""},{"$f":"IF(COUNTA(I477:P477)<8,\"\",(ROUND((LEFT(I477,1)*'Criterios de Riesgo'!$F$8+LEFT(J477,1)*'Criterios de Riesgo'!$F$9+LEFT(K477,1)*'Criterios de Riesgo'!$F$10+LEFT(L477,1)*'Criterios de Riesgo'!$F$11+LEFT(M477,1)*'Criterios de Riesgo'!$F$12+LEFT(N477,1)*'Criterios de Riesgo'!$F$13+LEFT(O477,1)*'Criterios de Riesgo'!$F$14+LEFT(P477,1)*'Criterios de Riesgo'!$F$15),2))/5)","v":""},null,null,null,null,{"$f":"IF(COUNTA(S477:V477)<4,\"\",IF(V477=\"No\",\"No se usa\",VLOOKUP(ROUND((LEFT(S477,1)*'Criterios de Riesgo'!$C$13+LEFT(T477,1)*'Criterios de Riesgo'!$C$14+LEFT(U477,1)*'Criterios de Riesgo'!$C$15),2),Calif_Covertura,2,1)))","v":""},{"$f":"IF(COUNTA(S477:V477)<4,\"\",IF(V477=\"No\",0,(ROUND((LEFT(S477,1)*'Criterios de Riesgo'!$C$13+LEFT(T477,1)*'Criterios de Riesgo'!$C$14+LEFT(U477,1)*'Criterios de Riesgo'!$C$15),2))/5))","v":""},""]
[null,null,null,null,null,null,null,null,null,null,null,null,null,null,null,null,{"$f":"IF(COUNTA(I478:P478)<8,\"\",VLOOKUP(ROUND((LEFT(I478,1)*'Criterios de Riesgo'!$F$8+LEFT(J478,1)*'Criterios de Riesgo'!$F$9+LEFT(K478,1)*'Criterios de Riesgo'!$F$10+LEFT(L478,1)*'Criterios de Riesgo'!$F$11+LEFT(M478,1)*'Criterios de Riesgo'!$F$12+LEFT(N478,1)*'Criterios de Riesgo'!$F$13+LEFT(O478,1)*'Criterios de Riesgo'!$F$14+LEFT(P478,1)*'Criterios de Riesgo'!$F$15),2),Calif_Control,2,1))","v":""},{"$f":"IF(COUNTA(I478:P478)<8,\"\",(ROUND((LEFT(I478,1)*'Criterios de Riesgo'!$F$8+LEFT(J478,1)*'Criterios de Riesgo'!$F$9+LEFT(K478,1)*'Criterios de Riesgo'!$F$10+LEFT(L478,1)*'Criterios de Riesgo'!$F$11+LEFT(M478,1)*'Criterios de Riesgo'!$F$12+LEFT(N478,1)*'Criterios de Riesgo'!$F$13+LEFT(O478,1)*'Criterios de Riesgo'!$F$14+LEFT(P478,1)*'Criterios de Riesgo'!$F$15),2))/5)","v":""},null,null,null,null,{"$f":"IF(COUNTA(S478:V478)<4,\"\",IF(V478=\"No\",\"No se usa\",VLOOKUP(ROUND((LEFT(S478,1)*'Criterios de Riesgo'!$C$13+LEFT(T478,1)*'Criterios de Riesgo'!$C$14+LEFT(U478,1)*'Criterios de Riesgo'!$C$15),2),Calif_Covertura,2,1)))","v":""},{"$f":"IF(COUNTA(S478:V478)<4,\"\",IF(V478=\"No\",0,(ROUND((LEFT(S478,1)*'Criterios de Riesgo'!$C$13+LEFT(T478,1)*'Criterios de Riesgo'!$C$14+LEFT(U478,1)*'Criterios de Riesgo'!$C$15),2))/5))","v":""},""]
[null,null,null,null,null,null,null,null,null,null,null,null,null,null,null,null,{"$f":"IF(COUNTA(I479:P479)<8,\"\",VLOOKUP(ROUND((LEFT(I479,1)*'Criterios de Riesgo'!$F$8+LEFT(J479,1)*'Criterios de Riesgo'!$F$9+LEFT(K479,1)*'Criterios de Riesgo'!$F$10+LEFT(L479,1)*'Criterios de Riesgo'!$F$11+LEFT(M479,1)*'Criterios de Riesgo'!$F$12+LEFT(N479,1)*'Criterios de Riesgo'!$F$13+LEFT(O479,1)*'Criterios de Riesgo'!$F$14+LEFT(P479,1)*'Criterios de Riesgo'!$F$15),2),Calif_Control,2,1))","v":""},{"$f":"IF(COUNTA(I479:P479)<8,\"\",(ROUND((LEFT(I479,1)*'Criterios de Riesgo'!$F$8+LEFT(J479,1)*'Criterios de Riesgo'!$F$9+LEFT(K479,1)*'Criterios de Riesgo'!$F$10+LEFT(L479,1)*'Criterios de Riesgo'!$F$11+LEFT(M479,1)*'Criterios de Riesgo'!$F$12+LEFT(N479,1)*'Criterios de Riesgo'!$F$13+LEFT(O479,1)*'Criterios de Riesgo'!$F$14+LEFT(P479,1)*'Criterios de Riesgo'!$F$15),2))/5)","v":""},null,null,null,null,{"$f":"IF(COUNTA(S479:V479)<4,\"\",IF(V479=\"No\",\"No se usa\",VLOOKUP(ROUND((LEFT(S479,1)*'Criterios de Riesgo'!$C$13+LEFT(T479,1)*'Criterios de Riesgo'!$C$14+LEFT(U479,1)*'Criterios de Riesgo'!$C$15),2),Calif_Covertura,2,1)))","v":""},{"$f":"IF(COUNTA(S479:V479)<4,\"\",IF(V479=\"No\",0,(ROUND((LEFT(S479,1)*'Criterios de Riesgo'!$C$13+LEFT(T479,1)*'Criterios de Riesgo'!$C$14+LEFT(U479,1)*'Criterios de Riesgo'!$C$15),2))/5))","v":""},""]
[null,null,null,null,null,null,null,null,null,null,null,null,null,null,null,null,{"$f":"IF(COUNTA(I480:P480)<8,\"\",VLOOKUP(ROUND((LEFT(I480,1)*'Criterios de Riesgo'!$F$8+LEFT(J480,1)*'Criterios de Riesgo'!$F$9+LEFT(K480,1)*'Criterios de Riesgo'!$F$10+LEFT(L480,1)*'Criterios de Riesgo'!$F$11+LEFT(M480,1)*'Criterios de Riesgo'!$F$12+LEFT(N480,1)*'Criterios de Riesgo'!$F$13+LEFT(O480,1)*'Criterios de Riesgo'!$F$14+LEFT(P480,1)*'Criterios de Riesgo'!$F$15),2),Calif_Control,2,1))","v":""},{"$f":"IF(COUNTA(I480:P480)<8,\"\",(ROUND((LEFT(I480,1)*'Criterios de Riesgo'!$F$8+LEFT(J480,1)*'Criterios de Riesgo'!$F$9+LEFT(K480,1)*'Criterios de Riesgo'!$F$10+LEFT(L480,1)*'Criterios de Riesgo'!$F$11+LEFT(M480,1)*'Criterios de Riesgo'!$F$12+LEFT(N480,1)*'Criterios de Riesgo'!$F$13+LEFT(O480,1)*'Criterios de Riesgo'!$F$14+LEFT(P480,1)*'Criterios de Riesgo'!$F$15),2))/5)","v":""},null,null,null,null,{"$f":"IF(COUNTA(S480:V480)<4,\"\",IF(V480=\"No\",\"No se usa\",VLOOKUP(ROUND((LEFT(S480,1)*'Criterios de Riesgo'!$C$13+LEFT(T480,1)*'Criterios de Riesgo'!$C$14+LEFT(U480,1)*'Criterios de Riesgo'!$C$15),2),Calif_Covertura,2,1)))","v":""},{"$f":"IF(COUNTA(S480:V480)<4,\"\",IF(V480=\"No\",0,(ROUND((LEFT(S480,1)*'Criterios de Riesgo'!$C$13+LEFT(T480,1)*'Criterios de Riesgo'!$C$14+LEFT(U480,1)*'Criterios de Riesgo'!$C$15),2))/5))","v":""},""]
[null,null,null,null,null,null,null,null,null,null,null,null,null,null,null,null,{"$f":"IF(COUNTA(I481:P481)<8,\"\",VLOOKUP(ROUND((LEFT(I481,1)*'Criterios de Riesgo'!$F$8+LEFT(J481,1)*'Criterios de Riesgo'!$F$9+LEFT(K481,1)*'Criterios de Riesgo'!$F$10+LEFT(L481,1)*'Criterios de Riesgo'!$F$11+LEFT(M481,1)*'Criterios de Riesgo'!$F$12+LEFT(N481,1)*'Criterios de Riesgo'!$F$13+LEFT(O481,1)*'Criterios de Riesgo'!$F$14+LEFT(P481,1)*'Criterios de Riesgo'!$F$15),2),Calif_Control,2,1))","v":""},{"$f":"IF(COUNTA(I481:P481)<8,\"\",(ROUND((LEFT(I481,1)*'Criterios de Riesgo'!$F$8+LEFT(J481,1)*'Criterios de Riesgo'!$F$9+LEFT(K481,1)*'Criterios de Riesgo'!$F$10+LEFT(L481,1)*'Criterios de Riesgo'!$F$11+LEFT(M481,1)*'Criterios de Riesgo'!$F$12+LEFT(N481,1)*'Criterios de Riesgo'!$F$13+LEFT(O481,1)*'Criterios de Riesgo'!$F$14+LEFT(P481,1)*'Criterios de Riesgo'!$F$15),2))/5)","v":""},null,null,null,null,{"$f":"IF(COUNTA(S481:V481)<4,\"\",IF(V481=\"No\",\"No se usa\",VLOOKUP(ROUND((LEFT(S481,1)*'Criterios de Riesgo'!$C$13+LEFT(T481,1)*'Criterios de Riesgo'!$C$14+LEFT(U481,1)*'Criterios de Riesgo'!$C$15),2),Calif_Covertura,2,1)))","v":""},{"$f":"IF(COUNTA(S481:V481)<4,\"\",IF(V481=\"No\",0,(ROUND((LEFT(S481,1)*'Criterios de Riesgo'!$C$13+LEFT(T481,1)*'Criterios de Riesgo'!$C$14+LEFT(U481,1)*'Criterios de Riesgo'!$C$15),2))/5))","v":""},""]
[null,null,null,null,null,null,null,null,null,null,null,null,null,null,null,null,{"$f":"IF(COUNTA(I482:P482)<8,\"\",VLOOKUP(ROUND((LEFT(I482,1)*'Criterios de Riesgo'!$F$8+LEFT(J482,1)*'Criterios de Riesgo'!$F$9+LEFT(K482,1)*'Criterios de Riesgo'!$F$10+LEFT(L482,1)*'Criterios de Riesgo'!$F$11+LEFT(M482,1)*'Criterios de Riesgo'!$F$12+LEFT(N482,1)*'Criterios de Riesgo'!$F$13+LEFT(O482,1)*'Criterios de Riesgo'!$F$14+LEFT(P482,1)*'Criterios de Riesgo'!$F$15),2),Calif_Control,2,1))","v":""},{"$f":"IF(COUNTA(I482:P482)<8,\"\",(ROUND((LEFT(I482,1)*'Criterios de Riesgo'!$F$8+LEFT(J482,1)*'Criterios de Riesgo'!$F$9+LEFT(K482,1)*'Criterios de Riesgo'!$F$10+LEFT(L482,1)*'Criterios de Riesgo'!$F$11+LEFT(M482,1)*'Criterios de Riesgo'!$F$12+LEFT(N482,1)*'Criterios de Riesgo'!$F$13+LEFT(O482,1)*'Criterios de Riesgo'!$F$14+LEFT(P482,1)*'Criterios de Riesgo'!$F$15),2))/5)","v":""},null,null,null,null,{"$f":"IF(COUNTA(S482:V482)<4,\"\",IF(V482=\"No\",\"No se usa\",VLOOKUP(ROUND((LEFT(S482,1)*'Criterios de Riesgo'!$C$13+LEFT(T482,1)*'Criterios de Riesgo'!$C$14+LEFT(U482,1)*'Criterios de Riesgo'!$C$15),2),Calif_Covertura,2,1)))","v":""},{"$f":"IF(COUNTA(S482:V482)<4,\"\",IF(V482=\"No\",0,(ROUND((LEFT(S482,1)*'Criterios de Riesgo'!$C$13+LEFT(T482,1)*'Criterios de Riesgo'!$C$14+LEFT(U482,1)*'Criterios de Riesgo'!$C$15),2))/5))","v":""},""]
[null,null,null,null,null,null,null,null,null,null,null,null,null,null,null,null,{"$f":"IF(COUNTA(I483:P483)<8,\"\",VLOOKUP(ROUND((LEFT(I483,1)*'Criterios de Riesgo'!$F$8+LEFT(J483,1)*'Criterios de Riesgo'!$F$9+LEFT(K483,1)*'Criterios de Riesgo'!$F$10+LEFT(L483,1)*'Criterios de Riesgo'!$F$11+LEFT(M483,1)*'Criterios de Riesgo'!$F$12+LEFT(N483,1)*'Criterios de Riesgo'!$F$13+LEFT(O483,1)*'Criterios de Riesgo'!$F$14+LEFT(P483,1)*'Criterios de Riesgo'!$F$15),2),Calif_Control,2,1))","v":""},{"$f":"IF(COUNTA(I483:P483)<8,\"\",(ROUND((LEFT(I483,1)*'Criterios de Riesgo'!$F$8+LEFT(J483,1)*'Criterios de Riesgo'!$F$9+LEFT(K483,1)*'Criterios de Riesgo'!$F$10+LEFT(L483,1)*'Criterios de Riesgo'!$F$11+LEFT(M483,1)*'Criterios de Riesgo'!$F$12+LEFT(N483,1)*'Criterios de Riesgo'!$F$13+LEFT(O483,1)*'Criterios de Riesgo'!$F$14+LEFT(P483,1)*'Criterios de Riesgo'!$F$15),2))/5)","v":""},null,null,null,null,{"$f":"IF(COUNTA(S483:V483)<4,\"\",IF(V483=\"No\",\"No se usa\",VLOOKUP(ROUND((LEFT(S483,1)*'Criterios de Riesgo'!$C$13+LEFT(T483,1)*'Criterios de Riesgo'!$C$14+LEFT(U483,1)*'Criterios de Riesgo'!$C$15),2),Calif_Covertura,2,1)))","v":""},{"$f":"IF(COUNTA(S483:V483)<4,\"\",IF(V483=\"No\",0,(ROUND((LEFT(S483,1)*'Criterios de Riesgo'!$C$13+LEFT(T483,1)*'Criterios de Riesgo'!$C$14+LEFT(U483,1)*'Criterios de Riesgo'!$C$15),2))/5))","v":""},""]
[null,null,null,null,null,null,null,null,null,null,null,null,null,null,null,null,{"$f":"IF(COUNTA(I484:P484)<8,\"\",VLOOKUP(ROUND((LEFT(I484,1)*'Criterios de Riesgo'!$F$8+LEFT(J484,1)*'Criterios de Riesgo'!$F$9+LEFT(K484,1)*'Criterios de Riesgo'!$F$10+LEFT(L484,1)*'Criterios de Riesgo'!$F$11+LEFT(M484,1)*'Criterios de Riesgo'!$F$12+LEFT(N484,1)*'Criterios de Riesgo'!$F$13+LEFT(O484,1)*'Criterios de Riesgo'!$F$14+LEFT(P484,1)*'Criterios de Riesgo'!$F$15),2),Calif_Control,2,1))","v":""},{"$f":"IF(COUNTA(I484:P484)<8,\"\",(ROUND((LEFT(I484,1)*'Criterios de Riesgo'!$F$8+LEFT(J484,1)*'Criterios de Riesgo'!$F$9+LEFT(K484,1)*'Criterios de Riesgo'!$F$10+LEFT(L484,1)*'Criterios de Riesgo'!$F$11+LEFT(M484,1)*'Criterios de Riesgo'!$F$12+LEFT(N484,1)*'Criterios de Riesgo'!$F$13+LEFT(O484,1)*'Criterios de Riesgo'!$F$14+LEFT(P484,1)*'Criterios de Riesgo'!$F$15),2))/5)","v":""},null,null,null,null,{"$f":"IF(COUNTA(S484:V484)<4,\"\",IF(V484=\"No\",\"No se usa\",VLOOKUP(ROUND((LEFT(S484,1)*'Criterios de Riesgo'!$C$13+LEFT(T484,1)*'Criterios de Riesgo'!$C$14+LEFT(U484,1)*'Criterios de Riesgo'!$C$15),2),Calif_Covertura,2,1)))","v":""},{"$f":"IF(COUNTA(S484:V484)<4,\"\",IF(V484=\"No\",0,(ROUND((LEFT(S484,1)*'Criterios de Riesgo'!$C$13+LEFT(T484,1)*'Criterios de Riesgo'!$C$14+LEFT(U484,1)*'Criterios de Riesgo'!$C$15),2))/5))","v":""},""]
["R",null,null,null,null,null,null,null,null,null,null,null,null,null,null,null,{"$f":"IF(COUNTA(I485:P485)<8,\"\",VLOOKUP(ROUND((LEFT(I485,1)*'Criterios de Riesgo'!$F$8+LEFT(J485,1)*'Criterios de Riesgo'!$F$9+LEFT(K485,1)*'Criterios de Riesgo'!$F$10+LEFT(L485,1)*'Criterios de Riesgo'!$F$11+LEFT(M485,1)*'Criterios de Riesgo'!$F$12+LEFT(N485,1)*'Criterios de Riesgo'!$F$13+LEFT(O485,1)*'Criterios de Riesgo'!$F$14+LEFT(P485,1)*'Criterios de Riesgo'!$F$15),2),Calif_Control,2,1))","v":""},{"$f":"IF(COUNTA(I485:P485)<8,\"\",(ROUND((LEFT(I485,1)*'Criterios de Riesgo'!$F$8+LEFT(J485,1)*'Criterios de Riesgo'!$F$9+LEFT(K485,1)*'Criterios de Riesgo'!$F$10+LEFT(L485,1)*'Criterios de Riesgo'!$F$11+LEFT(M485,1)*'Criterios de Riesgo'!$F$12+LEFT(N485,1)*'Criterios de Riesgo'!$F$13+LEFT(O485,1)*'Criterios de Riesgo'!$F$14+LEFT(P485,1)*'Criterios de Riesgo'!$F$15),2))/5)","v":""},null,null,null,null,{"$f":"IF(COUNTA(S485:V485)<4,\"\",IF(V485=\"No\",\"No se usa\",VLOOKUP(ROUND((LEFT(S485,1)*'Criterios de Riesgo'!$C$13+LEFT(T485,1)*'Criterios de Riesgo'!$C$14+LEFT(U485,1)*'Criterios de Riesgo'!$C$15),2),Calif_Covertura,2,1)))","v":""},{"$f":"IF(COUNTA(S485:V485)<4,\"\",IF(V485=\"No\",0,(ROUND((LEFT(S485,1)*'Criterios de Riesgo'!$C$13+LEFT(T485,1)*'Criterios de Riesgo'!$C$14+LEFT(U485,1)*'Criterios de Riesgo'!$C$15),2))/5))","v":""},"",null,{"$f":"IF(ISERROR((SUMIF(Z485:Z494,\"=impacto\",Y485:Y494)+SUMIF(Z485:Z494,\"=Ambos\",Y485:Y494))/(COUNTIF(Z485:Z494,\"Impacto\")+COUNTIF(Z485:Z494,\"Ambos\"))),\"\",(SUMIF(Z485:Z494,\"=impacto\",Y485:Y494)+SUMIF(Z485:Z494,\"=Ambos\",Y485:Y494))/(COUNTIF(Z485:Z494,\"Impacto\")+COUNTIF(Z485:Z494,\"Ambos\")))","v":""},{"$f":"IF(ISERROR((SUMIF(Z485:Z494,\"=Probabilidad\",Y485:Y494)+SUMIF(Z485:Z494,\"=Ambos\",Y485:Y494))/(COUNTIF(Z485:Z494,\"Probabilidad\")+COUNTIF(Z485:Z494,\"Ambos\"))),\"\",(SUMIF(Z485:Z494,\"=Probabilidad\",Y485:Y494)+SUMIF(Z485:Z494,\"=Ambos\",Y485:Y494))/(COUNTIF(Z485:Z494,\"Probabilidad\")+COUNTIF(Z485:Z494,\"Ambos\")))","v":""},{"$f":"IF(ISERROR(ROUND(IF(AB485=\"\",AA485,IF(AA485=\"\",AB485,IF(AND(AB485=\"\",AA485=\"\"),\"\",AB485*AA485)))*100,0)/100),\"\",ROUND(IF(AB485=\"\",AA485,IF(AA485=\"\",AB485,IF(AND(AB485=\"\",AA485=\"\"),\"\",AB485*AA485)))*100,0)/100)","v":""},{"$f":"IF(AC485=\"\",\"\",VLOOKUP(AC485*5,Calif_Control,2,1))","v":""}]
[null,null,null,null,null,null,null,null,null,null,null,null,null,null,null,null,{"$f":"IF(COUNTA(I486:P486)<8,\"\",VLOOKUP(ROUND((LEFT(I486,1)*'Criterios de Riesgo'!$F$8+LEFT(J486,1)*'Criterios de Riesgo'!$F$9+LEFT(K486,1)*'Criterios de Riesgo'!$F$10+LEFT(L486,1)*'Criterios de Riesgo'!$F$11+LEFT(M486,1)*'Criterios de Riesgo'!$F$12+LEFT(N486,1)*'Criterios de Riesgo'!$F$13+LEFT(O486,1)*'Criterios de Riesgo'!$F$14+LEFT(P486,1)*'Criterios de Riesgo'!$F$15),2),Calif_Control,2,1))","v":""},{"$f":"IF(COUNTA(I486:P486)<8,\"\",(ROUND((LEFT(I486,1)*'Criterios de Riesgo'!$F$8+LEFT(J486,1)*'Criterios de Riesgo'!$F$9+LEFT(K486,1)*'Criterios de Riesgo'!$F$10+LEFT(L486,1)*'Criterios de Riesgo'!$F$11+LEFT(M486,1)*'Criterios de Riesgo'!$F$12+LEFT(N486,1)*'Criterios de Riesgo'!$F$13+LEFT(O486,1)*'Criterios de Riesgo'!$F$14+LEFT(P486,1)*'Criterios de Riesgo'!$F$15),2))/5)","v":""},null,null,null,null,{"$f":"IF(COUNTA(S486:V486)<4,\"\",IF(V486=\"No\",\"No se usa\",VLOOKUP(ROUND((LEFT(S486,1)*'Criterios de Riesgo'!$C$13+LEFT(T486,1)*'Criterios de Riesgo'!$C$14+LEFT(U486,1)*'Criterios de Riesgo'!$C$15),2),Calif_Covertura,2,1)))","v":""},{"$f":"IF(COUNTA(S486:V486)<4,\"\",IF(V486=\"No\",0,(ROUND((LEFT(S486,1)*'Criterios de Riesgo'!$C$13+LEFT(T486,1)*'Criterios de Riesgo'!$C$14+LEFT(U486,1)*'Criterios de Riesgo'!$C$15),2))/5))","v":""},""]
[null,null,null,null,null,null,null,null,null,null,null,null,null,null,null,null,{"$f":"IF(COUNTA(I487:P487)<8,\"\",VLOOKUP(ROUND((LEFT(I487,1)*'Criterios de Riesgo'!$F$8+LEFT(J487,1)*'Criterios de Riesgo'!$F$9+LEFT(K487,1)*'Criterios de Riesgo'!$F$10+LEFT(L487,1)*'Criterios de Riesgo'!$F$11+LEFT(M487,1)*'Criterios de Riesgo'!$F$12+LEFT(N487,1)*'Criterios de Riesgo'!$F$13+LEFT(O487,1)*'Criterios de Riesgo'!$F$14+LEFT(P487,1)*'Criterios de Riesgo'!$F$15),2),Calif_Control,2,1))","v":""},{"$f":"IF(COUNTA(I487:P487)<8,\"\",(ROUND((LEFT(I487,1)*'Criterios de Riesgo'!$F$8+LEFT(J487,1)*'Criterios de Riesgo'!$F$9+LEFT(K487,1)*'Criterios de Riesgo'!$F$10+LEFT(L487,1)*'Criterios de Riesgo'!$F$11+LEFT(M487,1)*'Criterios de Riesgo'!$F$12+LEFT(N487,1)*'Criterios de Riesgo'!$F$13+LEFT(O487,1)*'Criterios de Riesgo'!$F$14+LEFT(P487,1)*'Criterios de Riesgo'!$F$15),2))/5)","v":""},null,null,null,null,{"$f":"IF(COUNTA(S487:V487)<4,\"\",IF(V487=\"No\",\"No se usa\",VLOOKUP(ROUND((LEFT(S487,1)*'Criterios de Riesgo'!$C$13+LEFT(T487,1)*'Criterios de Riesgo'!$C$14+LEFT(U487,1)*'Criterios de Riesgo'!$C$15),2),Calif_Covertura,2,1)))","v":""},{"$f":"IF(COUNTA(S487:V487)<4,\"\",IF(V487=\"No\",0,(ROUND((LEFT(S487,1)*'Criterios de Riesgo'!$C$13+LEFT(T487,1)*'Criterios de Riesgo'!$C$14+LEFT(U487,1)*'Criterios de Riesgo'!$C$15),2))/5))","v":""},""]
[null,null,null,null,null,null,null,null,null,null,null,null,null,null,null,null,{"$f":"IF(COUNTA(I488:P488)<8,\"\",VLOOKUP(ROUND((LEFT(I488,1)*'Criterios de Riesgo'!$F$8+LEFT(J488,1)*'Criterios de Riesgo'!$F$9+LEFT(K488,1)*'Criterios de Riesgo'!$F$10+LEFT(L488,1)*'Criterios de Riesgo'!$F$11+LEFT(M488,1)*'Criterios de Riesgo'!$F$12+LEFT(N488,1)*'Criterios de Riesgo'!$F$13+LEFT(O488,1)*'Criterios de Riesgo'!$F$14+LEFT(P488,1)*'Criterios de Riesgo'!$F$15),2),Calif_Control,2,1))","v":""},{"$f":"IF(COUNTA(I488:P488)<8,\"\",(ROUND((LEFT(I488,1)*'Criterios de Riesgo'!$F$8+LEFT(J488,1)*'Criterios de Riesgo'!$F$9+LEFT(K488,1)*'Criterios de Riesgo'!$F$10+LEFT(L488,1)*'Criterios de Riesgo'!$F$11+LEFT(M488,1)*'Criterios de Riesgo'!$F$12+LEFT(N488,1)*'Criterios de Riesgo'!$F$13+LEFT(O488,1)*'Criterios de Riesgo'!$F$14+LEFT(P488,1)*'Criterios de Riesgo'!$F$15),2))/5)","v":""},null,null,null,null,{"$f":"IF(COUNTA(S488:V488)<4,\"\",IF(V488=\"No\",\"No se usa\",VLOOKUP(ROUND((LEFT(S488,1)*'Criterios de Riesgo'!$C$13+LEFT(T488,1)*'Criterios de Riesgo'!$C$14+LEFT(U488,1)*'Criterios de Riesgo'!$C$15),2),Calif_Covertura,2,1)))","v":""},{"$f":"IF(COUNTA(S488:V488)<4,\"\",IF(V488=\"No\",0,(ROUND((LEFT(S488,1)*'Criterios de Riesgo'!$C$13+LEFT(T488,1)*'Criterios de Riesgo'!$C$14+LEFT(U488,1)*'Criterios de Riesgo'!$C$15),2))/5))","v":""},""]
[null,null,null,null,null,null,null,null,null,null,null,null,null,null,null,null,{"$f":"IF(COUNTA(I489:P489)<8,\"\",VLOOKUP(ROUND((LEFT(I489,1)*'Criterios de Riesgo'!$F$8+LEFT(J489,1)*'Criterios de Riesgo'!$F$9+LEFT(K489,1)*'Criterios de Riesgo'!$F$10+LEFT(L489,1)*'Criterios de Riesgo'!$F$11+LEFT(M489,1)*'Criterios de Riesgo'!$F$12+LEFT(N489,1)*'Criterios de Riesgo'!$F$13+LEFT(O489,1)*'Criterios de Riesgo'!$F$14+LEFT(P489,1)*'Criterios de Riesgo'!$F$15),2),Calif_Control,2,1))","v":""},{"$f":"IF(COUNTA(I489:P489)<8,\"\",(ROUND((LEFT(I489,1)*'Criterios de Riesgo'!$F$8+LEFT(J489,1)*'Criterios de Riesgo'!$F$9+LEFT(K489,1)*'Criterios de Riesgo'!$F$10+LEFT(L489,1)*'Criterios de Riesgo'!$F$11+LEFT(M489,1)*'Criterios de Riesgo'!$F$12+LEFT(N489,1)*'Criterios de Riesgo'!$F$13+LEFT(O489,1)*'Criterios de Riesgo'!$F$14+LEFT(P489,1)*'Criterios de Riesgo'!$F$15),2))/5)","v":""},null,null,null,null,{"$f":"IF(COUNTA(S489:V489)<4,\"\",IF(V489=\"No\",\"No se usa\",VLOOKUP(ROUND((LEFT(S489,1)*'Criterios de Riesgo'!$C$13+LEFT(T489,1)*'Criterios de Riesgo'!$C$14+LEFT(U489,1)*'Criterios de Riesgo'!$C$15),2),Calif_Covertura,2,1)))","v":""},{"$f":"IF(COUNTA(S489:V489)<4,\"\",IF(V489=\"No\",0,(ROUND((LEFT(S489,1)*'Criterios de Riesgo'!$C$13+LEFT(T489,1)*'Criterios de Riesgo'!$C$14+LEFT(U489,1)*'Criterios de Riesgo'!$C$15),2))/5))","v":""},""]
[null,null,null,null,null,null,null,null,null,null,null,null,null,null,null,null,{"$f":"IF(COUNTA(I490:P490)<8,\"\",VLOOKUP(ROUND((LEFT(I490,1)*'Criterios de Riesgo'!$F$8+LEFT(J490,1)*'Criterios de Riesgo'!$F$9+LEFT(K490,1)*'Criterios de Riesgo'!$F$10+LEFT(L490,1)*'Criterios de Riesgo'!$F$11+LEFT(M490,1)*'Criterios de Riesgo'!$F$12+LEFT(N490,1)*'Criterios de Riesgo'!$F$13+LEFT(O490,1)*'Criterios de Riesgo'!$F$14+LEFT(P490,1)*'Criterios de Riesgo'!$F$15),2),Calif_Control,2,1))","v":""},{"$f":"IF(COUNTA(I490:P490)<8,\"\",(ROUND((LEFT(I490,1)*'Criterios de Riesgo'!$F$8+LEFT(J490,1)*'Criterios de Riesgo'!$F$9+LEFT(K490,1)*'Criterios de Riesgo'!$F$10+LEFT(L490,1)*'Criterios de Riesgo'!$F$11+LEFT(M490,1)*'Criterios de Riesgo'!$F$12+LEFT(N490,1)*'Criterios de Riesgo'!$F$13+LEFT(O490,1)*'Criterios de Riesgo'!$F$14+LEFT(P490,1)*'Criterios de Riesgo'!$F$15),2))/5)","v":""},null,null,null,null,{"$f":"IF(COUNTA(S490:V490)<4,\"\",IF(V490=\"No\",\"No se usa\",VLOOKUP(ROUND((LEFT(S490,1)*'Criterios de Riesgo'!$C$13+LEFT(T490,1)*'Criterios de Riesgo'!$C$14+LEFT(U490,1)*'Criterios de Riesgo'!$C$15),2),Calif_Covertura,2,1)))","v":""},{"$f":"IF(COUNTA(S490:V490)<4,\"\",IF(V490=\"No\",0,(ROUND((LEFT(S490,1)*'Criterios de Riesgo'!$C$13+LEFT(T490,1)*'Criterios de Riesgo'!$C$14+LEFT(U490,1)*'Criterios de Riesgo'!$C$15),2))/5))","v":""},""]
[null,null,null,null,null,null,null,null,null,null,null,null,null,null,null,null,{"$f":"IF(COUNTA(I491:P491)<8,\"\",VLOOKUP(ROUND((LEFT(I491,1)*'Criterios de Riesgo'!$F$8+LEFT(J491,1)*'Criterios de Riesgo'!$F$9+LEFT(K491,1)*'Criterios de Riesgo'!$F$10+LEFT(L491,1)*'Criterios de Riesgo'!$F$11+LEFT(M491,1)*'Criterios de Riesgo'!$F$12+LEFT(N491,1)*'Criterios de Riesgo'!$F$13+LEFT(O491,1)*'Criterios de Riesgo'!$F$14+LEFT(P491,1)*'Criterios de Riesgo'!$F$15),2),Calif_Control,2,1))","v":""},{"$f":"IF(COUNTA(I491:P491)<8,\"\",(ROUND((LEFT(I491,1)*'Criterios de Riesgo'!$F$8+LEFT(J491,1)*'Criterios de Riesgo'!$F$9+LEFT(K491,1)*'Criterios de Riesgo'!$F$10+LEFT(L491,1)*'Criterios de Riesgo'!$F$11+LEFT(M491,1)*'Criterios de Riesgo'!$F$12+LEFT(N491,1)*'Criterios de Riesgo'!$F$13+LEFT(O491,1)*'Criterios de Riesgo'!$F$14+LEFT(P491,1)*'Criterios de Riesgo'!$F$15),2))/5)","v":""},null,null,null,null,{"$f":"IF(COUNTA(S491:V491)<4,\"\",IF(V491=\"No\",\"No se usa\",VLOOKUP(ROUND((LEFT(S491,1)*'Criterios de Riesgo'!$C$13+LEFT(T491,1)*'Criterios de Riesgo'!$C$14+LEFT(U491,1)*'Criterios de Riesgo'!$C$15),2),Calif_Covertura,2,1)))","v":""},{"$f":"IF(COUNTA(S491:V491)<4,\"\",IF(V491=\"No\",0,(ROUND((LEFT(S491,1)*'Criterios de Riesgo'!$C$13+LEFT(T491,1)*'Criterios de Riesgo'!$C$14+LEFT(U491,1)*'Criterios de Riesgo'!$C$15),2))/5))","v":""},""]
[null,null,null,null,null,null,null,null,null,null,null,null,null,null,null,null,{"$f":"IF(COUNTA(I492:P492)<8,\"\",VLOOKUP(ROUND((LEFT(I492,1)*'Criterios de Riesgo'!$F$8+LEFT(J492,1)*'Criterios de Riesgo'!$F$9+LEFT(K492,1)*'Criterios de Riesgo'!$F$10+LEFT(L492,1)*'Criterios de Riesgo'!$F$11+LEFT(M492,1)*'Criterios de Riesgo'!$F$12+LEFT(N492,1)*'Criterios de Riesgo'!$F$13+LEFT(O492,1)*'Criterios de Riesgo'!$F$14+LEFT(P492,1)*'Criterios de Riesgo'!$F$15),2),Calif_Control,2,1))","v":""},{"$f":"IF(COUNTA(I492:P492)<8,\"\",(ROUND((LEFT(I492,1)*'Criterios de Riesgo'!$F$8+LEFT(J492,1)*'Criterios de Riesgo'!$F$9+LEFT(K492,1)*'Criterios de Riesgo'!$F$10+LEFT(L492,1)*'Criterios de Riesgo'!$F$11+LEFT(M492,1)*'Criterios de Riesgo'!$F$12+LEFT(N492,1)*'Criterios de Riesgo'!$F$13+LEFT(O492,1)*'Criterios de Riesgo'!$F$14+LEFT(P492,1)*'Criterios de Riesgo'!$F$15),2))/5)","v":""},null,null,null,null,{"$f":"IF(COUNTA(S492:V492)<4,\"\",IF(V492=\"No\",\"No se usa\",VLOOKUP(ROUND((LEFT(S492,1)*'Criterios de Riesgo'!$C$13+LEFT(T492,1)*'Criterios de Riesgo'!$C$14+LEFT(U492,1)*'Criterios de Riesgo'!$C$15),2),Calif_Covertura,2,1)))","v":""},{"$f":"IF(COUNTA(S492:V492)<4,\"\",IF(V492=\"No\",0,(ROUND((LEFT(S492,1)*'Criterios de Riesgo'!$C$13+LEFT(T492,1)*'Criterios de Riesgo'!$C$14+LEFT(U492,1)*'Criterios de Riesgo'!$C$15),2))/5))","v":""},""]
[null,null,null,null,null,null,null,null,null,null,null,null,null,null,null,null,{"$f":"IF(COUNTA(I493:P493)<8,\"\",VLOOKUP(ROUND((LEFT(I493,1)*'Criterios de Riesgo'!$F$8+LEFT(J493,1)*'Criterios de Riesgo'!$F$9+LEFT(K493,1)*'Criterios de Riesgo'!$F$10+LEFT(L493,1)*'Criterios de Riesgo'!$F$11+LEFT(M493,1)*'Criterios de Riesgo'!$F$12+LEFT(N493,1)*'Criterios de Riesgo'!$F$13+LEFT(O493,1)*'Criterios de Riesgo'!$F$14+LEFT(P493,1)*'Criterios de Riesgo'!$F$15),2),Calif_Control,2,1))","v":""},{"$f":"IF(COUNTA(I493:P493)<8,\"\",(ROUND((LEFT(I493,1)*'Criterios de Riesgo'!$F$8+LEFT(J493,1)*'Criterios de Riesgo'!$F$9+LEFT(K493,1)*'Criterios de Riesgo'!$F$10+LEFT(L493,1)*'Criterios de Riesgo'!$F$11+LEFT(M493,1)*'Criterios de Riesgo'!$F$12+LEFT(N493,1)*'Criterios de Riesgo'!$F$13+LEFT(O493,1)*'Criterios de Riesgo'!$F$14+LEFT(P493,1)*'Criterios de Riesgo'!$F$15),2))/5)","v":""},null,null,null,null,{"$f":"IF(COUNTA(S493:V493)<4,\"\",IF(V493=\"No\",\"No se usa\",VLOOKUP(ROUND((LEFT(S493,1)*'Criterios de Riesgo'!$C$13+LEFT(T493,1)*'Criterios de Riesgo'!$C$14+LEFT(U493,1)*'Criterios de Riesgo'!$C$15),2),Calif_Covertura,2,1)))","v":""},{"$f":"IF(COUNTA(S493:V493)<4,\"\",IF(V493=\"No\",0,(ROUND((LEFT(S493,1)*'Criterios de Riesgo'!$C$13+LEFT(T493,1)*'Criterios de Riesgo'!$C$14+LEFT(U493,1)*'Criterios de Riesgo'!$C$15),2))/5))","v":""},""]
[null,null,null,null,null,null,null,null,null,null,null,null,null,null,null,null,{"$f":"IF(COUNTA(I494:P494)<8,\"\",VLOOKUP(ROUND((LEFT(I494,1)*'Criterios de Riesgo'!$F$8+LEFT(J494,1)*'Criterios de Riesgo'!$F$9+LEFT(K494,1)*'Criterios de Riesgo'!$F$10+LEFT(L494,1)*'Criterios de Riesgo'!$F$11+LEFT(M494,1)*'Criterios de Riesgo'!$F$12+LEFT(N494,1)*'Criterios de Riesgo'!$F$13+LEFT(O494,1)*'Criterios de Riesgo'!$F$14+LEFT(P494,1)*'Criterios de Riesgo'!$F$15),2),Calif_Control,2,1))","v":""},{"$f":"IF(COUNTA(I494:P494)<8,\"\",(ROUND((LEFT(I494,1)*'Criterios de Riesgo'!$F$8+LEFT(J494,1)*'Criterios de Riesgo'!$F$9+LEFT(K494,1)*'Criterios de Riesgo'!$F$10+LEFT(L494,1)*'Criterios de Riesgo'!$F$11+LEFT(M494,1)*'Criterios de Riesgo'!$F$12+LEFT(N494,1)*'Criterios de Riesgo'!$F$13+LEFT(O494,1)*'Criterios de Riesgo'!$F$14+LEFT(P494,1)*'Criterios de Riesgo'!$F$15),2))/5)","v":""},null,null,null,null,{"$f":"IF(COUNTA(S494:V494)<4,\"\",IF(V494=\"No\",\"No se usa\",VLOOKUP(ROUND((LEFT(S494,1)*'Criterios de Riesgo'!$C$13+LEFT(T494,1)*'Criterios de Riesgo'!$C$14+LEFT(U494,1)*'Criterios de Riesgo'!$C$15),2),Calif_Covertura,2,1)))","v":""},{"$f":"IF(COUNTA(S494:V494)<4,\"\",IF(V494=\"No\",0,(ROUND((LEFT(S494,1)*'Criterios de Riesgo'!$C$13+LEFT(T494,1)*'Criterios de Riesgo'!$C$14+LEFT(U494,1)*'Criterios de Riesgo'!$C$15),2))/5))","v":""},""]
["R",null,null,null,null,null,null,null,null,null,null,null,null,null,null,null,{"$f":"IF(COUNTA(I495:P495)<8,\"\",VLOOKUP(ROUND((LEFT(I495,1)*'Criterios de Riesgo'!$F$8+LEFT(J495,1)*'Criterios de Riesgo'!$F$9+LEFT(K495,1)*'Criterios de Riesgo'!$F$10+LEFT(L495,1)*'Criterios de Riesgo'!$F$11+LEFT(M495,1)*'Criterios de Riesgo'!$F$12+LEFT(N495,1)*'Criterios de Riesgo'!$F$13+LEFT(O495,1)*'Criterios de Riesgo'!$F$14+LEFT(P495,1)*'Criterios de Riesgo'!$F$15),2),Calif_Control,2,1))","v":""},{"$f":"IF(COUNTA(I495:P495)<8,\"\",(ROUND((LEFT(I495,1)*'Criterios de Riesgo'!$F$8+LEFT(J495,1)*'Criterios de Riesgo'!$F$9+LEFT(K495,1)*'Criterios de Riesgo'!$F$10+LEFT(L495,1)*'Criterios de Riesgo'!$F$11+LEFT(M495,1)*'Criterios de Riesgo'!$F$12+LEFT(N495,1)*'Criterios de Riesgo'!$F$13+LEFT(O495,1)*'Criterios de Riesgo'!$F$14+LEFT(P495,1)*'Criterios de Riesgo'!$F$15),2))/5)","v":""},null,null,null,null,{"$f":"IF(COUNTA(S495:V495)<4,\"\",IF(V495=\"No\",\"No se usa\",VLOOKUP(ROUND((LEFT(S495,1)*'Criterios de Riesgo'!$C$13+LEFT(T495,1)*'Criterios de Riesgo'!$C$14+LEFT(U495,1)*'Criterios de Riesgo'!$C$15),2),Calif_Covertura,2,1)))","v":""},{"$f":"IF(COUNTA(S495:V495)<4,\"\",IF(V495=\"No\",0,(ROUND((LEFT(S495,1)*'Criterios de Riesgo'!$C$13+LEFT(T495,1)*'Criterios de Riesgo'!$C$14+LEFT(U495,1)*'Criterios de Riesgo'!$C$15),2))/5))","v":""},"",null,{"$f":"IF(ISERROR((SUMIF(Z495:Z504,\"=impacto\",Y495:Y504)+SUMIF(Z495:Z504,\"=Ambos\",Y495:Y504))/(COUNTIF(Z495:Z504,\"Impacto\")+COUNTIF(Z495:Z504,\"Ambos\"))),\"\",(SUMIF(Z495:Z504,\"=impacto\",Y495:Y504)+SUMIF(Z495:Z504,\"=Ambos\",Y495:Y504))/(COUNTIF(Z495:Z504,\"Impacto\")+COUNTIF(Z495:Z504,\"Ambos\")))","v":""},{"$f":"IF(ISERROR((SUMIF(Z495:Z504,\"=Probabilidad\",Y495:Y504)+SUMIF(Z495:Z504,\"=Ambos\",Y495:Y504))/(COUNTIF(Z495:Z504,\"Probabilidad\")+COUNTIF(Z495:Z504,\"Ambos\"))),\"\",(SUMIF(Z495:Z504,\"=Probabilidad\",Y495:Y504)+SUMIF(Z495:Z504,\"=Ambos\",Y495:Y504))/(COUNTIF(Z495:Z504,\"Probabilidad\")+COUNTIF(Z495:Z504,\"Ambos\")))","v":""},{"$f":"IF(ISERROR(ROUND(IF(AB495=\"\",AA495,IF(AA495=\"\",AB495,IF(AND(AB495=\"\",AA495=\"\"),\"\",AB495*AA495)))*100,0)/100),\"\",ROUND(IF(AB495=\"\",AA495,IF(AA495=\"\",AB495,IF(AND(AB495=\"\",AA495=\"\"),\"\",AB495*AA495)))*100,0)/100)","v":""},{"$f":"IF(AC495=\"\",\"\",VLOOKUP(AC495*5,Calif_Control,2,1))","v":""}]
[null,null,null,null,null,null,null,null,null,null,null,null,null,null,null,null,{"$f":"IF(COUNTA(I496:P496)<8,\"\",VLOOKUP(ROUND((LEFT(I496,1)*'Criterios de Riesgo'!$F$8+LEFT(J496,1)*'Criterios de Riesgo'!$F$9+LEFT(K496,1)*'Criterios de Riesgo'!$F$10+LEFT(L496,1)*'Criterios de Riesgo'!$F$11+LEFT(M496,1)*'Criterios de Riesgo'!$F$12+LEFT(N496,1)*'Criterios de Riesgo'!$F$13+LEFT(O496,1)*'Criterios de Riesgo'!$F$14+LEFT(P496,1)*'Criterios de Riesgo'!$F$15),2),Calif_Control,2,1))","v":""},{"$f":"IF(COUNTA(I496:P496)<8,\"\",(ROUND((LEFT(I496,1)*'Criterios de Riesgo'!$F$8+LEFT(J496,1)*'Criterios de Riesgo'!$F$9+LEFT(K496,1)*'Criterios de Riesgo'!$F$10+LEFT(L496,1)*'Criterios de Riesgo'!$F$11+LEFT(M496,1)*'Criterios de Riesgo'!$F$12+LEFT(N496,1)*'Criterios de Riesgo'!$F$13+LEFT(O496,1)*'Criterios de Riesgo'!$F$14+LEFT(P496,1)*'Criterios de Riesgo'!$F$15),2))/5)","v":""},null,null,null,null,{"$f":"IF(COUNTA(S496:V496)<4,\"\",IF(V496=\"No\",\"No se usa\",VLOOKUP(ROUND((LEFT(S496,1)*'Criterios de Riesgo'!$C$13+LEFT(T496,1)*'Criterios de Riesgo'!$C$14+LEFT(U496,1)*'Criterios de Riesgo'!$C$15),2),Calif_Covertura,2,1)))","v":""},{"$f":"IF(COUNTA(S496:V496)<4,\"\",IF(V496=\"No\",0,(ROUND((LEFT(S496,1)*'Criterios de Riesgo'!$C$13+LEFT(T496,1)*'Criterios de Riesgo'!$C$14+LEFT(U496,1)*'Criterios de Riesgo'!$C$15),2))/5))","v":""},""]
[null,null,null,null,null,null,null,null,null,null,null,null,null,null,null,null,{"$f":"IF(COUNTA(I497:P497)<8,\"\",VLOOKUP(ROUND((LEFT(I497,1)*'Criterios de Riesgo'!$F$8+LEFT(J497,1)*'Criterios de Riesgo'!$F$9+LEFT(K497,1)*'Criterios de Riesgo'!$F$10+LEFT(L497,1)*'Criterios de Riesgo'!$F$11+LEFT(M497,1)*'Criterios de Riesgo'!$F$12+LEFT(N497,1)*'Criterios de Riesgo'!$F$13+LEFT(O497,1)*'Criterios de Riesgo'!$F$14+LEFT(P497,1)*'Criterios de Riesgo'!$F$15),2),Calif_Control,2,1))","v":""},{"$f":"IF(COUNTA(I497:P497)<8,\"\",(ROUND((LEFT(I497,1)*'Criterios de Riesgo'!$F$8+LEFT(J497,1)*'Criterios de Riesgo'!$F$9+LEFT(K497,1)*'Criterios de Riesgo'!$F$10+LEFT(L497,1)*'Criterios de Riesgo'!$F$11+LEFT(M497,1)*'Criterios de Riesgo'!$F$12+LEFT(N497,1)*'Criterios de Riesgo'!$F$13+LEFT(O497,1)*'Criterios de Riesgo'!$F$14+LEFT(P497,1)*'Criterios de Riesgo'!$F$15),2))/5)","v":""},null,null,null,null,{"$f":"IF(COUNTA(S497:V497)<4,\"\",IF(V497=\"No\",\"No se usa\",VLOOKUP(ROUND((LEFT(S497,1)*'Criterios de Riesgo'!$C$13+LEFT(T497,1)*'Criterios de Riesgo'!$C$14+LEFT(U497,1)*'Criterios de Riesgo'!$C$15),2),Calif_Covertura,2,1)))","v":""},{"$f":"IF(COUNTA(S497:V497)<4,\"\",IF(V497=\"No\",0,(ROUND((LEFT(S497,1)*'Criterios de Riesgo'!$C$13+LEFT(T497,1)*'Criterios de Riesgo'!$C$14+LEFT(U497,1)*'Criterios de Riesgo'!$C$15),2))/5))","v":""},""]
[null,null,null,null,null,null,null,null,null,null,null,null,null,null,null,null,{"$f":"IF(COUNTA(I498:P498)<8,\"\",VLOOKUP(ROUND((LEFT(I498,1)*'Criterios de Riesgo'!$F$8+LEFT(J498,1)*'Criterios de Riesgo'!$F$9+LEFT(K498,1)*'Criterios de Riesgo'!$F$10+LEFT(L498,1)*'Criterios de Riesgo'!$F$11+LEFT(M498,1)*'Criterios de Riesgo'!$F$12+LEFT(N498,1)*'Criterios de Riesgo'!$F$13+LEFT(O498,1)*'Criterios de Riesgo'!$F$14+LEFT(P498,1)*'Criterios de Riesgo'!$F$15),2),Calif_Control,2,1))","v":""},{"$f":"IF(COUNTA(I498:P498)<8,\"\",(ROUND((LEFT(I498,1)*'Criterios de Riesgo'!$F$8+LEFT(J498,1)*'Criterios de Riesgo'!$F$9+LEFT(K498,1)*'Criterios de Riesgo'!$F$10+LEFT(L498,1)*'Criterios de Riesgo'!$F$11+LEFT(M498,1)*'Criterios de Riesgo'!$F$12+LEFT(N498,1)*'Criterios de Riesgo'!$F$13+LEFT(O498,1)*'Criterios de Riesgo'!$F$14+LEFT(P498,1)*'Criterios de Riesgo'!$F$15),2))/5)","v":""},null,null,null,null,{"$f":"IF(COUNTA(S498:V498)<4,\"\",IF(V498=\"No\",\"No se usa\",VLOOKUP(ROUND((LEFT(S498,1)*'Criterios de Riesgo'!$C$13+LEFT(T498,1)*'Criterios de Riesgo'!$C$14+LEFT(U498,1)*'Criterios de Riesgo'!$C$15),2),Calif_Covertura,2,1)))","v":""},{"$f":"IF(COUNTA(S498:V498)<4,\"\",IF(V498=\"No\",0,(ROUND((LEFT(S498,1)*'Criterios de Riesgo'!$C$13+LEFT(T498,1)*'Criterios de Riesgo'!$C$14+LEFT(U498,1)*'Criterios de Riesgo'!$C$15),2))/5))","v":""},""]
[null,null,null,null,null,null,null,null,null,null,null,null,null,null,null,null,{"$f":"IF(COUNTA(I499:P499)<8,\"\",VLOOKUP(ROUND((LEFT(I499,1)*'Criterios de Riesgo'!$F$8+LEFT(J499,1)*'Criterios de Riesgo'!$F$9+LEFT(K499,1)*'Criterios de Riesgo'!$F$10+LEFT(L499,1)*'Criterios de Riesgo'!$F$11+LEFT(M499,1)*'Criterios de Riesgo'!$F$12+LEFT(N499,1)*'Criterios de Riesgo'!$F$13+LEFT(O499,1)*'Criterios de Riesgo'!$F$14+LEFT(P499,1)*'Criterios de Riesgo'!$F$15),2),Calif_Control,2,1))","v":""},{"$f":"IF(COUNTA(I499:P499)<8,\"\",(ROUND((LEFT(I499,1)*'Criterios de Riesgo'!$F$8+LEFT(J499,1)*'Criterios de Riesgo'!$F$9+LEFT(K499,1)*'Criterios de Riesgo'!$F$10+LEFT(L499,1)*'Criterios de Riesgo'!$F$11+LEFT(M499,1)*'Criterios de Riesgo'!$F$12+LEFT(N499,1)*'Criterios de Riesgo'!$F$13+LEFT(O499,1)*'Criterios de Riesgo'!$F$14+LEFT(P499,1)*'Criterios de Riesgo'!$F$15),2))/5)","v":""},null,null,null,null,{"$f":"IF(COUNTA(S499:V499)<4,\"\",IF(V499=\"No\",\"No se usa\",VLOOKUP(ROUND((LEFT(S499,1)*'Criterios de Riesgo'!$C$13+LEFT(T499,1)*'Criterios de Riesgo'!$C$14+LEFT(U499,1)*'Criterios de Riesgo'!$C$15),2),Calif_Covertura,2,1)))","v":""},{"$f":"IF(COUNTA(S499:V499)<4,\"\",IF(V499=\"No\",0,(ROUND((LEFT(S499,1)*'Criterios de Riesgo'!$C$13+LEFT(T499,1)*'Criterios de Riesgo'!$C$14+LEFT(U499,1)*'Criterios de Riesgo'!$C$15),2))/5))","v":""},""]
[null,null,null,null,null,null,null,null,null,null,null,null,null,null,null,null,{"$f":"IF(COUNTA(I500:P500)<8,\"\",VLOOKUP(ROUND((LEFT(I500,1)*'Criterios de Riesgo'!$F$8+LEFT(J500,1)*'Criterios de Riesgo'!$F$9+LEFT(K500,1)*'Criterios de Riesgo'!$F$10+LEFT(L500,1)*'Criterios de Riesgo'!$F$11+LEFT(M500,1)*'Criterios de Riesgo'!$F$12+LEFT(N500,1)*'Criterios de Riesgo'!$F$13+LEFT(O500,1)*'Criterios de Riesgo'!$F$14+LEFT(P500,1)*'Criterios de Riesgo'!$F$15),2),Calif_Control,2,1))","v":""},{"$f":"IF(COUNTA(I500:P500)<8,\"\",(ROUND((LEFT(I500,1)*'Criterios de Riesgo'!$F$8+LEFT(J500,1)*'Criterios de Riesgo'!$F$9+LEFT(K500,1)*'Criterios de Riesgo'!$F$10+LEFT(L500,1)*'Criterios de Riesgo'!$F$11+LEFT(M500,1)*'Criterios de Riesgo'!$F$12+LEFT(N500,1)*'Criterios de Riesgo'!$F$13+LEFT(O500,1)*'Criterios de Riesgo'!$F$14+LEFT(P500,1)*'Criterios de Riesgo'!$F$15),2))/5)","v":""},null,null,null,null,{"$f":"IF(COUNTA(S500:V500)<4,\"\",IF(V500=\"No\",\"No se usa\",VLOOKUP(ROUND((LEFT(S500,1)*'Criterios de Riesgo'!$C$13+LEFT(T500,1)*'Criterios de Riesgo'!$C$14+LEFT(U500,1)*'Criterios de Riesgo'!$C$15),2),Calif_Covertura,2,1)))","v":""},{"$f":"IF(COUNTA(S500:V500)<4,\"\",IF(V500=\"No\",0,(ROUND((LEFT(S500,1)*'Criterios de Riesgo'!$C$13+LEFT(T500,1)*'Criterios de Riesgo'!$C$14+LEFT(U500,1)*'Criterios de Riesgo'!$C$15),2))/5))","v":""},""]
[null,null,null,null,null,null,null,null,null,null,null,null,null,null,null,null,{"$f":"IF(COUNTA(I501:P501)<8,\"\",VLOOKUP(ROUND((LEFT(I501,1)*'Criterios de Riesgo'!$F$8+LEFT(J501,1)*'Criterios de Riesgo'!$F$9+LEFT(K501,1)*'Criterios de Riesgo'!$F$10+LEFT(L501,1)*'Criterios de Riesgo'!$F$11+LEFT(M501,1)*'Criterios de Riesgo'!$F$12+LEFT(N501,1)*'Criterios de Riesgo'!$F$13+LEFT(O501,1)*'Criterios de Riesgo'!$F$14+LEFT(P501,1)*'Criterios de Riesgo'!$F$15),2),Calif_Control,2,1))","v":""},{"$f":"IF(COUNTA(I501:P501)<8,\"\",(ROUND((LEFT(I501,1)*'Criterios de Riesgo'!$F$8+LEFT(J501,1)*'Criterios de Riesgo'!$F$9+LEFT(K501,1)*'Criterios de Riesgo'!$F$10+LEFT(L501,1)*'Criterios de Riesgo'!$F$11+LEFT(M501,1)*'Criterios de Riesgo'!$F$12+LEFT(N501,1)*'Criterios de Riesgo'!$F$13+LEFT(O501,1)*'Criterios de Riesgo'!$F$14+LEFT(P501,1)*'Criterios de Riesgo'!$F$15),2))/5)","v":""},null,null,null,null,{"$f":"IF(COUNTA(S501:V501)<4,\"\",IF(V501=\"No\",\"No se usa\",VLOOKUP(ROUND((LEFT(S501,1)*'Criterios de Riesgo'!$C$13+LEFT(T501,1)*'Criterios de Riesgo'!$C$14+LEFT(U501,1)*'Criterios de Riesgo'!$C$15),2),Calif_Covertura,2,1)))","v":""},{"$f":"IF(COUNTA(S501:V501)<4,\"\",IF(V501=\"No\",0,(ROUND((LEFT(S501,1)*'Criterios de Riesgo'!$C$13+LEFT(T501,1)*'Criterios de Riesgo'!$C$14+LEFT(U501,1)*'Criterios de Riesgo'!$C$15),2))/5))","v":""},""]
[null,null,null,null,null,null,null,null,null,null,null,null,null,null,null,null,{"$f":"IF(COUNTA(I502:P502)<8,\"\",VLOOKUP(ROUND((LEFT(I502,1)*'Criterios de Riesgo'!$F$8+LEFT(J502,1)*'Criterios de Riesgo'!$F$9+LEFT(K502,1)*'Criterios de Riesgo'!$F$10+LEFT(L502,1)*'Criterios de Riesgo'!$F$11+LEFT(M502,1)*'Criterios de Riesgo'!$F$12+LEFT(N502,1)*'Criterios de Riesgo'!$F$13+LEFT(O502,1)*'Criterios de Riesgo'!$F$14+LEFT(P502,1)*'Criterios de Riesgo'!$F$15),2),Calif_Control,2,1))","v":""},{"$f":"IF(COUNTA(I502:P502)<8,\"\",(ROUND((LEFT(I502,1)*'Criterios de Riesgo'!$F$8+LEFT(J502,1)*'Criterios de Riesgo'!$F$9+LEFT(K502,1)*'Criterios de Riesgo'!$F$10+LEFT(L502,1)*'Criterios de Riesgo'!$F$11+LEFT(M502,1)*'Criterios de Riesgo'!$F$12+LEFT(N502,1)*'Criterios de Riesgo'!$F$13+LEFT(O502,1)*'Criterios de Riesgo'!$F$14+LEFT(P502,1)*'Criterios de Riesgo'!$F$15),2))/5)","v":""},null,null,null,null,{"$f":"IF(COUNTA(S502:V502)<4,\"\",IF(V502=\"No\",\"No se usa\",VLOOKUP(ROUND((LEFT(S502,1)*'Criterios de Riesgo'!$C$13+LEFT(T502,1)*'Criterios de Riesgo'!$C$14+LEFT(U502,1)*'Criterios de Riesgo'!$C$15),2),Calif_Covertura,2,1)))","v":""},{"$f":"IF(COUNTA(S502:V502)<4,\"\",IF(V502=\"No\",0,(ROUND((LEFT(S502,1)*'Criterios de Riesgo'!$C$13+LEFT(T502,1)*'Criterios de Riesgo'!$C$14+LEFT(U502,1)*'Criterios de Riesgo'!$C$15),2))/5))","v":""},""]
[null,null,null,null,null,null,null,null,null,null,null,null,null,null,null,null,{"$f":"IF(COUNTA(I503:P503)<8,\"\",VLOOKUP(ROUND((LEFT(I503,1)*'Criterios de Riesgo'!$F$8+LEFT(J503,1)*'Criterios de Riesgo'!$F$9+LEFT(K503,1)*'Criterios de Riesgo'!$F$10+LEFT(L503,1)*'Criterios de Riesgo'!$F$11+LEFT(M503,1)*'Criterios de Riesgo'!$F$12+LEFT(N503,1)*'Criterios de Riesgo'!$F$13+LEFT(O503,1)*'Criterios de Riesgo'!$F$14+LEFT(P503,1)*'Criterios de Riesgo'!$F$15),2),Calif_Control,2,1))","v":""},{"$f":"IF(COUNTA(I503:P503)<8,\"\",(ROUND((LEFT(I503,1)*'Criterios de Riesgo'!$F$8+LEFT(J503,1)*'Criterios de Riesgo'!$F$9+LEFT(K503,1)*'Criterios de Riesgo'!$F$10+LEFT(L503,1)*'Criterios de Riesgo'!$F$11+LEFT(M503,1)*'Criterios de Riesgo'!$F$12+LEFT(N503,1)*'Criterios de Riesgo'!$F$13+LEFT(O503,1)*'Criterios de Riesgo'!$F$14+LEFT(P503,1)*'Criterios de Riesgo'!$F$15),2))/5)","v":""},null,null,null,null,{"$f":"IF(COUNTA(S503:V503)<4,\"\",IF(V503=\"No\",\"No se usa\",VLOOKUP(ROUND((LEFT(S503,1)*'Criterios de Riesgo'!$C$13+LEFT(T503,1)*'Criterios de Riesgo'!$C$14+LEFT(U503,1)*'Criterios de Riesgo'!$C$15),2),Calif_Covertura,2,1)))","v":""},{"$f":"IF(COUNTA(S503:V503)<4,\"\",IF(V503=\"No\",0,(ROUND((LEFT(S503,1)*'Criterios de Riesgo'!$C$13+LEFT(T503,1)*'Criterios de Riesgo'!$C$14+LEFT(U503,1)*'Criterios de Riesgo'!$C$15),2))/5))","v":""},""]
[null,null,null,null,null,null,null,null,null,null,null,null,null,null,null,null,{"$f":"IF(COUNTA(I504:P504)<8,\"\",VLOOKUP(ROUND((LEFT(I504,1)*'Criterios de Riesgo'!$F$8+LEFT(J504,1)*'Criterios de Riesgo'!$F$9+LEFT(K504,1)*'Criterios de Riesgo'!$F$10+LEFT(L504,1)*'Criterios de Riesgo'!$F$11+LEFT(M504,1)*'Criterios de Riesgo'!$F$12+LEFT(N504,1)*'Criterios de Riesgo'!$F$13+LEFT(O504,1)*'Criterios de Riesgo'!$F$14+LEFT(P504,1)*'Criterios de Riesgo'!$F$15),2),Calif_Control,2,1))","v":""},{"$f":"IF(COUNTA(I504:P504)<8,\"\",(ROUND((LEFT(I504,1)*'Criterios de Riesgo'!$F$8+LEFT(J504,1)*'Criterios de Riesgo'!$F$9+LEFT(K504,1)*'Criterios de Riesgo'!$F$10+LEFT(L504,1)*'Criterios de Riesgo'!$F$11+LEFT(M504,1)*'Criterios de Riesgo'!$F$12+LEFT(N504,1)*'Criterios de Riesgo'!$F$13+LEFT(O504,1)*'Criterios de Riesgo'!$F$14+LEFT(P504,1)*'Criterios de Riesgo'!$F$15),2))/5)","v":""},null,null,null,null,{"$f":"IF(COUNTA(S504:V504)<4,\"\",IF(V504=\"No\",\"No se usa\",VLOOKUP(ROUND((LEFT(S504,1)*'Criterios de Riesgo'!$C$13+LEFT(T504,1)*'Criterios de Riesgo'!$C$14+LEFT(U504,1)*'Criterios de Riesgo'!$C$15),2),Calif_Covertura,2,1)))","v":""},{"$f":"IF(COUNTA(S504:V504)<4,\"\",IF(V504=\"No\",0,(ROUND((LEFT(S504,1)*'Criterios de Riesgo'!$C$13+LEFT(T504,1)*'Criterios de Riesgo'!$C$14+LEFT(U504,1)*'Criterios de Riesgo'!$C$15),2))/5))","v":""},""]
["R",null,null,null,null,null,null,null,null,null,null,null,null,null,null,null,{"$f":"IF(COUNTA(I505:P505)<8,\"\",VLOOKUP(ROUND((LEFT(I505,1)*'Criterios de Riesgo'!$F$8+LEFT(J505,1)*'Criterios de Riesgo'!$F$9+LEFT(K505,1)*'Criterios de Riesgo'!$F$10+LEFT(L505,1)*'Criterios de Riesgo'!$F$11+LEFT(M505,1)*'Criterios de Riesgo'!$F$12+LEFT(N505,1)*'Criterios de Riesgo'!$F$13+LEFT(O505,1)*'Criterios de Riesgo'!$F$14+LEFT(P505,1)*'Criterios de Riesgo'!$F$15),2),Calif_Control,2,1))","v":""},{"$f":"IF(COUNTA(I505:P505)<8,\"\",(ROUND((LEFT(I505,1)*'Criterios de Riesgo'!$F$8+LEFT(J505,1)*'Criterios de Riesgo'!$F$9+LEFT(K505,1)*'Criterios de Riesgo'!$F$10+LEFT(L505,1)*'Criterios de Riesgo'!$F$11+LEFT(M505,1)*'Criterios de Riesgo'!$F$12+LEFT(N505,1)*'Criterios de Riesgo'!$F$13+LEFT(O505,1)*'Criterios de Riesgo'!$F$14+LEFT(P505,1)*'Criterios de Riesgo'!$F$15),2))/5)","v":""},null,null,null,null,{"$f":"IF(COUNTA(S505:V505)<4,\"\",IF(V505=\"No\",\"No se usa\",VLOOKUP(ROUND((LEFT(S505,1)*'Criterios de Riesgo'!$C$13+LEFT(T505,1)*'Criterios de Riesgo'!$C$14+LEFT(U505,1)*'Criterios de Riesgo'!$C$15),2),Calif_Covertura,2,1)))","v":""},{"$f":"IF(COUNTA(S505:V505)<4,\"\",IF(V505=\"No\",0,(ROUND((LEFT(S505,1)*'Criterios de Riesgo'!$C$13+LEFT(T505,1)*'Criterios de Riesgo'!$C$14+LEFT(U505,1)*'Criterios de Riesgo'!$C$15),2))/5))","v":""},{"$f":"IF(ISERROR(R505*X505),\"\",R505*X505)","v":""},null,{"$f":"IF(ISERROR((SUMIF(Z505:Z514,\"=impacto\",Y505:Y514)+SUMIF(Z505:Z514,\"=Ambos\",Y505:Y514))/(COUNTIF(Z505:Z514,\"Impacto\")+COUNTIF(Z505:Z514,\"Ambos\"))),\"\",(SUMIF(Z505:Z514,\"=impacto\",Y505:Y514)+SUMIF(Z505:Z514,\"=Ambos\",Y505:Y514))/(COUNTIF(Z505:Z514,\"Impacto\")+COUNTIF(Z505:Z514,\"Ambos\")))","v":""},{"$f":"IF(ISERROR((SUMIF(Z505:Z514,\"=Probabilidad\",Y505:Y514)+SUMIF(Z505:Z514,\"=Ambos\",Y505:Y514))/(COUNTIF(Z505:Z514,\"Probabilidad\")+COUNTIF(Z505:Z514,\"Ambos\"))),\"\",(SUMIF(Z505:Z514,\"=Probabilidad\",Y505:Y514)+SUMIF(Z505:Z514,\"=Ambos\",Y505:Y514))/(COUNTIF(Z505:Z514,\"Probabilidad\")+COUNTIF(Z505:Z514,\"Ambos\")))","v":""},{"$f":"IF(ISERROR(ROUND(IF(AB505=\"\",AA505,IF(AA505=\"\",AB505,IF(AND(AB505=\"\",AA505=\"\"),\"\",AB505*AA505)))*100,0)/100),\"\",ROUND(IF(AB505=\"\",AA505,IF(AA505=\"\",AB505,IF(AND(AB505=\"\",AA505=\"\"),\"\",AB505*AA505)))*100,0)/100)","v":""},{"$f":"IF(AC505=\"\",\"\",VLOOKUP(AC505*5,Calif_Control,2,1))","v":""}]
[null,null,null,null,null,null,null,null,null,null,null,null,null,null,null,null,{"$f":"IF(COUNTA(I506:P506)<8,\"\",VLOOKUP(ROUND((LEFT(I506,1)*'Criterios de Riesgo'!$F$8+LEFT(J506,1)*'Criterios de Riesgo'!$F$9+LEFT(K506,1)*'Criterios de Riesgo'!$F$10+LEFT(L506,1)*'Criterios de Riesgo'!$F$11+LEFT(M506,1)*'Criterios de Riesgo'!$F$12+LEFT(N506,1)*'Criterios de Riesgo'!$F$13+LEFT(O506,1)*'Criterios de Riesgo'!$F$14+LEFT(P506,1)*'Criterios de Riesgo'!$F$15),2),Calif_Control,2,1))","v":""},{"$f":"IF(COUNTA(I506:P506)<8,\"\",(ROUND((LEFT(I506,1)*'Criterios de Riesgo'!$F$8+LEFT(J506,1)*'Criterios de Riesgo'!$F$9+LEFT(K506,1)*'Criterios de Riesgo'!$F$10+LEFT(L506,1)*'Criterios de Riesgo'!$F$11+LEFT(M506,1)*'Criterios de Riesgo'!$F$12+LEFT(N506,1)*'Criterios de Riesgo'!$F$13+LEFT(O506,1)*'Criterios de Riesgo'!$F$14+LEFT(P506,1)*'Criterios de Riesgo'!$F$15),2))/5)","v":""}]
[null,null,null,null,null,null,null,null,null,null,null,null,null,null,null,null,{"$f":"IF(COUNTA(I507:P507)<8,\"\",VLOOKUP(ROUND((LEFT(I507,1)*'Criterios de Riesgo'!$F$8+LEFT(J507,1)*'Criterios de Riesgo'!$F$9+LEFT(K507,1)*'Criterios de Riesgo'!$F$10+LEFT(L507,1)*'Criterios de Riesgo'!$F$11+LEFT(M507,1)*'Criterios de Riesgo'!$F$12+LEFT(N507,1)*'Criterios de Riesgo'!$F$13+LEFT(O507,1)*'Criterios de Riesgo'!$F$14+LEFT(P507,1)*'Criterios de Riesgo'!$F$15),2),Calif_Control,2,1))","v":""},{"$f":"IF(COUNTA(I507:P507)<8,\"\",(ROUND((LEFT(I507,1)*'Criterios de Riesgo'!$F$8+LEFT(J507,1)*'Criterios de Riesgo'!$F$9+LEFT(K507,1)*'Criterios de Riesgo'!$F$10+LEFT(L507,1)*'Criterios de Riesgo'!$F$11+LEFT(M507,1)*'Criterios de Riesgo'!$F$12+LEFT(N507,1)*'Criterios de Riesgo'!$F$13+LEFT(O507,1)*'Criterios de Riesgo'!$F$14+LEFT(P507,1)*'Criterios de Riesgo'!$F$15),2))/5)","v":""}]
[null,null,null,null,null,null,null,null,null,null,null,null,null,null,null,null,{"$f":"IF(COUNTA(I508:P508)<8,\"\",VLOOKUP(ROUND((LEFT(I508,1)*'Criterios de Riesgo'!$F$8+LEFT(J508,1)*'Criterios de Riesgo'!$F$9+LEFT(K508,1)*'Criterios de Riesgo'!$F$10+LEFT(L508,1)*'Criterios de Riesgo'!$F$11+LEFT(M508,1)*'Criterios de Riesgo'!$F$12+LEFT(N508,1)*'Criterios de Riesgo'!$F$13+LEFT(O508,1)*'Criterios de Riesgo'!$F$14+LEFT(P508,1)*'Criterios de Riesgo'!$F$15),2),Calif_Control,2,1))","v":""},{"$f":"IF(COUNTA(I508:P508)<8,\"\",(ROUND((LEFT(I508,1)*'Criterios de Riesgo'!$F$8+LEFT(J508,1)*'Criterios de Riesgo'!$F$9+LEFT(K508,1)*'Criterios de Riesgo'!$F$10+LEFT(L508,1)*'Criterios de Riesgo'!$F$11+LEFT(M508,1)*'Criterios de Riesgo'!$F$12+LEFT(N508,1)*'Criterios de Riesgo'!$F$13+LEFT(O508,1)*'Criterios de Riesgo'!$F$14+LEFT(P508,1)*'Criterios de Riesgo'!$F$15),2))/5)","v":""}]
[null,null,null,null,null,null,null,null,null,null,null,null,null,null,null,null,{"$f":"IF(COUNTA(I509:P509)<8,\"\",VLOOKUP(ROUND((LEFT(I509,1)*'Criterios de Riesgo'!$F$8+LEFT(J509,1)*'Criterios de Riesgo'!$F$9+LEFT(K509,1)*'Criterios de Riesgo'!$F$10+LEFT(L509,1)*'Criterios de Riesgo'!$F$11+LEFT(M509,1)*'Criterios de Riesgo'!$F$12+LEFT(N509,1)*'Criterios de Riesgo'!$F$13+LEFT(O509,1)*'Criterios de Riesgo'!$F$14+LEFT(P509,1)*'Criterios de Riesgo'!$F$15),2),Calif_Control,2,1))","v":""},{"$f":"IF(COUNTA(I509:P509)<8,\"\",(ROUND((LEFT(I509,1)*'Criterios de Riesgo'!$F$8+LEFT(J509,1)*'Criterios de Riesgo'!$F$9+LEFT(K509,1)*'Criterios de Riesgo'!$F$10+LEFT(L509,1)*'Criterios de Riesgo'!$F$11+LEFT(M509,1)*'Criterios de Riesgo'!$F$12+LEFT(N509,1)*'Criterios de Riesgo'!$F$13+LEFT(O509,1)*'Criterios de Riesgo'!$F$14+LEFT(P509,1)*'Criterios de Riesgo'!$F$15),2))/5)","v":""}]
[null,null,null,null,null,null,null,null,null,null,null,null,null,null,null,null,{"$f":"IF(COUNTA(I510:P510)<8,\"\",VLOOKUP(ROUND((LEFT(I510,1)*'Criterios de Riesgo'!$F$8+LEFT(J510,1)*'Criterios de Riesgo'!$F$9+LEFT(K510,1)*'Criterios de Riesgo'!$F$10+LEFT(L510,1)*'Criterios de Riesgo'!$F$11+LEFT(M510,1)*'Criterios de Riesgo'!$F$12+LEFT(N510,1)*'Criterios de Riesgo'!$F$13+LEFT(O510,1)*'Criterios de Riesgo'!$F$14+LEFT(P510,1)*'Criterios de Riesgo'!$F$15),2),Calif_Control,2,1))","v":""},{"$f":"IF(COUNTA(I510:P510)<8,\"\",(ROUND((LEFT(I510,1)*'Criterios de Riesgo'!$F$8+LEFT(J510,1)*'Criterios de Riesgo'!$F$9+LEFT(K510,1)*'Criterios de Riesgo'!$F$10+LEFT(L510,1)*'Criterios de Riesgo'!$F$11+LEFT(M510,1)*'Criterios de Riesgo'!$F$12+LEFT(N510,1)*'Criterios de Riesgo'!$F$13+LEFT(O510,1)*'Criterios de Riesgo'!$F$14+LEFT(P510,1)*'Criterios de Riesgo'!$F$15),2))/5)","v":""}]
[null,null,null,null,null,null,null,null,null,null,null,null,null,null,null,null,{"$f":"IF(COUNTA(I511:P511)<8,\"\",VLOOKUP(ROUND((LEFT(I511,1)*'Criterios de Riesgo'!$F$8+LEFT(J511,1)*'Criterios de Riesgo'!$F$9+LEFT(K511,1)*'Criterios de Riesgo'!$F$10+LEFT(L511,1)*'Criterios de Riesgo'!$F$11+LEFT(M511,1)*'Criterios de Riesgo'!$F$12+LEFT(N511,1)*'Criterios de Riesgo'!$F$13+LEFT(O511,1)*'Criterios de Riesgo'!$F$14+LEFT(P511,1)*'Criterios de Riesgo'!$F$15),2),Calif_Control,2,1))","v":""},{"$f":"IF(COUNTA(I511:P511)<8,\"\",(ROUND((LEFT(I511,1)*'Criterios de Riesgo'!$F$8+LEFT(J511,1)*'Criterios de Riesgo'!$F$9+LEFT(K511,1)*'Criterios de Riesgo'!$F$10+LEFT(L511,1)*'Criterios de Riesgo'!$F$11+LEFT(M511,1)*'Criterios de Riesgo'!$F$12+LEFT(N511,1)*'Criterios de Riesgo'!$F$13+LEFT(O511,1)*'Criterios de Riesgo'!$F$14+LEFT(P511,1)*'Criterios de Riesgo'!$F$15),2))/5)","v":""}]
[null,null,null,null,null,null,null,null,null,null,null,null,null,null,null,null,{"$f":"IF(COUNTA(I512:P512)<8,\"\",VLOOKUP(ROUND((LEFT(I512,1)*'Criterios de Riesgo'!$F$8+LEFT(J512,1)*'Criterios de Riesgo'!$F$9+LEFT(K512,1)*'Criterios de Riesgo'!$F$10+LEFT(L512,1)*'Criterios de Riesgo'!$F$11+LEFT(M512,1)*'Criterios de Riesgo'!$F$12+LEFT(N512,1)*'Criterios de Riesgo'!$F$13+LEFT(O512,1)*'Criterios de Riesgo'!$F$14+LEFT(P512,1)*'Criterios de Riesgo'!$F$15),2),Calif_Control,2,1))","v":""},{"$f":"IF(COUNTA(I512:P512)<8,\"\",(ROUND((LEFT(I512,1)*'Criterios de Riesgo'!$F$8+LEFT(J512,1)*'Criterios de Riesgo'!$F$9+LEFT(K512,1)*'Criterios de Riesgo'!$F$10+LEFT(L512,1)*'Criterios de Riesgo'!$F$11+LEFT(M512,1)*'Criterios de Riesgo'!$F$12+LEFT(N512,1)*'Criterios de Riesgo'!$F$13+LEFT(O512,1)*'Criterios de Riesgo'!$F$14+LEFT(P512,1)*'Criterios de Riesgo'!$F$15),2))/5)","v":""}]
[null,null,null,null,null,null,null,null,null,null,null,null,null,null,null,null,{"$f":"IF(COUNTA(I513:P513)<8,\"\",VLOOKUP(ROUND((LEFT(I513,1)*'Criterios de Riesgo'!$F$8+LEFT(J513,1)*'Criterios de Riesgo'!$F$9+LEFT(K513,1)*'Criterios de Riesgo'!$F$10+LEFT(L513,1)*'Criterios de Riesgo'!$F$11+LEFT(M513,1)*'Criterios de Riesgo'!$F$12+LEFT(N513,1)*'Criterios de Riesgo'!$F$13+LEFT(O513,1)*'Criterios de Riesgo'!$F$14+LEFT(P513,1)*'Criterios de Riesgo'!$F$15),2),Calif_Control,2,1))","v":""},{"$f":"IF(COUNTA(I513:P513)<8,\"\",(ROUND((LEFT(I513,1)*'Criterios de Riesgo'!$F$8+LEFT(J513,1)*'Criterios de Riesgo'!$F$9+LEFT(K513,1)*'Criterios de Riesgo'!$F$10+LEFT(L513,1)*'Criterios de Riesgo'!$F$11+LEFT(M513,1)*'Criterios de Riesgo'!$F$12+LEFT(N513,1)*'Criterios de Riesgo'!$F$13+LEFT(O513,1)*'Criterios de Riesgo'!$F$14+LEFT(P513,1)*'Criterios de Riesgo'!$F$15),2))/5)","v":""}]
[null,null,null,null,null,null,null,null,null,null,null,null,null,null,null,null,{"$f":"IF(COUNTA(I514:P514)<8,\"\",VLOOKUP(ROUND((LEFT(I514,1)*'Criterios de Riesgo'!$F$8+LEFT(J514,1)*'Criterios de Riesgo'!$F$9+LEFT(K514,1)*'Criterios de Riesgo'!$F$10+LEFT(L514,1)*'Criterios de Riesgo'!$F$11+LEFT(M514,1)*'Criterios de Riesgo'!$F$12+LEFT(N514,1)*'Criterios de Riesgo'!$F$13+LEFT(O514,1)*'Criterios de Riesgo'!$F$14+LEFT(P514,1)*'Criterios de Riesgo'!$F$15),2),Calif_Control,2,1))","v":""},{"$f":"IF(COUNTA(I514:P514)<8,\"\",(ROUND((LEFT(I514,1)*'Criterios de Riesgo'!$F$8+LEFT(J514,1)*'Criterios de Riesgo'!$F$9+LEFT(K514,1)*'Criterios de Riesgo'!$F$10+LEFT(L514,1)*'Criterios de Riesgo'!$F$11+LEFT(M514,1)*'Criterios de Riesgo'!$F$12+LEFT(N514,1)*'Criterios de Riesgo'!$F$13+LEFT(O514,1)*'Criterios de Riesgo'!$F$14+LEFT(P514,1)*'Criterios de Riesgo'!$F$15),2))/5)","v":""}]
["R",null,null,null,null,null,null,null,null,null,null,null,null,null,null,null,{"$f":"IF(COUNTA(I515:P515)<8,\"\",VLOOKUP(ROUND((LEFT(I515,1)*'Criterios de Riesgo'!$F$8+LEFT(J515,1)*'Criterios de Riesgo'!$F$9+LEFT(K515,1)*'Criterios de Riesgo'!$F$10+LEFT(L515,1)*'Criterios de Riesgo'!$F$11+LEFT(M515,1)*'Criterios de Riesgo'!$F$12+LEFT(N515,1)*'Criterios de Riesgo'!$F$13+LEFT(O515,1)*'Criterios de Riesgo'!$F$14+LEFT(P515,1)*'Criterios de Riesgo'!$F$15),2),Calif_Control,2,1))","v":""},{"$f":"IF(COUNTA(I515:P515)<8,\"\",(ROUND((LEFT(I515,1)*'Criterios de Riesgo'!$F$8+LEFT(J515,1)*'Criterios de Riesgo'!$F$9+LEFT(K515,1)*'Criterios de Riesgo'!$F$10+LEFT(L515,1)*'Criterios de Riesgo'!$F$11+LEFT(M515,1)*'Criterios de Riesgo'!$F$12+LEFT(N515,1)*'Criterios de Riesgo'!$F$13+LEFT(O515,1)*'Criterios de Riesgo'!$F$14+LEFT(P515,1)*'Criterios de Riesgo'!$F$15),2))/5)","v":""},null,null,null,null,{"$f":"IF(COUNTA(S515:V515)<4,\"\",IF(V515=\"No\",\"No se usa\",VLOOKUP(ROUND((LEFT(S515,1)*'Criterios de Riesgo'!$C$13+LEFT(T515,1)*'Criterios de Riesgo'!$C$14+LEFT(U515,1)*'Criterios de Riesgo'!$C$15),2),Calif_Covertura,2,1)))","v":""},{"$f":"IF(COUNTA(S515:V515)<4,\"\",IF(V515=\"No\",0,(ROUND((LEFT(S515,1)*'Criterios de Riesgo'!$C$13+LEFT(T515,1)*'Criterios de Riesgo'!$C$14+LEFT(U515,1)*'Criterios de Riesgo'!$C$15),2))/5))","v":""},{"$f":"IF(ISERROR(R515*X515),\"\",R515*X515)","v":""},null,{"$f":"IF(ISERROR((SUMIF(Z515:Z524,\"=impacto\",Y515:Y524)+SUMIF(Z515:Z524,\"=Ambos\",Y515:Y524))/(COUNTIF(Z515:Z524,\"Impacto\")+COUNTIF(Z515:Z524,\"Ambos\"))),\"\",(SUMIF(Z515:Z524,\"=impacto\",Y515:Y524)+SUMIF(Z515:Z524,\"=Ambos\",Y515:Y524))/(COUNTIF(Z515:Z524,\"Impacto\")+COUNTIF(Z515:Z524,\"Ambos\")))","v":""},{"$f":"IF(ISERROR((SUMIF(Z515:Z524,\"=Probabilidad\",Y515:Y524)+SUMIF(Z515:Z524,\"=Ambos\",Y515:Y524))/(COUNTIF(Z515:Z524,\"Probabilidad\")+COUNTIF(Z515:Z524,\"Ambos\"))),\"\",(SUMIF(Z515:Z524,\"=Probabilidad\",Y515:Y524)+SUMIF(Z515:Z524,\"=Ambos\",Y515:Y524))/(COUNTIF(Z515:Z524,\"Probabilidad\")+COUNTIF(Z515:Z524,\"Ambos\")))","v":""},{"$f":"IF(ISERROR(ROUND(IF(AB515=\"\",AA515,IF(AA515=\"\",AB515,IF(AND(AB515=\"\",AA515=\"\"),\"\",AB515*AA515)))*100,0)/100),\"\",ROUND(IF(AB515=\"\",AA515,IF(AA515=\"\",AB515,IF(AND(AB515=\"\",AA515=\"\"),\"\",AB515*AA515)))*100,0)/100)","v":""},{"$f":"IF(AC515=\"\",\"\",VLOOKUP(AC515*5,Calif_Control,2,1))","v":""}]
[null,null,null,null,null,null,null,null,null,null,null,null,null,null,null,null,{"$f":"IF(COUNTA(I516:P516)<8,\"\",VLOOKUP(ROUND((LEFT(I516,1)*'Criterios de Riesgo'!$F$8+LEFT(J516,1)*'Criterios de Riesgo'!$F$9+LEFT(K516,1)*'Criterios de Riesgo'!$F$10+LEFT(L516,1)*'Criterios de Riesgo'!$F$11+LEFT(M516,1)*'Criterios de Riesgo'!$F$12+LEFT(N516,1)*'Criterios de Riesgo'!$F$13+LEFT(O516,1)*'Criterios de Riesgo'!$F$14+LEFT(P516,1)*'Criterios de Riesgo'!$F$15),2),Calif_Control,2,1))","v":""},{"$f":"IF(COUNTA(I516:P516)<8,\"\",(ROUND((LEFT(I516,1)*'Criterios de Riesgo'!$F$8+LEFT(J516,1)*'Criterios de Riesgo'!$F$9+LEFT(K516,1)*'Criterios de Riesgo'!$F$10+LEFT(L516,1)*'Criterios de Riesgo'!$F$11+LEFT(M516,1)*'Criterios de Riesgo'!$F$12+LEFT(N516,1)*'Criterios de Riesgo'!$F$13+LEFT(O516,1)*'Criterios de Riesgo'!$F$14+LEFT(P516,1)*'Criterios de Riesgo'!$F$15),2))/5)","v":""}]
[null,null,null,null,null,null,null,null,null,null,null,null,null,null,null,null,{"$f":"IF(COUNTA(I517:P517)<8,\"\",VLOOKUP(ROUND((LEFT(I517,1)*'Criterios de Riesgo'!$F$8+LEFT(J517,1)*'Criterios de Riesgo'!$F$9+LEFT(K517,1)*'Criterios de Riesgo'!$F$10+LEFT(L517,1)*'Criterios de Riesgo'!$F$11+LEFT(M517,1)*'Criterios de Riesgo'!$F$12+LEFT(N517,1)*'Criterios de Riesgo'!$F$13+LEFT(O517,1)*'Criterios de Riesgo'!$F$14+LEFT(P517,1)*'Criterios de Riesgo'!$F$15),2),Calif_Control,2,1))","v":""},{"$f":"IF(COUNTA(I517:P517)<8,\"\",(ROUND((LEFT(I517,1)*'Criterios de Riesgo'!$F$8+LEFT(J517,1)*'Criterios de Riesgo'!$F$9+LEFT(K517,1)*'Criterios de Riesgo'!$F$10+LEFT(L517,1)*'Criterios de Riesgo'!$F$11+LEFT(M517,1)*'Criterios de Riesgo'!$F$12+LEFT(N517,1)*'Criterios de Riesgo'!$F$13+LEFT(O517,1)*'Criterios de Riesgo'!$F$14+LEFT(P517,1)*'Criterios de Riesgo'!$F$15),2))/5)","v":""}]
[null,null,null,null,null,null,null,null,null,null,null,null,null,null,null,null,{"$f":"IF(COUNTA(I518:P518)<8,\"\",VLOOKUP(ROUND((LEFT(I518,1)*'Criterios de Riesgo'!$F$8+LEFT(J518,1)*'Criterios de Riesgo'!$F$9+LEFT(K518,1)*'Criterios de Riesgo'!$F$10+LEFT(L518,1)*'Criterios de Riesgo'!$F$11+LEFT(M518,1)*'Criterios de Riesgo'!$F$12+LEFT(N518,1)*'Criterios de Riesgo'!$F$13+LEFT(O518,1)*'Criterios de Riesgo'!$F$14+LEFT(P518,1)*'Criterios de Riesgo'!$F$15),2),Calif_Control,2,1))","v":""},{"$f":"IF(COUNTA(I518:P518)<8,\"\",(ROUND((LEFT(I518,1)*'Criterios de Riesgo'!$F$8+LEFT(J518,1)*'Criterios de Riesgo'!$F$9+LEFT(K518,1)*'Criterios de Riesgo'!$F$10+LEFT(L518,1)*'Criterios de Riesgo'!$F$11+LEFT(M518,1)*'Criterios de Riesgo'!$F$12+LEFT(N518,1)*'Criterios de Riesgo'!$F$13+LEFT(O518,1)*'Criterios de Riesgo'!$F$14+LEFT(P518,1)*'Criterios de Riesgo'!$F$15),2))/5)","v":""}]
[null,null,null,null,null,null,null,null,null,null,null,null,null,null,null,null,{"$f":"IF(COUNTA(I519:P519)<8,\"\",VLOOKUP(ROUND((LEFT(I519,1)*'Criterios de Riesgo'!$F$8+LEFT(J519,1)*'Criterios de Riesgo'!$F$9+LEFT(K519,1)*'Criterios de Riesgo'!$F$10+LEFT(L519,1)*'Criterios de Riesgo'!$F$11+LEFT(M519,1)*'Criterios de Riesgo'!$F$12+LEFT(N519,1)*'Criterios de Riesgo'!$F$13+LEFT(O519,1)*'Criterios de Riesgo'!$F$14+LEFT(P519,1)*'Criterios de Riesgo'!$F$15),2),Calif_Control,2,1))","v":""},{"$f":"IF(COUNTA(I519:P519)<8,\"\",(ROUND((LEFT(I519,1)*'Criterios de Riesgo'!$F$8+LEFT(J519,1)*'Criterios de Riesgo'!$F$9+LEFT(K519,1)*'Criterios de Riesgo'!$F$10+LEFT(L519,1)*'Criterios de Riesgo'!$F$11+LEFT(M519,1)*'Criterios de Riesgo'!$F$12+LEFT(N519,1)*'Criterios de Riesgo'!$F$13+LEFT(O519,1)*'Criterios de Riesgo'!$F$14+LEFT(P519,1)*'Criterios de Riesgo'!$F$15),2))/5)","v":""}]
[null,null,null,null,null,null,null,null,null,null,null,null,null,null,null,null,{"$f":"IF(COUNTA(I520:P520)<8,\"\",VLOOKUP(ROUND((LEFT(I520,1)*'Criterios de Riesgo'!$F$8+LEFT(J520,1)*'Criterios de Riesgo'!$F$9+LEFT(K520,1)*'Criterios de Riesgo'!$F$10+LEFT(L520,1)*'Criterios de Riesgo'!$F$11+LEFT(M520,1)*'Criterios de Riesgo'!$F$12+LEFT(N520,1)*'Criterios de Riesgo'!$F$13+LEFT(O520,1)*'Criterios de Riesgo'!$F$14+LEFT(P520,1)*'Criterios de Riesgo'!$F$15),2),Calif_Control,2,1))","v":""},{"$f":"IF(COUNTA(I520:P520)<8,\"\",(ROUND((LEFT(I520,1)*'Criterios de Riesgo'!$F$8+LEFT(J520,1)*'Criterios de Riesgo'!$F$9+LEFT(K520,1)*'Criterios de Riesgo'!$F$10+LEFT(L520,1)*'Criterios de Riesgo'!$F$11+LEFT(M520,1)*'Criterios de Riesgo'!$F$12+LEFT(N520,1)*'Criterios de Riesgo'!$F$13+LEFT(O520,1)*'Criterios de Riesgo'!$F$14+LEFT(P520,1)*'Criterios de Riesgo'!$F$15),2))/5)","v":""}]
[null,null,null,null,null,null,null,null,null,null,null,null,null,null,null,null,{"$f":"IF(COUNTA(I521:P521)<8,\"\",VLOOKUP(ROUND((LEFT(I521,1)*'Criterios de Riesgo'!$F$8+LEFT(J521,1)*'Criterios de Riesgo'!$F$9+LEFT(K521,1)*'Criterios de Riesgo'!$F$10+LEFT(L521,1)*'Criterios de Riesgo'!$F$11+LEFT(M521,1)*'Criterios de Riesgo'!$F$12+LEFT(N521,1)*'Criterios de Riesgo'!$F$13+LEFT(O521,1)*'Criterios de Riesgo'!$F$14+LEFT(P521,1)*'Criterios de Riesgo'!$F$15),2),Calif_Control,2,1))","v":""},{"$f":"IF(COUNTA(I521:P521)<8,\"\",(ROUND((LEFT(I521,1)*'Criterios de Riesgo'!$F$8+LEFT(J521,1)*'Criterios de Riesgo'!$F$9+LEFT(K521,1)*'Criterios de Riesgo'!$F$10+LEFT(L521,1)*'Criterios de Riesgo'!$F$11+LEFT(M521,1)*'Criterios de Riesgo'!$F$12+LEFT(N521,1)*'Criterios de Riesgo'!$F$13+LEFT(O521,1)*'Criterios de Riesgo'!$F$14+LEFT(P521,1)*'Criterios de Riesgo'!$F$15),2))/5)","v":""}]
[null,null,null,null,null,null,null,null,null,null,null,null,null,null,null,null,{"$f":"IF(COUNTA(I522:P522)<8,\"\",VLOOKUP(ROUND((LEFT(I522,1)*'Criterios de Riesgo'!$F$8+LEFT(J522,1)*'Criterios de Riesgo'!$F$9+LEFT(K522,1)*'Criterios de Riesgo'!$F$10+LEFT(L522,1)*'Criterios de Riesgo'!$F$11+LEFT(M522,1)*'Criterios de Riesgo'!$F$12+LEFT(N522,1)*'Criterios de Riesgo'!$F$13+LEFT(O522,1)*'Criterios de Riesgo'!$F$14+LEFT(P522,1)*'Criterios de Riesgo'!$F$15),2),Calif_Control,2,1))","v":""},{"$f":"IF(COUNTA(I522:P522)<8,\"\",(ROUND((LEFT(I522,1)*'Criterios de Riesgo'!$F$8+LEFT(J522,1)*'Criterios de Riesgo'!$F$9+LEFT(K522,1)*'Criterios de Riesgo'!$F$10+LEFT(L522,1)*'Criterios de Riesgo'!$F$11+LEFT(M522,1)*'Criterios de Riesgo'!$F$12+LEFT(N522,1)*'Criterios de Riesgo'!$F$13+LEFT(O522,1)*'Criterios de Riesgo'!$F$14+LEFT(P522,1)*'Criterios de Riesgo'!$F$15),2))/5)","v":""}]
[null,null,null,null,null,null,null,null,null,null,null,null,null,null,null,null,{"$f":"IF(COUNTA(I523:P523)<8,\"\",VLOOKUP(ROUND((LEFT(I523,1)*'Criterios de Riesgo'!$F$8+LEFT(J523,1)*'Criterios de Riesgo'!$F$9+LEFT(K523,1)*'Criterios de Riesgo'!$F$10+LEFT(L523,1)*'Criterios de Riesgo'!$F$11+LEFT(M523,1)*'Criterios de Riesgo'!$F$12+LEFT(N523,1)*'Criterios de Riesgo'!$F$13+LEFT(O523,1)*'Criterios de Riesgo'!$F$14+LEFT(P523,1)*'Criterios de Riesgo'!$F$15),2),Calif_Control,2,1))","v":""},{"$f":"IF(COUNTA(I523:P523)<8,\"\",(ROUND((LEFT(I523,1)*'Criterios de Riesgo'!$F$8+LEFT(J523,1)*'Criterios de Riesgo'!$F$9+LEFT(K523,1)*'Criterios de Riesgo'!$F$10+LEFT(L523,1)*'Criterios de Riesgo'!$F$11+LEFT(M523,1)*'Criterios de Riesgo'!$F$12+LEFT(N523,1)*'Criterios de Riesgo'!$F$13+LEFT(O523,1)*'Criterios de Riesgo'!$F$14+LEFT(P523,1)*'Criterios de Riesgo'!$F$15),2))/5)","v":""}]
[null,null,null,null,null,null,null,null,null,null,null,null,null,null,null,null,{"$f":"IF(COUNTA(I524:P524)<8,\"\",VLOOKUP(ROUND((LEFT(I524,1)*'Criterios de Riesgo'!$F$8+LEFT(J524,1)*'Criterios de Riesgo'!$F$9+LEFT(K524,1)*'Criterios de Riesgo'!$F$10+LEFT(L524,1)*'Criterios de Riesgo'!$F$11+LEFT(M524,1)*'Criterios de Riesgo'!$F$12+LEFT(N524,1)*'Criterios de Riesgo'!$F$13+LEFT(O524,1)*'Criterios de Riesgo'!$F$14+LEFT(P524,1)*'Criterios de Riesgo'!$F$15),2),Calif_Control,2,1))","v":""},{"$f":"IF(COUNTA(I524:P524)<8,\"\",(ROUND((LEFT(I524,1)*'Criterios de Riesgo'!$F$8+LEFT(J524,1)*'Criterios de Riesgo'!$F$9+LEFT(K524,1)*'Criterios de Riesgo'!$F$10+LEFT(L524,1)*'Criterios de Riesgo'!$F$11+LEFT(M524,1)*'Criterios de Riesgo'!$F$12+LEFT(N524,1)*'Criterios de Riesgo'!$F$13+LEFT(O524,1)*'Criterios de Riesgo'!$F$14+LEFT(P524,1)*'Criterios de Riesgo'!$F$15),2))/5)","v":""}]
["R",null,null,null,null,null,null,null,null,null,null,null,null,null,null,null,{"$f":"IF(COUNTA(I525:P525)<8,\"\",VLOOKUP(ROUND((LEFT(I525,1)*'Criterios de Riesgo'!$F$8+LEFT(J525,1)*'Criterios de Riesgo'!$F$9+LEFT(K525,1)*'Criterios de Riesgo'!$F$10+LEFT(L525,1)*'Criterios de Riesgo'!$F$11+LEFT(M525,1)*'Criterios de Riesgo'!$F$12+LEFT(N525,1)*'Criterios de Riesgo'!$F$13+LEFT(O525,1)*'Criterios de Riesgo'!$F$14+LEFT(P525,1)*'Criterios de Riesgo'!$F$15),2),Calif_Control,2,1))","v":""},{"$f":"IF(COUNTA(I525:P525)<8,\"\",(ROUND((LEFT(I525,1)*'Criterios de Riesgo'!$F$8+LEFT(J525,1)*'Criterios de Riesgo'!$F$9+LEFT(K525,1)*'Criterios de Riesgo'!$F$10+LEFT(L525,1)*'Criterios de Riesgo'!$F$11+LEFT(M525,1)*'Criterios de Riesgo'!$F$12+LEFT(N525,1)*'Criterios de Riesgo'!$F$13+LEFT(O525,1)*'Criterios de Riesgo'!$F$14+LEFT(P525,1)*'Criterios de Riesgo'!$F$15),2))/5)","v":""},null,null,null,null,{"$f":"IF(COUNTA(S525:V525)<4,\"\",IF(V525=\"No\",\"No se usa\",VLOOKUP(ROUND((LEFT(S525,1)*'Criterios de Riesgo'!$C$13+LEFT(T525,1)*'Criterios de Riesgo'!$C$14+LEFT(U525,1)*'Criterios de Riesgo'!$C$15),2),Calif_Covertura,2,1)))","v":""},{"$f":"IF(COUNTA(S525:V525)<4,\"\",IF(V525=\"No\",0,(ROUND((LEFT(S525,1)*'Criterios de Riesgo'!$C$13+LEFT(T525,1)*'Criterios de Riesgo'!$C$14+LEFT(U525,1)*'Criterios de Riesgo'!$C$15),2))/5))","v":""},{"$f":"IF(ISERROR(R525*X525),\"\",R525*X525)","v":""},null,{"$f":"IF(ISERROR((SUMIF(Z525:Z534,\"=impacto\",Y525:Y534)+SUMIF(Z525:Z534,\"=Ambos\",Y525:Y534))/(COUNTIF(Z525:Z534,\"Impacto\")+COUNTIF(Z525:Z534,\"Ambos\"))),\"\",(SUMIF(Z525:Z534,\"=impacto\",Y525:Y534)+SUMIF(Z525:Z534,\"=Ambos\",Y525:Y534))/(COUNTIF(Z525:Z534,\"Impacto\")+COUNTIF(Z525:Z534,\"Ambos\")))","v":""},{"$f":"IF(ISERROR((SUMIF(Z525:Z534,\"=Probabilidad\",Y525:Y534)+SUMIF(Z525:Z534,\"=Ambos\",Y525:Y534))/(COUNTIF(Z525:Z534,\"Probabilidad\")+COUNTIF(Z525:Z534,\"Ambos\"))),\"\",(SUMIF(Z525:Z534,\"=Probabilidad\",Y525:Y534)+SUMIF(Z525:Z534,\"=Ambos\",Y525:Y534))/(COUNTIF(Z525:Z534,\"Probabilidad\")+COUNTIF(Z525:Z534,\"Ambos\")))","v":""},{"$f":"IF(ISERROR(ROUND(IF(AB525=\"\",AA525,IF(AA525=\"\",AB525,IF(AND(AB525=\"\",AA525=\"\"),\"\",AB525*AA525)))*100,0)/100),\"\",ROUND(IF(AB525=\"\",AA525,IF(AA525=\"\",AB525,IF(AND(AB525=\"\",AA525=\"\"),\"\",AB525*AA525)))*100,0)/100)","v":""},{"$f":"IF(AC525=\"\",\"\",VLOOKUP(AC525*5,Calif_Control,2,1))","v":""}]
[null,null,null,null,null,null,null,null,null,null,null,null,null,null,null,null,{"$f":"IF(COUNTA(I526:P526)<8,\"\",VLOOKUP(ROUND((LEFT(I526,1)*'Criterios de Riesgo'!$F$8+LEFT(J526,1)*'Criterios de Riesgo'!$F$9+LEFT(K526,1)*'Criterios de Riesgo'!$F$10+LEFT(L526,1)*'Criterios de Riesgo'!$F$11+LEFT(M526,1)*'Criterios de Riesgo'!$F$12+LEFT(N526,1)*'Criterios de Riesgo'!$F$13+LEFT(O526,1)*'Criterios de Riesgo'!$F$14+LEFT(P526,1)*'Criterios de Riesgo'!$F$15),2),Calif_Control,2,1))","v":""},{"$f":"IF(COUNTA(I526:P526)<8,\"\",(ROUND((LEFT(I526,1)*'Criterios de Riesgo'!$F$8+LEFT(J526,1)*'Criterios de Riesgo'!$F$9+LEFT(K526,1)*'Criterios de Riesgo'!$F$10+LEFT(L526,1)*'Criterios de Riesgo'!$F$11+LEFT(M526,1)*'Criterios de Riesgo'!$F$12+LEFT(N526,1)*'Criterios de Riesgo'!$F$13+LEFT(O526,1)*'Criterios de Riesgo'!$F$14+LEFT(P526,1)*'Criterios de Riesgo'!$F$15),2))/5)","v":""}]
[null,null,null,null,null,null,null,null,null,null,null,null,null,null,null,null,{"$f":"IF(COUNTA(I527:P527)<8,\"\",VLOOKUP(ROUND((LEFT(I527,1)*'Criterios de Riesgo'!$F$8+LEFT(J527,1)*'Criterios de Riesgo'!$F$9+LEFT(K527,1)*'Criterios de Riesgo'!$F$10+LEFT(L527,1)*'Criterios de Riesgo'!$F$11+LEFT(M527,1)*'Criterios de Riesgo'!$F$12+LEFT(N527,1)*'Criterios de Riesgo'!$F$13+LEFT(O527,1)*'Criterios de Riesgo'!$F$14+LEFT(P527,1)*'Criterios de Riesgo'!$F$15),2),Calif_Control,2,1))","v":""},{"$f":"IF(COUNTA(I527:P527)<8,\"\",(ROUND((LEFT(I527,1)*'Criterios de Riesgo'!$F$8+LEFT(J527,1)*'Criterios de Riesgo'!$F$9+LEFT(K527,1)*'Criterios de Riesgo'!$F$10+LEFT(L527,1)*'Criterios de Riesgo'!$F$11+LEFT(M527,1)*'Criterios de Riesgo'!$F$12+LEFT(N527,1)*'Criterios de Riesgo'!$F$13+LEFT(O527,1)*'Criterios de Riesgo'!$F$14+LEFT(P527,1)*'Criterios de Riesgo'!$F$15),2))/5)","v":""}]
[null,null,null,null,null,null,null,null,null,null,null,null,null,null,null,null,{"$f":"IF(COUNTA(I528:P528)<8,\"\",VLOOKUP(ROUND((LEFT(I528,1)*'Criterios de Riesgo'!$F$8+LEFT(J528,1)*'Criterios de Riesgo'!$F$9+LEFT(K528,1)*'Criterios de Riesgo'!$F$10+LEFT(L528,1)*'Criterios de Riesgo'!$F$11+LEFT(M528,1)*'Criterios de Riesgo'!$F$12+LEFT(N528,1)*'Criterios de Riesgo'!$F$13+LEFT(O528,1)*'Criterios de Riesgo'!$F$14+LEFT(P528,1)*'Criterios de Riesgo'!$F$15),2),Calif_Control,2,1))","v":""},{"$f":"IF(COUNTA(I528:P528)<8,\"\",(ROUND((LEFT(I528,1)*'Criterios de Riesgo'!$F$8+LEFT(J528,1)*'Criterios de Riesgo'!$F$9+LEFT(K528,1)*'Criterios de Riesgo'!$F$10+LEFT(L528,1)*'Criterios de Riesgo'!$F$11+LEFT(M528,1)*'Criterios de Riesgo'!$F$12+LEFT(N528,1)*'Criterios de Riesgo'!$F$13+LEFT(O528,1)*'Criterios de Riesgo'!$F$14+LEFT(P528,1)*'Criterios de Riesgo'!$F$15),2))/5)","v":""}]
[null,null,null,null,null,null,null,null,null,null,null,null,null,null,null,null,{"$f":"IF(COUNTA(I529:P529)<8,\"\",VLOOKUP(ROUND((LEFT(I529,1)*'Criterios de Riesgo'!$F$8+LEFT(J529,1)*'Criterios de Riesgo'!$F$9+LEFT(K529,1)*'Criterios de Riesgo'!$F$10+LEFT(L529,1)*'Criterios de Riesgo'!$F$11+LEFT(M529,1)*'Criterios de Riesgo'!$F$12+LEFT(N529,1)*'Criterios de Riesgo'!$F$13+LEFT(O529,1)*'Criterios de Riesgo'!$F$14+LEFT(P529,1)*'Criterios de Riesgo'!$F$15),2),Calif_Control,2,1))","v":""},{"$f":"IF(COUNTA(I529:P529)<8,\"\",(ROUND((LEFT(I529,1)*'Criterios de Riesgo'!$F$8+LEFT(J529,1)*'Criterios de Riesgo'!$F$9+LEFT(K529,1)*'Criterios de Riesgo'!$F$10+LEFT(L529,1)*'Criterios de Riesgo'!$F$11+LEFT(M529,1)*'Criterios de Riesgo'!$F$12+LEFT(N529,1)*'Criterios de Riesgo'!$F$13+LEFT(O529,1)*'Criterios de Riesgo'!$F$14+LEFT(P529,1)*'Criterios de Riesgo'!$F$15),2))/5)","v":""}]
[null,null,null,null,null,null,null,null,null,null,null,null,null,null,null,null,{"$f":"IF(COUNTA(I530:P530)<8,\"\",VLOOKUP(ROUND((LEFT(I530,1)*'Criterios de Riesgo'!$F$8+LEFT(J530,1)*'Criterios de Riesgo'!$F$9+LEFT(K530,1)*'Criterios de Riesgo'!$F$10+LEFT(L530,1)*'Criterios de Riesgo'!$F$11+LEFT(M530,1)*'Criterios de Riesgo'!$F$12+LEFT(N530,1)*'Criterios de Riesgo'!$F$13+LEFT(O530,1)*'Criterios de Riesgo'!$F$14+LEFT(P530,1)*'Criterios de Riesgo'!$F$15),2),Calif_Control,2,1))","v":""},{"$f":"IF(COUNTA(I530:P530)<8,\"\",(ROUND((LEFT(I530,1)*'Criterios de Riesgo'!$F$8+LEFT(J530,1)*'Criterios de Riesgo'!$F$9+LEFT(K530,1)*'Criterios de Riesgo'!$F$10+LEFT(L530,1)*'Criterios de Riesgo'!$F$11+LEFT(M530,1)*'Criterios de Riesgo'!$F$12+LEFT(N530,1)*'Criterios de Riesgo'!$F$13+LEFT(O530,1)*'Criterios de Riesgo'!$F$14+LEFT(P530,1)*'Criterios de Riesgo'!$F$15),2))/5)","v":""}]
[null,null,null,null,null,null,null,null,null,null,null,null,null,null,null,null,{"$f":"IF(COUNTA(I531:P531)<8,\"\",VLOOKUP(ROUND((LEFT(I531,1)*'Criterios de Riesgo'!$F$8+LEFT(J531,1)*'Criterios de Riesgo'!$F$9+LEFT(K531,1)*'Criterios de Riesgo'!$F$10+LEFT(L531,1)*'Criterios de Riesgo'!$F$11+LEFT(M531,1)*'Criterios de Riesgo'!$F$12+LEFT(N531,1)*'Criterios de Riesgo'!$F$13+LEFT(O531,1)*'Criterios de Riesgo'!$F$14+LEFT(P531,1)*'Criterios de Riesgo'!$F$15),2),Calif_Control,2,1))","v":""},{"$f":"IF(COUNTA(I531:P531)<8,\"\",(ROUND((LEFT(I531,1)*'Criterios de Riesgo'!$F$8+LEFT(J531,1)*'Criterios de Riesgo'!$F$9+LEFT(K531,1)*'Criterios de Riesgo'!$F$10+LEFT(L531,1)*'Criterios de Riesgo'!$F$11+LEFT(M531,1)*'Criterios de Riesgo'!$F$12+LEFT(N531,1)*'Criterios de Riesgo'!$F$13+LEFT(O531,1)*'Criterios de Riesgo'!$F$14+LEFT(P531,1)*'Criterios de Riesgo'!$F$15),2))/5)","v":""}]
[null,null,null,null,null,null,null,null,null,null,null,null,null,null,null,null,{"$f":"IF(COUNTA(I532:P532)<8,\"\",VLOOKUP(ROUND((LEFT(I532,1)*'Criterios de Riesgo'!$F$8+LEFT(J532,1)*'Criterios de Riesgo'!$F$9+LEFT(K532,1)*'Criterios de Riesgo'!$F$10+LEFT(L532,1)*'Criterios de Riesgo'!$F$11+LEFT(M532,1)*'Criterios de Riesgo'!$F$12+LEFT(N532,1)*'Criterios de Riesgo'!$F$13+LEFT(O532,1)*'Criterios de Riesgo'!$F$14+LEFT(P532,1)*'Criterios de Riesgo'!$F$15),2),Calif_Control,2,1))","v":""},{"$f":"IF(COUNTA(I532:P532)<8,\"\",(ROUND((LEFT(I532,1)*'Criterios de Riesgo'!$F$8+LEFT(J532,1)*'Criterios de Riesgo'!$F$9+LEFT(K532,1)*'Criterios de Riesgo'!$F$10+LEFT(L532,1)*'Criterios de Riesgo'!$F$11+LEFT(M532,1)*'Criterios de Riesgo'!$F$12+LEFT(N532,1)*'Criterios de Riesgo'!$F$13+LEFT(O532,1)*'Criterios de Riesgo'!$F$14+LEFT(P532,1)*'Criterios de Riesgo'!$F$15),2))/5)","v":""}]
[null,null,null,null,null,null,null,null,null,null,null,null,null,null,null,null,{"$f":"IF(COUNTA(I533:P533)<8,\"\",VLOOKUP(ROUND((LEFT(I533,1)*'Criterios de Riesgo'!$F$8+LEFT(J533,1)*'Criterios de Riesgo'!$F$9+LEFT(K533,1)*'Criterios de Riesgo'!$F$10+LEFT(L533,1)*'Criterios de Riesgo'!$F$11+LEFT(M533,1)*'Criterios de Riesgo'!$F$12+LEFT(N533,1)*'Criterios de Riesgo'!$F$13+LEFT(O533,1)*'Criterios de Riesgo'!$F$14+LEFT(P533,1)*'Criterios de Riesgo'!$F$15),2),Calif_Control,2,1))","v":""},{"$f":"IF(COUNTA(I533:P533)<8,\"\",(ROUND((LEFT(I533,1)*'Criterios de Riesgo'!$F$8+LEFT(J533,1)*'Criterios de Riesgo'!$F$9+LEFT(K533,1)*'Criterios de Riesgo'!$F$10+LEFT(L533,1)*'Criterios de Riesgo'!$F$11+LEFT(M533,1)*'Criterios de Riesgo'!$F$12+LEFT(N533,1)*'Criterios de Riesgo'!$F$13+LEFT(O533,1)*'Criterios de Riesgo'!$F$14+LEFT(P533,1)*'Criterios de Riesgo'!$F$15),2))/5)","v":""}]
[null,null,null,null,null,null,null,null,null,null,null,null,null,null,null,null,{"$f":"IF(COUNTA(I534:P534)<8,\"\",VLOOKUP(ROUND((LEFT(I534,1)*'Criterios de Riesgo'!$F$8+LEFT(J534,1)*'Criterios de Riesgo'!$F$9+LEFT(K534,1)*'Criterios de Riesgo'!$F$10+LEFT(L534,1)*'Criterios de Riesgo'!$F$11+LEFT(M534,1)*'Criterios de Riesgo'!$F$12+LEFT(N534,1)*'Criterios de Riesgo'!$F$13+LEFT(O534,1)*'Criterios de Riesgo'!$F$14+LEFT(P534,1)*'Criterios de Riesgo'!$F$15),2),Calif_Control,2,1))","v":""},{"$f":"IF(COUNTA(I534:P534)<8,\"\",(ROUND((LEFT(I534,1)*'Criterios de Riesgo'!$F$8+LEFT(J534,1)*'Criterios de Riesgo'!$F$9+LEFT(K534,1)*'Criterios de Riesgo'!$F$10+LEFT(L534,1)*'Criterios de Riesgo'!$F$11+LEFT(M534,1)*'Criterios de Riesgo'!$F$12+LEFT(N534,1)*'Criterios de Riesgo'!$F$13+LEFT(O534,1)*'Criterios de Riesgo'!$F$14+LEFT(P534,1)*'Criterios de Riesgo'!$F$15),2))/5)","v":""}]
["R",null,null,null,null,null,null,null,null,null,null,null,null,null,null,null,{"$f":"IF(COUNTA(I535:P535)<8,\"\",VLOOKUP(ROUND((LEFT(I535,1)*'Criterios de Riesgo'!$F$8+LEFT(J535,1)*'Criterios de Riesgo'!$F$9+LEFT(K535,1)*'Criterios de Riesgo'!$F$10+LEFT(L535,1)*'Criterios de Riesgo'!$F$11+LEFT(M535,1)*'Criterios de Riesgo'!$F$12+LEFT(N535,1)*'Criterios de Riesgo'!$F$13+LEFT(O535,1)*'Criterios de Riesgo'!$F$14+LEFT(P535,1)*'Criterios de Riesgo'!$F$15),2),Calif_Control,2,1))","v":""},{"$f":"IF(COUNTA(I535:P535)<8,\"\",(ROUND((LEFT(I535,1)*'Criterios de Riesgo'!$F$8+LEFT(J535,1)*'Criterios de Riesgo'!$F$9+LEFT(K535,1)*'Criterios de Riesgo'!$F$10+LEFT(L535,1)*'Criterios de Riesgo'!$F$11+LEFT(M535,1)*'Criterios de Riesgo'!$F$12+LEFT(N535,1)*'Criterios de Riesgo'!$F$13+LEFT(O535,1)*'Criterios de Riesgo'!$F$14+LEFT(P535,1)*'Criterios de Riesgo'!$F$15),2))/5)","v":""},null,null,null,null,{"$f":"IF(COUNTA(S535:V535)<4,\"\",IF(V535=\"No\",\"No se usa\",VLOOKUP(ROUND((LEFT(S535,1)*'Criterios de Riesgo'!$C$13+LEFT(T535,1)*'Criterios de Riesgo'!$C$14+LEFT(U535,1)*'Criterios de Riesgo'!$C$15),2),Calif_Covertura,2,1)))","v":""},{"$f":"IF(COUNTA(S535:V535)<4,\"\",IF(V535=\"No\",0,(ROUND((LEFT(S535,1)*'Criterios de Riesgo'!$C$13+LEFT(T535,1)*'Criterios de Riesgo'!$C$14+LEFT(U535,1)*'Criterios de Riesgo'!$C$15),2))/5))","v":""},{"$f":"IF(ISERROR(R535*X535),\"\",R535*X535)","v":""},null,{"$f":"IF(ISERROR((SUMIF(Z535:Z544,\"=impacto\",Y535:Y544)+SUMIF(Z535:Z544,\"=Ambos\",Y535:Y544))/(COUNTIF(Z535:Z544,\"Impacto\")+COUNTIF(Z535:Z544,\"Ambos\"))),\"\",(SUMIF(Z535:Z544,\"=impacto\",Y535:Y544)+SUMIF(Z535:Z544,\"=Ambos\",Y535:Y544))/(COUNTIF(Z535:Z544,\"Impacto\")+COUNTIF(Z535:Z544,\"Ambos\")))","v":""},{"$f":"IF(ISERROR((SUMIF(Z535:Z544,\"=Probabilidad\",Y535:Y544)+SUMIF(Z535:Z544,\"=Ambos\",Y535:Y544))/(COUNTIF(Z535:Z544,\"Probabilidad\")+COUNTIF(Z535:Z544,\"Ambos\"))),\"\",(SUMIF(Z535:Z544,\"=Probabilidad\",Y535:Y544)+SUMIF(Z535:Z544,\"=Ambos\",Y535:Y544))/(COUNTIF(Z535:Z544,\"Probabilidad\")+COUNTIF(Z535:Z544,\"Ambos\")))","v":""},{"$f":"IF(ISERROR(ROUND(IF(AB535=\"\",AA535,IF(AA535=\"\",AB535,IF(AND(AB535=\"\",AA535=\"\"),\"\",AB535*AA535)))*100,0)/100),\"\",ROUND(IF(AB535=\"\",AA535,IF(AA535=\"\",AB535,IF(AND(AB535=\"\",AA535=\"\"),\"\",AB535*AA535)))*100,0)/100)","v":""},{"$f":"IF(AC535=\"\",\"\",VLOOKUP(AC535*5,Calif_Control,2,1))","v":""}]
[null,null,null,null,null,null,null,null,null,null,null,null,null,null,null,null,{"$f":"IF(COUNTA(I536:P536)<8,\"\",VLOOKUP(ROUND((LEFT(I536,1)*'Criterios de Riesgo'!$F$8+LEFT(J536,1)*'Criterios de Riesgo'!$F$9+LEFT(K536,1)*'Criterios de Riesgo'!$F$10+LEFT(L536,1)*'Criterios de Riesgo'!$F$11+LEFT(M536,1)*'Criterios de Riesgo'!$F$12+LEFT(N536,1)*'Criterios de Riesgo'!$F$13+LEFT(O536,1)*'Criterios de Riesgo'!$F$14+LEFT(P536,1)*'Criterios de Riesgo'!$F$15),2),Calif_Control,2,1))","v":""},{"$f":"IF(COUNTA(I536:P536)<8,\"\",(ROUND((LEFT(I536,1)*'Criterios de Riesgo'!$F$8+LEFT(J536,1)*'Criterios de Riesgo'!$F$9+LEFT(K536,1)*'Criterios de Riesgo'!$F$10+LEFT(L536,1)*'Criterios de Riesgo'!$F$11+LEFT(M536,1)*'Criterios de Riesgo'!$F$12+LEFT(N536,1)*'Criterios de Riesgo'!$F$13+LEFT(O536,1)*'Criterios de Riesgo'!$F$14+LEFT(P536,1)*'Criterios de Riesgo'!$F$15),2))/5)","v":""}]
[null,null,null,null,null,null,null,null,null,null,null,null,null,null,null,null,{"$f":"IF(COUNTA(I537:P537)<8,\"\",VLOOKUP(ROUND((LEFT(I537,1)*'Criterios de Riesgo'!$F$8+LEFT(J537,1)*'Criterios de Riesgo'!$F$9+LEFT(K537,1)*'Criterios de Riesgo'!$F$10+LEFT(L537,1)*'Criterios de Riesgo'!$F$11+LEFT(M537,1)*'Criterios de Riesgo'!$F$12+LEFT(N537,1)*'Criterios de Riesgo'!$F$13+LEFT(O537,1)*'Criterios de Riesgo'!$F$14+LEFT(P537,1)*'Criterios de Riesgo'!$F$15),2),Calif_Control,2,1))","v":""},{"$f":"IF(COUNTA(I537:P537)<8,\"\",(ROUND((LEFT(I537,1)*'Criterios de Riesgo'!$F$8+LEFT(J537,1)*'Criterios de Riesgo'!$F$9+LEFT(K537,1)*'Criterios de Riesgo'!$F$10+LEFT(L537,1)*'Criterios de Riesgo'!$F$11+LEFT(M537,1)*'Criterios de Riesgo'!$F$12+LEFT(N537,1)*'Criterios de Riesgo'!$F$13+LEFT(O537,1)*'Criterios de Riesgo'!$F$14+LEFT(P537,1)*'Criterios de Riesgo'!$F$15),2))/5)","v":""}]
[null,null,null,null,null,null,null,null,null,null,null,null,null,null,null,null,{"$f":"IF(COUNTA(I538:P538)<8,\"\",VLOOKUP(ROUND((LEFT(I538,1)*'Criterios de Riesgo'!$F$8+LEFT(J538,1)*'Criterios de Riesgo'!$F$9+LEFT(K538,1)*'Criterios de Riesgo'!$F$10+LEFT(L538,1)*'Criterios de Riesgo'!$F$11+LEFT(M538,1)*'Criterios de Riesgo'!$F$12+LEFT(N538,1)*'Criterios de Riesgo'!$F$13+LEFT(O538,1)*'Criterios de Riesgo'!$F$14+LEFT(P538,1)*'Criterios de Riesgo'!$F$15),2),Calif_Control,2,1))","v":""},{"$f":"IF(COUNTA(I538:P538)<8,\"\",(ROUND((LEFT(I538,1)*'Criterios de Riesgo'!$F$8+LEFT(J538,1)*'Criterios de Riesgo'!$F$9+LEFT(K538,1)*'Criterios de Riesgo'!$F$10+LEFT(L538,1)*'Criterios de Riesgo'!$F$11+LEFT(M538,1)*'Criterios de Riesgo'!$F$12+LEFT(N538,1)*'Criterios de Riesgo'!$F$13+LEFT(O538,1)*'Criterios de Riesgo'!$F$14+LEFT(P538,1)*'Criterios de Riesgo'!$F$15),2))/5)","v":""}]
[null,null,null,null,null,null,null,null,null,null,null,null,null,null,null,null,{"$f":"IF(COUNTA(I539:P539)<8,\"\",VLOOKUP(ROUND((LEFT(I539,1)*'Criterios de Riesgo'!$F$8+LEFT(J539,1)*'Criterios de Riesgo'!$F$9+LEFT(K539,1)*'Criterios de Riesgo'!$F$10+LEFT(L539,1)*'Criterios de Riesgo'!$F$11+LEFT(M539,1)*'Criterios de Riesgo'!$F$12+LEFT(N539,1)*'Criterios de Riesgo'!$F$13+LEFT(O539,1)*'Criterios de Riesgo'!$F$14+LEFT(P539,1)*'Criterios de Riesgo'!$F$15),2),Calif_Control,2,1))","v":""},{"$f":"IF(COUNTA(I539:P539)<8,\"\",(ROUND((LEFT(I539,1)*'Criterios de Riesgo'!$F$8+LEFT(J539,1)*'Criterios de Riesgo'!$F$9+LEFT(K539,1)*'Criterios de Riesgo'!$F$10+LEFT(L539,1)*'Criterios de Riesgo'!$F$11+LEFT(M539,1)*'Criterios de Riesgo'!$F$12+LEFT(N539,1)*'Criterios de Riesgo'!$F$13+LEFT(O539,1)*'Criterios de Riesgo'!$F$14+LEFT(P539,1)*'Criterios de Riesgo'!$F$15),2))/5)","v":""}]
[null,null,null,null,null,null,null,null,null,null,null,null,null,null,null,null,{"$f":"IF(COUNTA(I540:P540)<8,\"\",VLOOKUP(ROUND((LEFT(I540,1)*'Criterios de Riesgo'!$F$8+LEFT(J540,1)*'Criterios de Riesgo'!$F$9+LEFT(K540,1)*'Criterios de Riesgo'!$F$10+LEFT(L540,1)*'Criterios de Riesgo'!$F$11+LEFT(M540,1)*'Criterios de Riesgo'!$F$12+LEFT(N540,1)*'Criterios de Riesgo'!$F$13+LEFT(O540,1)*'Criterios de Riesgo'!$F$14+LEFT(P540,1)*'Criterios de Riesgo'!$F$15),2),Calif_Control,2,1))","v":""},{"$f":"IF(COUNTA(I540:P540)<8,\"\",(ROUND((LEFT(I540,1)*'Criterios de Riesgo'!$F$8+LEFT(J540,1)*'Criterios de Riesgo'!$F$9+LEFT(K540,1)*'Criterios de Riesgo'!$F$10+LEFT(L540,1)*'Criterios de Riesgo'!$F$11+LEFT(M540,1)*'Criterios de Riesgo'!$F$12+LEFT(N540,1)*'Criterios de Riesgo'!$F$13+LEFT(O540,1)*'Criterios de Riesgo'!$F$14+LEFT(P540,1)*'Criterios de Riesgo'!$F$15),2))/5)","v":""}]
[null,null,null,null,null,null,null,null,null,null,null,null,null,null,null,null,{"$f":"IF(COUNTA(I541:P541)<8,\"\",VLOOKUP(ROUND((LEFT(I541,1)*'Criterios de Riesgo'!$F$8+LEFT(J541,1)*'Criterios de Riesgo'!$F$9+LEFT(K541,1)*'Criterios de Riesgo'!$F$10+LEFT(L541,1)*'Criterios de Riesgo'!$F$11+LEFT(M541,1)*'Criterios de Riesgo'!$F$12+LEFT(N541,1)*'Criterios de Riesgo'!$F$13+LEFT(O541,1)*'Criterios de Riesgo'!$F$14+LEFT(P541,1)*'Criterios de Riesgo'!$F$15),2),Calif_Control,2,1))","v":""},{"$f":"IF(COUNTA(I541:P541)<8,\"\",(ROUND((LEFT(I541,1)*'Criterios de Riesgo'!$F$8+LEFT(J541,1)*'Criterios de Riesgo'!$F$9+LEFT(K541,1)*'Criterios de Riesgo'!$F$10+LEFT(L541,1)*'Criterios de Riesgo'!$F$11+LEFT(M541,1)*'Criterios de Riesgo'!$F$12+LEFT(N541,1)*'Criterios de Riesgo'!$F$13+LEFT(O541,1)*'Criterios de Riesgo'!$F$14+LEFT(P541,1)*'Criterios de Riesgo'!$F$15),2))/5)","v":""}]
[null,null,null,null,null,null,null,null,null,null,null,null,null,null,null,null,{"$f":"IF(COUNTA(I542:P542)<8,\"\",VLOOKUP(ROUND((LEFT(I542,1)*'Criterios de Riesgo'!$F$8+LEFT(J542,1)*'Criterios de Riesgo'!$F$9+LEFT(K542,1)*'Criterios de Riesgo'!$F$10+LEFT(L542,1)*'Criterios de Riesgo'!$F$11+LEFT(M542,1)*'Criterios de Riesgo'!$F$12+LEFT(N542,1)*'Criterios de Riesgo'!$F$13+LEFT(O542,1)*'Criterios de Riesgo'!$F$14+LEFT(P542,1)*'Criterios de Riesgo'!$F$15),2),Calif_Control,2,1))","v":""},{"$f":"IF(COUNTA(I542:P542)<8,\"\",(ROUND((LEFT(I542,1)*'Criterios de Riesgo'!$F$8+LEFT(J542,1)*'Criterios de Riesgo'!$F$9+LEFT(K542,1)*'Criterios de Riesgo'!$F$10+LEFT(L542,1)*'Criterios de Riesgo'!$F$11+LEFT(M542,1)*'Criterios de Riesgo'!$F$12+LEFT(N542,1)*'Criterios de Riesgo'!$F$13+LEFT(O542,1)*'Criterios de Riesgo'!$F$14+LEFT(P542,1)*'Criterios de Riesgo'!$F$15),2))/5)","v":""}]
[null,null,null,null,null,null,null,null,null,null,null,null,null,null,null,null,{"$f":"IF(COUNTA(I543:P543)<8,\"\",VLOOKUP(ROUND((LEFT(I543,1)*'Criterios de Riesgo'!$F$8+LEFT(J543,1)*'Criterios de Riesgo'!$F$9+LEFT(K543,1)*'Criterios de Riesgo'!$F$10+LEFT(L543,1)*'Criterios de Riesgo'!$F$11+LEFT(M543,1)*'Criterios de Riesgo'!$F$12+LEFT(N543,1)*'Criterios de Riesgo'!$F$13+LEFT(O543,1)*'Criterios de Riesgo'!$F$14+LEFT(P543,1)*'Criterios de Riesgo'!$F$15),2),Calif_Control,2,1))","v":""},{"$f":"IF(COUNTA(I543:P543)<8,\"\",(ROUND((LEFT(I543,1)*'Criterios de Riesgo'!$F$8+LEFT(J543,1)*'Criterios de Riesgo'!$F$9+LEFT(K543,1)*'Criterios de Riesgo'!$F$10+LEFT(L543,1)*'Criterios de Riesgo'!$F$11+LEFT(M543,1)*'Criterios de Riesgo'!$F$12+LEFT(N543,1)*'Criterios de Riesgo'!$F$13+LEFT(O543,1)*'Criterios de Riesgo'!$F$14+LEFT(P543,1)*'Criterios de Riesgo'!$F$15),2))/5)","v":""}]
[null,null,null,null,null,null,null,null,null,null,null,null,null,null,null,null,{"$f":"IF(COUNTA(I544:P544)<8,\"\",VLOOKUP(ROUND((LEFT(I544,1)*'Criterios de Riesgo'!$F$8+LEFT(J544,1)*'Criterios de Riesgo'!$F$9+LEFT(K544,1)*'Criterios de Riesgo'!$F$10+LEFT(L544,1)*'Criterios de Riesgo'!$F$11+LEFT(M544,1)*'Criterios de Riesgo'!$F$12+LEFT(N544,1)*'Criterios de Riesgo'!$F$13+LEFT(O544,1)*'Criterios de Riesgo'!$F$14+LEFT(P544,1)*'Criterios de Riesgo'!$F$15),2),Calif_Control,2,1))","v":""},{"$f":"IF(COUNTA(I544:P544)<8,\"\",(ROUND((LEFT(I544,1)*'Criterios de Riesgo'!$F$8+LEFT(J544,1)*'Criterios de Riesgo'!$F$9+LEFT(K544,1)*'Criterios de Riesgo'!$F$10+LEFT(L544,1)*'Criterios de Riesgo'!$F$11+LEFT(M544,1)*'Criterios de Riesgo'!$F$12+LEFT(N544,1)*'Criterios de Riesgo'!$F$13+LEFT(O544,1)*'Criterios de Riesgo'!$F$14+LEFT(P544,1)*'Criterios de Riesgo'!$F$15),2))/5)","v":""}]
["R",null,null,null,null,null,null,null,null,null,null,null,null,null,null,null,{"$f":"IF(COUNTA(I545:P545)<8,\"\",VLOOKUP(ROUND((LEFT(I545,1)*'Criterios de Riesgo'!$F$8+LEFT(J545,1)*'Criterios de Riesgo'!$F$9+LEFT(K545,1)*'Criterios de Riesgo'!$F$10+LEFT(L545,1)*'Criterios de Riesgo'!$F$11+LEFT(M545,1)*'Criterios de Riesgo'!$F$12+LEFT(N545,1)*'Criterios de Riesgo'!$F$13+LEFT(O545,1)*'Criterios de Riesgo'!$F$14+LEFT(P545,1)*'Criterios de Riesgo'!$F$15),2),Calif_Control,2,1))","v":""},{"$f":"IF(COUNTA(I545:P545)<8,\"\",(ROUND((LEFT(I545,1)*'Criterios de Riesgo'!$F$8+LEFT(J545,1)*'Criterios de Riesgo'!$F$9+LEFT(K545,1)*'Criterios de Riesgo'!$F$10+LEFT(L545,1)*'Criterios de Riesgo'!$F$11+LEFT(M545,1)*'Criterios de Riesgo'!$F$12+LEFT(N545,1)*'Criterios de Riesgo'!$F$13+LEFT(O545,1)*'Criterios de Riesgo'!$F$14+LEFT(P545,1)*'Criterios de Riesgo'!$F$15),2))/5)","v":""},null,null,null,null,{"$f":"IF(COUNTA(S545:V545)<4,\"\",IF(V545=\"No\",\"No se usa\",VLOOKUP(ROUND((LEFT(S545,1)*'Criterios de Riesgo'!$C$13+LEFT(T545,1)*'Criterios de Riesgo'!$C$14+LEFT(U545,1)*'Criterios de Riesgo'!$C$15),2),Calif_Covertura,2,1)))","v":""},{"$f":"IF(COUNTA(S545:V545)<4,\"\",IF(V545=\"No\",0,(ROUND((LEFT(S545,1)*'Criterios de Riesgo'!$C$13+LEFT(T545,1)*'Criterios de Riesgo'!$C$14+LEFT(U545,1)*'Criterios de Riesgo'!$C$15),2))/5))","v":""},{"$f":"IF(ISERROR(R545*X545),\"\",R545*X545)","v":""},null,{"$f":"IF(ISERROR((SUMIF(Z545:Z554,\"=impacto\",Y545:Y554)+SUMIF(Z545:Z554,\"=Ambos\",Y545:Y554))/(COUNTIF(Z545:Z554,\"Impacto\")+COUNTIF(Z545:Z554,\"Ambos\"))),\"\",(SUMIF(Z545:Z554,\"=impacto\",Y545:Y554)+SUMIF(Z545:Z554,\"=Ambos\",Y545:Y554))/(COUNTIF(Z545:Z554,\"Impacto\")+COUNTIF(Z545:Z554,\"Ambos\")))","v":""},{"$f":"IF(ISERROR((SUMIF(Z545:Z554,\"=Probabilidad\",Y545:Y554)+SUMIF(Z545:Z554,\"=Ambos\",Y545:Y554))/(COUNTIF(Z545:Z554,\"Probabilidad\")+COUNTIF(Z545:Z554,\"Ambos\"))),\"\",(SUMIF(Z545:Z554,\"=Probabilidad\",Y545:Y554)+SUMIF(Z545:Z554,\"=Ambos\",Y545:Y554))/(COUNTIF(Z545:Z554,\"Probabilidad\")+COUNTIF(Z545:Z554,\"Ambos\")))","v":""},{"$f":"IF(ISERROR(ROUND(IF(AB545=\"\",AA545,IF(AA545=\"\",AB545,IF(AND(AB545=\"\",AA545=\"\"),\"\",AB545*AA545)))*100,0)/100),\"\",ROUND(IF(AB545=\"\",AA545,IF(AA545=\"\",AB545,IF(AND(AB545=\"\",AA545=\"\"),\"\",AB545*AA545)))*100,0)/100)","v":""},{"$f":"IF(AC545=\"\",\"\",VLOOKUP(AC545*5,Calif_Control,2,1))","v":""}]
[null,null,null,null,null,null,null,null,null,null,null,null,null,null,null,null,{"$f":"IF(COUNTA(I546:P546)<8,\"\",VLOOKUP(ROUND((LEFT(I546,1)*'Criterios de Riesgo'!$F$8+LEFT(J546,1)*'Criterios de Riesgo'!$F$9+LEFT(K546,1)*'Criterios de Riesgo'!$F$10+LEFT(L546,1)*'Criterios de Riesgo'!$F$11+LEFT(M546,1)*'Criterios de Riesgo'!$F$12+LEFT(N546,1)*'Criterios de Riesgo'!$F$13+LEFT(O546,1)*'Criterios de Riesgo'!$F$14+LEFT(P546,1)*'Criterios de Riesgo'!$F$15),2),Calif_Control,2,1))","v":""},{"$f":"IF(COUNTA(I546:P546)<8,\"\",(ROUND((LEFT(I546,1)*'Criterios de Riesgo'!$F$8+LEFT(J546,1)*'Criterios de Riesgo'!$F$9+LEFT(K546,1)*'Criterios de Riesgo'!$F$10+LEFT(L546,1)*'Criterios de Riesgo'!$F$11+LEFT(M546,1)*'Criterios de Riesgo'!$F$12+LEFT(N546,1)*'Criterios de Riesgo'!$F$13+LEFT(O546,1)*'Criterios de Riesgo'!$F$14+LEFT(P546,1)*'Criterios de Riesgo'!$F$15),2))/5)","v":""}]
[null,null,null,null,null,null,null,null,null,null,null,null,null,null,null,null,{"$f":"IF(COUNTA(I547:P547)<8,\"\",VLOOKUP(ROUND((LEFT(I547,1)*'Criterios de Riesgo'!$F$8+LEFT(J547,1)*'Criterios de Riesgo'!$F$9+LEFT(K547,1)*'Criterios de Riesgo'!$F$10+LEFT(L547,1)*'Criterios de Riesgo'!$F$11+LEFT(M547,1)*'Criterios de Riesgo'!$F$12+LEFT(N547,1)*'Criterios de Riesgo'!$F$13+LEFT(O547,1)*'Criterios de Riesgo'!$F$14+LEFT(P547,1)*'Criterios de Riesgo'!$F$15),2),Calif_Control,2,1))","v":""},{"$f":"IF(COUNTA(I547:P547)<8,\"\",(ROUND((LEFT(I547,1)*'Criterios de Riesgo'!$F$8+LEFT(J547,1)*'Criterios de Riesgo'!$F$9+LEFT(K547,1)*'Criterios de Riesgo'!$F$10+LEFT(L547,1)*'Criterios de Riesgo'!$F$11+LEFT(M547,1)*'Criterios de Riesgo'!$F$12+LEFT(N547,1)*'Criterios de Riesgo'!$F$13+LEFT(O547,1)*'Criterios de Riesgo'!$F$14+LEFT(P547,1)*'Criterios de Riesgo'!$F$15),2))/5)","v":""}]
[null,null,null,null,null,null,null,null,null,null,null,null,null,null,null,null,{"$f":"IF(COUNTA(I548:P548)<8,\"\",VLOOKUP(ROUND((LEFT(I548,1)*'Criterios de Riesgo'!$F$8+LEFT(J548,1)*'Criterios de Riesgo'!$F$9+LEFT(K548,1)*'Criterios de Riesgo'!$F$10+LEFT(L548,1)*'Criterios de Riesgo'!$F$11+LEFT(M548,1)*'Criterios de Riesgo'!$F$12+LEFT(N548,1)*'Criterios de Riesgo'!$F$13+LEFT(O548,1)*'Criterios de Riesgo'!$F$14+LEFT(P548,1)*'Criterios de Riesgo'!$F$15),2),Calif_Control,2,1))","v":""},{"$f":"IF(COUNTA(I548:P548)<8,\"\",(ROUND((LEFT(I548,1)*'Criterios de Riesgo'!$F$8+LEFT(J548,1)*'Criterios de Riesgo'!$F$9+LEFT(K548,1)*'Criterios de Riesgo'!$F$10+LEFT(L548,1)*'Criterios de Riesgo'!$F$11+LEFT(M548,1)*'Criterios de Riesgo'!$F$12+LEFT(N548,1)*'Criterios de Riesgo'!$F$13+LEFT(O548,1)*'Criterios de Riesgo'!$F$14+LEFT(P548,1)*'Criterios de Riesgo'!$F$15),2))/5)","v":""}]
[null,null,null,null,null,null,null,null,null,null,null,null,null,null,null,null,{"$f":"IF(COUNTA(I549:P549)<8,\"\",VLOOKUP(ROUND((LEFT(I549,1)*'Criterios de Riesgo'!$F$8+LEFT(J549,1)*'Criterios de Riesgo'!$F$9+LEFT(K549,1)*'Criterios de Riesgo'!$F$10+LEFT(L549,1)*'Criterios de Riesgo'!$F$11+LEFT(M549,1)*'Criterios de Riesgo'!$F$12+LEFT(N549,1)*'Criterios de Riesgo'!$F$13+LEFT(O549,1)*'Criterios de Riesgo'!$F$14+LEFT(P549,1)*'Criterios de Riesgo'!$F$15),2),Calif_Control,2,1))","v":""},{"$f":"IF(COUNTA(I549:P549)<8,\"\",(ROUND((LEFT(I549,1)*'Criterios de Riesgo'!$F$8+LEFT(J549,1)*'Criterios de Riesgo'!$F$9+LEFT(K549,1)*'Criterios de Riesgo'!$F$10+LEFT(L549,1)*'Criterios de Riesgo'!$F$11+LEFT(M549,1)*'Criterios de Riesgo'!$F$12+LEFT(N549,1)*'Criterios de Riesgo'!$F$13+LEFT(O549,1)*'Criterios de Riesgo'!$F$14+LEFT(P549,1)*'Criterios de Riesgo'!$F$15),2))/5)","v":""}]
[null,null,null,null,null,null,null,null,null,null,null,null,null,null,null,null,{"$f":"IF(COUNTA(I550:P550)<8,\"\",VLOOKUP(ROUND((LEFT(I550,1)*'Criterios de Riesgo'!$F$8+LEFT(J550,1)*'Criterios de Riesgo'!$F$9+LEFT(K550,1)*'Criterios de Riesgo'!$F$10+LEFT(L550,1)*'Criterios de Riesgo'!$F$11+LEFT(M550,1)*'Criterios de Riesgo'!$F$12+LEFT(N550,1)*'Criterios de Riesgo'!$F$13+LEFT(O550,1)*'Criterios de Riesgo'!$F$14+LEFT(P550,1)*'Criterios de Riesgo'!$F$15),2),Calif_Control,2,1))","v":""},{"$f":"IF(COUNTA(I550:P550)<8,\"\",(ROUND((LEFT(I550,1)*'Criterios de Riesgo'!$F$8+LEFT(J550,1)*'Criterios de Riesgo'!$F$9+LEFT(K550,1)*'Criterios de Riesgo'!$F$10+LEFT(L550,1)*'Criterios de Riesgo'!$F$11+LEFT(M550,1)*'Criterios de Riesgo'!$F$12+LEFT(N550,1)*'Criterios de Riesgo'!$F$13+LEFT(O550,1)*'Criterios de Riesgo'!$F$14+LEFT(P550,1)*'Criterios de Riesgo'!$F$15),2))/5)","v":""}]
[null,null,null,null,null,null,null,null,null,null,null,null,null,null,null,null,{"$f":"IF(COUNTA(I551:P551)<8,\"\",VLOOKUP(ROUND((LEFT(I551,1)*'Criterios de Riesgo'!$F$8+LEFT(J551,1)*'Criterios de Riesgo'!$F$9+LEFT(K551,1)*'Criterios de Riesgo'!$F$10+LEFT(L551,1)*'Criterios de Riesgo'!$F$11+LEFT(M551,1)*'Criterios de Riesgo'!$F$12+LEFT(N551,1)*'Criterios de Riesgo'!$F$13+LEFT(O551,1)*'Criterios de Riesgo'!$F$14+LEFT(P551,1)*'Criterios de Riesgo'!$F$15),2),Calif_Control,2,1))","v":""},{"$f":"IF(COUNTA(I551:P551)<8,\"\",(ROUND((LEFT(I551,1)*'Criterios de Riesgo'!$F$8+LEFT(J551,1)*'Criterios de Riesgo'!$F$9+LEFT(K551,1)*'Criterios de Riesgo'!$F$10+LEFT(L551,1)*'Criterios de Riesgo'!$F$11+LEFT(M551,1)*'Criterios de Riesgo'!$F$12+LEFT(N551,1)*'Criterios de Riesgo'!$F$13+LEFT(O551,1)*'Criterios de Riesgo'!$F$14+LEFT(P551,1)*'Criterios de Riesgo'!$F$15),2))/5)","v":""}]
[null,null,null,null,null,null,null,null,null,null,null,null,null,null,null,null,{"$f":"IF(COUNTA(I552:P552)<8,\"\",VLOOKUP(ROUND((LEFT(I552,1)*'Criterios de Riesgo'!$F$8+LEFT(J552,1)*'Criterios de Riesgo'!$F$9+LEFT(K552,1)*'Criterios de Riesgo'!$F$10+LEFT(L552,1)*'Criterios de Riesgo'!$F$11+LEFT(M552,1)*'Criterios de Riesgo'!$F$12+LEFT(N552,1)*'Criterios de Riesgo'!$F$13+LEFT(O552,1)*'Criterios de Riesgo'!$F$14+LEFT(P552,1)*'Criterios de Riesgo'!$F$15),2),Calif_Control,2,1))","v":""},{"$f":"IF(COUNTA(I552:P552)<8,\"\",(ROUND((LEFT(I552,1)*'Criterios de Riesgo'!$F$8+LEFT(J552,1)*'Criterios de Riesgo'!$F$9+LEFT(K552,1)*'Criterios de Riesgo'!$F$10+LEFT(L552,1)*'Criterios de Riesgo'!$F$11+LEFT(M552,1)*'Criterios de Riesgo'!$F$12+LEFT(N552,1)*'Criterios de Riesgo'!$F$13+LEFT(O552,1)*'Criterios de Riesgo'!$F$14+LEFT(P552,1)*'Criterios de Riesgo'!$F$15),2))/5)","v":""}]
[null,null,null,null,null,null,null,null,null,null,null,null,null,null,null,null,{"$f":"IF(COUNTA(I553:P553)<8,\"\",VLOOKUP(ROUND((LEFT(I553,1)*'Criterios de Riesgo'!$F$8+LEFT(J553,1)*'Criterios de Riesgo'!$F$9+LEFT(K553,1)*'Criterios de Riesgo'!$F$10+LEFT(L553,1)*'Criterios de Riesgo'!$F$11+LEFT(M553,1)*'Criterios de Riesgo'!$F$12+LEFT(N553,1)*'Criterios de Riesgo'!$F$13+LEFT(O553,1)*'Criterios de Riesgo'!$F$14+LEFT(P553,1)*'Criterios de Riesgo'!$F$15),2),Calif_Control,2,1))","v":""},{"$f":"IF(COUNTA(I553:P553)<8,\"\",(ROUND((LEFT(I553,1)*'Criterios de Riesgo'!$F$8+LEFT(J553,1)*'Criterios de Riesgo'!$F$9+LEFT(K553,1)*'Criterios de Riesgo'!$F$10+LEFT(L553,1)*'Criterios de Riesgo'!$F$11+LEFT(M553,1)*'Criterios de Riesgo'!$F$12+LEFT(N553,1)*'Criterios de Riesgo'!$F$13+LEFT(O553,1)*'Criterios de Riesgo'!$F$14+LEFT(P553,1)*'Criterios de Riesgo'!$F$15),2))/5)","v":""}]
[null,null,null,null,null,null,null,null,null,null,null,null,null,null,null,null,{"$f":"IF(COUNTA(I554:P554)<8,\"\",VLOOKUP(ROUND((LEFT(I554,1)*'Criterios de Riesgo'!$F$8+LEFT(J554,1)*'Criterios de Riesgo'!$F$9+LEFT(K554,1)*'Criterios de Riesgo'!$F$10+LEFT(L554,1)*'Criterios de Riesgo'!$F$11+LEFT(M554,1)*'Criterios de Riesgo'!$F$12+LEFT(N554,1)*'Criterios de Riesgo'!$F$13+LEFT(O554,1)*'Criterios de Riesgo'!$F$14+LEFT(P554,1)*'Criterios de Riesgo'!$F$15),2),Calif_Control,2,1))","v":""},{"$f":"IF(COUNTA(I554:P554)<8,\"\",(ROUND((LEFT(I554,1)*'Criterios de Riesgo'!$F$8+LEFT(J554,1)*'Criterios de Riesgo'!$F$9+LEFT(K554,1)*'Criterios de Riesgo'!$F$10+LEFT(L554,1)*'Criterios de Riesgo'!$F$11+LEFT(M554,1)*'Criterios de Riesgo'!$F$12+LEFT(N554,1)*'Criterios de Riesgo'!$F$13+LEFT(O554,1)*'Criterios de Riesgo'!$F$14+LEFT(P554,1)*'Criterios de Riesgo'!$F$15),2))/5)","v":""}]
["R",null,null,null,null,null,null,null,null,null,null,null,null,null,null,null,{"$f":"IF(COUNTA(I555:P555)<8,\"\",VLOOKUP(ROUND((LEFT(I555,1)*'Criterios de Riesgo'!$F$8+LEFT(J555,1)*'Criterios de Riesgo'!$F$9+LEFT(K555,1)*'Criterios de Riesgo'!$F$10+LEFT(L555,1)*'Criterios de Riesgo'!$F$11+LEFT(M555,1)*'Criterios de Riesgo'!$F$12+LEFT(N555,1)*'Criterios de Riesgo'!$F$13+LEFT(O555,1)*'Criterios de Riesgo'!$F$14+LEFT(P555,1)*'Criterios de Riesgo'!$F$15),2),Calif_Control,2,1))","v":""},{"$f":"IF(COUNTA(I555:P555)<8,\"\",(ROUND((LEFT(I555,1)*'Criterios de Riesgo'!$F$8+LEFT(J555,1)*'Criterios de Riesgo'!$F$9+LEFT(K555,1)*'Criterios de Riesgo'!$F$10+LEFT(L555,1)*'Criterios de Riesgo'!$F$11+LEFT(M555,1)*'Criterios de Riesgo'!$F$12+LEFT(N555,1)*'Criterios de Riesgo'!$F$13+LEFT(O555,1)*'Criterios de Riesgo'!$F$14+LEFT(P555,1)*'Criterios de Riesgo'!$F$15),2))/5)","v":""},null,null,null,null,{"$f":"IF(COUNTA(S555:V555)<4,\"\",IF(V555=\"No\",\"No se usa\",VLOOKUP(ROUND((LEFT(S555,1)*'Criterios de Riesgo'!$C$13+LEFT(T555,1)*'Criterios de Riesgo'!$C$14+LEFT(U555,1)*'Criterios de Riesgo'!$C$15),2),Calif_Covertura,2,1)))","v":""},{"$f":"IF(COUNTA(S555:V555)<4,\"\",IF(V555=\"No\",0,(ROUND((LEFT(S555,1)*'Criterios de Riesgo'!$C$13+LEFT(T555,1)*'Criterios de Riesgo'!$C$14+LEFT(U555,1)*'Criterios de Riesgo'!$C$15),2))/5))","v":""},{"$f":"IF(ISERROR(R555*X555),\"\",R555*X555)","v":""},null,{"$f":"IF(ISERROR((SUMIF(Z555:Z564,\"=impacto\",Y555:Y564)+SUMIF(Z555:Z564,\"=Ambos\",Y555:Y564))/(COUNTIF(Z555:Z564,\"Impacto\")+COUNTIF(Z555:Z564,\"Ambos\"))),\"\",(SUMIF(Z555:Z564,\"=impacto\",Y555:Y564)+SUMIF(Z555:Z564,\"=Ambos\",Y555:Y564))/(COUNTIF(Z555:Z564,\"Impacto\")+COUNTIF(Z555:Z564,\"Ambos\")))","v":""},{"$f":"IF(ISERROR((SUMIF(Z555:Z564,\"=Probabilidad\",Y555:Y564)+SUMIF(Z555:Z564,\"=Ambos\",Y555:Y564))/(COUNTIF(Z555:Z564,\"Probabilidad\")+COUNTIF(Z555:Z564,\"Ambos\"))),\"\",(SUMIF(Z555:Z564,\"=Probabilidad\",Y555:Y564)+SUMIF(Z555:Z564,\"=Ambos\",Y555:Y564))/(COUNTIF(Z555:Z564,\"Probabilidad\")+COUNTIF(Z555:Z564,\"Ambos\")))","v":""},{"$f":"IF(ISERROR(ROUND(IF(AB555=\"\",AA555,IF(AA555=\"\",AB555,IF(AND(AB555=\"\",AA555=\"\"),\"\",AB555*AA555)))*100,0)/100),\"\",ROUND(IF(AB555=\"\",AA555,IF(AA555=\"\",AB555,IF(AND(AB555=\"\",AA555=\"\"),\"\",AB555*AA555)))*100,0)/100)","v":""},{"$f":"IF(AC555=\"\",\"\",VLOOKUP(AC555*5,Calif_Control,2,1))","v":""}]
[null,null,null,null,null,null,null,null,null,null,null,null,null,null,null,null,{"$f":"IF(COUNTA(I556:P556)<8,\"\",VLOOKUP(ROUND((LEFT(I556,1)*'Criterios de Riesgo'!$F$8+LEFT(J556,1)*'Criterios de Riesgo'!$F$9+LEFT(K556,1)*'Criterios de Riesgo'!$F$10+LEFT(L556,1)*'Criterios de Riesgo'!$F$11+LEFT(M556,1)*'Criterios de Riesgo'!$F$12+LEFT(N556,1)*'Criterios de Riesgo'!$F$13+LEFT(O556,1)*'Criterios de Riesgo'!$F$14+LEFT(P556,1)*'Criterios de Riesgo'!$F$15),2),Calif_Control,2,1))","v":""},{"$f":"IF(COUNTA(I556:P556)<8,\"\",(ROUND((LEFT(I556,1)*'Criterios de Riesgo'!$F$8+LEFT(J556,1)*'Criterios de Riesgo'!$F$9+LEFT(K556,1)*'Criterios de Riesgo'!$F$10+LEFT(L556,1)*'Criterios de Riesgo'!$F$11+LEFT(M556,1)*'Criterios de Riesgo'!$F$12+LEFT(N556,1)*'Criterios de Riesgo'!$F$13+LEFT(O556,1)*'Criterios de Riesgo'!$F$14+LEFT(P556,1)*'Criterios de Riesgo'!$F$15),2))/5)","v":""}]
[null,null,null,null,null,null,null,null,null,null,null,null,null,null,null,null,{"$f":"IF(COUNTA(I557:P557)<8,\"\",VLOOKUP(ROUND((LEFT(I557,1)*'Criterios de Riesgo'!$F$8+LEFT(J557,1)*'Criterios de Riesgo'!$F$9+LEFT(K557,1)*'Criterios de Riesgo'!$F$10+LEFT(L557,1)*'Criterios de Riesgo'!$F$11+LEFT(M557,1)*'Criterios de Riesgo'!$F$12+LEFT(N557,1)*'Criterios de Riesgo'!$F$13+LEFT(O557,1)*'Criterios de Riesgo'!$F$14+LEFT(P557,1)*'Criterios de Riesgo'!$F$15),2),Calif_Control,2,1))","v":""},{"$f":"IF(COUNTA(I557:P557)<8,\"\",(ROUND((LEFT(I557,1)*'Criterios de Riesgo'!$F$8+LEFT(J557,1)*'Criterios de Riesgo'!$F$9+LEFT(K557,1)*'Criterios de Riesgo'!$F$10+LEFT(L557,1)*'Criterios de Riesgo'!$F$11+LEFT(M557,1)*'Criterios de Riesgo'!$F$12+LEFT(N557,1)*'Criterios de Riesgo'!$F$13+LEFT(O557,1)*'Criterios de Riesgo'!$F$14+LEFT(P557,1)*'Criterios de Riesgo'!$F$15),2))/5)","v":""}]
[null,null,null,null,null,null,null,null,null,null,null,null,null,null,null,null,{"$f":"IF(COUNTA(I558:P558)<8,\"\",VLOOKUP(ROUND((LEFT(I558,1)*'Criterios de Riesgo'!$F$8+LEFT(J558,1)*'Criterios de Riesgo'!$F$9+LEFT(K558,1)*'Criterios de Riesgo'!$F$10+LEFT(L558,1)*'Criterios de Riesgo'!$F$11+LEFT(M558,1)*'Criterios de Riesgo'!$F$12+LEFT(N558,1)*'Criterios de Riesgo'!$F$13+LEFT(O558,1)*'Criterios de Riesgo'!$F$14+LEFT(P558,1)*'Criterios de Riesgo'!$F$15),2),Calif_Control,2,1))","v":""},{"$f":"IF(COUNTA(I558:P558)<8,\"\",(ROUND((LEFT(I558,1)*'Criterios de Riesgo'!$F$8+LEFT(J558,1)*'Criterios de Riesgo'!$F$9+LEFT(K558,1)*'Criterios de Riesgo'!$F$10+LEFT(L558,1)*'Criterios de Riesgo'!$F$11+LEFT(M558,1)*'Criterios de Riesgo'!$F$12+LEFT(N558,1)*'Criterios de Riesgo'!$F$13+LEFT(O558,1)*'Criterios de Riesgo'!$F$14+LEFT(P558,1)*'Criterios de Riesgo'!$F$15),2))/5)","v":""}]
[null,null,null,null,null,null,null,null,null,null,null,null,null,null,null,null,{"$f":"IF(COUNTA(I559:P559)<8,\"\",VLOOKUP(ROUND((LEFT(I559,1)*'Criterios de Riesgo'!$F$8+LEFT(J559,1)*'Criterios de Riesgo'!$F$9+LEFT(K559,1)*'Criterios de Riesgo'!$F$10+LEFT(L559,1)*'Criterios de Riesgo'!$F$11+LEFT(M559,1)*'Criterios de Riesgo'!$F$12+LEFT(N559,1)*'Criterios de Riesgo'!$F$13+LEFT(O559,1)*'Criterios de Riesgo'!$F$14+LEFT(P559,1)*'Criterios de Riesgo'!$F$15),2),Calif_Control,2,1))","v":""},{"$f":"IF(COUNTA(I559:P559)<8,\"\",(ROUND((LEFT(I559,1)*'Criterios de Riesgo'!$F$8+LEFT(J559,1)*'Criterios de Riesgo'!$F$9+LEFT(K559,1)*'Criterios de Riesgo'!$F$10+LEFT(L559,1)*'Criterios de Riesgo'!$F$11+LEFT(M559,1)*'Criterios de Riesgo'!$F$12+LEFT(N559,1)*'Criterios de Riesgo'!$F$13+LEFT(O559,1)*'Criterios de Riesgo'!$F$14+LEFT(P559,1)*'Criterios de Riesgo'!$F$15),2))/5)","v":""}]
[null,null,null,null,null,null,null,null,null,null,null,null,null,null,null,null,{"$f":"IF(COUNTA(I560:P560)<8,\"\",VLOOKUP(ROUND((LEFT(I560,1)*'Criterios de Riesgo'!$F$8+LEFT(J560,1)*'Criterios de Riesgo'!$F$9+LEFT(K560,1)*'Criterios de Riesgo'!$F$10+LEFT(L560,1)*'Criterios de Riesgo'!$F$11+LEFT(M560,1)*'Criterios de Riesgo'!$F$12+LEFT(N560,1)*'Criterios de Riesgo'!$F$13+LEFT(O560,1)*'Criterios de Riesgo'!$F$14+LEFT(P560,1)*'Criterios de Riesgo'!$F$15),2),Calif_Control,2,1))","v":""},{"$f":"IF(COUNTA(I560:P560)<8,\"\",(ROUND((LEFT(I560,1)*'Criterios de Riesgo'!$F$8+LEFT(J560,1)*'Criterios de Riesgo'!$F$9+LEFT(K560,1)*'Criterios de Riesgo'!$F$10+LEFT(L560,1)*'Criterios de Riesgo'!$F$11+LEFT(M560,1)*'Criterios de Riesgo'!$F$12+LEFT(N560,1)*'Criterios de Riesgo'!$F$13+LEFT(O560,1)*'Criterios de Riesgo'!$F$14+LEFT(P560,1)*'Criterios de Riesgo'!$F$15),2))/5)","v":""}]
[null,null,null,null,null,null,null,null,null,null,null,null,null,null,null,null,{"$f":"IF(COUNTA(I561:P561)<8,\"\",VLOOKUP(ROUND((LEFT(I561,1)*'Criterios de Riesgo'!$F$8+LEFT(J561,1)*'Criterios de Riesgo'!$F$9+LEFT(K561,1)*'Criterios de Riesgo'!$F$10+LEFT(L561,1)*'Criterios de Riesgo'!$F$11+LEFT(M561,1)*'Criterios de Riesgo'!$F$12+LEFT(N561,1)*'Criterios de Riesgo'!$F$13+LEFT(O561,1)*'Criterios de Riesgo'!$F$14+LEFT(P561,1)*'Criterios de Riesgo'!$F$15),2),Calif_Control,2,1))","v":""},{"$f":"IF(COUNTA(I561:P561)<8,\"\",(ROUND((LEFT(I561,1)*'Criterios de Riesgo'!$F$8+LEFT(J561,1)*'Criterios de Riesgo'!$F$9+LEFT(K561,1)*'Criterios de Riesgo'!$F$10+LEFT(L561,1)*'Criterios de Riesgo'!$F$11+LEFT(M561,1)*'Criterios de Riesgo'!$F$12+LEFT(N561,1)*'Criterios de Riesgo'!$F$13+LEFT(O561,1)*'Criterios de Riesgo'!$F$14+LEFT(P561,1)*'Criterios de Riesgo'!$F$15),2))/5)","v":""}]
[null,null,null,null,null,null,null,null,null,null,null,null,null,null,null,null,{"$f":"IF(COUNTA(I562:P562)<8,\"\",VLOOKUP(ROUND((LEFT(I562,1)*'Criterios de Riesgo'!$F$8+LEFT(J562,1)*'Criterios de Riesgo'!$F$9+LEFT(K562,1)*'Criterios de Riesgo'!$F$10+LEFT(L562,1)*'Criterios de Riesgo'!$F$11+LEFT(M562,1)*'Criterios de Riesgo'!$F$12+LEFT(N562,1)*'Criterios de Riesgo'!$F$13+LEFT(O562,1)*'Criterios de Riesgo'!$F$14+LEFT(P562,1)*'Criterios de Riesgo'!$F$15),2),Calif_Control,2,1))","v":""},{"$f":"IF(COUNTA(I562:P562)<8,\"\",(ROUND((LEFT(I562,1)*'Criterios de Riesgo'!$F$8+LEFT(J562,1)*'Criterios de Riesgo'!$F$9+LEFT(K562,1)*'Criterios de Riesgo'!$F$10+LEFT(L562,1)*'Criterios de Riesgo'!$F$11+LEFT(M562,1)*'Criterios de Riesgo'!$F$12+LEFT(N562,1)*'Criterios de Riesgo'!$F$13+LEFT(O562,1)*'Criterios de Riesgo'!$F$14+LEFT(P562,1)*'Criterios de Riesgo'!$F$15),2))/5)","v":""}]
[null,null,null,null,null,null,null,null,null,null,null,null,null,null,null,null,{"$f":"IF(COUNTA(I563:P563)<8,\"\",VLOOKUP(ROUND((LEFT(I563,1)*'Criterios de Riesgo'!$F$8+LEFT(J563,1)*'Criterios de Riesgo'!$F$9+LEFT(K563,1)*'Criterios de Riesgo'!$F$10+LEFT(L563,1)*'Criterios de Riesgo'!$F$11+LEFT(M563,1)*'Criterios de Riesgo'!$F$12+LEFT(N563,1)*'Criterios de Riesgo'!$F$13+LEFT(O563,1)*'Criterios de Riesgo'!$F$14+LEFT(P563,1)*'Criterios de Riesgo'!$F$15),2),Calif_Control,2,1))","v":""},{"$f":"IF(COUNTA(I563:P563)<8,\"\",(ROUND((LEFT(I563,1)*'Criterios de Riesgo'!$F$8+LEFT(J563,1)*'Criterios de Riesgo'!$F$9+LEFT(K563,1)*'Criterios de Riesgo'!$F$10+LEFT(L563,1)*'Criterios de Riesgo'!$F$11+LEFT(M563,1)*'Criterios de Riesgo'!$F$12+LEFT(N563,1)*'Criterios de Riesgo'!$F$13+LEFT(O563,1)*'Criterios de Riesgo'!$F$14+LEFT(P563,1)*'Criterios de Riesgo'!$F$15),2))/5)","v":""}]
[null,null,null,null,null,null,null,null,null,null,null,null,null,null,null,null,{"$f":"IF(COUNTA(I564:P564)<8,\"\",VLOOKUP(ROUND((LEFT(I564,1)*'Criterios de Riesgo'!$F$8+LEFT(J564,1)*'Criterios de Riesgo'!$F$9+LEFT(K564,1)*'Criterios de Riesgo'!$F$10+LEFT(L564,1)*'Criterios de Riesgo'!$F$11+LEFT(M564,1)*'Criterios de Riesgo'!$F$12+LEFT(N564,1)*'Criterios de Riesgo'!$F$13+LEFT(O564,1)*'Criterios de Riesgo'!$F$14+LEFT(P564,1)*'Criterios de Riesgo'!$F$15),2),Calif_Control,2,1))","v":""},{"$f":"IF(COUNTA(I564:P564)<8,\"\",(ROUND((LEFT(I564,1)*'Criterios de Riesgo'!$F$8+LEFT(J564,1)*'Criterios de Riesgo'!$F$9+LEFT(K564,1)*'Criterios de Riesgo'!$F$10+LEFT(L564,1)*'Criterios de Riesgo'!$F$11+LEFT(M564,1)*'Criterios de Riesgo'!$F$12+LEFT(N564,1)*'Criterios de Riesgo'!$F$13+LEFT(O564,1)*'Criterios de Riesgo'!$F$14+LEFT(P564,1)*'Criterios de Riesgo'!$F$15),2))/5)","v":""}]
["R",null,null,null,null,null,null,null,null,null,null,null,null,null,null,null,{"$f":"IF(COUNTA(I565:P565)<8,\"\",VLOOKUP(ROUND((LEFT(I565,1)*'Criterios de Riesgo'!$F$8+LEFT(J565,1)*'Criterios de Riesgo'!$F$9+LEFT(K565,1)*'Criterios de Riesgo'!$F$10+LEFT(L565,1)*'Criterios de Riesgo'!$F$11+LEFT(M565,1)*'Criterios de Riesgo'!$F$12+LEFT(N565,1)*'Criterios de Riesgo'!$F$13+LEFT(O565,1)*'Criterios de Riesgo'!$F$14+LEFT(P565,1)*'Criterios de Riesgo'!$F$15),2),Calif_Control,2,1))","v":""},{"$f":"IF(COUNTA(I565:P565)<8,\"\",(ROUND((LEFT(I565,1)*'Criterios de Riesgo'!$F$8+LEFT(J565,1)*'Criterios de Riesgo'!$F$9+LEFT(K565,1)*'Criterios de Riesgo'!$F$10+LEFT(L565,1)*'Criterios de Riesgo'!$F$11+LEFT(M565,1)*'Criterios de Riesgo'!$F$12+LEFT(N565,1)*'Criterios de Riesgo'!$F$13+LEFT(O565,1)*'Criterios de Riesgo'!$F$14+LEFT(P565,1)*'Criterios de Riesgo'!$F$15),2))/5)","v":""},null,null,null,null,{"$f":"IF(COUNTA(S565:V565)<4,\"\",IF(V565=\"No\",\"No se usa\",VLOOKUP(ROUND((LEFT(S565,1)*'Criterios de Riesgo'!$C$13+LEFT(T565,1)*'Criterios de Riesgo'!$C$14+LEFT(U565,1)*'Criterios de Riesgo'!$C$15),2),Calif_Covertura,2,1)))","v":""},{"$f":"IF(COUNTA(S565:V565)<4,\"\",IF(V565=\"No\",0,(ROUND((LEFT(S565,1)*'Criterios de Riesgo'!$C$13+LEFT(T565,1)*'Criterios de Riesgo'!$C$14+LEFT(U565,1)*'Criterios de Riesgo'!$C$15),2))/5))","v":""},{"$f":"IF(ISERROR(R565*X565),\"\",R565*X565)","v":""},null,{"$f":"IF(ISERROR((SUMIF(Z565:Z574,\"=impacto\",Y565:Y574)+SUMIF(Z565:Z574,\"=Ambos\",Y565:Y574))/(COUNTIF(Z565:Z574,\"Impacto\")+COUNTIF(Z565:Z574,\"Ambos\"))),\"\",(SUMIF(Z565:Z574,\"=impacto\",Y565:Y574)+SUMIF(Z565:Z574,\"=Ambos\",Y565:Y574))/(COUNTIF(Z565:Z574,\"Impacto\")+COUNTIF(Z565:Z574,\"Ambos\")))","v":""},{"$f":"IF(ISERROR((SUMIF(Z565:Z574,\"=Probabilidad\",Y565:Y574)+SUMIF(Z565:Z574,\"=Ambos\",Y565:Y574))/(COUNTIF(Z565:Z574,\"Probabilidad\")+COUNTIF(Z565:Z574,\"Ambos\"))),\"\",(SUMIF(Z565:Z574,\"=Probabilidad\",Y565:Y574)+SUMIF(Z565:Z574,\"=Ambos\",Y565:Y574))/(COUNTIF(Z565:Z574,\"Probabilidad\")+COUNTIF(Z565:Z574,\"Ambos\")))","v":""},{"$f":"IF(ISERROR(ROUND(IF(AB565=\"\",AA565,IF(AA565=\"\",AB565,IF(AND(AB565=\"\",AA565=\"\"),\"\",AB565*AA565)))*100,0)/100),\"\",ROUND(IF(AB565=\"\",AA565,IF(AA565=\"\",AB565,IF(AND(AB565=\"\",AA565=\"\"),\"\",AB565*AA565)))*100,0)/100)","v":""},{"$f":"IF(AC565=\"\",\"\",VLOOKUP(AC565*5,Calif_Control,2,1))","v":""}]
[null,null,null,null,null,null,null,null,null,null,null,null,null,null,null,null,{"$f":"IF(COUNTA(I566:P566)<8,\"\",VLOOKUP(ROUND((LEFT(I566,1)*'Criterios de Riesgo'!$F$8+LEFT(J566,1)*'Criterios de Riesgo'!$F$9+LEFT(K566,1)*'Criterios de Riesgo'!$F$10+LEFT(L566,1)*'Criterios de Riesgo'!$F$11+LEFT(M566,1)*'Criterios de Riesgo'!$F$12+LEFT(N566,1)*'Criterios de Riesgo'!$F$13+LEFT(O566,1)*'Criterios de Riesgo'!$F$14+LEFT(P566,1)*'Criterios de Riesgo'!$F$15),2),Calif_Control,2,1))","v":""},{"$f":"IF(COUNTA(I566:P566)<8,\"\",(ROUND((LEFT(I566,1)*'Criterios de Riesgo'!$F$8+LEFT(J566,1)*'Criterios de Riesgo'!$F$9+LEFT(K566,1)*'Criterios de Riesgo'!$F$10+LEFT(L566,1)*'Criterios de Riesgo'!$F$11+LEFT(M566,1)*'Criterios de Riesgo'!$F$12+LEFT(N566,1)*'Criterios de Riesgo'!$F$13+LEFT(O566,1)*'Criterios de Riesgo'!$F$14+LEFT(P566,1)*'Criterios de Riesgo'!$F$15),2))/5)","v":""}]
[null,null,null,null,null,null,null,null,null,null,null,null,null,null,null,null,{"$f":"IF(COUNTA(I567:P567)<8,\"\",VLOOKUP(ROUND((LEFT(I567,1)*'Criterios de Riesgo'!$F$8+LEFT(J567,1)*'Criterios de Riesgo'!$F$9+LEFT(K567,1)*'Criterios de Riesgo'!$F$10+LEFT(L567,1)*'Criterios de Riesgo'!$F$11+LEFT(M567,1)*'Criterios de Riesgo'!$F$12+LEFT(N567,1)*'Criterios de Riesgo'!$F$13+LEFT(O567,1)*'Criterios de Riesgo'!$F$14+LEFT(P567,1)*'Criterios de Riesgo'!$F$15),2),Calif_Control,2,1))","v":""},{"$f":"IF(COUNTA(I567:P567)<8,\"\",(ROUND((LEFT(I567,1)*'Criterios de Riesgo'!$F$8+LEFT(J567,1)*'Criterios de Riesgo'!$F$9+LEFT(K567,1)*'Criterios de Riesgo'!$F$10+LEFT(L567,1)*'Criterios de Riesgo'!$F$11+LEFT(M567,1)*'Criterios de Riesgo'!$F$12+LEFT(N567,1)*'Criterios de Riesgo'!$F$13+LEFT(O567,1)*'Criterios de Riesgo'!$F$14+LEFT(P567,1)*'Criterios de Riesgo'!$F$15),2))/5)","v":""}]
[null,null,null,null,null,null,null,null,null,null,null,null,null,null,null,null,{"$f":"IF(COUNTA(I568:P568)<8,\"\",VLOOKUP(ROUND((LEFT(I568,1)*'Criterios de Riesgo'!$F$8+LEFT(J568,1)*'Criterios de Riesgo'!$F$9+LEFT(K568,1)*'Criterios de Riesgo'!$F$10+LEFT(L568,1)*'Criterios de Riesgo'!$F$11+LEFT(M568,1)*'Criterios de Riesgo'!$F$12+LEFT(N568,1)*'Criterios de Riesgo'!$F$13+LEFT(O568,1)*'Criterios de Riesgo'!$F$14+LEFT(P568,1)*'Criterios de Riesgo'!$F$15),2),Calif_Control,2,1))","v":""},{"$f":"IF(COUNTA(I568:P568)<8,\"\",(ROUND((LEFT(I568,1)*'Criterios de Riesgo'!$F$8+LEFT(J568,1)*'Criterios de Riesgo'!$F$9+LEFT(K568,1)*'Criterios de Riesgo'!$F$10+LEFT(L568,1)*'Criterios de Riesgo'!$F$11+LEFT(M568,1)*'Criterios de Riesgo'!$F$12+LEFT(N568,1)*'Criterios de Riesgo'!$F$13+LEFT(O568,1)*'Criterios de Riesgo'!$F$14+LEFT(P568,1)*'Criterios de Riesgo'!$F$15),2))/5)","v":""}]
[null,null,null,null,null,null,null,null,null,null,null,null,null,null,null,null,{"$f":"IF(COUNTA(I569:P569)<8,\"\",VLOOKUP(ROUND((LEFT(I569,1)*'Criterios de Riesgo'!$F$8+LEFT(J569,1)*'Criterios de Riesgo'!$F$9+LEFT(K569,1)*'Criterios de Riesgo'!$F$10+LEFT(L569,1)*'Criterios de Riesgo'!$F$11+LEFT(M569,1)*'Criterios de Riesgo'!$F$12+LEFT(N569,1)*'Criterios de Riesgo'!$F$13+LEFT(O569,1)*'Criterios de Riesgo'!$F$14+LEFT(P569,1)*'Criterios de Riesgo'!$F$15),2),Calif_Control,2,1))","v":""},{"$f":"IF(COUNTA(I569:P569)<8,\"\",(ROUND((LEFT(I569,1)*'Criterios de Riesgo'!$F$8+LEFT(J569,1)*'Criterios de Riesgo'!$F$9+LEFT(K569,1)*'Criterios de Riesgo'!$F$10+LEFT(L569,1)*'Criterios de Riesgo'!$F$11+LEFT(M569,1)*'Criterios de Riesgo'!$F$12+LEFT(N569,1)*'Criterios de Riesgo'!$F$13+LEFT(O569,1)*'Criterios de Riesgo'!$F$14+LEFT(P569,1)*'Criterios de Riesgo'!$F$15),2))/5)","v":""}]
[null,null,null,null,null,null,null,null,null,null,null,null,null,null,null,null,{"$f":"IF(COUNTA(I570:P570)<8,\"\",VLOOKUP(ROUND((LEFT(I570,1)*'Criterios de Riesgo'!$F$8+LEFT(J570,1)*'Criterios de Riesgo'!$F$9+LEFT(K570,1)*'Criterios de Riesgo'!$F$10+LEFT(L570,1)*'Criterios de Riesgo'!$F$11+LEFT(M570,1)*'Criterios de Riesgo'!$F$12+LEFT(N570,1)*'Criterios de Riesgo'!$F$13+LEFT(O570,1)*'Criterios de Riesgo'!$F$14+LEFT(P570,1)*'Criterios de Riesgo'!$F$15),2),Calif_Control,2,1))","v":""},{"$f":"IF(COUNTA(I570:P570)<8,\"\",(ROUND((LEFT(I570,1)*'Criterios de Riesgo'!$F$8+LEFT(J570,1)*'Criterios de Riesgo'!$F$9+LEFT(K570,1)*'Criterios de Riesgo'!$F$10+LEFT(L570,1)*'Criterios de Riesgo'!$F$11+LEFT(M570,1)*'Criterios de Riesgo'!$F$12+LEFT(N570,1)*'Criterios de Riesgo'!$F$13+LEFT(O570,1)*'Criterios de Riesgo'!$F$14+LEFT(P570,1)*'Criterios de Riesgo'!$F$15),2))/5)","v":""}]
[null,null,null,null,null,null,null,null,null,null,null,null,null,null,null,null,{"$f":"IF(COUNTA(I571:P571)<8,\"\",VLOOKUP(ROUND((LEFT(I571,1)*'Criterios de Riesgo'!$F$8+LEFT(J571,1)*'Criterios de Riesgo'!$F$9+LEFT(K571,1)*'Criterios de Riesgo'!$F$10+LEFT(L571,1)*'Criterios de Riesgo'!$F$11+LEFT(M571,1)*'Criterios de Riesgo'!$F$12+LEFT(N571,1)*'Criterios de Riesgo'!$F$13+LEFT(O571,1)*'Criterios de Riesgo'!$F$14+LEFT(P571,1)*'Criterios de Riesgo'!$F$15),2),Calif_Control,2,1))","v":""},{"$f":"IF(COUNTA(I571:P571)<8,\"\",(ROUND((LEFT(I571,1)*'Criterios de Riesgo'!$F$8+LEFT(J571,1)*'Criterios de Riesgo'!$F$9+LEFT(K571,1)*'Criterios de Riesgo'!$F$10+LEFT(L571,1)*'Criterios de Riesgo'!$F$11+LEFT(M571,1)*'Criterios de Riesgo'!$F$12+LEFT(N571,1)*'Criterios de Riesgo'!$F$13+LEFT(O571,1)*'Criterios de Riesgo'!$F$14+LEFT(P571,1)*'Criterios de Riesgo'!$F$15),2))/5)","v":""}]
[null,null,null,null,null,null,null,null,null,null,null,null,null,null,null,null,{"$f":"IF(COUNTA(I572:P572)<8,\"\",VLOOKUP(ROUND((LEFT(I572,1)*'Criterios de Riesgo'!$F$8+LEFT(J572,1)*'Criterios de Riesgo'!$F$9+LEFT(K572,1)*'Criterios de Riesgo'!$F$10+LEFT(L572,1)*'Criterios de Riesgo'!$F$11+LEFT(M572,1)*'Criterios de Riesgo'!$F$12+LEFT(N572,1)*'Criterios de Riesgo'!$F$13+LEFT(O572,1)*'Criterios de Riesgo'!$F$14+LEFT(P572,1)*'Criterios de Riesgo'!$F$15),2),Calif_Control,2,1))","v":""},{"$f":"IF(COUNTA(I572:P572)<8,\"\",(ROUND((LEFT(I572,1)*'Criterios de Riesgo'!$F$8+LEFT(J572,1)*'Criterios de Riesgo'!$F$9+LEFT(K572,1)*'Criterios de Riesgo'!$F$10+LEFT(L572,1)*'Criterios de Riesgo'!$F$11+LEFT(M572,1)*'Criterios de Riesgo'!$F$12+LEFT(N572,1)*'Criterios de Riesgo'!$F$13+LEFT(O572,1)*'Criterios de Riesgo'!$F$14+LEFT(P572,1)*'Criterios de Riesgo'!$F$15),2))/5)","v":""}]
[null,null,null,null,null,null,null,null,null,null,null,null,null,null,null,null,{"$f":"IF(COUNTA(I573:P573)<8,\"\",VLOOKUP(ROUND((LEFT(I573,1)*'Criterios de Riesgo'!$F$8+LEFT(J573,1)*'Criterios de Riesgo'!$F$9+LEFT(K573,1)*'Criterios de Riesgo'!$F$10+LEFT(L573,1)*'Criterios de Riesgo'!$F$11+LEFT(M573,1)*'Criterios de Riesgo'!$F$12+LEFT(N573,1)*'Criterios de Riesgo'!$F$13+LEFT(O573,1)*'Criterios de Riesgo'!$F$14+LEFT(P573,1)*'Criterios de Riesgo'!$F$15),2),Calif_Control,2,1))","v":""},{"$f":"IF(COUNTA(I573:P573)<8,\"\",(ROUND((LEFT(I573,1)*'Criterios de Riesgo'!$F$8+LEFT(J573,1)*'Criterios de Riesgo'!$F$9+LEFT(K573,1)*'Criterios de Riesgo'!$F$10+LEFT(L573,1)*'Criterios de Riesgo'!$F$11+LEFT(M573,1)*'Criterios de Riesgo'!$F$12+LEFT(N573,1)*'Criterios de Riesgo'!$F$13+LEFT(O573,1)*'Criterios de Riesgo'!$F$14+LEFT(P573,1)*'Criterios de Riesgo'!$F$15),2))/5)","v":""}]
[null,null,null,null,null,null,null,null,null,null,null,null,null,null,null,null,{"$f":"IF(COUNTA(I574:P574)<8,\"\",VLOOKUP(ROUND((LEFT(I574,1)*'Criterios de Riesgo'!$F$8+LEFT(J574,1)*'Criterios de Riesgo'!$F$9+LEFT(K574,1)*'Criterios de Riesgo'!$F$10+LEFT(L574,1)*'Criterios de Riesgo'!$F$11+LEFT(M574,1)*'Criterios de Riesgo'!$F$12+LEFT(N574,1)*'Criterios de Riesgo'!$F$13+LEFT(O574,1)*'Criterios de Riesgo'!$F$14+LEFT(P574,1)*'Criterios de Riesgo'!$F$15),2),Calif_Control,2,1))","v":""},{"$f":"IF(COUNTA(I574:P574)<8,\"\",(ROUND((LEFT(I574,1)*'Criterios de Riesgo'!$F$8+LEFT(J574,1)*'Criterios de Riesgo'!$F$9+LEFT(K574,1)*'Criterios de Riesgo'!$F$10+LEFT(L574,1)*'Criterios de Riesgo'!$F$11+LEFT(M574,1)*'Criterios de Riesgo'!$F$12+LEFT(N574,1)*'Criterios de Riesgo'!$F$13+LEFT(O574,1)*'Criterios de Riesgo'!$F$14+LEFT(P574,1)*'Criterios de Riesgo'!$F$15),2))/5)","v":""}]
["R",null,null,null,null,null,null,null,null,null,null,null,null,null,null,null,{"$f":"IF(COUNTA(I575:P575)<8,\"\",VLOOKUP(ROUND((LEFT(I575,1)*'Criterios de Riesgo'!$F$8+LEFT(J575,1)*'Criterios de Riesgo'!$F$9+LEFT(K575,1)*'Criterios de Riesgo'!$F$10+LEFT(L575,1)*'Criterios de Riesgo'!$F$11+LEFT(M575,1)*'Criterios de Riesgo'!$F$12+LEFT(N575,1)*'Criterios de Riesgo'!$F$13+LEFT(O575,1)*'Criterios de Riesgo'!$F$14+LEFT(P575,1)*'Criterios de Riesgo'!$F$15),2),Calif_Control,2,1))","v":""},{"$f":"IF(COUNTA(I575:P575)<8,\"\",(ROUND((LEFT(I575,1)*'Criterios de Riesgo'!$F$8+LEFT(J575,1)*'Criterios de Riesgo'!$F$9+LEFT(K575,1)*'Criterios de Riesgo'!$F$10+LEFT(L575,1)*'Criterios de Riesgo'!$F$11+LEFT(M575,1)*'Criterios de Riesgo'!$F$12+LEFT(N575,1)*'Criterios de Riesgo'!$F$13+LEFT(O575,1)*'Criterios de Riesgo'!$F$14+LEFT(P575,1)*'Criterios de Riesgo'!$F$15),2))/5)","v":""},null,null,null,null,{"$f":"IF(COUNTA(S575:V575)<4,\"\",IF(V575=\"No\",\"No se usa\",VLOOKUP(ROUND((LEFT(S575,1)*'Criterios de Riesgo'!$C$13+LEFT(T575,1)*'Criterios de Riesgo'!$C$14+LEFT(U575,1)*'Criterios de Riesgo'!$C$15),2),Calif_Covertura,2,1)))","v":""},{"$f":"IF(COUNTA(S575:V575)<4,\"\",IF(V575=\"No\",0,(ROUND((LEFT(S575,1)*'Criterios de Riesgo'!$C$13+LEFT(T575,1)*'Criterios de Riesgo'!$C$14+LEFT(U575,1)*'Criterios de Riesgo'!$C$15),2))/5))","v":""},{"$f":"IF(ISERROR(R575*X575),\"\",R575*X575)","v":""},null,{"$f":"IF(ISERROR((SUMIF(Z575:Z584,\"=impacto\",Y575:Y584)+SUMIF(Z575:Z584,\"=Ambos\",Y575:Y584))/(COUNTIF(Z575:Z584,\"Impacto\")+COUNTIF(Z575:Z584,\"Ambos\"))),\"\",(SUMIF(Z575:Z584,\"=impacto\",Y575:Y584)+SUMIF(Z575:Z584,\"=Ambos\",Y575:Y584))/(COUNTIF(Z575:Z584,\"Impacto\")+COUNTIF(Z575:Z584,\"Ambos\")))","v":""},{"$f":"IF(ISERROR((SUMIF(Z575:Z584,\"=Probabilidad\",Y575:Y584)+SUMIF(Z575:Z584,\"=Ambos\",Y575:Y584))/(COUNTIF(Z575:Z584,\"Probabilidad\")+COUNTIF(Z575:Z584,\"Ambos\"))),\"\",(SUMIF(Z575:Z584,\"=Probabilidad\",Y575:Y584)+SUMIF(Z575:Z584,\"=Ambos\",Y575:Y584))/(COUNTIF(Z575:Z584,\"Probabilidad\")+COUNTIF(Z575:Z584,\"Ambos\")))","v":""},{"$f":"IF(ISERROR(ROUND(IF(AB575=\"\",AA575,IF(AA575=\"\",AB575,IF(AND(AB575=\"\",AA575=\"\"),\"\",AB575*AA575)))*100,0)/100),\"\",ROUND(IF(AB575=\"\",AA575,IF(AA575=\"\",AB575,IF(AND(AB575=\"\",AA575=\"\"),\"\",AB575*AA575)))*100,0)/100)","v":""},{"$f":"IF(AC575=\"\",\"\",VLOOKUP(AC575*5,Calif_Control,2,1))","v":""}]
[null,null,null,null,null,null,null,null,null,null,null,null,null,null,null,null,{"$f":"IF(COUNTA(I576:P576)<8,\"\",VLOOKUP(ROUND((LEFT(I576,1)*'Criterios de Riesgo'!$F$8+LEFT(J576,1)*'Criterios de Riesgo'!$F$9+LEFT(K576,1)*'Criterios de Riesgo'!$F$10+LEFT(L576,1)*'Criterios de Riesgo'!$F$11+LEFT(M576,1)*'Criterios de Riesgo'!$F$12+LEFT(N576,1)*'Criterios de Riesgo'!$F$13+LEFT(O576,1)*'Criterios de Riesgo'!$F$14+LEFT(P576,1)*'Criterios de Riesgo'!$F$15),2),Calif_Control,2,1))","v":""},{"$f":"IF(COUNTA(I576:P576)<8,\"\",(ROUND((LEFT(I576,1)*'Criterios de Riesgo'!$F$8+LEFT(J576,1)*'Criterios de Riesgo'!$F$9+LEFT(K576,1)*'Criterios de Riesgo'!$F$10+LEFT(L576,1)*'Criterios de Riesgo'!$F$11+LEFT(M576,1)*'Criterios de Riesgo'!$F$12+LEFT(N576,1)*'Criterios de Riesgo'!$F$13+LEFT(O576,1)*'Criterios de Riesgo'!$F$14+LEFT(P576,1)*'Criterios de Riesgo'!$F$15),2))/5)","v":""}]
[null,null,null,null,null,null,null,null,null,null,null,null,null,null,null,null,{"$f":"IF(COUNTA(I577:P577)<8,\"\",VLOOKUP(ROUND((LEFT(I577,1)*'Criterios de Riesgo'!$F$8+LEFT(J577,1)*'Criterios de Riesgo'!$F$9+LEFT(K577,1)*'Criterios de Riesgo'!$F$10+LEFT(L577,1)*'Criterios de Riesgo'!$F$11+LEFT(M577,1)*'Criterios de Riesgo'!$F$12+LEFT(N577,1)*'Criterios de Riesgo'!$F$13+LEFT(O577,1)*'Criterios de Riesgo'!$F$14+LEFT(P577,1)*'Criterios de Riesgo'!$F$15),2),Calif_Control,2,1))","v":""},{"$f":"IF(COUNTA(I577:P577)<8,\"\",(ROUND((LEFT(I577,1)*'Criterios de Riesgo'!$F$8+LEFT(J577,1)*'Criterios de Riesgo'!$F$9+LEFT(K577,1)*'Criterios de Riesgo'!$F$10+LEFT(L577,1)*'Criterios de Riesgo'!$F$11+LEFT(M577,1)*'Criterios de Riesgo'!$F$12+LEFT(N577,1)*'Criterios de Riesgo'!$F$13+LEFT(O577,1)*'Criterios de Riesgo'!$F$14+LEFT(P577,1)*'Criterios de Riesgo'!$F$15),2))/5)","v":""}]
[null,null,null,null,null,null,null,null,null,null,null,null,null,null,null,null,{"$f":"IF(COUNTA(I578:P578)<8,\"\",VLOOKUP(ROUND((LEFT(I578,1)*'Criterios de Riesgo'!$F$8+LEFT(J578,1)*'Criterios de Riesgo'!$F$9+LEFT(K578,1)*'Criterios de Riesgo'!$F$10+LEFT(L578,1)*'Criterios de Riesgo'!$F$11+LEFT(M578,1)*'Criterios de Riesgo'!$F$12+LEFT(N578,1)*'Criterios de Riesgo'!$F$13+LEFT(O578,1)*'Criterios de Riesgo'!$F$14+LEFT(P578,1)*'Criterios de Riesgo'!$F$15),2),Calif_Control,2,1))","v":""},{"$f":"IF(COUNTA(I578:P578)<8,\"\",(ROUND((LEFT(I578,1)*'Criterios de Riesgo'!$F$8+LEFT(J578,1)*'Criterios de Riesgo'!$F$9+LEFT(K578,1)*'Criterios de Riesgo'!$F$10+LEFT(L578,1)*'Criterios de Riesgo'!$F$11+LEFT(M578,1)*'Criterios de Riesgo'!$F$12+LEFT(N578,1)*'Criterios de Riesgo'!$F$13+LEFT(O578,1)*'Criterios de Riesgo'!$F$14+LEFT(P578,1)*'Criterios de Riesgo'!$F$15),2))/5)","v":""}]
[null,null,null,null,null,null,null,null,null,null,null,null,null,null,null,null,{"$f":"IF(COUNTA(I579:P579)<8,\"\",VLOOKUP(ROUND((LEFT(I579,1)*'Criterios de Riesgo'!$F$8+LEFT(J579,1)*'Criterios de Riesgo'!$F$9+LEFT(K579,1)*'Criterios de Riesgo'!$F$10+LEFT(L579,1)*'Criterios de Riesgo'!$F$11+LEFT(M579,1)*'Criterios de Riesgo'!$F$12+LEFT(N579,1)*'Criterios de Riesgo'!$F$13+LEFT(O579,1)*'Criterios de Riesgo'!$F$14+LEFT(P579,1)*'Criterios de Riesgo'!$F$15),2),Calif_Control,2,1))","v":""},{"$f":"IF(COUNTA(I579:P579)<8,\"\",(ROUND((LEFT(I579,1)*'Criterios de Riesgo'!$F$8+LEFT(J579,1)*'Criterios de Riesgo'!$F$9+LEFT(K579,1)*'Criterios de Riesgo'!$F$10+LEFT(L579,1)*'Criterios de Riesgo'!$F$11+LEFT(M579,1)*'Criterios de Riesgo'!$F$12+LEFT(N579,1)*'Criterios de Riesgo'!$F$13+LEFT(O579,1)*'Criterios de Riesgo'!$F$14+LEFT(P579,1)*'Criterios de Riesgo'!$F$15),2))/5)","v":""}]
[null,null,null,null,null,null,null,null,null,null,null,null,null,null,null,null,{"$f":"IF(COUNTA(I580:P580)<8,\"\",VLOOKUP(ROUND((LEFT(I580,1)*'Criterios de Riesgo'!$F$8+LEFT(J580,1)*'Criterios de Riesgo'!$F$9+LEFT(K580,1)*'Criterios de Riesgo'!$F$10+LEFT(L580,1)*'Criterios de Riesgo'!$F$11+LEFT(M580,1)*'Criterios de Riesgo'!$F$12+LEFT(N580,1)*'Criterios de Riesgo'!$F$13+LEFT(O580,1)*'Criterios de Riesgo'!$F$14+LEFT(P580,1)*'Criterios de Riesgo'!$F$15),2),Calif_Control,2,1))","v":""},{"$f":"IF(COUNTA(I580:P580)<8,\"\",(ROUND((LEFT(I580,1)*'Criterios de Riesgo'!$F$8+LEFT(J580,1)*'Criterios de Riesgo'!$F$9+LEFT(K580,1)*'Criterios de Riesgo'!$F$10+LEFT(L580,1)*'Criterios de Riesgo'!$F$11+LEFT(M580,1)*'Criterios de Riesgo'!$F$12+LEFT(N580,1)*'Criterios de Riesgo'!$F$13+LEFT(O580,1)*'Criterios de Riesgo'!$F$14+LEFT(P580,1)*'Criterios de Riesgo'!$F$15),2))/5)","v":""}]
[null,null,null,null,null,null,null,null,null,null,null,null,null,null,null,null,{"$f":"IF(COUNTA(I581:P581)<8,\"\",VLOOKUP(ROUND((LEFT(I581,1)*'Criterios de Riesgo'!$F$8+LEFT(J581,1)*'Criterios de Riesgo'!$F$9+LEFT(K581,1)*'Criterios de Riesgo'!$F$10+LEFT(L581,1)*'Criterios de Riesgo'!$F$11+LEFT(M581,1)*'Criterios de Riesgo'!$F$12+LEFT(N581,1)*'Criterios de Riesgo'!$F$13+LEFT(O581,1)*'Criterios de Riesgo'!$F$14+LEFT(P581,1)*'Criterios de Riesgo'!$F$15),2),Calif_Control,2,1))","v":""},{"$f":"IF(COUNTA(I581:P581)<8,\"\",(ROUND((LEFT(I581,1)*'Criterios de Riesgo'!$F$8+LEFT(J581,1)*'Criterios de Riesgo'!$F$9+LEFT(K581,1)*'Criterios de Riesgo'!$F$10+LEFT(L581,1)*'Criterios de Riesgo'!$F$11+LEFT(M581,1)*'Criterios de Riesgo'!$F$12+LEFT(N581,1)*'Criterios de Riesgo'!$F$13+LEFT(O581,1)*'Criterios de Riesgo'!$F$14+LEFT(P581,1)*'Criterios de Riesgo'!$F$15),2))/5)","v":""}]
[null,null,null,null,null,null,null,null,null,null,null,null,null,null,null,null,{"$f":"IF(COUNTA(I582:P582)<8,\"\",VLOOKUP(ROUND((LEFT(I582,1)*'Criterios de Riesgo'!$F$8+LEFT(J582,1)*'Criterios de Riesgo'!$F$9+LEFT(K582,1)*'Criterios de Riesgo'!$F$10+LEFT(L582,1)*'Criterios de Riesgo'!$F$11+LEFT(M582,1)*'Criterios de Riesgo'!$F$12+LEFT(N582,1)*'Criterios de Riesgo'!$F$13+LEFT(O582,1)*'Criterios de Riesgo'!$F$14+LEFT(P582,1)*'Criterios de Riesgo'!$F$15),2),Calif_Control,2,1))","v":""},{"$f":"IF(COUNTA(I582:P582)<8,\"\",(ROUND((LEFT(I582,1)*'Criterios de Riesgo'!$F$8+LEFT(J582,1)*'Criterios de Riesgo'!$F$9+LEFT(K582,1)*'Criterios de Riesgo'!$F$10+LEFT(L582,1)*'Criterios de Riesgo'!$F$11+LEFT(M582,1)*'Criterios de Riesgo'!$F$12+LEFT(N582,1)*'Criterios de Riesgo'!$F$13+LEFT(O582,1)*'Criterios de Riesgo'!$F$14+LEFT(P582,1)*'Criterios de Riesgo'!$F$15),2))/5)","v":""}]
[null,null,null,null,null,null,null,null,null,null,null,null,null,null,null,null,{"$f":"IF(COUNTA(I583:P583)<8,\"\",VLOOKUP(ROUND((LEFT(I583,1)*'Criterios de Riesgo'!$F$8+LEFT(J583,1)*'Criterios de Riesgo'!$F$9+LEFT(K583,1)*'Criterios de Riesgo'!$F$10+LEFT(L583,1)*'Criterios de Riesgo'!$F$11+LEFT(M583,1)*'Criterios de Riesgo'!$F$12+LEFT(N583,1)*'Criterios de Riesgo'!$F$13+LEFT(O583,1)*'Criterios de Riesgo'!$F$14+LEFT(P583,1)*'Criterios de Riesgo'!$F$15),2),Calif_Control,2,1))","v":""},{"$f":"IF(COUNTA(I583:P583)<8,\"\",(ROUND((LEFT(I583,1)*'Criterios de Riesgo'!$F$8+LEFT(J583,1)*'Criterios de Riesgo'!$F$9+LEFT(K583,1)*'Criterios de Riesgo'!$F$10+LEFT(L583,1)*'Criterios de Riesgo'!$F$11+LEFT(M583,1)*'Criterios de Riesgo'!$F$12+LEFT(N583,1)*'Criterios de Riesgo'!$F$13+LEFT(O583,1)*'Criterios de Riesgo'!$F$14+LEFT(P583,1)*'Criterios de Riesgo'!$F$15),2))/5)","v":""}]
[null,null,null,null,null,null,null,null,null,null,null,null,null,null,null,null,{"$f":"IF(COUNTA(I584:P584)<8,\"\",VLOOKUP(ROUND((LEFT(I584,1)*'Criterios de Riesgo'!$F$8+LEFT(J584,1)*'Criterios de Riesgo'!$F$9+LEFT(K584,1)*'Criterios de Riesgo'!$F$10+LEFT(L584,1)*'Criterios de Riesgo'!$F$11+LEFT(M584,1)*'Criterios de Riesgo'!$F$12+LEFT(N584,1)*'Criterios de Riesgo'!$F$13+LEFT(O584,1)*'Criterios de Riesgo'!$F$14+LEFT(P584,1)*'Criterios de Riesgo'!$F$15),2),Calif_Control,2,1))","v":""},{"$f":"IF(COUNTA(I584:P584)<8,\"\",(ROUND((LEFT(I584,1)*'Criterios de Riesgo'!$F$8+LEFT(J584,1)*'Criterios de Riesgo'!$F$9+LEFT(K584,1)*'Criterios de Riesgo'!$F$10+LEFT(L584,1)*'Criterios de Riesgo'!$F$11+LEFT(M584,1)*'Criterios de Riesgo'!$F$12+LEFT(N584,1)*'Criterios de Riesgo'!$F$13+LEFT(O584,1)*'Criterios de Riesgo'!$F$14+LEFT(P584,1)*'Criterios de Riesgo'!$F$15),2))/5)","v":""}]
["R",null,null,null,null,null,null,null,null,null,null,null,null,null,null,null,{"$f":"IF(COUNTA(I585:P585)<8,\"\",VLOOKUP(ROUND((LEFT(I585,1)*'Criterios de Riesgo'!$F$8+LEFT(J585,1)*'Criterios de Riesgo'!$F$9+LEFT(K585,1)*'Criterios de Riesgo'!$F$10+LEFT(L585,1)*'Criterios de Riesgo'!$F$11+LEFT(M585,1)*'Criterios de Riesgo'!$F$12+LEFT(N585,1)*'Criterios de Riesgo'!$F$13+LEFT(O585,1)*'Criterios de Riesgo'!$F$14+LEFT(P585,1)*'Criterios de Riesgo'!$F$15),2),Calif_Control,2,1))","v":""},{"$f":"IF(COUNTA(I585:P585)<8,\"\",(ROUND((LEFT(I585,1)*'Criterios de Riesgo'!$F$8+LEFT(J585,1)*'Criterios de Riesgo'!$F$9+LEFT(K585,1)*'Criterios de Riesgo'!$F$10+LEFT(L585,1)*'Criterios de Riesgo'!$F$11+LEFT(M585,1)*'Criterios de Riesgo'!$F$12+LEFT(N585,1)*'Criterios de Riesgo'!$F$13+LEFT(O585,1)*'Criterios de Riesgo'!$F$14+LEFT(P585,1)*'Criterios de Riesgo'!$F$15),2))/5)","v":""},null,null,null,null,{"$f":"IF(COUNTA(S585:V585)<4,\"\",IF(V585=\"No\",\"No se usa\",VLOOKUP(ROUND((LEFT(S585,1)*'Criterios de Riesgo'!$C$13+LEFT(T585,1)*'Criterios de Riesgo'!$C$14+LEFT(U585,1)*'Criterios de Riesgo'!$C$15),2),Calif_Covertura,2,1)))","v":""},{"$f":"IF(COUNTA(S585:V585)<4,\"\",IF(V585=\"No\",0,(ROUND((LEFT(S585,1)*'Criterios de Riesgo'!$C$13+LEFT(T585,1)*'Criterios de Riesgo'!$C$14+LEFT(U585,1)*'Criterios de Riesgo'!$C$15),2))/5))","v":""},{"$f":"IF(ISERROR(R585*X585),\"\",R585*X585)","v":""},null,{"$f":"IF(ISERROR((SUMIF(Z585:Z594,\"=impacto\",Y585:Y594)+SUMIF(Z585:Z594,\"=Ambos\",Y585:Y594))/(COUNTIF(Z585:Z594,\"Impacto\")+COUNTIF(Z585:Z594,\"Ambos\"))),\"\",(SUMIF(Z585:Z594,\"=impacto\",Y585:Y594)+SUMIF(Z585:Z594,\"=Ambos\",Y585:Y594))/(COUNTIF(Z585:Z594,\"Impacto\")+COUNTIF(Z585:Z594,\"Ambos\")))","v":""},{"$f":"IF(ISERROR((SUMIF(Z585:Z594,\"=Probabilidad\",Y585:Y594)+SUMIF(Z585:Z594,\"=Ambos\",Y585:Y594))/(COUNTIF(Z585:Z594,\"Probabilidad\")+COUNTIF(Z585:Z594,\"Ambos\"))),\"\",(SUMIF(Z585:Z594,\"=Probabilidad\",Y585:Y594)+SUMIF(Z585:Z594,\"=Ambos\",Y585:Y594))/(COUNTIF(Z585:Z594,\"Probabilidad\")+COUNTIF(Z585:Z594,\"Ambos\")))","v":""},{"$f":"IF(ISERROR(ROUND(IF(AB585=\"\",AA585,IF(AA585=\"\",AB585,IF(AND(AB585=\"\",AA585=\"\"),\"\",AB585*AA585)))*100,0)/100),\"\",ROUND(IF(AB585=\"\",AA585,IF(AA585=\"\",AB585,IF(AND(AB585=\"\",AA585=\"\"),\"\",AB585*AA585)))*100,0)/100)","v":""},{"$f":"IF(AC585=\"\",\"\",VLOOKUP(AC585*5,Calif_Control,2,1))","v":""}]
[null,null,null,null,null,null,null,null,null,null,null,null,null,null,null,null,{"$f":"IF(COUNTA(I586:P586)<8,\"\",VLOOKUP(ROUND((LEFT(I586,1)*'Criterios de Riesgo'!$F$8+LEFT(J586,1)*'Criterios de Riesgo'!$F$9+LEFT(K586,1)*'Criterios de Riesgo'!$F$10+LEFT(L586,1)*'Criterios de Riesgo'!$F$11+LEFT(M586,1)*'Criterios de Riesgo'!$F$12+LEFT(N586,1)*'Criterios de Riesgo'!$F$13+LEFT(O586,1)*'Criterios de Riesgo'!$F$14+LEFT(P586,1)*'Criterios de Riesgo'!$F$15),2),Calif_Control,2,1))","v":""},{"$f":"IF(COUNTA(I586:P586)<8,\"\",(ROUND((LEFT(I586,1)*'Criterios de Riesgo'!$F$8+LEFT(J586,1)*'Criterios de Riesgo'!$F$9+LEFT(K586,1)*'Criterios de Riesgo'!$F$10+LEFT(L586,1)*'Criterios de Riesgo'!$F$11+LEFT(M586,1)*'Criterios de Riesgo'!$F$12+LEFT(N586,1)*'Criterios de Riesgo'!$F$13+LEFT(O586,1)*'Criterios de Riesgo'!$F$14+LEFT(P586,1)*'Criterios de Riesgo'!$F$15),2))/5)","v":""}]
[null,null,null,null,null,null,null,null,null,null,null,null,null,null,null,null,{"$f":"IF(COUNTA(I587:P587)<8,\"\",VLOOKUP(ROUND((LEFT(I587,1)*'Criterios de Riesgo'!$F$8+LEFT(J587,1)*'Criterios de Riesgo'!$F$9+LEFT(K587,1)*'Criterios de Riesgo'!$F$10+LEFT(L587,1)*'Criterios de Riesgo'!$F$11+LEFT(M587,1)*'Criterios de Riesgo'!$F$12+LEFT(N587,1)*'Criterios de Riesgo'!$F$13+LEFT(O587,1)*'Criterios de Riesgo'!$F$14+LEFT(P587,1)*'Criterios de Riesgo'!$F$15),2),Calif_Control,2,1))","v":""},{"$f":"IF(COUNTA(I587:P587)<8,\"\",(ROUND((LEFT(I587,1)*'Criterios de Riesgo'!$F$8+LEFT(J587,1)*'Criterios de Riesgo'!$F$9+LEFT(K587,1)*'Criterios de Riesgo'!$F$10+LEFT(L587,1)*'Criterios de Riesgo'!$F$11+LEFT(M587,1)*'Criterios de Riesgo'!$F$12+LEFT(N587,1)*'Criterios de Riesgo'!$F$13+LEFT(O587,1)*'Criterios de Riesgo'!$F$14+LEFT(P587,1)*'Criterios de Riesgo'!$F$15),2))/5)","v":""}]
[null,null,null,null,null,null,null,null,null,null,null,null,null,null,null,null,{"$f":"IF(COUNTA(I588:P588)<8,\"\",VLOOKUP(ROUND((LEFT(I588,1)*'Criterios de Riesgo'!$F$8+LEFT(J588,1)*'Criterios de Riesgo'!$F$9+LEFT(K588,1)*'Criterios de Riesgo'!$F$10+LEFT(L588,1)*'Criterios de Riesgo'!$F$11+LEFT(M588,1)*'Criterios de Riesgo'!$F$12+LEFT(N588,1)*'Criterios de Riesgo'!$F$13+LEFT(O588,1)*'Criterios de Riesgo'!$F$14+LEFT(P588,1)*'Criterios de Riesgo'!$F$15),2),Calif_Control,2,1))","v":""},{"$f":"IF(COUNTA(I588:P588)<8,\"\",(ROUND((LEFT(I588,1)*'Criterios de Riesgo'!$F$8+LEFT(J588,1)*'Criterios de Riesgo'!$F$9+LEFT(K588,1)*'Criterios de Riesgo'!$F$10+LEFT(L588,1)*'Criterios de Riesgo'!$F$11+LEFT(M588,1)*'Criterios de Riesgo'!$F$12+LEFT(N588,1)*'Criterios de Riesgo'!$F$13+LEFT(O588,1)*'Criterios de Riesgo'!$F$14+LEFT(P588,1)*'Criterios de Riesgo'!$F$15),2))/5)","v":""}]
[null,null,null,null,null,null,null,null,null,null,null,null,null,null,null,null,{"$f":"IF(COUNTA(I589:P589)<8,\"\",VLOOKUP(ROUND((LEFT(I589,1)*'Criterios de Riesgo'!$F$8+LEFT(J589,1)*'Criterios de Riesgo'!$F$9+LEFT(K589,1)*'Criterios de Riesgo'!$F$10+LEFT(L589,1)*'Criterios de Riesgo'!$F$11+LEFT(M589,1)*'Criterios de Riesgo'!$F$12+LEFT(N589,1)*'Criterios de Riesgo'!$F$13+LEFT(O589,1)*'Criterios de Riesgo'!$F$14+LEFT(P589,1)*'Criterios de Riesgo'!$F$15),2),Calif_Control,2,1))","v":""},{"$f":"IF(COUNTA(I589:P589)<8,\"\",(ROUND((LEFT(I589,1)*'Criterios de Riesgo'!$F$8+LEFT(J589,1)*'Criterios de Riesgo'!$F$9+LEFT(K589,1)*'Criterios de Riesgo'!$F$10+LEFT(L589,1)*'Criterios de Riesgo'!$F$11+LEFT(M589,1)*'Criterios de Riesgo'!$F$12+LEFT(N589,1)*'Criterios de Riesgo'!$F$13+LEFT(O589,1)*'Criterios de Riesgo'!$F$14+LEFT(P589,1)*'Criterios de Riesgo'!$F$15),2))/5)","v":""}]
[null,null,null,null,null,null,null,null,null,null,null,null,null,null,null,null,{"$f":"IF(COUNTA(I590:P590)<8,\"\",VLOOKUP(ROUND((LEFT(I590,1)*'Criterios de Riesgo'!$F$8+LEFT(J590,1)*'Criterios de Riesgo'!$F$9+LEFT(K590,1)*'Criterios de Riesgo'!$F$10+LEFT(L590,1)*'Criterios de Riesgo'!$F$11+LEFT(M590,1)*'Criterios de Riesgo'!$F$12+LEFT(N590,1)*'Criterios de Riesgo'!$F$13+LEFT(O590,1)*'Criterios de Riesgo'!$F$14+LEFT(P590,1)*'Criterios de Riesgo'!$F$15),2),Calif_Control,2,1))","v":""},{"$f":"IF(COUNTA(I590:P590)<8,\"\",(ROUND((LEFT(I590,1)*'Criterios de Riesgo'!$F$8+LEFT(J590,1)*'Criterios de Riesgo'!$F$9+LEFT(K590,1)*'Criterios de Riesgo'!$F$10+LEFT(L590,1)*'Criterios de Riesgo'!$F$11+LEFT(M590,1)*'Criterios de Riesgo'!$F$12+LEFT(N590,1)*'Criterios de Riesgo'!$F$13+LEFT(O590,1)*'Criterios de Riesgo'!$F$14+LEFT(P590,1)*'Criterios de Riesgo'!$F$15),2))/5)","v":""}]
[null,null,null,null,null,null,null,null,null,null,null,null,null,null,null,null,{"$f":"IF(COUNTA(I591:P591)<8,\"\",VLOOKUP(ROUND((LEFT(I591,1)*'Criterios de Riesgo'!$F$8+LEFT(J591,1)*'Criterios de Riesgo'!$F$9+LEFT(K591,1)*'Criterios de Riesgo'!$F$10+LEFT(L591,1)*'Criterios de Riesgo'!$F$11+LEFT(M591,1)*'Criterios de Riesgo'!$F$12+LEFT(N591,1)*'Criterios de Riesgo'!$F$13+LEFT(O591,1)*'Criterios de Riesgo'!$F$14+LEFT(P591,1)*'Criterios de Riesgo'!$F$15),2),Calif_Control,2,1))","v":""},{"$f":"IF(COUNTA(I591:P591)<8,\"\",(ROUND((LEFT(I591,1)*'Criterios de Riesgo'!$F$8+LEFT(J591,1)*'Criterios de Riesgo'!$F$9+LEFT(K591,1)*'Criterios de Riesgo'!$F$10+LEFT(L591,1)*'Criterios de Riesgo'!$F$11+LEFT(M591,1)*'Criterios de Riesgo'!$F$12+LEFT(N591,1)*'Criterios de Riesgo'!$F$13+LEFT(O591,1)*'Criterios de Riesgo'!$F$14+LEFT(P591,1)*'Criterios de Riesgo'!$F$15),2))/5)","v":""}]
[null,null,null,null,null,null,null,null,null,null,null,null,null,null,null,null,{"$f":"IF(COUNTA(I592:P592)<8,\"\",VLOOKUP(ROUND((LEFT(I592,1)*'Criterios de Riesgo'!$F$8+LEFT(J592,1)*'Criterios de Riesgo'!$F$9+LEFT(K592,1)*'Criterios de Riesgo'!$F$10+LEFT(L592,1)*'Criterios de Riesgo'!$F$11+LEFT(M592,1)*'Criterios de Riesgo'!$F$12+LEFT(N592,1)*'Criterios de Riesgo'!$F$13+LEFT(O592,1)*'Criterios de Riesgo'!$F$14+LEFT(P592,1)*'Criterios de Riesgo'!$F$15),2),Calif_Control,2,1))","v":""},{"$f":"IF(COUNTA(I592:P592)<8,\"\",(ROUND((LEFT(I592,1)*'Criterios de Riesgo'!$F$8+LEFT(J592,1)*'Criterios de Riesgo'!$F$9+LEFT(K592,1)*'Criterios de Riesgo'!$F$10+LEFT(L592,1)*'Criterios de Riesgo'!$F$11+LEFT(M592,1)*'Criterios de Riesgo'!$F$12+LEFT(N592,1)*'Criterios de Riesgo'!$F$13+LEFT(O592,1)*'Criterios de Riesgo'!$F$14+LEFT(P592,1)*'Criterios de Riesgo'!$F$15),2))/5)","v":""}]
[null,null,null,null,null,null,null,null,null,null,null,null,null,null,null,null,{"$f":"IF(COUNTA(I593:P593)<8,\"\",VLOOKUP(ROUND((LEFT(I593,1)*'Criterios de Riesgo'!$F$8+LEFT(J593,1)*'Criterios de Riesgo'!$F$9+LEFT(K593,1)*'Criterios de Riesgo'!$F$10+LEFT(L593,1)*'Criterios de Riesgo'!$F$11+LEFT(M593,1)*'Criterios de Riesgo'!$F$12+LEFT(N593,1)*'Criterios de Riesgo'!$F$13+LEFT(O593,1)*'Criterios de Riesgo'!$F$14+LEFT(P593,1)*'Criterios de Riesgo'!$F$15),2),Calif_Control,2,1))","v":""},{"$f":"IF(COUNTA(I593:P593)<8,\"\",(ROUND((LEFT(I593,1)*'Criterios de Riesgo'!$F$8+LEFT(J593,1)*'Criterios de Riesgo'!$F$9+LEFT(K593,1)*'Criterios de Riesgo'!$F$10+LEFT(L593,1)*'Criterios de Riesgo'!$F$11+LEFT(M593,1)*'Criterios de Riesgo'!$F$12+LEFT(N593,1)*'Criterios de Riesgo'!$F$13+LEFT(O593,1)*'Criterios de Riesgo'!$F$14+LEFT(P593,1)*'Criterios de Riesgo'!$F$15),2))/5)","v":""}]
[null,null,null,null,null,null,null,null,null,null,null,null,null,null,null,null,{"$f":"IF(COUNTA(I594:P594)<8,\"\",VLOOKUP(ROUND((LEFT(I594,1)*'Criterios de Riesgo'!$F$8+LEFT(J594,1)*'Criterios de Riesgo'!$F$9+LEFT(K594,1)*'Criterios de Riesgo'!$F$10+LEFT(L594,1)*'Criterios de Riesgo'!$F$11+LEFT(M594,1)*'Criterios de Riesgo'!$F$12+LEFT(N594,1)*'Criterios de Riesgo'!$F$13+LEFT(O594,1)*'Criterios de Riesgo'!$F$14+LEFT(P594,1)*'Criterios de Riesgo'!$F$15),2),Calif_Control,2,1))","v":""},{"$f":"IF(COUNTA(I594:P594)<8,\"\",(ROUND((LEFT(I594,1)*'Criterios de Riesgo'!$F$8+LEFT(J594,1)*'Criterios de Riesgo'!$F$9+LEFT(K594,1)*'Criterios de Riesgo'!$F$10+LEFT(L594,1)*'Criterios de Riesgo'!$F$11+LEFT(M594,1)*'Criterios de Riesgo'!$F$12+LEFT(N594,1)*'Criterios de Riesgo'!$F$13+LEFT(O594,1)*'Criterios de Riesgo'!$F$14+LEFT(P594,1)*'Criterios de Riesgo'!$F$15),2))/5)","v":""}]
["R",null,null,null,null,null,null,null,null,null,null,null,null,null,null,null,{"$f":"IF(COUNTA(I595:P595)<8,\"\",VLOOKUP(ROUND((LEFT(I595,1)*'Criterios de Riesgo'!$F$8+LEFT(J595,1)*'Criterios de Riesgo'!$F$9+LEFT(K595,1)*'Criterios de Riesgo'!$F$10+LEFT(L595,1)*'Criterios de Riesgo'!$F$11+LEFT(M595,1)*'Criterios de Riesgo'!$F$12+LEFT(N595,1)*'Criterios de Riesgo'!$F$13+LEFT(O595,1)*'Criterios de Riesgo'!$F$14+LEFT(P595,1)*'Criterios de Riesgo'!$F$15),2),Calif_Control,2,1))","v":""},{"$f":"IF(COUNTA(I595:P595)<8,\"\",(ROUND((LEFT(I595,1)*'Criterios de Riesgo'!$F$8+LEFT(J595,1)*'Criterios de Riesgo'!$F$9+LEFT(K595,1)*'Criterios de Riesgo'!$F$10+LEFT(L595,1)*'Criterios de Riesgo'!$F$11+LEFT(M595,1)*'Criterios de Riesgo'!$F$12+LEFT(N595,1)*'Criterios de Riesgo'!$F$13+LEFT(O595,1)*'Criterios de Riesgo'!$F$14+LEFT(P595,1)*'Criterios de Riesgo'!$F$15),2))/5)","v":""},null,null,null,null,{"$f":"IF(COUNTA(S595:V595)<4,\"\",IF(V595=\"No\",\"No se usa\",VLOOKUP(ROUND((LEFT(S595,1)*'Criterios de Riesgo'!$C$13+LEFT(T595,1)*'Criterios de Riesgo'!$C$14+LEFT(U595,1)*'Criterios de Riesgo'!$C$15),2),Calif_Covertura,2,1)))","v":""},{"$f":"IF(COUNTA(S595:V595)<4,\"\",IF(V595=\"No\",0,(ROUND((LEFT(S595,1)*'Criterios de Riesgo'!$C$13+LEFT(T595,1)*'Criterios de Riesgo'!$C$14+LEFT(U595,1)*'Criterios de Riesgo'!$C$15),2))/5))","v":""},{"$f":"IF(ISERROR(R595*X595),\"\",R595*X595)","v":""},null,{"$f":"IF(ISERROR((SUMIF(Z595:Z604,\"=impacto\",Y595:Y604)+SUMIF(Z595:Z604,\"=Ambos\",Y595:Y604))/(COUNTIF(Z595:Z604,\"Impacto\")+COUNTIF(Z595:Z604,\"Ambos\"))),\"\",(SUMIF(Z595:Z604,\"=impacto\",Y595:Y604)+SUMIF(Z595:Z604,\"=Ambos\",Y595:Y604))/(COUNTIF(Z595:Z604,\"Impacto\")+COUNTIF(Z595:Z604,\"Ambos\")))","v":""},{"$f":"IF(ISERROR((SUMIF(Z595:Z604,\"=Probabilidad\",Y595:Y604)+SUMIF(Z595:Z604,\"=Ambos\",Y595:Y604))/(COUNTIF(Z595:Z604,\"Probabilidad\")+COUNTIF(Z595:Z604,\"Ambos\"))),\"\",(SUMIF(Z595:Z604,\"=Probabilidad\",Y595:Y604)+SUMIF(Z595:Z604,\"=Ambos\",Y595:Y604))/(COUNTIF(Z595:Z604,\"Probabilidad\")+COUNTIF(Z595:Z604,\"Ambos\")))","v":""},{"$f":"IF(ISERROR(ROUND(IF(AB595=\"\",AA595,IF(AA595=\"\",AB595,IF(AND(AB595=\"\",AA595=\"\"),\"\",AB595*AA595)))*100,0)/100),\"\",ROUND(IF(AB595=\"\",AA595,IF(AA595=\"\",AB595,IF(AND(AB595=\"\",AA595=\"\"),\"\",AB595*AA595)))*100,0)/100)","v":""},{"$f":"IF(AC595=\"\",\"\",VLOOKUP(AC595*5,Calif_Control,2,1))","v":""}]
[null,null,null,null,null,null,null,null,null,null,null,null,null,null,null,null,{"$f":"IF(COUNTA(I596:P596)<8,\"\",VLOOKUP(ROUND((LEFT(I596,1)*'Criterios de Riesgo'!$F$8+LEFT(J596,1)*'Criterios de Riesgo'!$F$9+LEFT(K596,1)*'Criterios de Riesgo'!$F$10+LEFT(L596,1)*'Criterios de Riesgo'!$F$11+LEFT(M596,1)*'Criterios de Riesgo'!$F$12+LEFT(N596,1)*'Criterios de Riesgo'!$F$13+LEFT(O596,1)*'Criterios de Riesgo'!$F$14+LEFT(P596,1)*'Criterios de Riesgo'!$F$15),2),Calif_Control,2,1))","v":""},{"$f":"IF(COUNTA(I596:P596)<8,\"\",(ROUND((LEFT(I596,1)*'Criterios de Riesgo'!$F$8+LEFT(J596,1)*'Criterios de Riesgo'!$F$9+LEFT(K596,1)*'Criterios de Riesgo'!$F$10+LEFT(L596,1)*'Criterios de Riesgo'!$F$11+LEFT(M596,1)*'Criterios de Riesgo'!$F$12+LEFT(N596,1)*'Criterios de Riesgo'!$F$13+LEFT(O596,1)*'Criterios de Riesgo'!$F$14+LEFT(P596,1)*'Criterios de Riesgo'!$F$15),2))/5)","v":""}]
[null,null,null,null,null,null,null,null,null,null,null,null,null,null,null,null,{"$f":"IF(COUNTA(I597:P597)<8,\"\",VLOOKUP(ROUND((LEFT(I597,1)*'Criterios de Riesgo'!$F$8+LEFT(J597,1)*'Criterios de Riesgo'!$F$9+LEFT(K597,1)*'Criterios de Riesgo'!$F$10+LEFT(L597,1)*'Criterios de Riesgo'!$F$11+LEFT(M597,1)*'Criterios de Riesgo'!$F$12+LEFT(N597,1)*'Criterios de Riesgo'!$F$13+LEFT(O597,1)*'Criterios de Riesgo'!$F$14+LEFT(P597,1)*'Criterios de Riesgo'!$F$15),2),Calif_Control,2,1))","v":""},{"$f":"IF(COUNTA(I597:P597)<8,\"\",(ROUND((LEFT(I597,1)*'Criterios de Riesgo'!$F$8+LEFT(J597,1)*'Criterios de Riesgo'!$F$9+LEFT(K597,1)*'Criterios de Riesgo'!$F$10+LEFT(L597,1)*'Criterios de Riesgo'!$F$11+LEFT(M597,1)*'Criterios de Riesgo'!$F$12+LEFT(N597,1)*'Criterios de Riesgo'!$F$13+LEFT(O597,1)*'Criterios de Riesgo'!$F$14+LEFT(P597,1)*'Criterios de Riesgo'!$F$15),2))/5)","v":""}]
[null,null,null,null,null,null,null,null,null,null,null,null,null,null,null,null,{"$f":"IF(COUNTA(I598:P598)<8,\"\",VLOOKUP(ROUND((LEFT(I598,1)*'Criterios de Riesgo'!$F$8+LEFT(J598,1)*'Criterios de Riesgo'!$F$9+LEFT(K598,1)*'Criterios de Riesgo'!$F$10+LEFT(L598,1)*'Criterios de Riesgo'!$F$11+LEFT(M598,1)*'Criterios de Riesgo'!$F$12+LEFT(N598,1)*'Criterios de Riesgo'!$F$13+LEFT(O598,1)*'Criterios de Riesgo'!$F$14+LEFT(P598,1)*'Criterios de Riesgo'!$F$15),2),Calif_Control,2,1))","v":""},{"$f":"IF(COUNTA(I598:P598)<8,\"\",(ROUND((LEFT(I598,1)*'Criterios de Riesgo'!$F$8+LEFT(J598,1)*'Criterios de Riesgo'!$F$9+LEFT(K598,1)*'Criterios de Riesgo'!$F$10+LEFT(L598,1)*'Criterios de Riesgo'!$F$11+LEFT(M598,1)*'Criterios de Riesgo'!$F$12+LEFT(N598,1)*'Criterios de Riesgo'!$F$13+LEFT(O598,1)*'Criterios de Riesgo'!$F$14+LEFT(P598,1)*'Criterios de Riesgo'!$F$15),2))/5)","v":""}]
[null,null,null,null,null,null,null,null,null,null,null,null,null,null,null,null,{"$f":"IF(COUNTA(I599:P599)<8,\"\",VLOOKUP(ROUND((LEFT(I599,1)*'Criterios de Riesgo'!$F$8+LEFT(J599,1)*'Criterios de Riesgo'!$F$9+LEFT(K599,1)*'Criterios de Riesgo'!$F$10+LEFT(L599,1)*'Criterios de Riesgo'!$F$11+LEFT(M599,1)*'Criterios de Riesgo'!$F$12+LEFT(N599,1)*'Criterios de Riesgo'!$F$13+LEFT(O599,1)*'Criterios de Riesgo'!$F$14+LEFT(P599,1)*'Criterios de Riesgo'!$F$15),2),Calif_Control,2,1))","v":""},{"$f":"IF(COUNTA(I599:P599)<8,\"\",(ROUND((LEFT(I599,1)*'Criterios de Riesgo'!$F$8+LEFT(J599,1)*'Criterios de Riesgo'!$F$9+LEFT(K599,1)*'Criterios de Riesgo'!$F$10+LEFT(L599,1)*'Criterios de Riesgo'!$F$11+LEFT(M599,1)*'Criterios de Riesgo'!$F$12+LEFT(N599,1)*'Criterios de Riesgo'!$F$13+LEFT(O599,1)*'Criterios de Riesgo'!$F$14+LEFT(P599,1)*'Criterios de Riesgo'!$F$15),2))/5)","v":""}]
[null,null,null,null,null,null,null,null,null,null,null,null,null,null,null,null,{"$f":"IF(COUNTA(I600:P600)<8,\"\",VLOOKUP(ROUND((LEFT(I600,1)*'Criterios de Riesgo'!$F$8+LEFT(J600,1)*'Criterios de Riesgo'!$F$9+LEFT(K600,1)*'Criterios de Riesgo'!$F$10+LEFT(L600,1)*'Criterios de Riesgo'!$F$11+LEFT(M600,1)*'Criterios de Riesgo'!$F$12+LEFT(N600,1)*'Criterios de Riesgo'!$F$13+LEFT(O600,1)*'Criterios de Riesgo'!$F$14+LEFT(P600,1)*'Criterios de Riesgo'!$F$15),2),Calif_Control,2,1))","v":""},{"$f":"IF(COUNTA(I600:P600)<8,\"\",(ROUND((LEFT(I600,1)*'Criterios de Riesgo'!$F$8+LEFT(J600,1)*'Criterios de Riesgo'!$F$9+LEFT(K600,1)*'Criterios de Riesgo'!$F$10+LEFT(L600,1)*'Criterios de Riesgo'!$F$11+LEFT(M600,1)*'Criterios de Riesgo'!$F$12+LEFT(N600,1)*'Criterios de Riesgo'!$F$13+LEFT(O600,1)*'Criterios de Riesgo'!$F$14+LEFT(P600,1)*'Criterios de Riesgo'!$F$15),2))/5)","v":""}]
[null,null,null,null,null,null,null,null,null,null,null,null,null,null,null,null,{"$f":"IF(COUNTA(I601:P601)<8,\"\",VLOOKUP(ROUND((LEFT(I601,1)*'Criterios de Riesgo'!$F$8+LEFT(J601,1)*'Criterios de Riesgo'!$F$9+LEFT(K601,1)*'Criterios de Riesgo'!$F$10+LEFT(L601,1)*'Criterios de Riesgo'!$F$11+LEFT(M601,1)*'Criterios de Riesgo'!$F$12+LEFT(N601,1)*'Criterios de Riesgo'!$F$13+LEFT(O601,1)*'Criterios de Riesgo'!$F$14+LEFT(P601,1)*'Criterios de Riesgo'!$F$15),2),Calif_Control,2,1))","v":""},{"$f":"IF(COUNTA(I601:P601)<8,\"\",(ROUND((LEFT(I601,1)*'Criterios de Riesgo'!$F$8+LEFT(J601,1)*'Criterios de Riesgo'!$F$9+LEFT(K601,1)*'Criterios de Riesgo'!$F$10+LEFT(L601,1)*'Criterios de Riesgo'!$F$11+LEFT(M601,1)*'Criterios de Riesgo'!$F$12+LEFT(N601,1)*'Criterios de Riesgo'!$F$13+LEFT(O601,1)*'Criterios de Riesgo'!$F$14+LEFT(P601,1)*'Criterios de Riesgo'!$F$15),2))/5)","v":""}]
[null,null,null,null,null,null,null,null,null,null,null,null,null,null,null,null,{"$f":"IF(COUNTA(I602:P602)<8,\"\",VLOOKUP(ROUND((LEFT(I602,1)*'Criterios de Riesgo'!$F$8+LEFT(J602,1)*'Criterios de Riesgo'!$F$9+LEFT(K602,1)*'Criterios de Riesgo'!$F$10+LEFT(L602,1)*'Criterios de Riesgo'!$F$11+LEFT(M602,1)*'Criterios de Riesgo'!$F$12+LEFT(N602,1)*'Criterios de Riesgo'!$F$13+LEFT(O602,1)*'Criterios de Riesgo'!$F$14+LEFT(P602,1)*'Criterios de Riesgo'!$F$15),2),Calif_Control,2,1))","v":""},{"$f":"IF(COUNTA(I602:P602)<8,\"\",(ROUND((LEFT(I602,1)*'Criterios de Riesgo'!$F$8+LEFT(J602,1)*'Criterios de Riesgo'!$F$9+LEFT(K602,1)*'Criterios de Riesgo'!$F$10+LEFT(L602,1)*'Criterios de Riesgo'!$F$11+LEFT(M602,1)*'Criterios de Riesgo'!$F$12+LEFT(N602,1)*'Criterios de Riesgo'!$F$13+LEFT(O602,1)*'Criterios de Riesgo'!$F$14+LEFT(P602,1)*'Criterios de Riesgo'!$F$15),2))/5)","v":""}]
[null,null,null,null,null,null,null,null,null,null,null,null,null,null,null,null,{"$f":"IF(COUNTA(I603:P603)<8,\"\",VLOOKUP(ROUND((LEFT(I603,1)*'Criterios de Riesgo'!$F$8+LEFT(J603,1)*'Criterios de Riesgo'!$F$9+LEFT(K603,1)*'Criterios de Riesgo'!$F$10+LEFT(L603,1)*'Criterios de Riesgo'!$F$11+LEFT(M603,1)*'Criterios de Riesgo'!$F$12+LEFT(N603,1)*'Criterios de Riesgo'!$F$13+LEFT(O603,1)*'Criterios de Riesgo'!$F$14+LEFT(P603,1)*'Criterios de Riesgo'!$F$15),2),Calif_Control,2,1))","v":""},{"$f":"IF(COUNTA(I603:P603)<8,\"\",(ROUND((LEFT(I603,1)*'Criterios de Riesgo'!$F$8+LEFT(J603,1)*'Criterios de Riesgo'!$F$9+LEFT(K603,1)*'Criterios de Riesgo'!$F$10+LEFT(L603,1)*'Criterios de Riesgo'!$F$11+LEFT(M603,1)*'Criterios de Riesgo'!$F$12+LEFT(N603,1)*'Criterios de Riesgo'!$F$13+LEFT(O603,1)*'Criterios de Riesgo'!$F$14+LEFT(P603,1)*'Criterios de Riesgo'!$F$15),2))/5)","v":""}]
[null,null,null,null,null,null,null,null,null,null,null,null,null,null,null,null,{"$f":"IF(COUNTA(I604:P604)<8,\"\",VLOOKUP(ROUND((LEFT(I604,1)*'Criterios de Riesgo'!$F$8+LEFT(J604,1)*'Criterios de Riesgo'!$F$9+LEFT(K604,1)*'Criterios de Riesgo'!$F$10+LEFT(L604,1)*'Criterios de Riesgo'!$F$11+LEFT(M604,1)*'Criterios de Riesgo'!$F$12+LEFT(N604,1)*'Criterios de Riesgo'!$F$13+LEFT(O604,1)*'Criterios de Riesgo'!$F$14+LEFT(P604,1)*'Criterios de Riesgo'!$F$15),2),Calif_Control,2,1))","v":""},{"$f":"IF(COUNTA(I604:P604)<8,\"\",(ROUND((LEFT(I604,1)*'Criterios de Riesgo'!$F$8+LEFT(J604,1)*'Criterios de Riesgo'!$F$9+LEFT(K604,1)*'Criterios de Riesgo'!$F$10+LEFT(L604,1)*'Criterios de Riesgo'!$F$11+LEFT(M604,1)*'Criterios de Riesgo'!$F$12+LEFT(N604,1)*'Criterios de Riesgo'!$F$13+LEFT(O604,1)*'Criterios de Riesgo'!$F$14+LEFT(P604,1)*'Criterios de Riesgo'!$F$15),2))/5)","v":""}]
["R",null,null,null,null,null,null,null,null,null,null,null,null,null,null,null,{"$f":"IF(COUNTA(I605:P605)<8,\"\",VLOOKUP(ROUND((LEFT(I605,1)*'Criterios de Riesgo'!$F$8+LEFT(J605,1)*'Criterios de Riesgo'!$F$9+LEFT(K605,1)*'Criterios de Riesgo'!$F$10+LEFT(L605,1)*'Criterios de Riesgo'!$F$11+LEFT(M605,1)*'Criterios de Riesgo'!$F$12+LEFT(N605,1)*'Criterios de Riesgo'!$F$13+LEFT(O605,1)*'Criterios de Riesgo'!$F$14+LEFT(P605,1)*'Criterios de Riesgo'!$F$15),2),Calif_Control,2,1))","v":""},{"$f":"IF(COUNTA(I605:P605)<8,\"\",(ROUND((LEFT(I605,1)*'Criterios de Riesgo'!$F$8+LEFT(J605,1)*'Criterios de Riesgo'!$F$9+LEFT(K605,1)*'Criterios de Riesgo'!$F$10+LEFT(L605,1)*'Criterios de Riesgo'!$F$11+LEFT(M605,1)*'Criterios de Riesgo'!$F$12+LEFT(N605,1)*'Criterios de Riesgo'!$F$13+LEFT(O605,1)*'Criterios de Riesgo'!$F$14+LEFT(P605,1)*'Criterios de Riesgo'!$F$15),2))/5)","v":""},null,null,null,null,{"$f":"IF(COUNTA(S605:V605)<4,\"\",IF(V605=\"No\",\"No se usa\",VLOOKUP(ROUND((LEFT(S605,1)*'Criterios de Riesgo'!$C$13+LEFT(T605,1)*'Criterios de Riesgo'!$C$14+LEFT(U605,1)*'Criterios de Riesgo'!$C$15),2),Calif_Covertura,2,1)))","v":""},{"$f":"IF(COUNTA(S605:V605)<4,\"\",IF(V605=\"No\",0,(ROUND((LEFT(S605,1)*'Criterios de Riesgo'!$C$13+LEFT(T605,1)*'Criterios de Riesgo'!$C$14+LEFT(U605,1)*'Criterios de Riesgo'!$C$15),2))/5))","v":""},{"$f":"IF(ISERROR(R605*X605),\"\",R605*X605)","v":""},null,{"$f":"IF(ISERROR((SUMIF(Z605:Z614,\"=impacto\",Y605:Y614)+SUMIF(Z605:Z614,\"=Ambos\",Y605:Y614))/(COUNTIF(Z605:Z614,\"Impacto\")+COUNTIF(Z605:Z614,\"Ambos\"))),\"\",(SUMIF(Z605:Z614,\"=impacto\",Y605:Y614)+SUMIF(Z605:Z614,\"=Ambos\",Y605:Y614))/(COUNTIF(Z605:Z614,\"Impacto\")+COUNTIF(Z605:Z614,\"Ambos\")))","v":""},{"$f":"IF(ISERROR((SUMIF(Z605:Z614,\"=Probabilidad\",Y605:Y614)+SUMIF(Z605:Z614,\"=Ambos\",Y605:Y614))/(COUNTIF(Z605:Z614,\"Probabilidad\")+COUNTIF(Z605:Z614,\"Ambos\"))),\"\",(SUMIF(Z605:Z614,\"=Probabilidad\",Y605:Y614)+SUMIF(Z605:Z614,\"=Ambos\",Y605:Y614))/(COUNTIF(Z605:Z614,\"Probabilidad\")+COUNTIF(Z605:Z614,\"Ambos\")))","v":""},{"$f":"IF(ISERROR(ROUND(IF(AB605=\"\",AA605,IF(AA605=\"\",AB605,IF(AND(AB605=\"\",AA605=\"\"),\"\",AB605*AA605)))*100,0)/100),\"\",ROUND(IF(AB605=\"\",AA605,IF(AA605=\"\",AB605,IF(AND(AB605=\"\",AA605=\"\"),\"\",AB605*AA605)))*100,0)/100)","v":""},{"$f":"IF(AC605=\"\",\"\",VLOOKUP(AC605*5,Calif_Control,2,1))","v":""}]
[null,null,null,null,null,null,null,null,null,null,null,null,null,null,null,null,{"$f":"IF(COUNTA(I606:P606)<8,\"\",VLOOKUP(ROUND((LEFT(I606,1)*'Criterios de Riesgo'!$F$8+LEFT(J606,1)*'Criterios de Riesgo'!$F$9+LEFT(K606,1)*'Criterios de Riesgo'!$F$10+LEFT(L606,1)*'Criterios de Riesgo'!$F$11+LEFT(M606,1)*'Criterios de Riesgo'!$F$12+LEFT(N606,1)*'Criterios de Riesgo'!$F$13+LEFT(O606,1)*'Criterios de Riesgo'!$F$14+LEFT(P606,1)*'Criterios de Riesgo'!$F$15),2),Calif_Control,2,1))","v":""},{"$f":"IF(COUNTA(I606:P606)<8,\"\",(ROUND((LEFT(I606,1)*'Criterios de Riesgo'!$F$8+LEFT(J606,1)*'Criterios de Riesgo'!$F$9+LEFT(K606,1)*'Criterios de Riesgo'!$F$10+LEFT(L606,1)*'Criterios de Riesgo'!$F$11+LEFT(M606,1)*'Criterios de Riesgo'!$F$12+LEFT(N606,1)*'Criterios de Riesgo'!$F$13+LEFT(O606,1)*'Criterios de Riesgo'!$F$14+LEFT(P606,1)*'Criterios de Riesgo'!$F$15),2))/5)","v":""}]
[null,null,null,null,null,null,null,null,null,null,null,null,null,null,null,null,{"$f":"IF(COUNTA(I607:P607)<8,\"\",VLOOKUP(ROUND((LEFT(I607,1)*'Criterios de Riesgo'!$F$8+LEFT(J607,1)*'Criterios de Riesgo'!$F$9+LEFT(K607,1)*'Criterios de Riesgo'!$F$10+LEFT(L607,1)*'Criterios de Riesgo'!$F$11+LEFT(M607,1)*'Criterios de Riesgo'!$F$12+LEFT(N607,1)*'Criterios de Riesgo'!$F$13+LEFT(O607,1)*'Criterios de Riesgo'!$F$14+LEFT(P607,1)*'Criterios de Riesgo'!$F$15),2),Calif_Control,2,1))","v":""},{"$f":"IF(COUNTA(I607:P607)<8,\"\",(ROUND((LEFT(I607,1)*'Criterios de Riesgo'!$F$8+LEFT(J607,1)*'Criterios de Riesgo'!$F$9+LEFT(K607,1)*'Criterios de Riesgo'!$F$10+LEFT(L607,1)*'Criterios de Riesgo'!$F$11+LEFT(M607,1)*'Criterios de Riesgo'!$F$12+LEFT(N607,1)*'Criterios de Riesgo'!$F$13+LEFT(O607,1)*'Criterios de Riesgo'!$F$14+LEFT(P607,1)*'Criterios de Riesgo'!$F$15),2))/5)","v":""}]
[null,null,null,null,null,null,null,null,null,null,null,null,null,null,null,null,{"$f":"IF(COUNTA(I608:P608)<8,\"\",VLOOKUP(ROUND((LEFT(I608,1)*'Criterios de Riesgo'!$F$8+LEFT(J608,1)*'Criterios de Riesgo'!$F$9+LEFT(K608,1)*'Criterios de Riesgo'!$F$10+LEFT(L608,1)*'Criterios de Riesgo'!$F$11+LEFT(M608,1)*'Criterios de Riesgo'!$F$12+LEFT(N608,1)*'Criterios de Riesgo'!$F$13+LEFT(O608,1)*'Criterios de Riesgo'!$F$14+LEFT(P608,1)*'Criterios de Riesgo'!$F$15),2),Calif_Control,2,1))","v":""},{"$f":"IF(COUNTA(I608:P608)<8,\"\",(ROUND((LEFT(I608,1)*'Criterios de Riesgo'!$F$8+LEFT(J608,1)*'Criterios de Riesgo'!$F$9+LEFT(K608,1)*'Criterios de Riesgo'!$F$10+LEFT(L608,1)*'Criterios de Riesgo'!$F$11+LEFT(M608,1)*'Criterios de Riesgo'!$F$12+LEFT(N608,1)*'Criterios de Riesgo'!$F$13+LEFT(O608,1)*'Criterios de Riesgo'!$F$14+LEFT(P608,1)*'Criterios de Riesgo'!$F$15),2))/5)","v":""}]
[null,null,null,null,null,null,null,null,null,null,null,null,null,null,null,null,{"$f":"IF(COUNTA(I609:P609)<8,\"\",VLOOKUP(ROUND((LEFT(I609,1)*'Criterios de Riesgo'!$F$8+LEFT(J609,1)*'Criterios de Riesgo'!$F$9+LEFT(K609,1)*'Criterios de Riesgo'!$F$10+LEFT(L609,1)*'Criterios de Riesgo'!$F$11+LEFT(M609,1)*'Criterios de Riesgo'!$F$12+LEFT(N609,1)*'Criterios de Riesgo'!$F$13+LEFT(O609,1)*'Criterios de Riesgo'!$F$14+LEFT(P609,1)*'Criterios de Riesgo'!$F$15),2),Calif_Control,2,1))","v":""},{"$f":"IF(COUNTA(I609:P609)<8,\"\",(ROUND((LEFT(I609,1)*'Criterios de Riesgo'!$F$8+LEFT(J609,1)*'Criterios de Riesgo'!$F$9+LEFT(K609,1)*'Criterios de Riesgo'!$F$10+LEFT(L609,1)*'Criterios de Riesgo'!$F$11+LEFT(M609,1)*'Criterios de Riesgo'!$F$12+LEFT(N609,1)*'Criterios de Riesgo'!$F$13+LEFT(O609,1)*'Criterios de Riesgo'!$F$14+LEFT(P609,1)*'Criterios de Riesgo'!$F$15),2))/5)","v":""}]
[null,null,null,null,null,null,null,null,null,null,null,null,null,null,null,null,{"$f":"IF(COUNTA(I610:P610)<8,\"\",VLOOKUP(ROUND((LEFT(I610,1)*'Criterios de Riesgo'!$F$8+LEFT(J610,1)*'Criterios de Riesgo'!$F$9+LEFT(K610,1)*'Criterios de Riesgo'!$F$10+LEFT(L610,1)*'Criterios de Riesgo'!$F$11+LEFT(M610,1)*'Criterios de Riesgo'!$F$12+LEFT(N610,1)*'Criterios de Riesgo'!$F$13+LEFT(O610,1)*'Criterios de Riesgo'!$F$14+LEFT(P610,1)*'Criterios de Riesgo'!$F$15),2),Calif_Control,2,1))","v":""},{"$f":"IF(COUNTA(I610:P610)<8,\"\",(ROUND((LEFT(I610,1)*'Criterios de Riesgo'!$F$8+LEFT(J610,1)*'Criterios de Riesgo'!$F$9+LEFT(K610,1)*'Criterios de Riesgo'!$F$10+LEFT(L610,1)*'Criterios de Riesgo'!$F$11+LEFT(M610,1)*'Criterios de Riesgo'!$F$12+LEFT(N610,1)*'Criterios de Riesgo'!$F$13+LEFT(O610,1)*'Criterios de Riesgo'!$F$14+LEFT(P610,1)*'Criterios de Riesgo'!$F$15),2))/5)","v":""}]
[null,null,null,null,null,null,null,null,null,null,null,null,null,null,null,null,{"$f":"IF(COUNTA(I611:P611)<8,\"\",VLOOKUP(ROUND((LEFT(I611,1)*'Criterios de Riesgo'!$F$8+LEFT(J611,1)*'Criterios de Riesgo'!$F$9+LEFT(K611,1)*'Criterios de Riesgo'!$F$10+LEFT(L611,1)*'Criterios de Riesgo'!$F$11+LEFT(M611,1)*'Criterios de Riesgo'!$F$12+LEFT(N611,1)*'Criterios de Riesgo'!$F$13+LEFT(O611,1)*'Criterios de Riesgo'!$F$14+LEFT(P611,1)*'Criterios de Riesgo'!$F$15),2),Calif_Control,2,1))","v":""},{"$f":"IF(COUNTA(I611:P611)<8,\"\",(ROUND((LEFT(I611,1)*'Criterios de Riesgo'!$F$8+LEFT(J611,1)*'Criterios de Riesgo'!$F$9+LEFT(K611,1)*'Criterios de Riesgo'!$F$10+LEFT(L611,1)*'Criterios de Riesgo'!$F$11+LEFT(M611,1)*'Criterios de Riesgo'!$F$12+LEFT(N611,1)*'Criterios de Riesgo'!$F$13+LEFT(O611,1)*'Criterios de Riesgo'!$F$14+LEFT(P611,1)*'Criterios de Riesgo'!$F$15),2))/5)","v":""}]
[null,null,null,null,null,null,null,null,null,null,null,null,null,null,null,null,{"$f":"IF(COUNTA(I612:P612)<8,\"\",VLOOKUP(ROUND((LEFT(I612,1)*'Criterios de Riesgo'!$F$8+LEFT(J612,1)*'Criterios de Riesgo'!$F$9+LEFT(K612,1)*'Criterios de Riesgo'!$F$10+LEFT(L612,1)*'Criterios de Riesgo'!$F$11+LEFT(M612,1)*'Criterios de Riesgo'!$F$12+LEFT(N612,1)*'Criterios de Riesgo'!$F$13+LEFT(O612,1)*'Criterios de Riesgo'!$F$14+LEFT(P612,1)*'Criterios de Riesgo'!$F$15),2),Calif_Control,2,1))","v":""},{"$f":"IF(COUNTA(I612:P612)<8,\"\",(ROUND((LEFT(I612,1)*'Criterios de Riesgo'!$F$8+LEFT(J612,1)*'Criterios de Riesgo'!$F$9+LEFT(K612,1)*'Criterios de Riesgo'!$F$10+LEFT(L612,1)*'Criterios de Riesgo'!$F$11+LEFT(M612,1)*'Criterios de Riesgo'!$F$12+LEFT(N612,1)*'Criterios de Riesgo'!$F$13+LEFT(O612,1)*'Criterios de Riesgo'!$F$14+LEFT(P612,1)*'Criterios de Riesgo'!$F$15),2))/5)","v":""}]
[null,null,null,null,null,null,null,null,null,null,null,null,null,null,null,null,{"$f":"IF(COUNTA(I613:P613)<8,\"\",VLOOKUP(ROUND((LEFT(I613,1)*'Criterios de Riesgo'!$F$8+LEFT(J613,1)*'Criterios de Riesgo'!$F$9+LEFT(K613,1)*'Criterios de Riesgo'!$F$10+LEFT(L613,1)*'Criterios de Riesgo'!$F$11+LEFT(M613,1)*'Criterios de Riesgo'!$F$12+LEFT(N613,1)*'Criterios de Riesgo'!$F$13+LEFT(O613,1)*'Criterios de Riesgo'!$F$14+LEFT(P613,1)*'Criterios de Riesgo'!$F$15),2),Calif_Control,2,1))","v":""},{"$f":"IF(COUNTA(I613:P613)<8,\"\",(ROUND((LEFT(I613,1)*'Criterios de Riesgo'!$F$8+LEFT(J613,1)*'Criterios de Riesgo'!$F$9+LEFT(K613,1)*'Criterios de Riesgo'!$F$10+LEFT(L613,1)*'Criterios de Riesgo'!$F$11+LEFT(M613,1)*'Criterios de Riesgo'!$F$12+LEFT(N613,1)*'Criterios de Riesgo'!$F$13+LEFT(O613,1)*'Criterios de Riesgo'!$F$14+LEFT(P613,1)*'Criterios de Riesgo'!$F$15),2))/5)","v":""}]
[null,null,null,null,null,null,null,null,null,null,null,null,null,null,null,null,{"$f":"IF(COUNTA(I614:P614)<8,\"\",VLOOKUP(ROUND((LEFT(I614,1)*'Criterios de Riesgo'!$F$8+LEFT(J614,1)*'Criterios de Riesgo'!$F$9+LEFT(K614,1)*'Criterios de Riesgo'!$F$10+LEFT(L614,1)*'Criterios de Riesgo'!$F$11+LEFT(M614,1)*'Criterios de Riesgo'!$F$12+LEFT(N614,1)*'Criterios de Riesgo'!$F$13+LEFT(O614,1)*'Criterios de Riesgo'!$F$14+LEFT(P614,1)*'Criterios de Riesgo'!$F$15),2),Calif_Control,2,1))","v":""},{"$f":"IF(COUNTA(I614:P614)<8,\"\",(ROUND((LEFT(I614,1)*'Criterios de Riesgo'!$F$8+LEFT(J614,1)*'Criterios de Riesgo'!$F$9+LEFT(K614,1)*'Criterios de Riesgo'!$F$10+LEFT(L614,1)*'Criterios de Riesgo'!$F$11+LEFT(M614,1)*'Criterios de Riesgo'!$F$12+LEFT(N614,1)*'Criterios de Riesgo'!$F$13+LEFT(O614,1)*'Criterios de Riesgo'!$F$14+LEFT(P614,1)*'Criterios de Riesgo'!$F$15),2))/5)","v":""}]
["R",null,null,null,null,null,null,null,null,null,null,null,null,null,null,null,{"$f":"IF(COUNTA(I615:P615)<8,\"\",VLOOKUP(ROUND((LEFT(I615,1)*'Criterios de Riesgo'!$F$8+LEFT(J615,1)*'Criterios de Riesgo'!$F$9+LEFT(K615,1)*'Criterios de Riesgo'!$F$10+LEFT(L615,1)*'Criterios de Riesgo'!$F$11+LEFT(M615,1)*'Criterios de Riesgo'!$F$12+LEFT(N615,1)*'Criterios de Riesgo'!$F$13+LEFT(O615,1)*'Criterios de Riesgo'!$F$14+LEFT(P615,1)*'Criterios de Riesgo'!$F$15),2),Calif_Control,2,1))","v":""},{"$f":"IF(COUNTA(I615:P615)<8,\"\",(ROUND((LEFT(I615,1)*'Criterios de Riesgo'!$F$8+LEFT(J615,1)*'Criterios de Riesgo'!$F$9+LEFT(K615,1)*'Criterios de Riesgo'!$F$10+LEFT(L615,1)*'Criterios de Riesgo'!$F$11+LEFT(M615,1)*'Criterios de Riesgo'!$F$12+LEFT(N615,1)*'Criterios de Riesgo'!$F$13+LEFT(O615,1)*'Criterios de Riesgo'!$F$14+LEFT(P615,1)*'Criterios de Riesgo'!$F$15),2))/5)","v":""},null,null,null,null,{"$f":"IF(COUNTA(S615:V615)<4,\"\",IF(V615=\"No\",\"No se usa\",VLOOKUP(ROUND((LEFT(S615,1)*'Criterios de Riesgo'!$C$13+LEFT(T615,1)*'Criterios de Riesgo'!$C$14+LEFT(U615,1)*'Criterios de Riesgo'!$C$15),2),Calif_Covertura,2,1)))","v":""},{"$f":"IF(COUNTA(S615:V615)<4,\"\",IF(V615=\"No\",0,(ROUND((LEFT(S615,1)*'Criterios de Riesgo'!$C$13+LEFT(T615,1)*'Criterios de Riesgo'!$C$14+LEFT(U615,1)*'Criterios de Riesgo'!$C$15),2))/5))","v":""},{"$f":"IF(ISERROR(R615*X615),\"\",R615*X615)","v":""},null,{"$f":"IF(ISERROR((SUMIF(Z615:Z624,\"=impacto\",Y615:Y624)+SUMIF(Z615:Z624,\"=Ambos\",Y615:Y624))/(COUNTIF(Z615:Z624,\"Impacto\")+COUNTIF(Z615:Z624,\"Ambos\"))),\"\",(SUMIF(Z615:Z624,\"=impacto\",Y615:Y624)+SUMIF(Z615:Z624,\"=Ambos\",Y615:Y624))/(COUNTIF(Z615:Z624,\"Impacto\")+COUNTIF(Z615:Z624,\"Ambos\")))","v":""},{"$f":"IF(ISERROR((SUMIF(Z615:Z624,\"=Probabilidad\",Y615:Y624)+SUMIF(Z615:Z624,\"=Ambos\",Y615:Y624))/(COUNTIF(Z615:Z624,\"Probabilidad\")+COUNTIF(Z615:Z624,\"Ambos\"))),\"\",(SUMIF(Z615:Z624,\"=Probabilidad\",Y615:Y624)+SUMIF(Z615:Z624,\"=Ambos\",Y615:Y624))/(COUNTIF(Z615:Z624,\"Probabilidad\")+COUNTIF(Z615:Z624,\"Ambos\")))","v":""},{"$f":"IF(ISERROR(ROUND(IF(AB615=\"\",AA615,IF(AA615=\"\",AB615,IF(AND(AB615=\"\",AA615=\"\"),\"\",AB615*AA615)))*100,0)/100),\"\",ROUND(IF(AB615=\"\",AA615,IF(AA615=\"\",AB615,IF(AND(AB615=\"\",AA615=\"\"),\"\",AB615*AA615)))*100,0)/100)","v":""},{"$f":"IF(AC615=\"\",\"\",VLOOKUP(AC615*5,Calif_Control,2,1))","v":""}]
[null,null,null,null,null,null,null,null,null,null,null,null,null,null,null,null,{"$f":"IF(COUNTA(I616:P616)<8,\"\",VLOOKUP(ROUND((LEFT(I616,1)*'Criterios de Riesgo'!$F$8+LEFT(J616,1)*'Criterios de Riesgo'!$F$9+LEFT(K616,1)*'Criterios de Riesgo'!$F$10+LEFT(L616,1)*'Criterios de Riesgo'!$F$11+LEFT(M616,1)*'Criterios de Riesgo'!$F$12+LEFT(N616,1)*'Criterios de Riesgo'!$F$13+LEFT(O616,1)*'Criterios de Riesgo'!$F$14+LEFT(P616,1)*'Criterios de Riesgo'!$F$15),2),Calif_Control,2,1))","v":""},{"$f":"IF(COUNTA(I616:P616)<8,\"\",(ROUND((LEFT(I616,1)*'Criterios de Riesgo'!$F$8+LEFT(J616,1)*'Criterios de Riesgo'!$F$9+LEFT(K616,1)*'Criterios de Riesgo'!$F$10+LEFT(L616,1)*'Criterios de Riesgo'!$F$11+LEFT(M616,1)*'Criterios de Riesgo'!$F$12+LEFT(N616,1)*'Criterios de Riesgo'!$F$13+LEFT(O616,1)*'Criterios de Riesgo'!$F$14+LEFT(P616,1)*'Criterios de Riesgo'!$F$15),2))/5)","v":""}]
[null,null,null,null,null,null,null,null,null,null,null,null,null,null,null,null,{"$f":"IF(COUNTA(I617:P617)<8,\"\",VLOOKUP(ROUND((LEFT(I617,1)*'Criterios de Riesgo'!$F$8+LEFT(J617,1)*'Criterios de Riesgo'!$F$9+LEFT(K617,1)*'Criterios de Riesgo'!$F$10+LEFT(L617,1)*'Criterios de Riesgo'!$F$11+LEFT(M617,1)*'Criterios de Riesgo'!$F$12+LEFT(N617,1)*'Criterios de Riesgo'!$F$13+LEFT(O617,1)*'Criterios de Riesgo'!$F$14+LEFT(P617,1)*'Criterios de Riesgo'!$F$15),2),Calif_Control,2,1))","v":""},{"$f":"IF(COUNTA(I617:P617)<8,\"\",(ROUND((LEFT(I617,1)*'Criterios de Riesgo'!$F$8+LEFT(J617,1)*'Criterios de Riesgo'!$F$9+LEFT(K617,1)*'Criterios de Riesgo'!$F$10+LEFT(L617,1)*'Criterios de Riesgo'!$F$11+LEFT(M617,1)*'Criterios de Riesgo'!$F$12+LEFT(N617,1)*'Criterios de Riesgo'!$F$13+LEFT(O617,1)*'Criterios de Riesgo'!$F$14+LEFT(P617,1)*'Criterios de Riesgo'!$F$15),2))/5)","v":""}]
[null,null,null,null,null,null,null,null,null,null,null,null,null,null,null,null,{"$f":"IF(COUNTA(I618:P618)<8,\"\",VLOOKUP(ROUND((LEFT(I618,1)*'Criterios de Riesgo'!$F$8+LEFT(J618,1)*'Criterios de Riesgo'!$F$9+LEFT(K618,1)*'Criterios de Riesgo'!$F$10+LEFT(L618,1)*'Criterios de Riesgo'!$F$11+LEFT(M618,1)*'Criterios de Riesgo'!$F$12+LEFT(N618,1)*'Criterios de Riesgo'!$F$13+LEFT(O618,1)*'Criterios de Riesgo'!$F$14+LEFT(P618,1)*'Criterios de Riesgo'!$F$15),2),Calif_Control,2,1))","v":""},{"$f":"IF(COUNTA(I618:P618)<8,\"\",(ROUND((LEFT(I618,1)*'Criterios de Riesgo'!$F$8+LEFT(J618,1)*'Criterios de Riesgo'!$F$9+LEFT(K618,1)*'Criterios de Riesgo'!$F$10+LEFT(L618,1)*'Criterios de Riesgo'!$F$11+LEFT(M618,1)*'Criterios de Riesgo'!$F$12+LEFT(N618,1)*'Criterios de Riesgo'!$F$13+LEFT(O618,1)*'Criterios de Riesgo'!$F$14+LEFT(P618,1)*'Criterios de Riesgo'!$F$15),2))/5)","v":""}]
[null,null,null,null,null,null,null,null,null,null,null,null,null,null,null,null,{"$f":"IF(COUNTA(I619:P619)<8,\"\",VLOOKUP(ROUND((LEFT(I619,1)*'Criterios de Riesgo'!$F$8+LEFT(J619,1)*'Criterios de Riesgo'!$F$9+LEFT(K619,1)*'Criterios de Riesgo'!$F$10+LEFT(L619,1)*'Criterios de Riesgo'!$F$11+LEFT(M619,1)*'Criterios de Riesgo'!$F$12+LEFT(N619,1)*'Criterios de Riesgo'!$F$13+LEFT(O619,1)*'Criterios de Riesgo'!$F$14+LEFT(P619,1)*'Criterios de Riesgo'!$F$15),2),Calif_Control,2,1))","v":""},{"$f":"IF(COUNTA(I619:P619)<8,\"\",(ROUND((LEFT(I619,1)*'Criterios de Riesgo'!$F$8+LEFT(J619,1)*'Criterios de Riesgo'!$F$9+LEFT(K619,1)*'Criterios de Riesgo'!$F$10+LEFT(L619,1)*'Criterios de Riesgo'!$F$11+LEFT(M619,1)*'Criterios de Riesgo'!$F$12+LEFT(N619,1)*'Criterios de Riesgo'!$F$13+LEFT(O619,1)*'Criterios de Riesgo'!$F$14+LEFT(P619,1)*'Criterios de Riesgo'!$F$15),2))/5)","v":""}]
[null,null,null,null,null,null,null,null,null,null,null,null,null,null,null,null,{"$f":"IF(COUNTA(I620:P620)<8,\"\",VLOOKUP(ROUND((LEFT(I620,1)*'Criterios de Riesgo'!$F$8+LEFT(J620,1)*'Criterios de Riesgo'!$F$9+LEFT(K620,1)*'Criterios de Riesgo'!$F$10+LEFT(L620,1)*'Criterios de Riesgo'!$F$11+LEFT(M620,1)*'Criterios de Riesgo'!$F$12+LEFT(N620,1)*'Criterios de Riesgo'!$F$13+LEFT(O620,1)*'Criterios de Riesgo'!$F$14+LEFT(P620,1)*'Criterios de Riesgo'!$F$15),2),Calif_Control,2,1))","v":""},{"$f":"IF(COUNTA(I620:P620)<8,\"\",(ROUND((LEFT(I620,1)*'Criterios de Riesgo'!$F$8+LEFT(J620,1)*'Criterios de Riesgo'!$F$9+LEFT(K620,1)*'Criterios de Riesgo'!$F$10+LEFT(L620,1)*'Criterios de Riesgo'!$F$11+LEFT(M620,1)*'Criterios de Riesgo'!$F$12+LEFT(N620,1)*'Criterios de Riesgo'!$F$13+LEFT(O620,1)*'Criterios de Riesgo'!$F$14+LEFT(P620,1)*'Criterios de Riesgo'!$F$15),2))/5)","v":""}]
[null,null,null,null,null,null,null,null,null,null,null,null,null,null,null,null,{"$f":"IF(COUNTA(I621:P621)<8,\"\",VLOOKUP(ROUND((LEFT(I621,1)*'Criterios de Riesgo'!$F$8+LEFT(J621,1)*'Criterios de Riesgo'!$F$9+LEFT(K621,1)*'Criterios de Riesgo'!$F$10+LEFT(L621,1)*'Criterios de Riesgo'!$F$11+LEFT(M621,1)*'Criterios de Riesgo'!$F$12+LEFT(N621,1)*'Criterios de Riesgo'!$F$13+LEFT(O621,1)*'Criterios de Riesgo'!$F$14+LEFT(P621,1)*'Criterios de Riesgo'!$F$15),2),Calif_Control,2,1))","v":""},{"$f":"IF(COUNTA(I621:P621)<8,\"\",(ROUND((LEFT(I621,1)*'Criterios de Riesgo'!$F$8+LEFT(J621,1)*'Criterios de Riesgo'!$F$9+LEFT(K621,1)*'Criterios de Riesgo'!$F$10+LEFT(L621,1)*'Criterios de Riesgo'!$F$11+LEFT(M621,1)*'Criterios de Riesgo'!$F$12+LEFT(N621,1)*'Criterios de Riesgo'!$F$13+LEFT(O621,1)*'Criterios de Riesgo'!$F$14+LEFT(P621,1)*'Criterios de Riesgo'!$F$15),2))/5)","v":""}]
[null,null,null,null,null,null,null,null,null,null,null,null,null,null,null,null,{"$f":"IF(COUNTA(I622:P622)<8,\"\",VLOOKUP(ROUND((LEFT(I622,1)*'Criterios de Riesgo'!$F$8+LEFT(J622,1)*'Criterios de Riesgo'!$F$9+LEFT(K622,1)*'Criterios de Riesgo'!$F$10+LEFT(L622,1)*'Criterios de Riesgo'!$F$11+LEFT(M622,1)*'Criterios de Riesgo'!$F$12+LEFT(N622,1)*'Criterios de Riesgo'!$F$13+LEFT(O622,1)*'Criterios de Riesgo'!$F$14+LEFT(P622,1)*'Criterios de Riesgo'!$F$15),2),Calif_Control,2,1))","v":""},{"$f":"IF(COUNTA(I622:P622)<8,\"\",(ROUND((LEFT(I622,1)*'Criterios de Riesgo'!$F$8+LEFT(J622,1)*'Criterios de Riesgo'!$F$9+LEFT(K622,1)*'Criterios de Riesgo'!$F$10+LEFT(L622,1)*'Criterios de Riesgo'!$F$11+LEFT(M622,1)*'Criterios de Riesgo'!$F$12+LEFT(N622,1)*'Criterios de Riesgo'!$F$13+LEFT(O622,1)*'Criterios de Riesgo'!$F$14+LEFT(P622,1)*'Criterios de Riesgo'!$F$15),2))/5)","v":""}]
[null,null,null,null,null,null,null,null,null,null,null,null,null,null,null,null,{"$f":"IF(COUNTA(I623:P623)<8,\"\",VLOOKUP(ROUND((LEFT(I623,1)*'Criterios de Riesgo'!$F$8+LEFT(J623,1)*'Criterios de Riesgo'!$F$9+LEFT(K623,1)*'Criterios de Riesgo'!$F$10+LEFT(L623,1)*'Criterios de Riesgo'!$F$11+LEFT(M623,1)*'Criterios de Riesgo'!$F$12+LEFT(N623,1)*'Criterios de Riesgo'!$F$13+LEFT(O623,1)*'Criterios de Riesgo'!$F$14+LEFT(P623,1)*'Criterios de Riesgo'!$F$15),2),Calif_Control,2,1))","v":""},{"$f":"IF(COUNTA(I623:P623)<8,\"\",(ROUND((LEFT(I623,1)*'Criterios de Riesgo'!$F$8+LEFT(J623,1)*'Criterios de Riesgo'!$F$9+LEFT(K623,1)*'Criterios de Riesgo'!$F$10+LEFT(L623,1)*'Criterios de Riesgo'!$F$11+LEFT(M623,1)*'Criterios de Riesgo'!$F$12+LEFT(N623,1)*'Criterios de Riesgo'!$F$13+LEFT(O623,1)*'Criterios de Riesgo'!$F$14+LEFT(P623,1)*'Criterios de Riesgo'!$F$15),2))/5)","v":""}]
[null,null,null,null,null,null,null,null,null,null,null,null,null,null,null,null,{"$f":"IF(COUNTA(I624:P624)<8,\"\",VLOOKUP(ROUND((LEFT(I624,1)*'Criterios de Riesgo'!$F$8+LEFT(J624,1)*'Criterios de Riesgo'!$F$9+LEFT(K624,1)*'Criterios de Riesgo'!$F$10+LEFT(L624,1)*'Criterios de Riesgo'!$F$11+LEFT(M624,1)*'Criterios de Riesgo'!$F$12+LEFT(N624,1)*'Criterios de Riesgo'!$F$13+LEFT(O624,1)*'Criterios de Riesgo'!$F$14+LEFT(P624,1)*'Criterios de Riesgo'!$F$15),2),Calif_Control,2,1))","v":""},{"$f":"IF(COUNTA(I624:P624)<8,\"\",(ROUND((LEFT(I624,1)*'Criterios de Riesgo'!$F$8+LEFT(J624,1)*'Criterios de Riesgo'!$F$9+LEFT(K624,1)*'Criterios de Riesgo'!$F$10+LEFT(L624,1)*'Criterios de Riesgo'!$F$11+LEFT(M624,1)*'Criterios de Riesgo'!$F$12+LEFT(N624,1)*'Criterios de Riesgo'!$F$13+LEFT(O624,1)*'Criterios de Riesgo'!$F$14+LEFT(P624,1)*'Criterios de Riesgo'!$F$15),2))/5)","v":""}]
["R",null,null,null,null,null,null,null,null,null,null,null,null,null,null,null,{"$f":"IF(COUNTA(I625:P625)<8,\"\",VLOOKUP(ROUND((LEFT(I625,1)*'Criterios de Riesgo'!$F$8+LEFT(J625,1)*'Criterios de Riesgo'!$F$9+LEFT(K625,1)*'Criterios de Riesgo'!$F$10+LEFT(L625,1)*'Criterios de Riesgo'!$F$11+LEFT(M625,1)*'Criterios de Riesgo'!$F$12+LEFT(N625,1)*'Criterios de Riesgo'!$F$13+LEFT(O625,1)*'Criterios de Riesgo'!$F$14+LEFT(P625,1)*'Criterios de Riesgo'!$F$15),2),Calif_Control,2,1))","v":""},{"$f":"IF(COUNTA(I625:P625)<8,\"\",(ROUND((LEFT(I625,1)*'Criterios de Riesgo'!$F$8+LEFT(J625,1)*'Criterios de Riesgo'!$F$9+LEFT(K625,1)*'Criterios de Riesgo'!$F$10+LEFT(L625,1)*'Criterios de Riesgo'!$F$11+LEFT(M625,1)*'Criterios de Riesgo'!$F$12+LEFT(N625,1)*'Criterios de Riesgo'!$F$13+LEFT(O625,1)*'Criterios de Riesgo'!$F$14+LEFT(P625,1)*'Criterios de Riesgo'!$F$15),2))/5)","v":""},null,null,null,null,{"$f":"IF(COUNTA(S625:V625)<4,\"\",IF(V625=\"No\",\"No se usa\",VLOOKUP(ROUND((LEFT(S625,1)*'Criterios de Riesgo'!$C$13+LEFT(T625,1)*'Criterios de Riesgo'!$C$14+LEFT(U625,1)*'Criterios de Riesgo'!$C$15),2),Calif_Covertura,2,1)))","v":""},{"$f":"IF(COUNTA(S625:V625)<4,\"\",IF(V625=\"No\",0,(ROUND((LEFT(S625,1)*'Criterios de Riesgo'!$C$13+LEFT(T625,1)*'Criterios de Riesgo'!$C$14+LEFT(U625,1)*'Criterios de Riesgo'!$C$15),2))/5))","v":""},{"$f":"IF(ISERROR(R625*X625),\"\",R625*X625)","v":""},null,{"$f":"IF(ISERROR((SUMIF(Z625:Z634,\"=impacto\",Y625:Y634)+SUMIF(Z625:Z634,\"=Ambos\",Y625:Y634))/(COUNTIF(Z625:Z634,\"Impacto\")+COUNTIF(Z625:Z634,\"Ambos\"))),\"\",(SUMIF(Z625:Z634,\"=impacto\",Y625:Y634)+SUMIF(Z625:Z634,\"=Ambos\",Y625:Y634))/(COUNTIF(Z625:Z634,\"Impacto\")+COUNTIF(Z625:Z634,\"Ambos\")))","v":""},{"$f":"IF(ISERROR((SUMIF(Z625:Z634,\"=Probabilidad\",Y625:Y634)+SUMIF(Z625:Z634,\"=Ambos\",Y625:Y634))/(COUNTIF(Z625:Z634,\"Probabilidad\")+COUNTIF(Z625:Z634,\"Ambos\"))),\"\",(SUMIF(Z625:Z634,\"=Probabilidad\",Y625:Y634)+SUMIF(Z625:Z634,\"=Ambos\",Y625:Y634))/(COUNTIF(Z625:Z634,\"Probabilidad\")+COUNTIF(Z625:Z634,\"Ambos\")))","v":""},{"$f":"IF(ISERROR(ROUND(IF(AB625=\"\",AA625,IF(AA625=\"\",AB625,IF(AND(AB625=\"\",AA625=\"\"),\"\",AB625*AA625)))*100,0)/100),\"\",ROUND(IF(AB625=\"\",AA625,IF(AA625=\"\",AB625,IF(AND(AB625=\"\",AA625=\"\"),\"\",AB625*AA625)))*100,0)/100)","v":""},{"$f":"IF(AC625=\"\",\"\",VLOOKUP(AC625*5,Calif_Control,2,1))","v":""}]
[null,null,null,null,null,null,null,null,null,null,null,null,null,null,null,null,{"$f":"IF(COUNTA(I626:P626)<8,\"\",VLOOKUP(ROUND((LEFT(I626,1)*'Criterios de Riesgo'!$F$8+LEFT(J626,1)*'Criterios de Riesgo'!$F$9+LEFT(K626,1)*'Criterios de Riesgo'!$F$10+LEFT(L626,1)*'Criterios de Riesgo'!$F$11+LEFT(M626,1)*'Criterios de Riesgo'!$F$12+LEFT(N626,1)*'Criterios de Riesgo'!$F$13+LEFT(O626,1)*'Criterios de Riesgo'!$F$14+LEFT(P626,1)*'Criterios de Riesgo'!$F$15),2),Calif_Control,2,1))","v":""},{"$f":"IF(COUNTA(I626:P626)<8,\"\",(ROUND((LEFT(I626,1)*'Criterios de Riesgo'!$F$8+LEFT(J626,1)*'Criterios de Riesgo'!$F$9+LEFT(K626,1)*'Criterios de Riesgo'!$F$10+LEFT(L626,1)*'Criterios de Riesgo'!$F$11+LEFT(M626,1)*'Criterios de Riesgo'!$F$12+LEFT(N626,1)*'Criterios de Riesgo'!$F$13+LEFT(O626,1)*'Criterios de Riesgo'!$F$14+LEFT(P626,1)*'Criterios de Riesgo'!$F$15),2))/5)","v":""}]
[null,null,null,null,null,null,null,null,null,null,null,null,null,null,null,null,{"$f":"IF(COUNTA(I627:P627)<8,\"\",VLOOKUP(ROUND((LEFT(I627,1)*'Criterios de Riesgo'!$F$8+LEFT(J627,1)*'Criterios de Riesgo'!$F$9+LEFT(K627,1)*'Criterios de Riesgo'!$F$10+LEFT(L627,1)*'Criterios de Riesgo'!$F$11+LEFT(M627,1)*'Criterios de Riesgo'!$F$12+LEFT(N627,1)*'Criterios de Riesgo'!$F$13+LEFT(O627,1)*'Criterios de Riesgo'!$F$14+LEFT(P627,1)*'Criterios de Riesgo'!$F$15),2),Calif_Control,2,1))","v":""},{"$f":"IF(COUNTA(I627:P627)<8,\"\",(ROUND((LEFT(I627,1)*'Criterios de Riesgo'!$F$8+LEFT(J627,1)*'Criterios de Riesgo'!$F$9+LEFT(K627,1)*'Criterios de Riesgo'!$F$10+LEFT(L627,1)*'Criterios de Riesgo'!$F$11+LEFT(M627,1)*'Criterios de Riesgo'!$F$12+LEFT(N627,1)*'Criterios de Riesgo'!$F$13+LEFT(O627,1)*'Criterios de Riesgo'!$F$14+LEFT(P627,1)*'Criterios de Riesgo'!$F$15),2))/5)","v":""}]
[null,null,null,null,null,null,null,null,null,null,null,null,null,null,null,null,{"$f":"IF(COUNTA(I628:P628)<8,\"\",VLOOKUP(ROUND((LEFT(I628,1)*'Criterios de Riesgo'!$F$8+LEFT(J628,1)*'Criterios de Riesgo'!$F$9+LEFT(K628,1)*'Criterios de Riesgo'!$F$10+LEFT(L628,1)*'Criterios de Riesgo'!$F$11+LEFT(M628,1)*'Criterios de Riesgo'!$F$12+LEFT(N628,1)*'Criterios de Riesgo'!$F$13+LEFT(O628,1)*'Criterios de Riesgo'!$F$14+LEFT(P628,1)*'Criterios de Riesgo'!$F$15),2),Calif_Control,2,1))","v":""},{"$f":"IF(COUNTA(I628:P628)<8,\"\",(ROUND((LEFT(I628,1)*'Criterios de Riesgo'!$F$8+LEFT(J628,1)*'Criterios de Riesgo'!$F$9+LEFT(K628,1)*'Criterios de Riesgo'!$F$10+LEFT(L628,1)*'Criterios de Riesgo'!$F$11+LEFT(M628,1)*'Criterios de Riesgo'!$F$12+LEFT(N628,1)*'Criterios de Riesgo'!$F$13+LEFT(O628,1)*'Criterios de Riesgo'!$F$14+LEFT(P628,1)*'Criterios de Riesgo'!$F$15),2))/5)","v":""}]
[null,null,null,null,null,null,null,null,null,null,null,null,null,null,null,null,{"$f":"IF(COUNTA(I629:P629)<8,\"\",VLOOKUP(ROUND((LEFT(I629,1)*'Criterios de Riesgo'!$F$8+LEFT(J629,1)*'Criterios de Riesgo'!$F$9+LEFT(K629,1)*'Criterios de Riesgo'!$F$10+LEFT(L629,1)*'Criterios de Riesgo'!$F$11+LEFT(M629,1)*'Criterios de Riesgo'!$F$12+LEFT(N629,1)*'Criterios de Riesgo'!$F$13+LEFT(O629,1)*'Criterios de Riesgo'!$F$14+LEFT(P629,1)*'Criterios de Riesgo'!$F$15),2),Calif_Control,2,1))","v":""},{"$f":"IF(COUNTA(I629:P629)<8,\"\",(ROUND((LEFT(I629,1)*'Criterios de Riesgo'!$F$8+LEFT(J629,1)*'Criterios de Riesgo'!$F$9+LEFT(K629,1)*'Criterios de Riesgo'!$F$10+LEFT(L629,1)*'Criterios de Riesgo'!$F$11+LEFT(M629,1)*'Criterios de Riesgo'!$F$12+LEFT(N629,1)*'Criterios de Riesgo'!$F$13+LEFT(O629,1)*'Criterios de Riesgo'!$F$14+LEFT(P629,1)*'Criterios de Riesgo'!$F$15),2))/5)","v":""}]
[null,null,null,null,null,null,null,null,null,null,null,null,null,null,null,null,{"$f":"IF(COUNTA(I630:P630)<8,\"\",VLOOKUP(ROUND((LEFT(I630,1)*'Criterios de Riesgo'!$F$8+LEFT(J630,1)*'Criterios de Riesgo'!$F$9+LEFT(K630,1)*'Criterios de Riesgo'!$F$10+LEFT(L630,1)*'Criterios de Riesgo'!$F$11+LEFT(M630,1)*'Criterios de Riesgo'!$F$12+LEFT(N630,1)*'Criterios de Riesgo'!$F$13+LEFT(O630,1)*'Criterios de Riesgo'!$F$14+LEFT(P630,1)*'Criterios de Riesgo'!$F$15),2),Calif_Control,2,1))","v":""},{"$f":"IF(COUNTA(I630:P630)<8,\"\",(ROUND((LEFT(I630,1)*'Criterios de Riesgo'!$F$8+LEFT(J630,1)*'Criterios de Riesgo'!$F$9+LEFT(K630,1)*'Criterios de Riesgo'!$F$10+LEFT(L630,1)*'Criterios de Riesgo'!$F$11+LEFT(M630,1)*'Criterios de Riesgo'!$F$12+LEFT(N630,1)*'Criterios de Riesgo'!$F$13+LEFT(O630,1)*'Criterios de Riesgo'!$F$14+LEFT(P630,1)*'Criterios de Riesgo'!$F$15),2))/5)","v":""}]
[null,null,null,null,null,null,null,null,null,null,null,null,null,null,null,null,{"$f":"IF(COUNTA(I631:P631)<8,\"\",VLOOKUP(ROUND((LEFT(I631,1)*'Criterios de Riesgo'!$F$8+LEFT(J631,1)*'Criterios de Riesgo'!$F$9+LEFT(K631,1)*'Criterios de Riesgo'!$F$10+LEFT(L631,1)*'Criterios de Riesgo'!$F$11+LEFT(M631,1)*'Criterios de Riesgo'!$F$12+LEFT(N631,1)*'Criterios de Riesgo'!$F$13+LEFT(O631,1)*'Criterios de Riesgo'!$F$14+LEFT(P631,1)*'Criterios de Riesgo'!$F$15),2),Calif_Control,2,1))","v":""},{"$f":"IF(COUNTA(I631:P631)<8,\"\",(ROUND((LEFT(I631,1)*'Criterios de Riesgo'!$F$8+LEFT(J631,1)*'Criterios de Riesgo'!$F$9+LEFT(K631,1)*'Criterios de Riesgo'!$F$10+LEFT(L631,1)*'Criterios de Riesgo'!$F$11+LEFT(M631,1)*'Criterios de Riesgo'!$F$12+LEFT(N631,1)*'Criterios de Riesgo'!$F$13+LEFT(O631,1)*'Criterios de Riesgo'!$F$14+LEFT(P631,1)*'Criterios de Riesgo'!$F$15),2))/5)","v":""}]
[null,null,null,null,null,null,null,null,null,null,null,null,null,null,null,null,{"$f":"IF(COUNTA(I632:P632)<8,\"\",VLOOKUP(ROUND((LEFT(I632,1)*'Criterios de Riesgo'!$F$8+LEFT(J632,1)*'Criterios de Riesgo'!$F$9+LEFT(K632,1)*'Criterios de Riesgo'!$F$10+LEFT(L632,1)*'Criterios de Riesgo'!$F$11+LEFT(M632,1)*'Criterios de Riesgo'!$F$12+LEFT(N632,1)*'Criterios de Riesgo'!$F$13+LEFT(O632,1)*'Criterios de Riesgo'!$F$14+LEFT(P632,1)*'Criterios de Riesgo'!$F$15),2),Calif_Control,2,1))","v":""},{"$f":"IF(COUNTA(I632:P632)<8,\"\",(ROUND((LEFT(I632,1)*'Criterios de Riesgo'!$F$8+LEFT(J632,1)*'Criterios de Riesgo'!$F$9+LEFT(K632,1)*'Criterios de Riesgo'!$F$10+LEFT(L632,1)*'Criterios de Riesgo'!$F$11+LEFT(M632,1)*'Criterios de Riesgo'!$F$12+LEFT(N632,1)*'Criterios de Riesgo'!$F$13+LEFT(O632,1)*'Criterios de Riesgo'!$F$14+LEFT(P632,1)*'Criterios de Riesgo'!$F$15),2))/5)","v":""}]
[null,null,null,null,null,null,null,null,null,null,null,null,null,null,null,null,{"$f":"IF(COUNTA(I633:P633)<8,\"\",VLOOKUP(ROUND((LEFT(I633,1)*'Criterios de Riesgo'!$F$8+LEFT(J633,1)*'Criterios de Riesgo'!$F$9+LEFT(K633,1)*'Criterios de Riesgo'!$F$10+LEFT(L633,1)*'Criterios de Riesgo'!$F$11+LEFT(M633,1)*'Criterios de Riesgo'!$F$12+LEFT(N633,1)*'Criterios de Riesgo'!$F$13+LEFT(O633,1)*'Criterios de Riesgo'!$F$14+LEFT(P633,1)*'Criterios de Riesgo'!$F$15),2),Calif_Control,2,1))","v":""},{"$f":"IF(COUNTA(I633:P633)<8,\"\",(ROUND((LEFT(I633,1)*'Criterios de Riesgo'!$F$8+LEFT(J633,1)*'Criterios de Riesgo'!$F$9+LEFT(K633,1)*'Criterios de Riesgo'!$F$10+LEFT(L633,1)*'Criterios de Riesgo'!$F$11+LEFT(M633,1)*'Criterios de Riesgo'!$F$12+LEFT(N633,1)*'Criterios de Riesgo'!$F$13+LEFT(O633,1)*'Criterios de Riesgo'!$F$14+LEFT(P633,1)*'Criterios de Riesgo'!$F$15),2))/5)","v":""}]
[null,null,null,null,null,null,null,null,null,null,null,null,null,null,null,null,{"$f":"IF(COUNTA(I634:P634)<8,\"\",VLOOKUP(ROUND((LEFT(I634,1)*'Criterios de Riesgo'!$F$8+LEFT(J634,1)*'Criterios de Riesgo'!$F$9+LEFT(K634,1)*'Criterios de Riesgo'!$F$10+LEFT(L634,1)*'Criterios de Riesgo'!$F$11+LEFT(M634,1)*'Criterios de Riesgo'!$F$12+LEFT(N634,1)*'Criterios de Riesgo'!$F$13+LEFT(O634,1)*'Criterios de Riesgo'!$F$14+LEFT(P634,1)*'Criterios de Riesgo'!$F$15),2),Calif_Control,2,1))","v":""},{"$f":"IF(COUNTA(I634:P634)<8,\"\",(ROUND((LEFT(I634,1)*'Criterios de Riesgo'!$F$8+LEFT(J634,1)*'Criterios de Riesgo'!$F$9+LEFT(K634,1)*'Criterios de Riesgo'!$F$10+LEFT(L634,1)*'Criterios de Riesgo'!$F$11+LEFT(M634,1)*'Criterios de Riesgo'!$F$12+LEFT(N634,1)*'Criterios de Riesgo'!$F$13+LEFT(O634,1)*'Criterios de Riesgo'!$F$14+LEFT(P634,1)*'Criterios de Riesgo'!$F$15),2))/5)","v":""}]
["R",null,null,null,null,null,null,null,null,null,null,null,null,null,null,null,{"$f":"IF(COUNTA(I635:P635)<8,\"\",VLOOKUP(ROUND((LEFT(I635,1)*'Criterios de Riesgo'!$F$8+LEFT(J635,1)*'Criterios de Riesgo'!$F$9+LEFT(K635,1)*'Criterios de Riesgo'!$F$10+LEFT(L635,1)*'Criterios de Riesgo'!$F$11+LEFT(M635,1)*'Criterios de Riesgo'!$F$12+LEFT(N635,1)*'Criterios de Riesgo'!$F$13+LEFT(O635,1)*'Criterios de Riesgo'!$F$14+LEFT(P635,1)*'Criterios de Riesgo'!$F$15),2),Calif_Control,2,1))","v":""},{"$f":"IF(COUNTA(I635:P635)<8,\"\",(ROUND((LEFT(I635,1)*'Criterios de Riesgo'!$F$8+LEFT(J635,1)*'Criterios de Riesgo'!$F$9+LEFT(K635,1)*'Criterios de Riesgo'!$F$10+LEFT(L635,1)*'Criterios de Riesgo'!$F$11+LEFT(M635,1)*'Criterios de Riesgo'!$F$12+LEFT(N635,1)*'Criterios de Riesgo'!$F$13+LEFT(O635,1)*'Criterios de Riesgo'!$F$14+LEFT(P635,1)*'Criterios de Riesgo'!$F$15),2))/5)","v":""},null,null,null,null,{"$f":"IF(COUNTA(S635:V635)<4,\"\",IF(V635=\"No\",\"No se usa\",VLOOKUP(ROUND((LEFT(S635,1)*'Criterios de Riesgo'!$C$13+LEFT(T635,1)*'Criterios de Riesgo'!$C$14+LEFT(U635,1)*'Criterios de Riesgo'!$C$15),2),Calif_Covertura,2,1)))","v":""},{"$f":"IF(COUNTA(S635:V635)<4,\"\",IF(V635=\"No\",0,(ROUND((LEFT(S635,1)*'Criterios de Riesgo'!$C$13+LEFT(T635,1)*'Criterios de Riesgo'!$C$14+LEFT(U635,1)*'Criterios de Riesgo'!$C$15),2))/5))","v":""},{"$f":"IF(ISERROR(R635*X635),\"\",R635*X635)","v":""},null,{"$f":"IF(ISERROR((SUMIF(Z635:Z644,\"=impacto\",Y635:Y644)+SUMIF(Z635:Z644,\"=Ambos\",Y635:Y644))/(COUNTIF(Z635:Z644,\"Impacto\")+COUNTIF(Z635:Z644,\"Ambos\"))),\"\",(SUMIF(Z635:Z644,\"=impacto\",Y635:Y644)+SUMIF(Z635:Z644,\"=Ambos\",Y635:Y644))/(COUNTIF(Z635:Z644,\"Impacto\")+COUNTIF(Z635:Z644,\"Ambos\")))","v":""},{"$f":"IF(ISERROR((SUMIF(Z635:Z644,\"=Probabilidad\",Y635:Y644)+SUMIF(Z635:Z644,\"=Ambos\",Y635:Y644))/(COUNTIF(Z635:Z644,\"Probabilidad\")+COUNTIF(Z635:Z644,\"Ambos\"))),\"\",(SUMIF(Z635:Z644,\"=Probabilidad\",Y635:Y644)+SUMIF(Z635:Z644,\"=Ambos\",Y635:Y644))/(COUNTIF(Z635:Z644,\"Probabilidad\")+COUNTIF(Z635:Z644,\"Ambos\")))","v":""},{"$f":"IF(ISERROR(ROUND(IF(AB635=\"\",AA635,IF(AA635=\"\",AB635,IF(AND(AB635=\"\",AA635=\"\"),\"\",AB635*AA635)))*100,0)/100),\"\",ROUND(IF(AB635=\"\",AA635,IF(AA635=\"\",AB635,IF(AND(AB635=\"\",AA635=\"\"),\"\",AB635*AA635)))*100,0)/100)","v":""},{"$f":"IF(AC635=\"\",\"\",VLOOKUP(AC635*5,Calif_Control,2,1))","v":""}]
[null,null,null,null,null,null,null,null,null,null,null,null,null,null,null,null,{"$f":"IF(COUNTA(I636:P636)<8,\"\",VLOOKUP(ROUND((LEFT(I636,1)*'Criterios de Riesgo'!$F$8+LEFT(J636,1)*'Criterios de Riesgo'!$F$9+LEFT(K636,1)*'Criterios de Riesgo'!$F$10+LEFT(L636,1)*'Criterios de Riesgo'!$F$11+LEFT(M636,1)*'Criterios de Riesgo'!$F$12+LEFT(N636,1)*'Criterios de Riesgo'!$F$13+LEFT(O636,1)*'Criterios de Riesgo'!$F$14+LEFT(P636,1)*'Criterios de Riesgo'!$F$15),2),Calif_Control,2,1))","v":""},{"$f":"IF(COUNTA(I636:P636)<8,\"\",(ROUND((LEFT(I636,1)*'Criterios de Riesgo'!$F$8+LEFT(J636,1)*'Criterios de Riesgo'!$F$9+LEFT(K636,1)*'Criterios de Riesgo'!$F$10+LEFT(L636,1)*'Criterios de Riesgo'!$F$11+LEFT(M636,1)*'Criterios de Riesgo'!$F$12+LEFT(N636,1)*'Criterios de Riesgo'!$F$13+LEFT(O636,1)*'Criterios de Riesgo'!$F$14+LEFT(P636,1)*'Criterios de Riesgo'!$F$15),2))/5)","v":""}]
[null,null,null,null,null,null,null,null,null,null,null,null,null,null,null,null,{"$f":"IF(COUNTA(I637:P637)<8,\"\",VLOOKUP(ROUND((LEFT(I637,1)*'Criterios de Riesgo'!$F$8+LEFT(J637,1)*'Criterios de Riesgo'!$F$9+LEFT(K637,1)*'Criterios de Riesgo'!$F$10+LEFT(L637,1)*'Criterios de Riesgo'!$F$11+LEFT(M637,1)*'Criterios de Riesgo'!$F$12+LEFT(N637,1)*'Criterios de Riesgo'!$F$13+LEFT(O637,1)*'Criterios de Riesgo'!$F$14+LEFT(P637,1)*'Criterios de Riesgo'!$F$15),2),Calif_Control,2,1))","v":""},{"$f":"IF(COUNTA(I637:P637)<8,\"\",(ROUND((LEFT(I637,1)*'Criterios de Riesgo'!$F$8+LEFT(J637,1)*'Criterios de Riesgo'!$F$9+LEFT(K637,1)*'Criterios de Riesgo'!$F$10+LEFT(L637,1)*'Criterios de Riesgo'!$F$11+LEFT(M637,1)*'Criterios de Riesgo'!$F$12+LEFT(N637,1)*'Criterios de Riesgo'!$F$13+LEFT(O637,1)*'Criterios de Riesgo'!$F$14+LEFT(P637,1)*'Criterios de Riesgo'!$F$15),2))/5)","v":""}]
[null,null,null,null,null,null,null,null,null,null,null,null,null,null,null,null,{"$f":"IF(COUNTA(I638:P638)<8,\"\",VLOOKUP(ROUND((LEFT(I638,1)*'Criterios de Riesgo'!$F$8+LEFT(J638,1)*'Criterios de Riesgo'!$F$9+LEFT(K638,1)*'Criterios de Riesgo'!$F$10+LEFT(L638,1)*'Criterios de Riesgo'!$F$11+LEFT(M638,1)*'Criterios de Riesgo'!$F$12+LEFT(N638,1)*'Criterios de Riesgo'!$F$13+LEFT(O638,1)*'Criterios de Riesgo'!$F$14+LEFT(P638,1)*'Criterios de Riesgo'!$F$15),2),Calif_Control,2,1))","v":""},{"$f":"IF(COUNTA(I638:P638)<8,\"\",(ROUND((LEFT(I638,1)*'Criterios de Riesgo'!$F$8+LEFT(J638,1)*'Criterios de Riesgo'!$F$9+LEFT(K638,1)*'Criterios de Riesgo'!$F$10+LEFT(L638,1)*'Criterios de Riesgo'!$F$11+LEFT(M638,1)*'Criterios de Riesgo'!$F$12+LEFT(N638,1)*'Criterios de Riesgo'!$F$13+LEFT(O638,1)*'Criterios de Riesgo'!$F$14+LEFT(P638,1)*'Criterios de Riesgo'!$F$15),2))/5)","v":""}]
[null,null,null,null,null,null,null,null,null,null,null,null,null,null,null,null,{"$f":"IF(COUNTA(I639:P639)<8,\"\",VLOOKUP(ROUND((LEFT(I639,1)*'Criterios de Riesgo'!$F$8+LEFT(J639,1)*'Criterios de Riesgo'!$F$9+LEFT(K639,1)*'Criterios de Riesgo'!$F$10+LEFT(L639,1)*'Criterios de Riesgo'!$F$11+LEFT(M639,1)*'Criterios de Riesgo'!$F$12+LEFT(N639,1)*'Criterios de Riesgo'!$F$13+LEFT(O639,1)*'Criterios de Riesgo'!$F$14+LEFT(P639,1)*'Criterios de Riesgo'!$F$15),2),Calif_Control,2,1))","v":""},{"$f":"IF(COUNTA(I639:P639)<8,\"\",(ROUND((LEFT(I639,1)*'Criterios de Riesgo'!$F$8+LEFT(J639,1)*'Criterios de Riesgo'!$F$9+LEFT(K639,1)*'Criterios de Riesgo'!$F$10+LEFT(L639,1)*'Criterios de Riesgo'!$F$11+LEFT(M639,1)*'Criterios de Riesgo'!$F$12+LEFT(N639,1)*'Criterios de Riesgo'!$F$13+LEFT(O639,1)*'Criterios de Riesgo'!$F$14+LEFT(P639,1)*'Criterios de Riesgo'!$F$15),2))/5)","v":""}]
[null,null,null,null,null,null,null,null,null,null,null,null,null,null,null,null,{"$f":"IF(COUNTA(I640:P640)<8,\"\",VLOOKUP(ROUND((LEFT(I640,1)*'Criterios de Riesgo'!$F$8+LEFT(J640,1)*'Criterios de Riesgo'!$F$9+LEFT(K640,1)*'Criterios de Riesgo'!$F$10+LEFT(L640,1)*'Criterios de Riesgo'!$F$11+LEFT(M640,1)*'Criterios de Riesgo'!$F$12+LEFT(N640,1)*'Criterios de Riesgo'!$F$13+LEFT(O640,1)*'Criterios de Riesgo'!$F$14+LEFT(P640,1)*'Criterios de Riesgo'!$F$15),2),Calif_Control,2,1))","v":""},{"$f":"IF(COUNTA(I640:P640)<8,\"\",(ROUND((LEFT(I640,1)*'Criterios de Riesgo'!$F$8+LEFT(J640,1)*'Criterios de Riesgo'!$F$9+LEFT(K640,1)*'Criterios de Riesgo'!$F$10+LEFT(L640,1)*'Criterios de Riesgo'!$F$11+LEFT(M640,1)*'Criterios de Riesgo'!$F$12+LEFT(N640,1)*'Criterios de Riesgo'!$F$13+LEFT(O640,1)*'Criterios de Riesgo'!$F$14+LEFT(P640,1)*'Criterios de Riesgo'!$F$15),2))/5)","v":""}]
[null,null,null,null,null,null,null,null,null,null,null,null,null,null,null,null,{"$f":"IF(COUNTA(I641:P641)<8,\"\",VLOOKUP(ROUND((LEFT(I641,1)*'Criterios de Riesgo'!$F$8+LEFT(J641,1)*'Criterios de Riesgo'!$F$9+LEFT(K641,1)*'Criterios de Riesgo'!$F$10+LEFT(L641,1)*'Criterios de Riesgo'!$F$11+LEFT(M641,1)*'Criterios de Riesgo'!$F$12+LEFT(N641,1)*'Criterios de Riesgo'!$F$13+LEFT(O641,1)*'Criterios de Riesgo'!$F$14+LEFT(P641,1)*'Criterios de Riesgo'!$F$15),2),Calif_Control,2,1))","v":""},{"$f":"IF(COUNTA(I641:P641)<8,\"\",(ROUND((LEFT(I641,1)*'Criterios de Riesgo'!$F$8+LEFT(J641,1)*'Criterios de Riesgo'!$F$9+LEFT(K641,1)*'Criterios de Riesgo'!$F$10+LEFT(L641,1)*'Criterios de Riesgo'!$F$11+LEFT(M641,1)*'Criterios de Riesgo'!$F$12+LEFT(N641,1)*'Criterios de Riesgo'!$F$13+LEFT(O641,1)*'Criterios de Riesgo'!$F$14+LEFT(P641,1)*'Criterios de Riesgo'!$F$15),2))/5)","v":""}]
[null,null,null,null,null,null,null,null,null,null,null,null,null,null,null,null,{"$f":"IF(COUNTA(I642:P642)<8,\"\",VLOOKUP(ROUND((LEFT(I642,1)*'Criterios de Riesgo'!$F$8+LEFT(J642,1)*'Criterios de Riesgo'!$F$9+LEFT(K642,1)*'Criterios de Riesgo'!$F$10+LEFT(L642,1)*'Criterios de Riesgo'!$F$11+LEFT(M642,1)*'Criterios de Riesgo'!$F$12+LEFT(N642,1)*'Criterios de Riesgo'!$F$13+LEFT(O642,1)*'Criterios de Riesgo'!$F$14+LEFT(P642,1)*'Criterios de Riesgo'!$F$15),2),Calif_Control,2,1))","v":""},{"$f":"IF(COUNTA(I642:P642)<8,\"\",(ROUND((LEFT(I642,1)*'Criterios de Riesgo'!$F$8+LEFT(J642,1)*'Criterios de Riesgo'!$F$9+LEFT(K642,1)*'Criterios de Riesgo'!$F$10+LEFT(L642,1)*'Criterios de Riesgo'!$F$11+LEFT(M642,1)*'Criterios de Riesgo'!$F$12+LEFT(N642,1)*'Criterios de Riesgo'!$F$13+LEFT(O642,1)*'Criterios de Riesgo'!$F$14+LEFT(P642,1)*'Criterios de Riesgo'!$F$15),2))/5)","v":""}]
[null,null,null,null,null,null,null,null,null,null,null,null,null,null,null,null,{"$f":"IF(COUNTA(I643:P643)<8,\"\",VLOOKUP(ROUND((LEFT(I643,1)*'Criterios de Riesgo'!$F$8+LEFT(J643,1)*'Criterios de Riesgo'!$F$9+LEFT(K643,1)*'Criterios de Riesgo'!$F$10+LEFT(L643,1)*'Criterios de Riesgo'!$F$11+LEFT(M643,1)*'Criterios de Riesgo'!$F$12+LEFT(N643,1)*'Criterios de Riesgo'!$F$13+LEFT(O643,1)*'Criterios de Riesgo'!$F$14+LEFT(P643,1)*'Criterios de Riesgo'!$F$15),2),Calif_Control,2,1))","v":""},{"$f":"IF(COUNTA(I643:P643)<8,\"\",(ROUND((LEFT(I643,1)*'Criterios de Riesgo'!$F$8+LEFT(J643,1)*'Criterios de Riesgo'!$F$9+LEFT(K643,1)*'Criterios de Riesgo'!$F$10+LEFT(L643,1)*'Criterios de Riesgo'!$F$11+LEFT(M643,1)*'Criterios de Riesgo'!$F$12+LEFT(N643,1)*'Criterios de Riesgo'!$F$13+LEFT(O643,1)*'Criterios de Riesgo'!$F$14+LEFT(P643,1)*'Criterios de Riesgo'!$F$15),2))/5)","v":""}]
[null,null,null,null,null,null,null,null,null,null,null,null,null,null,null,null,{"$f":"IF(COUNTA(I644:P644)<8,\"\",VLOOKUP(ROUND((LEFT(I644,1)*'Criterios de Riesgo'!$F$8+LEFT(J644,1)*'Criterios de Riesgo'!$F$9+LEFT(K644,1)*'Criterios de Riesgo'!$F$10+LEFT(L644,1)*'Criterios de Riesgo'!$F$11+LEFT(M644,1)*'Criterios de Riesgo'!$F$12+LEFT(N644,1)*'Criterios de Riesgo'!$F$13+LEFT(O644,1)*'Criterios de Riesgo'!$F$14+LEFT(P644,1)*'Criterios de Riesgo'!$F$15),2),Calif_Control,2,1))","v":""},{"$f":"IF(COUNTA(I644:P644)<8,\"\",(ROUND((LEFT(I644,1)*'Criterios de Riesgo'!$F$8+LEFT(J644,1)*'Criterios de Riesgo'!$F$9+LEFT(K644,1)*'Criterios de Riesgo'!$F$10+LEFT(L644,1)*'Criterios de Riesgo'!$F$11+LEFT(M644,1)*'Criterios de Riesgo'!$F$12+LEFT(N644,1)*'Criterios de Riesgo'!$F$13+LEFT(O644,1)*'Criterios de Riesgo'!$F$14+LEFT(P644,1)*'Criterios de Riesgo'!$F$15),2))/5)","v":""}]
["R",null,null,null,null,null,null,null,null,null,null,null,null,null,null,null,{"$f":"IF(COUNTA(I645:P645)<8,\"\",VLOOKUP(ROUND((LEFT(I645,1)*'Criterios de Riesgo'!$F$8+LEFT(J645,1)*'Criterios de Riesgo'!$F$9+LEFT(K645,1)*'Criterios de Riesgo'!$F$10+LEFT(L645,1)*'Criterios de Riesgo'!$F$11+LEFT(M645,1)*'Criterios de Riesgo'!$F$12+LEFT(N645,1)*'Criterios de Riesgo'!$F$13+LEFT(O645,1)*'Criterios de Riesgo'!$F$14+LEFT(P645,1)*'Criterios de Riesgo'!$F$15),2),Calif_Control,2,1))","v":""},{"$f":"IF(COUNTA(I645:P645)<8,\"\",(ROUND((LEFT(I645,1)*'Criterios de Riesgo'!$F$8+LEFT(J645,1)*'Criterios de Riesgo'!$F$9+LEFT(K645,1)*'Criterios de Riesgo'!$F$10+LEFT(L645,1)*'Criterios de Riesgo'!$F$11+LEFT(M645,1)*'Criterios de Riesgo'!$F$12+LEFT(N645,1)*'Criterios de Riesgo'!$F$13+LEFT(O645,1)*'Criterios de Riesgo'!$F$14+LEFT(P645,1)*'Criterios de Riesgo'!$F$15),2))/5)","v":""},null,null,null,null,{"$f":"IF(COUNTA(S645:V645)<4,\"\",IF(V645=\"No\",\"No se usa\",VLOOKUP(ROUND((LEFT(S645,1)*'Criterios de Riesgo'!$C$13+LEFT(T645,1)*'Criterios de Riesgo'!$C$14+LEFT(U645,1)*'Criterios de Riesgo'!$C$15),2),Calif_Covertura,2,1)))","v":""},{"$f":"IF(COUNTA(S645:V645)<4,\"\",IF(V645=\"No\",0,(ROUND((LEFT(S645,1)*'Criterios de Riesgo'!$C$13+LEFT(T645,1)*'Criterios de Riesgo'!$C$14+LEFT(U645,1)*'Criterios de Riesgo'!$C$15),2))/5))","v":""},{"$f":"IF(ISERROR(R645*X645),\"\",R645*X645)","v":""},null,{"$f":"IF(ISERROR((SUMIF(Z645:Z654,\"=impacto\",Y645:Y654)+SUMIF(Z645:Z654,\"=Ambos\",Y645:Y654))/(COUNTIF(Z645:Z654,\"Impacto\")+COUNTIF(Z645:Z654,\"Ambos\"))),\"\",(SUMIF(Z645:Z654,\"=impacto\",Y645:Y654)+SUMIF(Z645:Z654,\"=Ambos\",Y645:Y654))/(COUNTIF(Z645:Z654,\"Impacto\")+COUNTIF(Z645:Z654,\"Ambos\")))","v":""},{"$f":"IF(ISERROR((SUMIF(Z645:Z654,\"=Probabilidad\",Y645:Y654)+SUMIF(Z645:Z654,\"=Ambos\",Y645:Y654))/(COUNTIF(Z645:Z654,\"Probabilidad\")+COUNTIF(Z645:Z654,\"Ambos\"))),\"\",(SUMIF(Z645:Z654,\"=Probabilidad\",Y645:Y654)+SUMIF(Z645:Z654,\"=Ambos\",Y645:Y654))/(COUNTIF(Z645:Z654,\"Probabilidad\")+COUNTIF(Z645:Z654,\"Ambos\")))","v":""},{"$f":"IF(ISERROR(ROUND(IF(AB645=\"\",AA645,IF(AA645=\"\",AB645,IF(AND(AB645=\"\",AA645=\"\"),\"\",AB645*AA645)))*100,0)/100),\"\",ROUND(IF(AB645=\"\",AA645,IF(AA645=\"\",AB645,IF(AND(AB645=\"\",AA645=\"\"),\"\",AB645*AA645)))*100,0)/100)","v":""},{"$f":"IF(AC645=\"\",\"\",VLOOKUP(AC645*5,Calif_Control,2,1))","v":""}]
[null,null,null,null,null,null,null,null,null,null,null,null,null,null,null,null,{"$f":"IF(COUNTA(I646:P646)<8,\"\",VLOOKUP(ROUND((LEFT(I646,1)*'Criterios de Riesgo'!$F$8+LEFT(J646,1)*'Criterios de Riesgo'!$F$9+LEFT(K646,1)*'Criterios de Riesgo'!$F$10+LEFT(L646,1)*'Criterios de Riesgo'!$F$11+LEFT(M646,1)*'Criterios de Riesgo'!$F$12+LEFT(N646,1)*'Criterios de Riesgo'!$F$13+LEFT(O646,1)*'Criterios de Riesgo'!$F$14+LEFT(P646,1)*'Criterios de Riesgo'!$F$15),2),Calif_Control,2,1))","v":""},{"$f":"IF(COUNTA(I646:P646)<8,\"\",(ROUND((LEFT(I646,1)*'Criterios de Riesgo'!$F$8+LEFT(J646,1)*'Criterios de Riesgo'!$F$9+LEFT(K646,1)*'Criterios de Riesgo'!$F$10+LEFT(L646,1)*'Criterios de Riesgo'!$F$11+LEFT(M646,1)*'Criterios de Riesgo'!$F$12+LEFT(N646,1)*'Criterios de Riesgo'!$F$13+LEFT(O646,1)*'Criterios de Riesgo'!$F$14+LEFT(P646,1)*'Criterios de Riesgo'!$F$15),2))/5)","v":""}]
[null,null,null,null,null,null,null,null,null,null,null,null,null,null,null,null,{"$f":"IF(COUNTA(I647:P647)<8,\"\",VLOOKUP(ROUND((LEFT(I647,1)*'Criterios de Riesgo'!$F$8+LEFT(J647,1)*'Criterios de Riesgo'!$F$9+LEFT(K647,1)*'Criterios de Riesgo'!$F$10+LEFT(L647,1)*'Criterios de Riesgo'!$F$11+LEFT(M647,1)*'Criterios de Riesgo'!$F$12+LEFT(N647,1)*'Criterios de Riesgo'!$F$13+LEFT(O647,1)*'Criterios de Riesgo'!$F$14+LEFT(P647,1)*'Criterios de Riesgo'!$F$15),2),Calif_Control,2,1))","v":""},{"$f":"IF(COUNTA(I647:P647)<8,\"\",(ROUND((LEFT(I647,1)*'Criterios de Riesgo'!$F$8+LEFT(J647,1)*'Criterios de Riesgo'!$F$9+LEFT(K647,1)*'Criterios de Riesgo'!$F$10+LEFT(L647,1)*'Criterios de Riesgo'!$F$11+LEFT(M647,1)*'Criterios de Riesgo'!$F$12+LEFT(N647,1)*'Criterios de Riesgo'!$F$13+LEFT(O647,1)*'Criterios de Riesgo'!$F$14+LEFT(P647,1)*'Criterios de Riesgo'!$F$15),2))/5)","v":""}]
[null,null,null,null,null,null,null,null,null,null,null,null,null,null,null,null,{"$f":"IF(COUNTA(I648:P648)<8,\"\",VLOOKUP(ROUND((LEFT(I648,1)*'Criterios de Riesgo'!$F$8+LEFT(J648,1)*'Criterios de Riesgo'!$F$9+LEFT(K648,1)*'Criterios de Riesgo'!$F$10+LEFT(L648,1)*'Criterios de Riesgo'!$F$11+LEFT(M648,1)*'Criterios de Riesgo'!$F$12+LEFT(N648,1)*'Criterios de Riesgo'!$F$13+LEFT(O648,1)*'Criterios de Riesgo'!$F$14+LEFT(P648,1)*'Criterios de Riesgo'!$F$15),2),Calif_Control,2,1))","v":""},{"$f":"IF(COUNTA(I648:P648)<8,\"\",(ROUND((LEFT(I648,1)*'Criterios de Riesgo'!$F$8+LEFT(J648,1)*'Criterios de Riesgo'!$F$9+LEFT(K648,1)*'Criterios de Riesgo'!$F$10+LEFT(L648,1)*'Criterios de Riesgo'!$F$11+LEFT(M648,1)*'Criterios de Riesgo'!$F$12+LEFT(N648,1)*'Criterios de Riesgo'!$F$13+LEFT(O648,1)*'Criterios de Riesgo'!$F$14+LEFT(P648,1)*'Criterios de Riesgo'!$F$15),2))/5)","v":""}]
[null,null,null,null,null,null,null,null,null,null,null,null,null,null,null,null,{"$f":"IF(COUNTA(I649:P649)<8,\"\",VLOOKUP(ROUND((LEFT(I649,1)*'Criterios de Riesgo'!$F$8+LEFT(J649,1)*'Criterios de Riesgo'!$F$9+LEFT(K649,1)*'Criterios de Riesgo'!$F$10+LEFT(L649,1)*'Criterios de Riesgo'!$F$11+LEFT(M649,1)*'Criterios de Riesgo'!$F$12+LEFT(N649,1)*'Criterios de Riesgo'!$F$13+LEFT(O649,1)*'Criterios de Riesgo'!$F$14+LEFT(P649,1)*'Criterios de Riesgo'!$F$15),2),Calif_Control,2,1))","v":""},{"$f":"IF(COUNTA(I649:P649)<8,\"\",(ROUND((LEFT(I649,1)*'Criterios de Riesgo'!$F$8+LEFT(J649,1)*'Criterios de Riesgo'!$F$9+LEFT(K649,1)*'Criterios de Riesgo'!$F$10+LEFT(L649,1)*'Criterios de Riesgo'!$F$11+LEFT(M649,1)*'Criterios de Riesgo'!$F$12+LEFT(N649,1)*'Criterios de Riesgo'!$F$13+LEFT(O649,1)*'Criterios de Riesgo'!$F$14+LEFT(P649,1)*'Criterios de Riesgo'!$F$15),2))/5)","v":""}]
[null,null,null,null,null,null,null,null,null,null,null,null,null,null,null,null,{"$f":"IF(COUNTA(I650:P650)<8,\"\",VLOOKUP(ROUND((LEFT(I650,1)*'Criterios de Riesgo'!$F$8+LEFT(J650,1)*'Criterios de Riesgo'!$F$9+LEFT(K650,1)*'Criterios de Riesgo'!$F$10+LEFT(L650,1)*'Criterios de Riesgo'!$F$11+LEFT(M650,1)*'Criterios de Riesgo'!$F$12+LEFT(N650,1)*'Criterios de Riesgo'!$F$13+LEFT(O650,1)*'Criterios de Riesgo'!$F$14+LEFT(P650,1)*'Criterios de Riesgo'!$F$15),2),Calif_Control,2,1))","v":""},{"$f":"IF(COUNTA(I650:P650)<8,\"\",(ROUND((LEFT(I650,1)*'Criterios de Riesgo'!$F$8+LEFT(J650,1)*'Criterios de Riesgo'!$F$9+LEFT(K650,1)*'Criterios de Riesgo'!$F$10+LEFT(L650,1)*'Criterios de Riesgo'!$F$11+LEFT(M650,1)*'Criterios de Riesgo'!$F$12+LEFT(N650,1)*'Criterios de Riesgo'!$F$13+LEFT(O650,1)*'Criterios de Riesgo'!$F$14+LEFT(P650,1)*'Criterios de Riesgo'!$F$15),2))/5)","v":""}]
[null,null,null,null,null,null,null,null,null,null,null,null,null,null,null,null,{"$f":"IF(COUNTA(I651:P651)<8,\"\",VLOOKUP(ROUND((LEFT(I651,1)*'Criterios de Riesgo'!$F$8+LEFT(J651,1)*'Criterios de Riesgo'!$F$9+LEFT(K651,1)*'Criterios de Riesgo'!$F$10+LEFT(L651,1)*'Criterios de Riesgo'!$F$11+LEFT(M651,1)*'Criterios de Riesgo'!$F$12+LEFT(N651,1)*'Criterios de Riesgo'!$F$13+LEFT(O651,1)*'Criterios de Riesgo'!$F$14+LEFT(P651,1)*'Criterios de Riesgo'!$F$15),2),Calif_Control,2,1))","v":""},{"$f":"IF(COUNTA(I651:P651)<8,\"\",(ROUND((LEFT(I651,1)*'Criterios de Riesgo'!$F$8+LEFT(J651,1)*'Criterios de Riesgo'!$F$9+LEFT(K651,1)*'Criterios de Riesgo'!$F$10+LEFT(L651,1)*'Criterios de Riesgo'!$F$11+LEFT(M651,1)*'Criterios de Riesgo'!$F$12+LEFT(N651,1)*'Criterios de Riesgo'!$F$13+LEFT(O651,1)*'Criterios de Riesgo'!$F$14+LEFT(P651,1)*'Criterios de Riesgo'!$F$15),2))/5)","v":""}]
[null,null,null,null,null,null,null,null,null,null,null,null,null,null,null,null,{"$f":"IF(COUNTA(I652:P652)<8,\"\",VLOOKUP(ROUND((LEFT(I652,1)*'Criterios de Riesgo'!$F$8+LEFT(J652,1)*'Criterios de Riesgo'!$F$9+LEFT(K652,1)*'Criterios de Riesgo'!$F$10+LEFT(L652,1)*'Criterios de Riesgo'!$F$11+LEFT(M652,1)*'Criterios de Riesgo'!$F$12+LEFT(N652,1)*'Criterios de Riesgo'!$F$13+LEFT(O652,1)*'Criterios de Riesgo'!$F$14+LEFT(P652,1)*'Criterios de Riesgo'!$F$15),2),Calif_Control,2,1))","v":""},{"$f":"IF(COUNTA(I652:P652)<8,\"\",(ROUND((LEFT(I652,1)*'Criterios de Riesgo'!$F$8+LEFT(J652,1)*'Criterios de Riesgo'!$F$9+LEFT(K652,1)*'Criterios de Riesgo'!$F$10+LEFT(L652,1)*'Criterios de Riesgo'!$F$11+LEFT(M652,1)*'Criterios de Riesgo'!$F$12+LEFT(N652,1)*'Criterios de Riesgo'!$F$13+LEFT(O652,1)*'Criterios de Riesgo'!$F$14+LEFT(P652,1)*'Criterios de Riesgo'!$F$15),2))/5)","v":""}]
[null,null,null,null,null,null,null,null,null,null,null,null,null,null,null,null,{"$f":"IF(COUNTA(I653:P653)<8,\"\",VLOOKUP(ROUND((LEFT(I653,1)*'Criterios de Riesgo'!$F$8+LEFT(J653,1)*'Criterios de Riesgo'!$F$9+LEFT(K653,1)*'Criterios de Riesgo'!$F$10+LEFT(L653,1)*'Criterios de Riesgo'!$F$11+LEFT(M653,1)*'Criterios de Riesgo'!$F$12+LEFT(N653,1)*'Criterios de Riesgo'!$F$13+LEFT(O653,1)*'Criterios de Riesgo'!$F$14+LEFT(P653,1)*'Criterios de Riesgo'!$F$15),2),Calif_Control,2,1))","v":""},{"$f":"IF(COUNTA(I653:P653)<8,\"\",(ROUND((LEFT(I653,1)*'Criterios de Riesgo'!$F$8+LEFT(J653,1)*'Criterios de Riesgo'!$F$9+LEFT(K653,1)*'Criterios de Riesgo'!$F$10+LEFT(L653,1)*'Criterios de Riesgo'!$F$11+LEFT(M653,1)*'Criterios de Riesgo'!$F$12+LEFT(N653,1)*'Criterios de Riesgo'!$F$13+LEFT(O653,1)*'Criterios de Riesgo'!$F$14+LEFT(P653,1)*'Criterios de Riesgo'!$F$15),2))/5)","v":""}]
[null,null,null,null,null,null,null,null,null,null,null,null,null,null,null,null,{"$f":"IF(COUNTA(I654:P654)<8,\"\",VLOOKUP(ROUND((LEFT(I654,1)*'Criterios de Riesgo'!$F$8+LEFT(J654,1)*'Criterios de Riesgo'!$F$9+LEFT(K654,1)*'Criterios de Riesgo'!$F$10+LEFT(L654,1)*'Criterios de Riesgo'!$F$11+LEFT(M654,1)*'Criterios de Riesgo'!$F$12+LEFT(N654,1)*'Criterios de Riesgo'!$F$13+LEFT(O654,1)*'Criterios de Riesgo'!$F$14+LEFT(P654,1)*'Criterios de Riesgo'!$F$15),2),Calif_Control,2,1))","v":""},{"$f":"IF(COUNTA(I654:P654)<8,\"\",(ROUND((LEFT(I654,1)*'Criterios de Riesgo'!$F$8+LEFT(J654,1)*'Criterios de Riesgo'!$F$9+LEFT(K654,1)*'Criterios de Riesgo'!$F$10+LEFT(L654,1)*'Criterios de Riesgo'!$F$11+LEFT(M654,1)*'Criterios de Riesgo'!$F$12+LEFT(N654,1)*'Criterios de Riesgo'!$F$13+LEFT(O654,1)*'Criterios de Riesgo'!$F$14+LEFT(P654,1)*'Criterios de Riesgo'!$F$15),2))/5)","v":""}]
["R",null,null,null,null,null,null,null,null,null,null,null,null,null,null,null,{"$f":"IF(COUNTA(I655:P655)<8,\"\",VLOOKUP(ROUND((LEFT(I655,1)*'Criterios de Riesgo'!$F$8+LEFT(J655,1)*'Criterios de Riesgo'!$F$9+LEFT(K655,1)*'Criterios de Riesgo'!$F$10+LEFT(L655,1)*'Criterios de Riesgo'!$F$11+LEFT(M655,1)*'Criterios de Riesgo'!$F$12+LEFT(N655,1)*'Criterios de Riesgo'!$F$13+LEFT(O655,1)*'Criterios de Riesgo'!$F$14+LEFT(P655,1)*'Criterios de Riesgo'!$F$15),2),Calif_Control,2,1))","v":""},{"$f":"IF(COUNTA(I655:P655)<8,\"\",(ROUND((LEFT(I655,1)*'Criterios de Riesgo'!$F$8+LEFT(J655,1)*'Criterios de Riesgo'!$F$9+LEFT(K655,1)*'Criterios de Riesgo'!$F$10+LEFT(L655,1)*'Criterios de Riesgo'!$F$11+LEFT(M655,1)*'Criterios de Riesgo'!$F$12+LEFT(N655,1)*'Criterios de Riesgo'!$F$13+LEFT(O655,1)*'Criterios de Riesgo'!$F$14+LEFT(P655,1)*'Criterios de Riesgo'!$F$15),2))/5)","v":""},null,null,null,null,{"$f":"IF(COUNTA(S655:V655)<4,\"\",IF(V655=\"No\",\"No se usa\",VLOOKUP(ROUND((LEFT(S655,1)*'Criterios de Riesgo'!$C$13+LEFT(T655,1)*'Criterios de Riesgo'!$C$14+LEFT(U655,1)*'Criterios de Riesgo'!$C$15),2),Calif_Covertura,2,1)))","v":""},{"$f":"IF(COUNTA(S655:V655)<4,\"\",IF(V655=\"No\",0,(ROUND((LEFT(S655,1)*'Criterios de Riesgo'!$C$13+LEFT(T655,1)*'Criterios de Riesgo'!$C$14+LEFT(U655,1)*'Criterios de Riesgo'!$C$15),2))/5))","v":""},{"$f":"IF(ISERROR(R655*X655),\"\",R655*X655)","v":""},null,{"$f":"IF(ISERROR((SUMIF(Z655:Z664,\"=impacto\",Y655:Y664)+SUMIF(Z655:Z664,\"=Ambos\",Y655:Y664))/(COUNTIF(Z655:Z664,\"Impacto\")+COUNTIF(Z655:Z664,\"Ambos\"))),\"\",(SUMIF(Z655:Z664,\"=impacto\",Y655:Y664)+SUMIF(Z655:Z664,\"=Ambos\",Y655:Y664))/(COUNTIF(Z655:Z664,\"Impacto\")+COUNTIF(Z655:Z664,\"Ambos\")))","v":""},{"$f":"IF(ISERROR((SUMIF(Z655:Z664,\"=Probabilidad\",Y655:Y664)+SUMIF(Z655:Z664,\"=Ambos\",Y655:Y664))/(COUNTIF(Z655:Z664,\"Probabilidad\")+COUNTIF(Z655:Z664,\"Ambos\"))),\"\",(SUMIF(Z655:Z664,\"=Probabilidad\",Y655:Y664)+SUMIF(Z655:Z664,\"=Ambos\",Y655:Y664))/(COUNTIF(Z655:Z664,\"Probabilidad\")+COUNTIF(Z655:Z664,\"Ambos\")))","v":""},{"$f":"IF(ISERROR(ROUND(IF(AB655=\"\",AA655,IF(AA655=\"\",AB655,IF(AND(AB655=\"\",AA655=\"\"),\"\",AB655*AA655)))*100,0)/100),\"\",ROUND(IF(AB655=\"\",AA655,IF(AA655=\"\",AB655,IF(AND(AB655=\"\",AA655=\"\"),\"\",AB655*AA655)))*100,0)/100)","v":""},{"$f":"IF(AC655=\"\",\"\",VLOOKUP(AC655*5,Calif_Control,2,1))","v":""}]
[null,null,null,null,null,null,null,null,null,null,null,null,null,null,null,null,{"$f":"IF(COUNTA(I656:P656)<8,\"\",VLOOKUP(ROUND((LEFT(I656,1)*'Criterios de Riesgo'!$F$8+LEFT(J656,1)*'Criterios de Riesgo'!$F$9+LEFT(K656,1)*'Criterios de Riesgo'!$F$10+LEFT(L656,1)*'Criterios de Riesgo'!$F$11+LEFT(M656,1)*'Criterios de Riesgo'!$F$12+LEFT(N656,1)*'Criterios de Riesgo'!$F$13+LEFT(O656,1)*'Criterios de Riesgo'!$F$14+LEFT(P656,1)*'Criterios de Riesgo'!$F$15),2),Calif_Control,2,1))","v":""},{"$f":"IF(COUNTA(I656:P656)<8,\"\",(ROUND((LEFT(I656,1)*'Criterios de Riesgo'!$F$8+LEFT(J656,1)*'Criterios de Riesgo'!$F$9+LEFT(K656,1)*'Criterios de Riesgo'!$F$10+LEFT(L656,1)*'Criterios de Riesgo'!$F$11+LEFT(M656,1)*'Criterios de Riesgo'!$F$12+LEFT(N656,1)*'Criterios de Riesgo'!$F$13+LEFT(O656,1)*'Criterios de Riesgo'!$F$14+LEFT(P656,1)*'Criterios de Riesgo'!$F$15),2))/5)","v":""}]
[null,null,null,null,null,null,null,null,null,null,null,null,null,null,null,null,{"$f":"IF(COUNTA(I657:P657)<8,\"\",VLOOKUP(ROUND((LEFT(I657,1)*'Criterios de Riesgo'!$F$8+LEFT(J657,1)*'Criterios de Riesgo'!$F$9+LEFT(K657,1)*'Criterios de Riesgo'!$F$10+LEFT(L657,1)*'Criterios de Riesgo'!$F$11+LEFT(M657,1)*'Criterios de Riesgo'!$F$12+LEFT(N657,1)*'Criterios de Riesgo'!$F$13+LEFT(O657,1)*'Criterios de Riesgo'!$F$14+LEFT(P657,1)*'Criterios de Riesgo'!$F$15),2),Calif_Control,2,1))","v":""},{"$f":"IF(COUNTA(I657:P657)<8,\"\",(ROUND((LEFT(I657,1)*'Criterios de Riesgo'!$F$8+LEFT(J657,1)*'Criterios de Riesgo'!$F$9+LEFT(K657,1)*'Criterios de Riesgo'!$F$10+LEFT(L657,1)*'Criterios de Riesgo'!$F$11+LEFT(M657,1)*'Criterios de Riesgo'!$F$12+LEFT(N657,1)*'Criterios de Riesgo'!$F$13+LEFT(O657,1)*'Criterios de Riesgo'!$F$14+LEFT(P657,1)*'Criterios de Riesgo'!$F$15),2))/5)","v":""}]
[null,null,null,null,null,null,null,null,null,null,null,null,null,null,null,null,{"$f":"IF(COUNTA(I658:P658)<8,\"\",VLOOKUP(ROUND((LEFT(I658,1)*'Criterios de Riesgo'!$F$8+LEFT(J658,1)*'Criterios de Riesgo'!$F$9+LEFT(K658,1)*'Criterios de Riesgo'!$F$10+LEFT(L658,1)*'Criterios de Riesgo'!$F$11+LEFT(M658,1)*'Criterios de Riesgo'!$F$12+LEFT(N658,1)*'Criterios de Riesgo'!$F$13+LEFT(O658,1)*'Criterios de Riesgo'!$F$14+LEFT(P658,1)*'Criterios de Riesgo'!$F$15),2),Calif_Control,2,1))","v":""},{"$f":"IF(COUNTA(I658:P658)<8,\"\",(ROUND((LEFT(I658,1)*'Criterios de Riesgo'!$F$8+LEFT(J658,1)*'Criterios de Riesgo'!$F$9+LEFT(K658,1)*'Criterios de Riesgo'!$F$10+LEFT(L658,1)*'Criterios de Riesgo'!$F$11+LEFT(M658,1)*'Criterios de Riesgo'!$F$12+LEFT(N658,1)*'Criterios de Riesgo'!$F$13+LEFT(O658,1)*'Criterios de Riesgo'!$F$14+LEFT(P658,1)*'Criterios de Riesgo'!$F$15),2))/5)","v":""}]
[null,null,null,null,null,null,null,null,null,null,null,null,null,null,null,null,{"$f":"IF(COUNTA(I659:P659)<8,\"\",VLOOKUP(ROUND((LEFT(I659,1)*'Criterios de Riesgo'!$F$8+LEFT(J659,1)*'Criterios de Riesgo'!$F$9+LEFT(K659,1)*'Criterios de Riesgo'!$F$10+LEFT(L659,1)*'Criterios de Riesgo'!$F$11+LEFT(M659,1)*'Criterios de Riesgo'!$F$12+LEFT(N659,1)*'Criterios de Riesgo'!$F$13+LEFT(O659,1)*'Criterios de Riesgo'!$F$14+LEFT(P659,1)*'Criterios de Riesgo'!$F$15),2),Calif_Control,2,1))","v":""},{"$f":"IF(COUNTA(I659:P659)<8,\"\",(ROUND((LEFT(I659,1)*'Criterios de Riesgo'!$F$8+LEFT(J659,1)*'Criterios de Riesgo'!$F$9+LEFT(K659,1)*'Criterios de Riesgo'!$F$10+LEFT(L659,1)*'Criterios de Riesgo'!$F$11+LEFT(M659,1)*'Criterios de Riesgo'!$F$12+LEFT(N659,1)*'Criterios de Riesgo'!$F$13+LEFT(O659,1)*'Criterios de Riesgo'!$F$14+LEFT(P659,1)*'Criterios de Riesgo'!$F$15),2))/5)","v":""}]
[null,null,null,null,null,null,null,null,null,null,null,null,null,null,null,null,{"$f":"IF(COUNTA(I660:P660)<8,\"\",VLOOKUP(ROUND((LEFT(I660,1)*'Criterios de Riesgo'!$F$8+LEFT(J660,1)*'Criterios de Riesgo'!$F$9+LEFT(K660,1)*'Criterios de Riesgo'!$F$10+LEFT(L660,1)*'Criterios de Riesgo'!$F$11+LEFT(M660,1)*'Criterios de Riesgo'!$F$12+LEFT(N660,1)*'Criterios de Riesgo'!$F$13+LEFT(O660,1)*'Criterios de Riesgo'!$F$14+LEFT(P660,1)*'Criterios de Riesgo'!$F$15),2),Calif_Control,2,1))","v":""},{"$f":"IF(COUNTA(I660:P660)<8,\"\",(ROUND((LEFT(I660,1)*'Criterios de Riesgo'!$F$8+LEFT(J660,1)*'Criterios de Riesgo'!$F$9+LEFT(K660,1)*'Criterios de Riesgo'!$F$10+LEFT(L660,1)*'Criterios de Riesgo'!$F$11+LEFT(M660,1)*'Criterios de Riesgo'!$F$12+LEFT(N660,1)*'Criterios de Riesgo'!$F$13+LEFT(O660,1)*'Criterios de Riesgo'!$F$14+LEFT(P660,1)*'Criterios de Riesgo'!$F$15),2))/5)","v":""}]
[null,null,null,null,null,null,null,null,null,null,null,null,null,null,null,null,{"$f":"IF(COUNTA(I661:P661)<8,\"\",VLOOKUP(ROUND((LEFT(I661,1)*'Criterios de Riesgo'!$F$8+LEFT(J661,1)*'Criterios de Riesgo'!$F$9+LEFT(K661,1)*'Criterios de Riesgo'!$F$10+LEFT(L661,1)*'Criterios de Riesgo'!$F$11+LEFT(M661,1)*'Criterios de Riesgo'!$F$12+LEFT(N661,1)*'Criterios de Riesgo'!$F$13+LEFT(O661,1)*'Criterios de Riesgo'!$F$14+LEFT(P661,1)*'Criterios de Riesgo'!$F$15),2),Calif_Control,2,1))","v":""},{"$f":"IF(COUNTA(I661:P661)<8,\"\",(ROUND((LEFT(I661,1)*'Criterios de Riesgo'!$F$8+LEFT(J661,1)*'Criterios de Riesgo'!$F$9+LEFT(K661,1)*'Criterios de Riesgo'!$F$10+LEFT(L661,1)*'Criterios de Riesgo'!$F$11+LEFT(M661,1)*'Criterios de Riesgo'!$F$12+LEFT(N661,1)*'Criterios de Riesgo'!$F$13+LEFT(O661,1)*'Criterios de Riesgo'!$F$14+LEFT(P661,1)*'Criterios de Riesgo'!$F$15),2))/5)","v":""}]
[null,null,null,null,null,null,null,null,null,null,null,null,null,null,null,null,{"$f":"IF(COUNTA(I662:P662)<8,\"\",VLOOKUP(ROUND((LEFT(I662,1)*'Criterios de Riesgo'!$F$8+LEFT(J662,1)*'Criterios de Riesgo'!$F$9+LEFT(K662,1)*'Criterios de Riesgo'!$F$10+LEFT(L662,1)*'Criterios de Riesgo'!$F$11+LEFT(M662,1)*'Criterios de Riesgo'!$F$12+LEFT(N662,1)*'Criterios de Riesgo'!$F$13+LEFT(O662,1)*'Criterios de Riesgo'!$F$14+LEFT(P662,1)*'Criterios de Riesgo'!$F$15),2),Calif_Control,2,1))","v":""},{"$f":"IF(COUNTA(I662:P662)<8,\"\",(ROUND((LEFT(I662,1)*'Criterios de Riesgo'!$F$8+LEFT(J662,1)*'Criterios de Riesgo'!$F$9+LEFT(K662,1)*'Criterios de Riesgo'!$F$10+LEFT(L662,1)*'Criterios de Riesgo'!$F$11+LEFT(M662,1)*'Criterios de Riesgo'!$F$12+LEFT(N662,1)*'Criterios de Riesgo'!$F$13+LEFT(O662,1)*'Criterios de Riesgo'!$F$14+LEFT(P662,1)*'Criterios de Riesgo'!$F$15),2))/5)","v":""}]
[null,null,null,null,null,null,null,null,null,null,null,null,null,null,null,null,{"$f":"IF(COUNTA(I663:P663)<8,\"\",VLOOKUP(ROUND((LEFT(I663,1)*'Criterios de Riesgo'!$F$8+LEFT(J663,1)*'Criterios de Riesgo'!$F$9+LEFT(K663,1)*'Criterios de Riesgo'!$F$10+LEFT(L663,1)*'Criterios de Riesgo'!$F$11+LEFT(M663,1)*'Criterios de Riesgo'!$F$12+LEFT(N663,1)*'Criterios de Riesgo'!$F$13+LEFT(O663,1)*'Criterios de Riesgo'!$F$14+LEFT(P663,1)*'Criterios de Riesgo'!$F$15),2),Calif_Control,2,1))","v":""},{"$f":"IF(COUNTA(I663:P663)<8,\"\",(ROUND((LEFT(I663,1)*'Criterios de Riesgo'!$F$8+LEFT(J663,1)*'Criterios de Riesgo'!$F$9+LEFT(K663,1)*'Criterios de Riesgo'!$F$10+LEFT(L663,1)*'Criterios de Riesgo'!$F$11+LEFT(M663,1)*'Criterios de Riesgo'!$F$12+LEFT(N663,1)*'Criterios de Riesgo'!$F$13+LEFT(O663,1)*'Criterios de Riesgo'!$F$14+LEFT(P663,1)*'Criterios de Riesgo'!$F$15),2))/5)","v":""}]
[null,null,null,null,null,null,null,null,null,null,null,null,null,null,null,null,{"$f":"IF(COUNTA(I664:P664)<8,\"\",VLOOKUP(ROUND((LEFT(I664,1)*'Criterios de Riesgo'!$F$8+LEFT(J664,1)*'Criterios de Riesgo'!$F$9+LEFT(K664,1)*'Criterios de Riesgo'!$F$10+LEFT(L664,1)*'Criterios de Riesgo'!$F$11+LEFT(M664,1)*'Criterios de Riesgo'!$F$12+LEFT(N664,1)*'Criterios de Riesgo'!$F$13+LEFT(O664,1)*'Criterios de Riesgo'!$F$14+LEFT(P664,1)*'Criterios de Riesgo'!$F$15),2),Calif_Control,2,1))","v":""},{"$f":"IF(COUNTA(I664:P664)<8,\"\",(ROUND((LEFT(I664,1)*'Criterios de Riesgo'!$F$8+LEFT(J664,1)*'Criterios de Riesgo'!$F$9+LEFT(K664,1)*'Criterios de Riesgo'!$F$10+LEFT(L664,1)*'Criterios de Riesgo'!$F$11+LEFT(M664,1)*'Criterios de Riesgo'!$F$12+LEFT(N664,1)*'Criterios de Riesgo'!$F$13+LEFT(O664,1)*'Criterios de Riesgo'!$F$14+LEFT(P664,1)*'Criterios de Riesgo'!$F$15),2))/5)","v":""}]
["R",null,null,null,null,null,null,null,null,null,null,null,null,null,null,null,{"$f":"IF(COUNTA(I665:P665)<8,\"\",VLOOKUP(ROUND((LEFT(I665,1)*'Criterios de Riesgo'!$F$8+LEFT(J665,1)*'Criterios de Riesgo'!$F$9+LEFT(K665,1)*'Criterios de Riesgo'!$F$10+LEFT(L665,1)*'Criterios de Riesgo'!$F$11+LEFT(M665,1)*'Criterios de Riesgo'!$F$12+LEFT(N665,1)*'Criterios de Riesgo'!$F$13+LEFT(O665,1)*'Criterios de Riesgo'!$F$14+LEFT(P665,1)*'Criterios de Riesgo'!$F$15),2),Calif_Control,2,1))","v":""},{"$f":"IF(COUNTA(I665:P665)<8,\"\",(ROUND((LEFT(I665,1)*'Criterios de Riesgo'!$F$8+LEFT(J665,1)*'Criterios de Riesgo'!$F$9+LEFT(K665,1)*'Criterios de Riesgo'!$F$10+LEFT(L665,1)*'Criterios de Riesgo'!$F$11+LEFT(M665,1)*'Criterios de Riesgo'!$F$12+LEFT(N665,1)*'Criterios de Riesgo'!$F$13+LEFT(O665,1)*'Criterios de Riesgo'!$F$14+LEFT(P665,1)*'Criterios de Riesgo'!$F$15),2))/5)","v":""},null,null,null,null,{"$f":"IF(COUNTA(S665:V665)<4,\"\",IF(V665=\"No\",\"No se usa\",VLOOKUP(ROUND((LEFT(S665,1)*'Criterios de Riesgo'!$C$13+LEFT(T665,1)*'Criterios de Riesgo'!$C$14+LEFT(U665,1)*'Criterios de Riesgo'!$C$15),2),Calif_Covertura,2,1)))","v":""},{"$f":"IF(COUNTA(S665:V665)<4,\"\",IF(V665=\"No\",0,(ROUND((LEFT(S665,1)*'Criterios de Riesgo'!$C$13+LEFT(T665,1)*'Criterios de Riesgo'!$C$14+LEFT(U665,1)*'Criterios de Riesgo'!$C$15),2))/5))","v":""},{"$f":"IF(ISERROR(R665*X665),\"\",R665*X665)","v":""},null,{"$f":"IF(ISERROR((SUMIF(Z665:Z674,\"=impacto\",Y665:Y674)+SUMIF(Z665:Z674,\"=Ambos\",Y665:Y674))/(COUNTIF(Z665:Z674,\"Impacto\")+COUNTIF(Z665:Z674,\"Ambos\"))),\"\",(SUMIF(Z665:Z674,\"=impacto\",Y665:Y674)+SUMIF(Z665:Z674,\"=Ambos\",Y665:Y674))/(COUNTIF(Z665:Z674,\"Impacto\")+COUNTIF(Z665:Z674,\"Ambos\")))","v":""},{"$f":"IF(ISERROR((SUMIF(Z665:Z674,\"=Probabilidad\",Y665:Y674)+SUMIF(Z665:Z674,\"=Ambos\",Y665:Y674))/(COUNTIF(Z665:Z674,\"Probabilidad\")+COUNTIF(Z665:Z674,\"Ambos\"))),\"\",(SUMIF(Z665:Z674,\"=Probabilidad\",Y665:Y674)+SUMIF(Z665:Z674,\"=Ambos\",Y665:Y674))/(COUNTIF(Z665:Z674,\"Probabilidad\")+COUNTIF(Z665:Z674,\"Ambos\")))","v":""},{"$f":"IF(ISERROR(ROUND(IF(AB665=\"\",AA665,IF(AA665=\"\",AB665,IF(AND(AB665=\"\",AA665=\"\"),\"\",AB665*AA665)))*100,0)/100),\"\",ROUND(IF(AB665=\"\",AA665,IF(AA665=\"\",AB665,IF(AND(AB665=\"\",AA665=\"\"),\"\",AB665*AA665)))*100,0)/100)","v":""},{"$f":"IF(AC665=\"\",\"\",VLOOKUP(AC665*5,Calif_Control,2,1))","v":""}]
[null,null,null,null,null,null,null,null,null,null,null,null,null,null,null,null,{"$f":"IF(COUNTA(I666:P666)<8,\"\",VLOOKUP(ROUND((LEFT(I666,1)*'Criterios de Riesgo'!$F$8+LEFT(J666,1)*'Criterios de Riesgo'!$F$9+LEFT(K666,1)*'Criterios de Riesgo'!$F$10+LEFT(L666,1)*'Criterios de Riesgo'!$F$11+LEFT(M666,1)*'Criterios de Riesgo'!$F$12+LEFT(N666,1)*'Criterios de Riesgo'!$F$13+LEFT(O666,1)*'Criterios de Riesgo'!$F$14+LEFT(P666,1)*'Criterios de Riesgo'!$F$15),2),Calif_Control,2,1))","v":""},{"$f":"IF(COUNTA(I666:P666)<8,\"\",(ROUND((LEFT(I666,1)*'Criterios de Riesgo'!$F$8+LEFT(J666,1)*'Criterios de Riesgo'!$F$9+LEFT(K666,1)*'Criterios de Riesgo'!$F$10+LEFT(L666,1)*'Criterios de Riesgo'!$F$11+LEFT(M666,1)*'Criterios de Riesgo'!$F$12+LEFT(N666,1)*'Criterios de Riesgo'!$F$13+LEFT(O666,1)*'Criterios de Riesgo'!$F$14+LEFT(P666,1)*'Criterios de Riesgo'!$F$15),2))/5)","v":""}]
[null,null,null,null,null,null,null,null,null,null,null,null,null,null,null,null,{"$f":"IF(COUNTA(I667:P667)<8,\"\",VLOOKUP(ROUND((LEFT(I667,1)*'Criterios de Riesgo'!$F$8+LEFT(J667,1)*'Criterios de Riesgo'!$F$9+LEFT(K667,1)*'Criterios de Riesgo'!$F$10+LEFT(L667,1)*'Criterios de Riesgo'!$F$11+LEFT(M667,1)*'Criterios de Riesgo'!$F$12+LEFT(N667,1)*'Criterios de Riesgo'!$F$13+LEFT(O667,1)*'Criterios de Riesgo'!$F$14+LEFT(P667,1)*'Criterios de Riesgo'!$F$15),2),Calif_Control,2,1))","v":""},{"$f":"IF(COUNTA(I667:P667)<8,\"\",(ROUND((LEFT(I667,1)*'Criterios de Riesgo'!$F$8+LEFT(J667,1)*'Criterios de Riesgo'!$F$9+LEFT(K667,1)*'Criterios de Riesgo'!$F$10+LEFT(L667,1)*'Criterios de Riesgo'!$F$11+LEFT(M667,1)*'Criterios de Riesgo'!$F$12+LEFT(N667,1)*'Criterios de Riesgo'!$F$13+LEFT(O667,1)*'Criterios de Riesgo'!$F$14+LEFT(P667,1)*'Criterios de Riesgo'!$F$15),2))/5)","v":""}]
[null,null,null,null,null,null,null,null,null,null,null,null,null,null,null,null,{"$f":"IF(COUNTA(I668:P668)<8,\"\",VLOOKUP(ROUND((LEFT(I668,1)*'Criterios de Riesgo'!$F$8+LEFT(J668,1)*'Criterios de Riesgo'!$F$9+LEFT(K668,1)*'Criterios de Riesgo'!$F$10+LEFT(L668,1)*'Criterios de Riesgo'!$F$11+LEFT(M668,1)*'Criterios de Riesgo'!$F$12+LEFT(N668,1)*'Criterios de Riesgo'!$F$13+LEFT(O668,1)*'Criterios de Riesgo'!$F$14+LEFT(P668,1)*'Criterios de Riesgo'!$F$15),2),Calif_Control,2,1))","v":""},{"$f":"IF(COUNTA(I668:P668)<8,\"\",(ROUND((LEFT(I668,1)*'Criterios de Riesgo'!$F$8+LEFT(J668,1)*'Criterios de Riesgo'!$F$9+LEFT(K668,1)*'Criterios de Riesgo'!$F$10+LEFT(L668,1)*'Criterios de Riesgo'!$F$11+LEFT(M668,1)*'Criterios de Riesgo'!$F$12+LEFT(N668,1)*'Criterios de Riesgo'!$F$13+LEFT(O668,1)*'Criterios de Riesgo'!$F$14+LEFT(P668,1)*'Criterios de Riesgo'!$F$15),2))/5)","v":""}]
[null,null,null,null,null,null,null,null,null,null,null,null,null,null,null,null,{"$f":"IF(COUNTA(I669:P669)<8,\"\",VLOOKUP(ROUND((LEFT(I669,1)*'Criterios de Riesgo'!$F$8+LEFT(J669,1)*'Criterios de Riesgo'!$F$9+LEFT(K669,1)*'Criterios de Riesgo'!$F$10+LEFT(L669,1)*'Criterios de Riesgo'!$F$11+LEFT(M669,1)*'Criterios de Riesgo'!$F$12+LEFT(N669,1)*'Criterios de Riesgo'!$F$13+LEFT(O669,1)*'Criterios de Riesgo'!$F$14+LEFT(P669,1)*'Criterios de Riesgo'!$F$15),2),Calif_Control,2,1))","v":""},{"$f":"IF(COUNTA(I669:P669)<8,\"\",(ROUND((LEFT(I669,1)*'Criterios de Riesgo'!$F$8+LEFT(J669,1)*'Criterios de Riesgo'!$F$9+LEFT(K669,1)*'Criterios de Riesgo'!$F$10+LEFT(L669,1)*'Criterios de Riesgo'!$F$11+LEFT(M669,1)*'Criterios de Riesgo'!$F$12+LEFT(N669,1)*'Criterios de Riesgo'!$F$13+LEFT(O669,1)*'Criterios de Riesgo'!$F$14+LEFT(P669,1)*'Criterios de Riesgo'!$F$15),2))/5)","v":""}]
[null,null,null,null,null,null,null,null,null,null,null,null,null,null,null,null,{"$f":"IF(COUNTA(I670:P670)<8,\"\",VLOOKUP(ROUND((LEFT(I670,1)*'Criterios de Riesgo'!$F$8+LEFT(J670,1)*'Criterios de Riesgo'!$F$9+LEFT(K670,1)*'Criterios de Riesgo'!$F$10+LEFT(L670,1)*'Criterios de Riesgo'!$F$11+LEFT(M670,1)*'Criterios de Riesgo'!$F$12+LEFT(N670,1)*'Criterios de Riesgo'!$F$13+LEFT(O670,1)*'Criterios de Riesgo'!$F$14+LEFT(P670,1)*'Criterios de Riesgo'!$F$15),2),Calif_Control,2,1))","v":""},{"$f":"IF(COUNTA(I670:P670)<8,\"\",(ROUND((LEFT(I670,1)*'Criterios de Riesgo'!$F$8+LEFT(J670,1)*'Criterios de Riesgo'!$F$9+LEFT(K670,1)*'Criterios de Riesgo'!$F$10+LEFT(L670,1)*'Criterios de Riesgo'!$F$11+LEFT(M670,1)*'Criterios de Riesgo'!$F$12+LEFT(N670,1)*'Criterios de Riesgo'!$F$13+LEFT(O670,1)*'Criterios de Riesgo'!$F$14+LEFT(P670,1)*'Criterios de Riesgo'!$F$15),2))/5)","v":""}]
[null,null,null,null,null,null,null,null,null,null,null,null,null,null,null,null,{"$f":"IF(COUNTA(I671:P671)<8,\"\",VLOOKUP(ROUND((LEFT(I671,1)*'Criterios de Riesgo'!$F$8+LEFT(J671,1)*'Criterios de Riesgo'!$F$9+LEFT(K671,1)*'Criterios de Riesgo'!$F$10+LEFT(L671,1)*'Criterios de Riesgo'!$F$11+LEFT(M671,1)*'Criterios de Riesgo'!$F$12+LEFT(N671,1)*'Criterios de Riesgo'!$F$13+LEFT(O671,1)*'Criterios de Riesgo'!$F$14+LEFT(P671,1)*'Criterios de Riesgo'!$F$15),2),Calif_Control,2,1))","v":""},{"$f":"IF(COUNTA(I671:P671)<8,\"\",(ROUND((LEFT(I671,1)*'Criterios de Riesgo'!$F$8+LEFT(J671,1)*'Criterios de Riesgo'!$F$9+LEFT(K671,1)*'Criterios de Riesgo'!$F$10+LEFT(L671,1)*'Criterios de Riesgo'!$F$11+LEFT(M671,1)*'Criterios de Riesgo'!$F$12+LEFT(N671,1)*'Criterios de Riesgo'!$F$13+LEFT(O671,1)*'Criterios de Riesgo'!$F$14+LEFT(P671,1)*'Criterios de Riesgo'!$F$15),2))/5)","v":""}]
[null,null,null,null,null,null,null,null,null,null,null,null,null,null,null,null,{"$f":"IF(COUNTA(I672:P672)<8,\"\",VLOOKUP(ROUND((LEFT(I672,1)*'Criterios de Riesgo'!$F$8+LEFT(J672,1)*'Criterios de Riesgo'!$F$9+LEFT(K672,1)*'Criterios de Riesgo'!$F$10+LEFT(L672,1)*'Criterios de Riesgo'!$F$11+LEFT(M672,1)*'Criterios de Riesgo'!$F$12+LEFT(N672,1)*'Criterios de Riesgo'!$F$13+LEFT(O672,1)*'Criterios de Riesgo'!$F$14+LEFT(P672,1)*'Criterios de Riesgo'!$F$15),2),Calif_Control,2,1))","v":""},{"$f":"IF(COUNTA(I672:P672)<8,\"\",(ROUND((LEFT(I672,1)*'Criterios de Riesgo'!$F$8+LEFT(J672,1)*'Criterios de Riesgo'!$F$9+LEFT(K672,1)*'Criterios de Riesgo'!$F$10+LEFT(L672,1)*'Criterios de Riesgo'!$F$11+LEFT(M672,1)*'Criterios de Riesgo'!$F$12+LEFT(N672,1)*'Criterios de Riesgo'!$F$13+LEFT(O672,1)*'Criterios de Riesgo'!$F$14+LEFT(P672,1)*'Criterios de Riesgo'!$F$15),2))/5)","v":""}]
[null,null,null,null,null,null,null,null,null,null,null,null,null,null,null,null,{"$f":"IF(COUNTA(I673:P673)<8,\"\",VLOOKUP(ROUND((LEFT(I673,1)*'Criterios de Riesgo'!$F$8+LEFT(J673,1)*'Criterios de Riesgo'!$F$9+LEFT(K673,1)*'Criterios de Riesgo'!$F$10+LEFT(L673,1)*'Criterios de Riesgo'!$F$11+LEFT(M673,1)*'Criterios de Riesgo'!$F$12+LEFT(N673,1)*'Criterios de Riesgo'!$F$13+LEFT(O673,1)*'Criterios de Riesgo'!$F$14+LEFT(P673,1)*'Criterios de Riesgo'!$F$15),2),Calif_Control,2,1))","v":""},{"$f":"IF(COUNTA(I673:P673)<8,\"\",(ROUND((LEFT(I673,1)*'Criterios de Riesgo'!$F$8+LEFT(J673,1)*'Criterios de Riesgo'!$F$9+LEFT(K673,1)*'Criterios de Riesgo'!$F$10+LEFT(L673,1)*'Criterios de Riesgo'!$F$11+LEFT(M673,1)*'Criterios de Riesgo'!$F$12+LEFT(N673,1)*'Criterios de Riesgo'!$F$13+LEFT(O673,1)*'Criterios de Riesgo'!$F$14+LEFT(P673,1)*'Criterios de Riesgo'!$F$15),2))/5)","v":""}]
[null,null,null,null,null,null,null,null,null,null,null,null,null,null,null,null,{"$f":"IF(COUNTA(I674:P674)<8,\"\",VLOOKUP(ROUND((LEFT(I674,1)*'Criterios de Riesgo'!$F$8+LEFT(J674,1)*'Criterios de Riesgo'!$F$9+LEFT(K674,1)*'Criterios de Riesgo'!$F$10+LEFT(L674,1)*'Criterios de Riesgo'!$F$11+LEFT(M674,1)*'Criterios de Riesgo'!$F$12+LEFT(N674,1)*'Criterios de Riesgo'!$F$13+LEFT(O674,1)*'Criterios de Riesgo'!$F$14+LEFT(P674,1)*'Criterios de Riesgo'!$F$15),2),Calif_Control,2,1))","v":""},{"$f":"IF(COUNTA(I674:P674)<8,\"\",(ROUND((LEFT(I674,1)*'Criterios de Riesgo'!$F$8+LEFT(J674,1)*'Criterios de Riesgo'!$F$9+LEFT(K674,1)*'Criterios de Riesgo'!$F$10+LEFT(L674,1)*'Criterios de Riesgo'!$F$11+LEFT(M674,1)*'Criterios de Riesgo'!$F$12+LEFT(N674,1)*'Criterios de Riesgo'!$F$13+LEFT(O674,1)*'Criterios de Riesgo'!$F$14+LEFT(P674,1)*'Criterios de Riesgo'!$F$15),2))/5)","v":""}]
["R",null,null,null,null,null,null,null,null,null,null,null,null,null,null,null,{"$f":"IF(COUNTA(I675:P675)<8,\"\",VLOOKUP(ROUND((LEFT(I675,1)*'Criterios de Riesgo'!$F$8+LEFT(J675,1)*'Criterios de Riesgo'!$F$9+LEFT(K675,1)*'Criterios de Riesgo'!$F$10+LEFT(L675,1)*'Criterios de Riesgo'!$F$11+LEFT(M675,1)*'Criterios de Riesgo'!$F$12+LEFT(N675,1)*'Criterios de Riesgo'!$F$13+LEFT(O675,1)*'Criterios de Riesgo'!$F$14+LEFT(P675,1)*'Criterios de Riesgo'!$F$15),2),Calif_Control,2,1))","v":""},{"$f":"IF(COUNTA(I675:P675)<8,\"\",(ROUND((LEFT(I675,1)*'Criterios de Riesgo'!$F$8+LEFT(J675,1)*'Criterios de Riesgo'!$F$9+LEFT(K675,1)*'Criterios de Riesgo'!$F$10+LEFT(L675,1)*'Criterios de Riesgo'!$F$11+LEFT(M675,1)*'Criterios de Riesgo'!$F$12+LEFT(N675,1)*'Criterios de Riesgo'!$F$13+LEFT(O675,1)*'Criterios de Riesgo'!$F$14+LEFT(P675,1)*'Criterios de Riesgo'!$F$15),2))/5)","v":""},null,null,null,null,{"$f":"IF(COUNTA(S675:V675)<4,\"\",IF(V675=\"No\",\"No se usa\",VLOOKUP(ROUND((LEFT(S675,1)*'Criterios de Riesgo'!$C$13+LEFT(T675,1)*'Criterios de Riesgo'!$C$14+LEFT(U675,1)*'Criterios de Riesgo'!$C$15),2),Calif_Covertura,2,1)))","v":""},{"$f":"IF(COUNTA(S675:V675)<4,\"\",IF(V675=\"No\",0,(ROUND((LEFT(S675,1)*'Criterios de Riesgo'!$C$13+LEFT(T675,1)*'Criterios de Riesgo'!$C$14+LEFT(U675,1)*'Criterios de Riesgo'!$C$15),2))/5))","v":""},{"$f":"IF(ISERROR(R675*X675),\"\",R675*X675)","v":""},null,{"$f":"IF(ISERROR((SUMIF(Z675:Z684,\"=impacto\",Y675:Y684)+SUMIF(Z675:Z684,\"=Ambos\",Y675:Y684))/(COUNTIF(Z675:Z684,\"Impacto\")+COUNTIF(Z675:Z684,\"Ambos\"))),\"\",(SUMIF(Z675:Z684,\"=impacto\",Y675:Y684)+SUMIF(Z675:Z684,\"=Ambos\",Y675:Y684))/(COUNTIF(Z675:Z684,\"Impacto\")+COUNTIF(Z675:Z684,\"Ambos\")))","v":""},{"$f":"IF(ISERROR((SUMIF(Z675:Z684,\"=Probabilidad\",Y675:Y684)+SUMIF(Z675:Z684,\"=Ambos\",Y675:Y684))/(COUNTIF(Z675:Z684,\"Probabilidad\")+COUNTIF(Z675:Z684,\"Ambos\"))),\"\",(SUMIF(Z675:Z684,\"=Probabilidad\",Y675:Y684)+SUMIF(Z675:Z684,\"=Ambos\",Y675:Y684))/(COUNTIF(Z675:Z684,\"Probabilidad\")+COUNTIF(Z675:Z684,\"Ambos\")))","v":""},{"$f":"IF(ISERROR(ROUND(IF(AB675=\"\",AA675,IF(AA675=\"\",AB675,IF(AND(AB675=\"\",AA675=\"\"),\"\",AB675*AA675)))*100,0)/100),\"\",ROUND(IF(AB675=\"\",AA675,IF(AA675=\"\",AB675,IF(AND(AB675=\"\",AA675=\"\"),\"\",AB675*AA675)))*100,0)/100)","v":""},{"$f":"IF(AC675=\"\",\"\",VLOOKUP(AC675*5,Calif_Control,2,1))","v":""}]
[null,null,null,null,null,null,null,null,null,null,null,null,null,null,null,null,{"$f":"IF(COUNTA(I676:P676)<8,\"\",VLOOKUP(ROUND((LEFT(I676,1)*'Criterios de Riesgo'!$F$8+LEFT(J676,1)*'Criterios de Riesgo'!$F$9+LEFT(K676,1)*'Criterios de Riesgo'!$F$10+LEFT(L676,1)*'Criterios de Riesgo'!$F$11+LEFT(M676,1)*'Criterios de Riesgo'!$F$12+LEFT(N676,1)*'Criterios de Riesgo'!$F$13+LEFT(O676,1)*'Criterios de Riesgo'!$F$14+LEFT(P676,1)*'Criterios de Riesgo'!$F$15),2),Calif_Control,2,1))","v":""},{"$f":"IF(COUNTA(I676:P676)<8,\"\",(ROUND((LEFT(I676,1)*'Criterios de Riesgo'!$F$8+LEFT(J676,1)*'Criterios de Riesgo'!$F$9+LEFT(K676,1)*'Criterios de Riesgo'!$F$10+LEFT(L676,1)*'Criterios de Riesgo'!$F$11+LEFT(M676,1)*'Criterios de Riesgo'!$F$12+LEFT(N676,1)*'Criterios de Riesgo'!$F$13+LEFT(O676,1)*'Criterios de Riesgo'!$F$14+LEFT(P676,1)*'Criterios de Riesgo'!$F$15),2))/5)","v":""}]
[null,null,null,null,null,null,null,null,null,null,null,null,null,null,null,null,{"$f":"IF(COUNTA(I677:P677)<8,\"\",VLOOKUP(ROUND((LEFT(I677,1)*'Criterios de Riesgo'!$F$8+LEFT(J677,1)*'Criterios de Riesgo'!$F$9+LEFT(K677,1)*'Criterios de Riesgo'!$F$10+LEFT(L677,1)*'Criterios de Riesgo'!$F$11+LEFT(M677,1)*'Criterios de Riesgo'!$F$12+LEFT(N677,1)*'Criterios de Riesgo'!$F$13+LEFT(O677,1)*'Criterios de Riesgo'!$F$14+LEFT(P677,1)*'Criterios de Riesgo'!$F$15),2),Calif_Control,2,1))","v":""},{"$f":"IF(COUNTA(I677:P677)<8,\"\",(ROUND((LEFT(I677,1)*'Criterios de Riesgo'!$F$8+LEFT(J677,1)*'Criterios de Riesgo'!$F$9+LEFT(K677,1)*'Criterios de Riesgo'!$F$10+LEFT(L677,1)*'Criterios de Riesgo'!$F$11+LEFT(M677,1)*'Criterios de Riesgo'!$F$12+LEFT(N677,1)*'Criterios de Riesgo'!$F$13+LEFT(O677,1)*'Criterios de Riesgo'!$F$14+LEFT(P677,1)*'Criterios de Riesgo'!$F$15),2))/5)","v":""}]
[null,null,null,null,null,null,null,null,null,null,null,null,null,null,null,null,{"$f":"IF(COUNTA(I678:P678)<8,\"\",VLOOKUP(ROUND((LEFT(I678,1)*'Criterios de Riesgo'!$F$8+LEFT(J678,1)*'Criterios de Riesgo'!$F$9+LEFT(K678,1)*'Criterios de Riesgo'!$F$10+LEFT(L678,1)*'Criterios de Riesgo'!$F$11+LEFT(M678,1)*'Criterios de Riesgo'!$F$12+LEFT(N678,1)*'Criterios de Riesgo'!$F$13+LEFT(O678,1)*'Criterios de Riesgo'!$F$14+LEFT(P678,1)*'Criterios de Riesgo'!$F$15),2),Calif_Control,2,1))","v":""},{"$f":"IF(COUNTA(I678:P678)<8,\"\",(ROUND((LEFT(I678,1)*'Criterios de Riesgo'!$F$8+LEFT(J678,1)*'Criterios de Riesgo'!$F$9+LEFT(K678,1)*'Criterios de Riesgo'!$F$10+LEFT(L678,1)*'Criterios de Riesgo'!$F$11+LEFT(M678,1)*'Criterios de Riesgo'!$F$12+LEFT(N678,1)*'Criterios de Riesgo'!$F$13+LEFT(O678,1)*'Criterios de Riesgo'!$F$14+LEFT(P678,1)*'Criterios de Riesgo'!$F$15),2))/5)","v":""}]
[null,null,null,null,null,null,null,null,null,null,null,null,null,null,null,null,{"$f":"IF(COUNTA(I679:P679)<8,\"\",VLOOKUP(ROUND((LEFT(I679,1)*'Criterios de Riesgo'!$F$8+LEFT(J679,1)*'Criterios de Riesgo'!$F$9+LEFT(K679,1)*'Criterios de Riesgo'!$F$10+LEFT(L679,1)*'Criterios de Riesgo'!$F$11+LEFT(M679,1)*'Criterios de Riesgo'!$F$12+LEFT(N679,1)*'Criterios de Riesgo'!$F$13+LEFT(O679,1)*'Criterios de Riesgo'!$F$14+LEFT(P679,1)*'Criterios de Riesgo'!$F$15),2),Calif_Control,2,1))","v":""},{"$f":"IF(COUNTA(I679:P679)<8,\"\",(ROUND((LEFT(I679,1)*'Criterios de Riesgo'!$F$8+LEFT(J679,1)*'Criterios de Riesgo'!$F$9+LEFT(K679,1)*'Criterios de Riesgo'!$F$10+LEFT(L679,1)*'Criterios de Riesgo'!$F$11+LEFT(M679,1)*'Criterios de Riesgo'!$F$12+LEFT(N679,1)*'Criterios de Riesgo'!$F$13+LEFT(O679,1)*'Criterios de Riesgo'!$F$14+LEFT(P679,1)*'Criterios de Riesgo'!$F$15),2))/5)","v":""}]
[null,null,null,null,null,null,null,null,null,null,null,null,null,null,null,null,{"$f":"IF(COUNTA(I680:P680)<8,\"\",VLOOKUP(ROUND((LEFT(I680,1)*'Criterios de Riesgo'!$F$8+LEFT(J680,1)*'Criterios de Riesgo'!$F$9+LEFT(K680,1)*'Criterios de Riesgo'!$F$10+LEFT(L680,1)*'Criterios de Riesgo'!$F$11+LEFT(M680,1)*'Criterios de Riesgo'!$F$12+LEFT(N680,1)*'Criterios de Riesgo'!$F$13+LEFT(O680,1)*'Criterios de Riesgo'!$F$14+LEFT(P680,1)*'Criterios de Riesgo'!$F$15),2),Calif_Control,2,1))","v":""},{"$f":"IF(COUNTA(I680:P680)<8,\"\",(ROUND((LEFT(I680,1)*'Criterios de Riesgo'!$F$8+LEFT(J680,1)*'Criterios de Riesgo'!$F$9+LEFT(K680,1)*'Criterios de Riesgo'!$F$10+LEFT(L680,1)*'Criterios de Riesgo'!$F$11+LEFT(M680,1)*'Criterios de Riesgo'!$F$12+LEFT(N680,1)*'Criterios de Riesgo'!$F$13+LEFT(O680,1)*'Criterios de Riesgo'!$F$14+LEFT(P680,1)*'Criterios de Riesgo'!$F$15),2))/5)","v":""}]
[null,null,null,null,null,null,null,null,null,null,null,null,null,null,null,null,{"$f":"IF(COUNTA(I681:P681)<8,\"\",VLOOKUP(ROUND((LEFT(I681,1)*'Criterios de Riesgo'!$F$8+LEFT(J681,1)*'Criterios de Riesgo'!$F$9+LEFT(K681,1)*'Criterios de Riesgo'!$F$10+LEFT(L681,1)*'Criterios de Riesgo'!$F$11+LEFT(M681,1)*'Criterios de Riesgo'!$F$12+LEFT(N681,1)*'Criterios de Riesgo'!$F$13+LEFT(O681,1)*'Criterios de Riesgo'!$F$14+LEFT(P681,1)*'Criterios de Riesgo'!$F$15),2),Calif_Control,2,1))","v":""},{"$f":"IF(COUNTA(I681:P681)<8,\"\",(ROUND((LEFT(I681,1)*'Criterios de Riesgo'!$F$8+LEFT(J681,1)*'Criterios de Riesgo'!$F$9+LEFT(K681,1)*'Criterios de Riesgo'!$F$10+LEFT(L681,1)*'Criterios de Riesgo'!$F$11+LEFT(M681,1)*'Criterios de Riesgo'!$F$12+LEFT(N681,1)*'Criterios de Riesgo'!$F$13+LEFT(O681,1)*'Criterios de Riesgo'!$F$14+LEFT(P681,1)*'Criterios de Riesgo'!$F$15),2))/5)","v":""}]
[null,null,null,null,null,null,null,null,null,null,null,null,null,null,null,null,{"$f":"IF(COUNTA(I682:P682)<8,\"\",VLOOKUP(ROUND((LEFT(I682,1)*'Criterios de Riesgo'!$F$8+LEFT(J682,1)*'Criterios de Riesgo'!$F$9+LEFT(K682,1)*'Criterios de Riesgo'!$F$10+LEFT(L682,1)*'Criterios de Riesgo'!$F$11+LEFT(M682,1)*'Criterios de Riesgo'!$F$12+LEFT(N682,1)*'Criterios de Riesgo'!$F$13+LEFT(O682,1)*'Criterios de Riesgo'!$F$14+LEFT(P682,1)*'Criterios de Riesgo'!$F$15),2),Calif_Control,2,1))","v":""},{"$f":"IF(COUNTA(I682:P682)<8,\"\",(ROUND((LEFT(I682,1)*'Criterios de Riesgo'!$F$8+LEFT(J682,1)*'Criterios de Riesgo'!$F$9+LEFT(K682,1)*'Criterios de Riesgo'!$F$10+LEFT(L682,1)*'Criterios de Riesgo'!$F$11+LEFT(M682,1)*'Criterios de Riesgo'!$F$12+LEFT(N682,1)*'Criterios de Riesgo'!$F$13+LEFT(O682,1)*'Criterios de Riesgo'!$F$14+LEFT(P682,1)*'Criterios de Riesgo'!$F$15),2))/5)","v":""}]
[null,null,null,null,null,null,null,null,null,null,null,null,null,null,null,null,{"$f":"IF(COUNTA(I683:P683)<8,\"\",VLOOKUP(ROUND((LEFT(I683,1)*'Criterios de Riesgo'!$F$8+LEFT(J683,1)*'Criterios de Riesgo'!$F$9+LEFT(K683,1)*'Criterios de Riesgo'!$F$10+LEFT(L683,1)*'Criterios de Riesgo'!$F$11+LEFT(M683,1)*'Criterios de Riesgo'!$F$12+LEFT(N683,1)*'Criterios de Riesgo'!$F$13+LEFT(O683,1)*'Criterios de Riesgo'!$F$14+LEFT(P683,1)*'Criterios de Riesgo'!$F$15),2),Calif_Control,2,1))","v":""},{"$f":"IF(COUNTA(I683:P683)<8,\"\",(ROUND((LEFT(I683,1)*'Criterios de Riesgo'!$F$8+LEFT(J683,1)*'Criterios de Riesgo'!$F$9+LEFT(K683,1)*'Criterios de Riesgo'!$F$10+LEFT(L683,1)*'Criterios de Riesgo'!$F$11+LEFT(M683,1)*'Criterios de Riesgo'!$F$12+LEFT(N683,1)*'Criterios de Riesgo'!$F$13+LEFT(O683,1)*'Criterios de Riesgo'!$F$14+LEFT(P683,1)*'Criterios de Riesgo'!$F$15),2))/5)","v":""}]
[null,null,null,null,null,null,null,null,null,null,null,null,null,null,null,null,{"$f":"IF(COUNTA(I684:P684)<8,\"\",VLOOKUP(ROUND((LEFT(I684,1)*'Criterios de Riesgo'!$F$8+LEFT(J684,1)*'Criterios de Riesgo'!$F$9+LEFT(K684,1)*'Criterios de Riesgo'!$F$10+LEFT(L684,1)*'Criterios de Riesgo'!$F$11+LEFT(M684,1)*'Criterios de Riesgo'!$F$12+LEFT(N684,1)*'Criterios de Riesgo'!$F$13+LEFT(O684,1)*'Criterios de Riesgo'!$F$14+LEFT(P684,1)*'Criterios de Riesgo'!$F$15),2),Calif_Control,2,1))","v":""},{"$f":"IF(COUNTA(I684:P684)<8,\"\",(ROUND((LEFT(I684,1)*'Criterios de Riesgo'!$F$8+LEFT(J684,1)*'Criterios de Riesgo'!$F$9+LEFT(K684,1)*'Criterios de Riesgo'!$F$10+LEFT(L684,1)*'Criterios de Riesgo'!$F$11+LEFT(M684,1)*'Criterios de Riesgo'!$F$12+LEFT(N684,1)*'Criterios de Riesgo'!$F$13+LEFT(O684,1)*'Criterios de Riesgo'!$F$14+LEFT(P684,1)*'Criterios de Riesgo'!$F$15),2))/5)","v":""}]
["R",null,null,null,null,null,null,null,null,null,null,null,null,null,null,null,{"$f":"IF(COUNTA(I685:P685)<8,\"\",VLOOKUP(ROUND((LEFT(I685,1)*'Criterios de Riesgo'!$F$8+LEFT(J685,1)*'Criterios de Riesgo'!$F$9+LEFT(K685,1)*'Criterios de Riesgo'!$F$10+LEFT(L685,1)*'Criterios de Riesgo'!$F$11+LEFT(M685,1)*'Criterios de Riesgo'!$F$12+LEFT(N685,1)*'Criterios de Riesgo'!$F$13+LEFT(O685,1)*'Criterios de Riesgo'!$F$14+LEFT(P685,1)*'Criterios de Riesgo'!$F$15),2),Calif_Control,2,1))","v":""},{"$f":"IF(COUNTA(I685:P685)<8,\"\",(ROUND((LEFT(I685,1)*'Criterios de Riesgo'!$F$8+LEFT(J685,1)*'Criterios de Riesgo'!$F$9+LEFT(K685,1)*'Criterios de Riesgo'!$F$10+LEFT(L685,1)*'Criterios de Riesgo'!$F$11+LEFT(M685,1)*'Criterios de Riesgo'!$F$12+LEFT(N685,1)*'Criterios de Riesgo'!$F$13+LEFT(O685,1)*'Criterios de Riesgo'!$F$14+LEFT(P685,1)*'Criterios de Riesgo'!$F$15),2))/5)","v":""},null,null,null,null,{"$f":"IF(COUNTA(S685:V685)<4,\"\",IF(V685=\"No\",\"No se usa\",VLOOKUP(ROUND((LEFT(S685,1)*'Criterios de Riesgo'!$C$13+LEFT(T685,1)*'Criterios de Riesgo'!$C$14+LEFT(U685,1)*'Criterios de Riesgo'!$C$15),2),Calif_Covertura,2,1)))","v":""},{"$f":"IF(COUNTA(S685:V685)<4,\"\",IF(V685=\"No\",0,(ROUND((LEFT(S685,1)*'Criterios de Riesgo'!$C$13+LEFT(T685,1)*'Criterios de Riesgo'!$C$14+LEFT(U685,1)*'Criterios de Riesgo'!$C$15),2))/5))","v":""},{"$f":"IF(ISERROR(R685*X685),\"\",R685*X685)","v":""},null,{"$f":"IF(ISERROR((SUMIF(Z685:Z694,\"=impacto\",Y685:Y694)+SUMIF(Z685:Z694,\"=Ambos\",Y685:Y694))/(COUNTIF(Z685:Z694,\"Impacto\")+COUNTIF(Z685:Z694,\"Ambos\"))),\"\",(SUMIF(Z685:Z694,\"=impacto\",Y685:Y694)+SUMIF(Z685:Z694,\"=Ambos\",Y685:Y694))/(COUNTIF(Z685:Z694,\"Impacto\")+COUNTIF(Z685:Z694,\"Ambos\")))","v":""},{"$f":"IF(ISERROR((SUMIF(Z685:Z694,\"=Probabilidad\",Y685:Y694)+SUMIF(Z685:Z694,\"=Ambos\",Y685:Y694))/(COUNTIF(Z685:Z694,\"Probabilidad\")+COUNTIF(Z685:Z694,\"Ambos\"))),\"\",(SUMIF(Z685:Z694,\"=Probabilidad\",Y685:Y694)+SUMIF(Z685:Z694,\"=Ambos\",Y685:Y694))/(COUNTIF(Z685:Z694,\"Probabilidad\")+COUNTIF(Z685:Z694,\"Ambos\")))","v":""},{"$f":"IF(ISERROR(ROUND(IF(AB685=\"\",AA685,IF(AA685=\"\",AB685,IF(AND(AB685=\"\",AA685=\"\"),\"\",AB685*AA685)))*100,0)/100),\"\",ROUND(IF(AB685=\"\",AA685,IF(AA685=\"\",AB685,IF(AND(AB685=\"\",AA685=\"\"),\"\",AB685*AA685)))*100,0)/100)","v":""},{"$f":"IF(AC685=\"\",\"\",VLOOKUP(AC685*5,Calif_Control,2,1))","v":""}]
[null,null,null,null,null,null,null,null,null,null,null,null,null,null,null,null,{"$f":"IF(COUNTA(I686:P686)<8,\"\",VLOOKUP(ROUND((LEFT(I686,1)*'Criterios de Riesgo'!$F$8+LEFT(J686,1)*'Criterios de Riesgo'!$F$9+LEFT(K686,1)*'Criterios de Riesgo'!$F$10+LEFT(L686,1)*'Criterios de Riesgo'!$F$11+LEFT(M686,1)*'Criterios de Riesgo'!$F$12+LEFT(N686,1)*'Criterios de Riesgo'!$F$13+LEFT(O686,1)*'Criterios de Riesgo'!$F$14+LEFT(P686,1)*'Criterios de Riesgo'!$F$15),2),Calif_Control,2,1))","v":""},{"$f":"IF(COUNTA(I686:P686)<8,\"\",(ROUND((LEFT(I686,1)*'Criterios de Riesgo'!$F$8+LEFT(J686,1)*'Criterios de Riesgo'!$F$9+LEFT(K686,1)*'Criterios de Riesgo'!$F$10+LEFT(L686,1)*'Criterios de Riesgo'!$F$11+LEFT(M686,1)*'Criterios de Riesgo'!$F$12+LEFT(N686,1)*'Criterios de Riesgo'!$F$13+LEFT(O686,1)*'Criterios de Riesgo'!$F$14+LEFT(P686,1)*'Criterios de Riesgo'!$F$15),2))/5)","v":""}]
[null,null,null,null,null,null,null,null,null,null,null,null,null,null,null,null,{"$f":"IF(COUNTA(I687:P687)<8,\"\",VLOOKUP(ROUND((LEFT(I687,1)*'Criterios de Riesgo'!$F$8+LEFT(J687,1)*'Criterios de Riesgo'!$F$9+LEFT(K687,1)*'Criterios de Riesgo'!$F$10+LEFT(L687,1)*'Criterios de Riesgo'!$F$11+LEFT(M687,1)*'Criterios de Riesgo'!$F$12+LEFT(N687,1)*'Criterios de Riesgo'!$F$13+LEFT(O687,1)*'Criterios de Riesgo'!$F$14+LEFT(P687,1)*'Criterios de Riesgo'!$F$15),2),Calif_Control,2,1))","v":""},{"$f":"IF(COUNTA(I687:P687)<8,\"\",(ROUND((LEFT(I687,1)*'Criterios de Riesgo'!$F$8+LEFT(J687,1)*'Criterios de Riesgo'!$F$9+LEFT(K687,1)*'Criterios de Riesgo'!$F$10+LEFT(L687,1)*'Criterios de Riesgo'!$F$11+LEFT(M687,1)*'Criterios de Riesgo'!$F$12+LEFT(N687,1)*'Criterios de Riesgo'!$F$13+LEFT(O687,1)*'Criterios de Riesgo'!$F$14+LEFT(P687,1)*'Criterios de Riesgo'!$F$15),2))/5)","v":""}]
[null,null,null,null,null,null,null,null,null,null,null,null,null,null,null,null,{"$f":"IF(COUNTA(I688:P688)<8,\"\",VLOOKUP(ROUND((LEFT(I688,1)*'Criterios de Riesgo'!$F$8+LEFT(J688,1)*'Criterios de Riesgo'!$F$9+LEFT(K688,1)*'Criterios de Riesgo'!$F$10+LEFT(L688,1)*'Criterios de Riesgo'!$F$11+LEFT(M688,1)*'Criterios de Riesgo'!$F$12+LEFT(N688,1)*'Criterios de Riesgo'!$F$13+LEFT(O688,1)*'Criterios de Riesgo'!$F$14+LEFT(P688,1)*'Criterios de Riesgo'!$F$15),2),Calif_Control,2,1))","v":""},{"$f":"IF(COUNTA(I688:P688)<8,\"\",(ROUND((LEFT(I688,1)*'Criterios de Riesgo'!$F$8+LEFT(J688,1)*'Criterios de Riesgo'!$F$9+LEFT(K688,1)*'Criterios de Riesgo'!$F$10+LEFT(L688,1)*'Criterios de Riesgo'!$F$11+LEFT(M688,1)*'Criterios de Riesgo'!$F$12+LEFT(N688,1)*'Criterios de Riesgo'!$F$13+LEFT(O688,1)*'Criterios de Riesgo'!$F$14+LEFT(P688,1)*'Criterios de Riesgo'!$F$15),2))/5)","v":""}]
[null,null,null,null,null,null,null,null,null,null,null,null,null,null,null,null,{"$f":"IF(COUNTA(I689:P689)<8,\"\",VLOOKUP(ROUND((LEFT(I689,1)*'Criterios de Riesgo'!$F$8+LEFT(J689,1)*'Criterios de Riesgo'!$F$9+LEFT(K689,1)*'Criterios de Riesgo'!$F$10+LEFT(L689,1)*'Criterios de Riesgo'!$F$11+LEFT(M689,1)*'Criterios de Riesgo'!$F$12+LEFT(N689,1)*'Criterios de Riesgo'!$F$13+LEFT(O689,1)*'Criterios de Riesgo'!$F$14+LEFT(P689,1)*'Criterios de Riesgo'!$F$15),2),Calif_Control,2,1))","v":""},{"$f":"IF(COUNTA(I689:P689)<8,\"\",(ROUND((LEFT(I689,1)*'Criterios de Riesgo'!$F$8+LEFT(J689,1)*'Criterios de Riesgo'!$F$9+LEFT(K689,1)*'Criterios de Riesgo'!$F$10+LEFT(L689,1)*'Criterios de Riesgo'!$F$11+LEFT(M689,1)*'Criterios de Riesgo'!$F$12+LEFT(N689,1)*'Criterios de Riesgo'!$F$13+LEFT(O689,1)*'Criterios de Riesgo'!$F$14+LEFT(P689,1)*'Criterios de Riesgo'!$F$15),2))/5)","v":""}]
[null,null,null,null,null,null,null,null,null,null,null,null,null,null,null,null,{"$f":"IF(COUNTA(I690:P690)<8,\"\",VLOOKUP(ROUND((LEFT(I690,1)*'Criterios de Riesgo'!$F$8+LEFT(J690,1)*'Criterios de Riesgo'!$F$9+LEFT(K690,1)*'Criterios de Riesgo'!$F$10+LEFT(L690,1)*'Criterios de Riesgo'!$F$11+LEFT(M690,1)*'Criterios de Riesgo'!$F$12+LEFT(N690,1)*'Criterios de Riesgo'!$F$13+LEFT(O690,1)*'Criterios de Riesgo'!$F$14+LEFT(P690,1)*'Criterios de Riesgo'!$F$15),2),Calif_Control,2,1))","v":""},{"$f":"IF(COUNTA(I690:P690)<8,\"\",(ROUND((LEFT(I690,1)*'Criterios de Riesgo'!$F$8+LEFT(J690,1)*'Criterios de Riesgo'!$F$9+LEFT(K690,1)*'Criterios de Riesgo'!$F$10+LEFT(L690,1)*'Criterios de Riesgo'!$F$11+LEFT(M690,1)*'Criterios de Riesgo'!$F$12+LEFT(N690,1)*'Criterios de Riesgo'!$F$13+LEFT(O690,1)*'Criterios de Riesgo'!$F$14+LEFT(P690,1)*'Criterios de Riesgo'!$F$15),2))/5)","v":""}]
[null,null,null,null,null,null,null,null,null,null,null,null,null,null,null,null,{"$f":"IF(COUNTA(I691:P691)<8,\"\",VLOOKUP(ROUND((LEFT(I691,1)*'Criterios de Riesgo'!$F$8+LEFT(J691,1)*'Criterios de Riesgo'!$F$9+LEFT(K691,1)*'Criterios de Riesgo'!$F$10+LEFT(L691,1)*'Criterios de Riesgo'!$F$11+LEFT(M691,1)*'Criterios de Riesgo'!$F$12+LEFT(N691,1)*'Criterios de Riesgo'!$F$13+LEFT(O691,1)*'Criterios de Riesgo'!$F$14+LEFT(P691,1)*'Criterios de Riesgo'!$F$15),2),Calif_Control,2,1))","v":""},{"$f":"IF(COUNTA(I691:P691)<8,\"\",(ROUND((LEFT(I691,1)*'Criterios de Riesgo'!$F$8+LEFT(J691,1)*'Criterios de Riesgo'!$F$9+LEFT(K691,1)*'Criterios de Riesgo'!$F$10+LEFT(L691,1)*'Criterios de Riesgo'!$F$11+LEFT(M691,1)*'Criterios de Riesgo'!$F$12+LEFT(N691,1)*'Criterios de Riesgo'!$F$13+LEFT(O691,1)*'Criterios de Riesgo'!$F$14+LEFT(P691,1)*'Criterios de Riesgo'!$F$15),2))/5)","v":""}]
[null,null,null,null,null,null,null,null,null,null,null,null,null,null,null,null,{"$f":"IF(COUNTA(I692:P692)<8,\"\",VLOOKUP(ROUND((LEFT(I692,1)*'Criterios de Riesgo'!$F$8+LEFT(J692,1)*'Criterios de Riesgo'!$F$9+LEFT(K692,1)*'Criterios de Riesgo'!$F$10+LEFT(L692,1)*'Criterios de Riesgo'!$F$11+LEFT(M692,1)*'Criterios de Riesgo'!$F$12+LEFT(N692,1)*'Criterios de Riesgo'!$F$13+LEFT(O692,1)*'Criterios de Riesgo'!$F$14+LEFT(P692,1)*'Criterios de Riesgo'!$F$15),2),Calif_Control,2,1))","v":""},{"$f":"IF(COUNTA(I692:P692)<8,\"\",(ROUND((LEFT(I692,1)*'Criterios de Riesgo'!$F$8+LEFT(J692,1)*'Criterios de Riesgo'!$F$9+LEFT(K692,1)*'Criterios de Riesgo'!$F$10+LEFT(L692,1)*'Criterios de Riesgo'!$F$11+LEFT(M692,1)*'Criterios de Riesgo'!$F$12+LEFT(N692,1)*'Criterios de Riesgo'!$F$13+LEFT(O692,1)*'Criterios de Riesgo'!$F$14+LEFT(P692,1)*'Criterios de Riesgo'!$F$15),2))/5)","v":""}]
[null,null,null,null,null,null,null,null,null,null,null,null,null,null,null,null,{"$f":"IF(COUNTA(I693:P693)<8,\"\",VLOOKUP(ROUND((LEFT(I693,1)*'Criterios de Riesgo'!$F$8+LEFT(J693,1)*'Criterios de Riesgo'!$F$9+LEFT(K693,1)*'Criterios de Riesgo'!$F$10+LEFT(L693,1)*'Criterios de Riesgo'!$F$11+LEFT(M693,1)*'Criterios de Riesgo'!$F$12+LEFT(N693,1)*'Criterios de Riesgo'!$F$13+LEFT(O693,1)*'Criterios de Riesgo'!$F$14+LEFT(P693,1)*'Criterios de Riesgo'!$F$15),2),Calif_Control,2,1))","v":""},{"$f":"IF(COUNTA(I693:P693)<8,\"\",(ROUND((LEFT(I693,1)*'Criterios de Riesgo'!$F$8+LEFT(J693,1)*'Criterios de Riesgo'!$F$9+LEFT(K693,1)*'Criterios de Riesgo'!$F$10+LEFT(L693,1)*'Criterios de Riesgo'!$F$11+LEFT(M693,1)*'Criterios de Riesgo'!$F$12+LEFT(N693,1)*'Criterios de Riesgo'!$F$13+LEFT(O693,1)*'Criterios de Riesgo'!$F$14+LEFT(P693,1)*'Criterios de Riesgo'!$F$15),2))/5)","v":""}]
[null,null,null,null,null,null,null,null,null,null,null,null,null,null,null,null,{"$f":"IF(COUNTA(I694:P694)<8,\"\",VLOOKUP(ROUND((LEFT(I694,1)*'Criterios de Riesgo'!$F$8+LEFT(J694,1)*'Criterios de Riesgo'!$F$9+LEFT(K694,1)*'Criterios de Riesgo'!$F$10+LEFT(L694,1)*'Criterios de Riesgo'!$F$11+LEFT(M694,1)*'Criterios de Riesgo'!$F$12+LEFT(N694,1)*'Criterios de Riesgo'!$F$13+LEFT(O694,1)*'Criterios de Riesgo'!$F$14+LEFT(P694,1)*'Criterios de Riesgo'!$F$15),2),Calif_Control,2,1))","v":""},{"$f":"IF(COUNTA(I694:P694)<8,\"\",(ROUND((LEFT(I694,1)*'Criterios de Riesgo'!$F$8+LEFT(J694,1)*'Criterios de Riesgo'!$F$9+LEFT(K694,1)*'Criterios de Riesgo'!$F$10+LEFT(L694,1)*'Criterios de Riesgo'!$F$11+LEFT(M694,1)*'Criterios de Riesgo'!$F$12+LEFT(N694,1)*'Criterios de Riesgo'!$F$13+LEFT(O694,1)*'Criterios de Riesgo'!$F$14+LEFT(P694,1)*'Criterios de Riesgo'!$F$15),2))/5)","v":""}]

{"sheet":"Porcentaje","index":10,"n_rows":5,"n_cols":2,"rows_kept":5,"cut":false,"hidden":false,"merged":[]}
["MUY ALTO",{"$f":"COUNTIF('Análisis de Riesgo'!S:S,A1)","v":0}]
["ALTO",{"$f":"COUNTIF('Análisis de Riesgo'!S:S,A2)","v":0}]
["MODERADO",{"$f":"COUNTIF('Análisis de Riesgo'!S:S,A3)","v":0}]
["BAJO",{"$f":"COUNTIF('Análisis de Riesgo'!S:S,A4)","v":0}]
["MUY BAJO ",{"$f":"COUNTIF('Análisis de Riesgo'!S:S,A5)","v":0}]

{"sheet":"Mapa de Riesgo Basilea II","index":11,"n_rows":12,"n_cols":18,"rows_kept":12,"cut":false,"hidden":false,"merged":[]}
[]
[]
[]
[]
[null,null,"Catastrófico"]
[null,null,"Severo"]
[null,null,"Moderado "]
[null,null,"Leve",null,null,null,null,null,null,null,null,null,null,null,null,null,null,{"$f":"SUM(R5:R7)","v":0}]
[null,null,"Insignificante "]
[]
[]
[null,null,null,null,null,"improbable","Remoto","Ocasional ","Frecuente","inminente"]

{"sheet":"Control Cambios FOR-CM-34","index":13,"n_rows":8,"n_cols":11,"rows_kept":8,"cut":false,"hidden":false,"merged":[[4,6,5,6],[4,7,4,9],[4,0,5,0],[4,1,5,1],[4,2,5,2],[4,3,5,3],[4,4,5,4],[4,5,5,5],[3,0,3,9],[0,0,2,2],[0,3,2,7],[0,8,0,9],[1,8,1,9],[2,8,2,9]]}
[null,null,null,"MATRIZ DE RIESGOS",null,null,null,null,"CÓDIGO: FOR-CMC-34"]
[null,null,null,null,null,null,null,null,"VERSION:        7"]
[null,null,null,null,null,null,null,null,"FECHA:  29 de junio de 2023"]
["CONTROL DE CAMBIOS"]
["No. ","Fecha","Actividad","Fuente del Riesgo","No. Riesgo","Riesgo","Cambios","Tipo de cambio",null,null,"Riesgo"]
[null,null,null,null,null,null,null,"Adición","Modificar","Eliminar","Control"]
[null,null,null,null,null,null,null,null,null,null,"Fuente del Riesgo"]
[null,null,null,null,null,null,null,null,null,null,"Fuente del Riesgo-Riesgo"]